{"text_format":"1","workbook":"xlsx","n_sheets":12,"sheets":["TUDB","Use","ALK","HRD","pH","NO2","NO3","OPhos","Water Temp","Disturbances","Scorecard","Metadata"],"not_rendered":{"charts":35,"images":5,"macros":0,"external_links":1,"defined_names":30,"comments":4,"pivot_tables":0},"unopened":[],"bounds":{"document_bytes":16777216,"sheet_cells":100000,"rows_first":2000,"rows_last":500,"rows_between":2000,"halvings":0,"cell_chars":16384,"cell_head_chars":4096},"cells_cut":0,"cells_raw":0,"read":"whole","date_system":"1900"}

{"sheet":"TUDB","index":0,"n_rows":1855,"n_cols":69,"rows_kept":1125,"cut":true,"hidden":false,"merged":[],"bounds":{"rows_first":500,"rows_last":125,"rows_between":500,"halvings":2}}
["TU DARE Angler Science DB"]
["Database","DB_Parse 231031.xlsm"]
["Download","3023-10-31",null,"UTC Correction"]
["Observations",1849,null,-6]
["Year Load",2023,null,null,null,null,null,null,null,null,null,null,null,null,null,null,null,null,null,null,null,null,null,null,null,null,null,null,null,null,null,null,null,null,null,null,null,{"$f":"COUNTIF(TU_DB[None (Disturbance)],1)","v":1029}]
[]
["Database","ObsNo","Observation Date/Time-UTC","Observation Date/Time-Local","Observation Date-Local","Year","Month No.","ObserverID","Monitoring Site","Longitude","Latitude","Zonal","Photo No.","Photo Flag","Public","5n1  Flag ","ALK Bin (ppm)","HRD Bin (ppm)","NO2 Bin (5n1) (ppm)","NO3 Bin (5n1) (ppm)","pH Bin","Phos Flag","Orthophosphate (ppb)","Water Temp Flag","Water Temperature (oF)","2n1  Flag ","NO2 Bin (2n1) (ppm)","NO3 Bin (2n1) (ppm)","Source","Disturbances","Fish Barrier","Bank Erosion","Trash","Pipe/Drain Outflow","Livestock in Water","Algal Bloom","Fish Kill","None (Disturbance)","Dis: Not Reported","Water Level","Water Level Flag","Clarity","Clarity Flag","Weather","Regional Rainfall","Local Thunderstorm","Snowmelt","None (Weather)","Not Reported (Weather)","Observation Comments","Obs Com Flag","Bank Erosion4","Trash5","Pipe Drain6","Livestock in Water2","Algal Bloom3","Fish Kill4","None7","Dis: Not Reported8","All Streams","Primary Stream","Trout Stream Flag","Brook Trout Stream Flag","Plotting Zone","TU Chapter Area","Observer Chapter Affiliation","HUC12 Code","HUC12 Name","HUC10 Name"]
["Dev: DBParsing_231030_v01.xlsm","MRNTYkhU8QIwuvK3HQb6","2023-10-28T20:14:15","2023-10-28T14:14:15","2023-10-28",2023,10,"JXs3JH9frrZM0ZdjV8qFZY0NE3P2",null,-92.322493353944566,44.705229294528223,null,"",0,null,1,240,120,null,null,7.5,1,100,1,48,1,0,2,"River/Stream","",-1,-1,-1,-1,-1,-1,-1,-1,1,"Mid-stage",1,"Clear",1,"Regional Rainfall",1,0,0,0,0,null,0,"No Data","No Data","No Data","No Data","No Data","No Data","No Data","No Data","No Data","Rush River","Rush River",1,1,"Kiap TU Wish","Kiap-TU-Wish","070400010505","Brush Creek-Rush River","Rush River"]
["Dev: DBParsing_231030_v01.xlsm","kfiKIi7sRs87XKyKERxY","2023-10-28T19:48:13","2023-10-28T13:48:13","2023-10-28",2023,10,"JXs3JH9frrZM0ZdjV8qFZY0NE3P2",null,-92.239011666282494,44.728655910746838,null,"",0,null,0,"",null,null,null,null,0,null,0,null,1,0,2,"River/Stream","",-1,-1,-1,-1,-1,-1,-1,-1,1,"Baseflow",1,"Murky",1,"Regional Rainfall",1,0,0,0,0,null,0,"No Data","No Data","No Data","No Data","No Data","No Data","No Data","No Data","No Data","Plum Creek","Plum Creek","","","Kiap TU Wish","Kiap-TU-Wish","070500051101","Nugget Lake-Plum Creek","Plum Creek"]
["Dev: DBParsing_231030_v01.xlsm","xoPhcXHxtyvS4klWakB1","2023-10-28T19:45:44","2023-10-28T13:45:44","2023-10-28",2023,10,"JXs3JH9frrZM0ZdjV8qFZY0NE3P2",null,-92.238995181482522,44.728665221524423,null,"",0,null,1,180,30,null,null,7,1,0,0,null,0,"","","River/Stream","",-1,-1,-1,-1,-1,-1,-1,-1,1,null,0,null,0,"",-1,-1,-1,-1,1,null,0,"No Data","No Data","No Data","No Data","No Data","No Data","No Data","No Data","No Data","Plum Creek","Plum Creek","","","Kiap TU Wish","Kiap-TU-Wish","070500051101","Nugget Lake-Plum Creek","Plum Creek"]
["Dev: DBParsing_231030_v01.xlsm","YJIKWHvSZrPMIPu10iU4","2023-10-27T21:05:35","2023-10-27T15:05:35","2023-10-27",2023,10,"bmxwg22L1hbfcniR6e24vEvKK5u2","",-93.121456499999994,45.081448999999999,null,"",0,null,1,240,30,null,null,8,1,0,1,65,1,0,1,"Tap Water","",-1,-1,-1,-1,-1,-1,-1,-1,1,null,0,null,0,"",-1,-1,-1,-1,1,null,0,"No Data","No Data","No Data","No Data","No Data","No Data","No Data","No Data","No Data","","","","","Twin Cities","TCTU","070102060801","Vadnais Lake","City of Saint Paul-Mississippi River"]
["Dev: DBParsing_231030_v01.xlsm","vhxLDVBvtqXxYuNVASZk","2023-10-27T19:05:39","2023-10-27T13:05:39","2023-10-27",2023,10,"VQ9bNtzttGcXOEuaXrEAEYLfT103",null,-92.294065700000004,43.7281014,null,"",0,null,0,"",null,null,null,null,1,0,1,51,1,0,0,"River/Stream","None",0,0,0,0,0,0,0,1,0,"Baseflow",1,"Clear",1,"Regional Rainfall",1,0,0,0,0,null,0,"Absent","Absent","Absent","Absent","Absent","Absent","Absent","Present","Recorded","Spring Valley Creek","Spring Valley Creek",1,"","Hiawatha","Hiawatha","070400080205","Spring Valley Creek","Middle Branch Root River"]
["Dev: DBParsing_231030_v01.xlsm","6PNJtATmibspPEZcXmRY","2023-10-27T18:28:40","2023-10-27T12:28:40","2023-10-27",2023,10,"VQ9bNtzttGcXOEuaXrEAEYLfT103",null,-92.342181800000006,43.603066800000001,null,"",0,null,0,"",null,null,null,null,1,0,1,51,1,0.15,5,"River/Stream","None",0,0,0,0,0,0,0,1,0,"Baseflow",1,"Murky",1,"Regional Rainfall",1,0,0,0,0,null,0,"Absent","Absent","Absent","Absent","Absent","Absent","Absent","Present","Recorded","Etna Creek","Etna Creek",1,"","Hiawatha","Hiawatha","070400080402","Etna Creek-South Branch Root River","South Branch Root River"]
["Dev: DBParsing_231030_v01.xlsm","rnRFXew2FTkiGi3xptDI","2023-10-26T20:20:09","2023-10-26T14:20:09","2023-10-26",2023,10,"VQ9bNtzttGcXOEuaXrEAEYLfT103",null,-91.581087699999998,43.6414112,null,"",0,null,0,"",null,null,null,null,1,0,1,50,1,0,0,"River/Stream","None",0,0,0,0,0,0,0,1,0,"Baseflow",1,"Clear",1,"Regional Rainfall",1,0,0,0,0,null,0,"Absent","Absent","Absent","Absent","Absent","Absent","Absent","Present","Recorded","Beaver Creek East","Beaver Creek East",1,"","Win Cres","Hiawatha","070400080805","Beaver Creek","South Fork Root River"]
["Dev: DBParsing_231030_v01.xlsm","egy0xen07yvNdurJtLtd","2023-10-26T19:47:55","2023-10-26T13:47:55","2023-10-26",2023,10,"VQ9bNtzttGcXOEuaXrEAEYLfT103",null,-91.373221299999997,43.603810000000003,null,"",0,null,0,"",null,null,null,null,1,0,1,57,1,0,2,"River/Stream","None",0,0,0,0,0,0,0,1,0,"Baseflow",1,"Clear",1,"Regional Rainfall",1,0,0,0,0,null,0,"Absent","Absent","Absent","Absent","Absent","Absent","Absent","Present","Recorded","Crooked Creek","Crooked Creek",1,"","Win Cres","Hiawatha","070600010203","Clear Creek-Crooked Creek","Crooked Creek"]
["Dev: DBParsing_231030_v01.xlsm","b8IJWknc7s9s5A5eX2ev","2023-10-26T19:22:47","2023-10-26T13:22:47","2023-10-26",2023,10,"VQ9bNtzttGcXOEuaXrEAEYLfT103",null,-91.413101499999996,43.540564000000003,null,"",0,null,0,"",null,null,null,null,1,0,1,55,1,0,5,"River/Stream","None",0,0,0,0,0,0,0,1,0,"Baseflow",1,"Clear",1,"Regional Rainfall",1,0,0,0,0,null,0,"Absent","Absent","Absent","Absent","Absent","Absent","Absent","Present","Recorded","Winnebago Creek","Winnebago Creek",1,1,"Win Cres","Hiawatha","070600010401","Upper Winnebago Creek","Winnebago Creek"]
["Dev: DBParsing_231030_v01.xlsm","Tvq6qw5whwvEJHNxS9vH","2023-10-26T18:47:28","2023-10-26T12:47:28","2023-10-26",2023,10,"VQ9bNtzttGcXOEuaXrEAEYLfT103",null,-91.569837699999994,43.5022716,null,"",0,null,0,"",null,null,null,null,1,0,1,53,1,0,5,"River/Stream","None",0,0,0,0,0,0,0,1,0,"Baseflow",1,"Clear",1,"Regional Rainfall",1,0,0,0,0,null,0,"Absent","Absent","Absent","Absent","Absent","Absent","Absent","Present","Recorded","Bee Creek","Bee Creek",1,1,"Win Cres","Hiawatha","070600020502","Waterloo Creek","Bear Creek"]
["Dev: DBParsing_231030_v01.xlsm","olmdVogbv0BRIyLwk74n","2023-10-26T18:07:19","2023-10-26T12:07:19","2023-10-26",2023,10,"VQ9bNtzttGcXOEuaXrEAEYLfT103",null,-91.813373100000007,43.597634399999997,null,"",0,null,0,"",null,null,null,null,1,0,1,55,1,0,0,"River/Stream","None",0,0,0,0,0,0,0,1,0,"Baseflow",1,"Clear",1,"None",0,0,0,0,0,null,0,"Absent","Absent","Absent","Absent","Absent","Absent","Absent","Present","Recorded","Wisel Creek","Wisel Creek",1,1,"Win Cres","Hiawatha","070400080802","Wisel Creek","South Fork Root River"]
["Dev: DBParsing_231030_v01.xlsm","m0uFQXteJrgliF9yDXXk","2023-10-20T19:53:15","2023-10-20T13:53:15","2023-10-20",2023,10,"wOnBJTAV2CZK06CRnr5oUK45EDv1",null,-89.29856311538191,42.751314793753203,null,"2023-10-20 14:53:15.282533.jpg-0",1,null,1,240,120,null,null,7.5,1,200,1,56,1,0,0,"River/Stream","",-1,-1,-1,-1,-1,-1,-1,-1,1,"Baseflow",1,"Clear",1,"None",0,0,0,0,0,null,0,"No Data","No Data","No Data","No Data","No Data","No Data","No Data","No Data","No Data","Allen Creek","Allen Creek",1,"","Blackhawk","US FWS","070900040301","City of Evansville-Allen Creek","Allen Creek"]
["Dev: DBParsing_231030_v01.xlsm","Tjg0Idp2rN8cso2Anll0","2023-10-20T18:39:41","2023-10-20T12:39:41","2023-10-20",2023,10,"wOnBJTAV2CZK06CRnr5oUK45EDv1",null,-89.13086067893461,42.55506124817073,null,"2023-10-20 13:39:41.711672.jpg-0",1,null,1,240,180,null,null,7.5,1,0,1,53,1,0,2,"River/Stream","",-1,-1,-1,-1,-1,-1,-1,-1,1,"Baseflow",1,"Clear",1,"None",0,0,0,0,0,"lots of watercress",1,"No Data","No Data","No Data","No Data","No Data","No Data","No Data","No Data","No Data","East Fork Raccoon Creek","East Fork Raccoon Creek","",1,"Blackhawk","US FWS","070900031502","East Fork Raccoon Creek","Raccoon Creek"]
["Dev: DBParsing_231030_v01.xlsm","wcvwL0ayysZXjPJalmKV","2023-10-19T16:54:52","2023-10-19T10:54:52","2023-10-19",2023,10,"1lKBGtvFeSbEVNlbIt9EhqtOO7u2",null,-91.916986381970247,42.462562337534834,null,"",0,null,1,240,180,null,null,9,1,0,1,0,1,0,0,"River/Stream","",-1,-1,-1,-1,-1,-1,-1,-1,1,null,0,null,0,"",-1,-1,-1,-1,1,null,0,"No Data","No Data","No Data","No Data","No Data","No Data","No Data","No Data","No Data",0,0,"","","North Bear","Unknown","070801020803","Malone Creek-Wapsipinicon River","Pine Creek-Wapsipinicon River"]
["Dev: DBParsing_231030_v01.xlsm","j9vSKOdrvHPyXW9XOUMv","2023-10-17T17:46:05","2023-10-17T11:46:05","2023-10-17",2023,10,"7fp9eoNK1RTW0XUKFpn9oieJe1W2",null,-92.5046593,44.266440899999999,null,"2023-10-17 12:46:04.936894.jpg-0",1,null,1,240,180,null,null,8,0,null,0,null,1,0.15,5,"River/Stream","None",0,0,0,0,0,0,0,1,0,"Baseflow",1,"Clear",1,"None",0,0,0,0,0,"Air temperature 68 degrees. cattle have access.",1,"Absent","Absent","Absent","Absent","Absent","Absent","Absent","Present","Recorded","Trout Brook","Trout Brook",1,"","Hiawatha","TU Staff","070400040404","Mazeppa Creek","North Fork Zumbro River"]
["Dev: DBParsing_231030_v01.xlsm","9l8WigQmapg7mmCIPpau","2023-10-16T20:42:52","2023-10-16T14:42:52","2023-10-16",2023,10,"wOnBJTAV2CZK06CRnr5oUK45EDv1",null,-89.36523470104612,43.950285231735748,null,"2023-10-16 15:42:52.345208.jpg-0",1,null,1,240,120,null,null,7,1,100,1,49,0,"","","River/Stream","None",0,0,0,0,0,0,0,1,0,"Baseflow",1,"Clear",1,"None",0,0,0,0,0,null,0,"Absent","Absent","Absent","Absent","Absent","Absent","Absent","Present","Recorded","","",1,"",0,"US FWS","040302010702","Chafee Creek","Mecan River"]
["Dev: DBParsing_231030_v01.xlsm","5BdMN17jThdr9rekksZK","2023-10-16T20:34:50","2023-10-16T14:34:50","2023-10-16",2023,10,"wOnBJTAV2CZK06CRnr5oUK45EDv1",null,-89.365278283442038,43.95334103291178,null,"2023-10-16 15:34:50.797690.jpg-0",1,null,1,180,120,null,null,7.5,1,0,1,50,1,0,2,"River/Stream","None",0,0,0,0,0,0,0,1,0,"Baseflow",1,"Clear",1,"None",0,0,0,0,0,null,0,"Absent","Absent","Absent","Absent","Absent","Absent","Absent","Present","Recorded","","",1,"",0,"US FWS","040302010701","Weddle Creek","Mecan River"]
["Dev: DBParsing_231030_v01.xlsm","GbkkUFhtHyrnrRrPDjPu","2023-10-16T20:21:43","2023-10-16T14:21:43","2023-10-16",2023,10,"wOnBJTAV2CZK06CRnr5oUK45EDv1",null,-89.358382257164394,43.988736423376317,null,"2023-10-16 15:21:43.139139.jpg-0",1,null,1,180,120,null,null,7,1,0,1,51,1,0,2,"River/Stream","None",0,0,0,0,0,0,0,1,0,"Baseflow",1,"Clear",1,"None",0,0,0,0,0,null,0,"Absent","Absent","Absent","Absent","Absent","Absent","Absent","Present","Recorded","","",1,"",0,"US FWS","040302010703","Little Pine Creek-Mecan River","Mecan River"]
["Dev: DBParsing_231030_v01.xlsm","UrLOZ4369HZB9j4d9fIO","2023-10-16T20:07:13","2023-10-16T14:07:13","2023-10-16",2023,10,"wOnBJTAV2CZK06CRnr5oUK45EDv1",null,-89.3406193832665,43.993456482435278,null,"2023-10-16 15:07:13.067463.jpg-0",1,null,1,240,120,null,null,6.5,1,0,1,49,1,0,2,"River/Stream","None",0,0,0,0,0,0,0,1,0,"Baseflow",1,"Clear",1,"None",0,0,0,0,0,null,0,"Absent","Absent","Absent","Absent","Absent","Absent","Absent","Present","Recorded","","",1,"",0,"US FWS","040302010703","Little Pine Creek-Mecan River","Mecan River"]
["Dev: DBParsing_231030_v01.xlsm","4GR34Rk156XykVpMRm4X","2023-10-16T17:05:04","2023-10-16T11:05:04","2023-10-16",2023,10,"cJZVjbWzjsRfePMeXT5aflRnGhh1","Trout Brook",-92.983080299999997,44.845224100000003,null,"",0,null,0,"",null,null,null,null,1,100,1,52,0,"","","River/Stream","None",0,0,0,0,0,0,0,1,0,"Baseflow",1,"Clear",1,"None",0,0,0,0,0,"not able to get readings on nitrites/nitrates. 5in1, 2in1",1,"Absent","Absent","Absent","Absent","Absent","Absent","Absent","Present","Recorded","","","","","Twin Cities","TCTU","070102060901","Schmidt Lake-Mississippi River","Lock and Dam No 2-Mississippi River"]
["Dev: DBParsing_231030_v01.xlsm","Y3i6fosqGfUV5qnXowX3","2023-10-15T19:29:20","2023-10-15T13:29:20","2023-10-15",2023,10,"VCf2q8JFBSOaJbmxiMqirI5xKFn2","Plum Creek @ Plum CIty Park",-92.1896035644004,44.632876975207594,null,"",0,null,1,240,120,null,null,8,1,0,1,54,0,"","","River/Stream","",-1,-1,-1,-1,-1,-1,-1,-1,1,"Baseflow",1,"Clear",1,"None",0,0,0,0,0,null,0,"No Data","No Data","No Data","No Data","No Data","No Data","No Data","No Data","No Data","Plum Creek","Plum Creek",1,1,"Kiap TU Wish","Kiap-TU-Wish","070500051101","Nugget Lake-Plum Creek","Plum Creek"]
["Dev: DBParsing_231030_v01.xlsm","DReDL4Il5LIHEdlMNbl5","2023-10-15T15:09:55","2023-10-15T09:09:55","2023-10-15",2023,10,"VCf2q8JFBSOaJbmxiMqirI5xKFn2","Pine Creek @ County Rd. AA",-92.283961424108639,44.542250519839776,null,"",0,null,1,240,180,null,null,7.5,1,0,1,50,0,"","","River/Stream","",-1,-1,-1,-1,-1,-1,-1,-1,1,"Baseflow",1,"Clear",1,"None",0,0,0,0,0,null,0,"No Data","No Data","No Data","No Data","No Data","No Data","No Data","No Data","No Data","Pine Creek","Pine Creek",1,1,"Wisconsin Clear Water","Kiap-TU-Wish","070400010702","Pine Creek","Lake Pepin"]
["Dev: DBParsing_231030_v01.xlsm","CtjA8iUndzYMJmutjKdZ","2023-10-11T19:59:10","2023-10-11T13:59:10","2023-10-11",2023,10,"7fp9eoNK1RTW0XUKFpn9oieJe1W2",null,-90.834229699999995,43.605538500000002,null,"2023-10-11 14:59:09.703468.jpg-0",1,null,1,240,180,null,null,7.5,0,null,0,null,1,0.15,2,"River/Stream","None",0,0,0,0,0,0,0,1,0,"Baseflow",1,"Clear",1,"None",0,0,0,0,0,null,0,"Absent","Absent","Absent","Absent","Absent","Absent","Absent","Present","Recorded","Seas Branch","Seas Branch",1,1,"Coulee Region","TU Staff","070700060201","Seas Branch","West Fork Kickapoo River"]
["Dev: DBParsing_231030_v01.xlsm","q0SBdK62NGGMqRlxXDyR","2023-10-11T19:13:14","2023-10-11T13:13:14","2023-10-11",2023,10,"7fp9eoNK1RTW0XUKFpn9oieJe1W2",null,-90.844930700000006,43.543126200000003,null,"2023-10-11 14:13:13.509010.jpg-0",1,null,1,240,120,null,null,8,0,null,0,null,1,0,0,"River/Stream","None",0,0,0,0,0,0,0,1,0,"Baseflow",1,"Clear",1,"None",0,0,0,0,0,"air temperature 72 degrees. Clear and sunny.",1,"Absent","Absent","Absent","Absent","Absent","Absent","Absent","Present","Recorded","Cook Creek","Cook Creek",1,1,"Coulee Region","TU Staff","070700060203","Bishop Branch","West Fork Kickapoo River"]
["Dev: DBParsing_231030_v01.xlsm","JGbKIia2Z80wsZzAnZzR","2023-10-11T18:53:38","2023-10-11T12:53:38","2023-10-11",2023,10,"7fp9eoNK1RTW0XUKFpn9oieJe1W2",null,-90.827397599999998,43.559458100000001,null,"2023-10-11 13:53:38.033041.jpg-0",1,null,1,240,120,null,null,7.5,0,null,1,55,1,0,2,"River/Stream","None",0,0,0,0,0,0,0,1,0,"Baseflow",1,"Clear",1,"None",0,0,0,0,0,null,0,"Absent","Absent","Absent","Absent","Absent","Absent","Absent","Present","Recorded","Maple Dale","Maple Dale","",1,"Coulee Region","TU Staff","070700060203","Bishop Branch","West Fork Kickapoo River"]
["Dev: DBParsing_231030_v01.xlsm","sxa6Xgm7OxkaI3iuYqLB","2023-10-11T18:24:19","2023-10-11T12:24:19","2023-10-11",2023,10,"wOnBJTAV2CZK06CRnr5oUK45EDv1",null,-89.985882695848105,42.893031528259527,null,"2023-10-11 13:24:19.710187.jpg-0",1,null,1,240,120,null,null,9,1,0,1,50,1,0,0,"River/Stream","Bank Erosion",0,1,0,0,0,0,0,0,0,"Baseflow",1,"Clear",1,"None",0,0,0,0,0,null,0,"Absent","Present","Absent","Absent","Absent","Absent","Absent","Absent","Recorded","Dodge Branch","Dodge Branch",1,"","Harry & Laura Nohr","US FWS","070900030403","Gribble Branch-Dodge Branch","Dodge Branch"]
["Dev: DBParsing_231030_v01.xlsm","zOGHk7C9XVFuEZzXvk6C","2023-10-11T18:11:17","2023-10-11T12:11:17","2023-10-11",2023,10,"wOnBJTAV2CZK06CRnr5oUK45EDv1",null,-89.985663938354634,42.893155693871911,null,"2023-10-11 13:11:17.683754.jpg-0",1,null,1,240,120,null,null,8,0,null,1,47,1,0,0,"River/Stream","None",0,0,0,0,0,0,0,1,0,"Baseflow",1,"Clear",1,"None",0,0,0,0,0,null,0,"Absent","Absent","Absent","Absent","Absent","Absent","Absent","Present","Recorded","Dodge Branch","Dodge Branch",1,"","Harry & Laura Nohr","US FWS","070900030403","Gribble Branch-Dodge Branch","Dodge Branch"]
["Dev: DBParsing_231030_v01.xlsm","8h3REKFdV5tNJ1QDu2I2","2023-10-11T16:49:21","2023-10-11T10:49:21","2023-10-11",2023,10,"7a7IFD1YT3aDXB8CbnSJjn1oLRC2","Isabelle Creek @ County Rd. EE",-92.442889528687033,44.621397077900831,null,"",0,null,1,240,120,null,null,7.5,1,0,1,45,1,0.15,2,"River/Stream","None",0,0,0,0,0,0,0,1,0,"Baseflow",1,"Clear",1,"None",0,0,0,0,0,null,0,"Absent","Absent","Absent","Absent","Absent","Absent","Absent","Present","Recorded","Isabelle Creek","Isabelle Creek",1,"","Kiap TU Wish","Unknown","070400010701","Isabelle Creek","Lake Pepin"]
["Dev: DBParsing_231030_v01.xlsm","psI4oTl03xuoHaGU8Pnu","2023-10-11T14:17:41","2023-10-11T08:17:41","2023-10-11",2023,10,"5sE4Yqji6nO193vOJEyE5nVk3V33",null,-92.382458999999997,43.687404100000002,null,"",0,null,1,240,60,null,null,7,0,null,1,45,1,0,0,"River/Stream","Fish Barrier,Bank Erosion,Pipe/Drain Outflow",1,1,0,1,0,0,0,0,0,null,0,null,0,"",-1,-1,-1,-1,1,null,0,"Present","Present","Absent","Present","Absent","Absent","Absent","Absent","Recorded","Spring Valley Creek","Spring Valley Creek",1,"","Hiawatha","TCTU","070400080205","Spring Valley Creek","Middle Branch Root River"]
["Dev: DBParsing_231030_v01.xlsm","3pVVs4xlikdJ92bn9CkV","2023-10-10T17:21:00","2023-10-10T11:21:00","2023-10-10",2023,10,"7fp9eoNK1RTW0XUKFpn9oieJe1W2",null,-90.764975300000003,43.575732700000003,null,"2023-10-10 12:21:00.160028.jpg-0",1,null,1,240,120,null,null,7.5,0,null,0,null,1,0,2,"River/Stream","None",0,0,0,0,0,0,0,1,0,"Baseflow",1,"Clear",1,"None",0,0,0,0,0,null,0,"Absent","Absent","Absent","Absent","Absent","Absent","Absent","Present","Recorded","West Fork Kickapoo River","West Fork Kickapoo River",1,1,"Coulee Region","TU Staff","070700060205","West Fork Kickapoo River","West Fork Kickapoo River"]
["Dev: DBParsing_231030_v01.xlsm","FdGk3J1Zx5yzrKuho1jJ","2023-10-10T17:09:48","2023-10-10T11:09:48","2023-10-10",2023,10,"7fp9eoNK1RTW0XUKFpn9oieJe1W2",null,-90.764981399999996,43.5757482,null,"2023-10-10 12:09:47.737076.jpg-0",1,null,1,240,120,null,null,7.5,0,null,1,55,1,0,2,"River/Stream","",-1,-1,-1,-1,-1,-1,-1,-1,1,"Baseflow",1,"Clear",1,"None",0,0,0,0,0,null,0,"No Data","No Data","No Data","No Data","No Data","No Data","No Data","No Data","No Data","West Fork Kickapoo River","West Fork Kickapoo River",1,1,"Coulee Region","TU Staff","070700060205","West Fork Kickapoo River","West Fork Kickapoo River"]
["Dev: DBParsing_231030_v01.xlsm","OnkxJWpHIfZZX9mHyBCG","2023-10-10T16:56:22","2023-10-10T10:56:22","2023-10-10",2023,10,"5sE4Yqji6nO193vOJEyE5nVk3V33",null,-92.809653100000006,45.075982199999999,null,"",0,null,1,240,60,null,null,7.5,0,null,0,null,1,0.15,2,"River/Stream","",-1,-1,-1,-1,-1,-1,-1,-1,1,null,0,null,0,"",-1,-1,-1,-1,1,null,0,"No Data","No Data","No Data","No Data","No Data","No Data","No Data","No Data","No Data","Browns Creek","Browns Creek",1,"","Twin Cities","TCTU","070300050907","Browns Creek","Big Marine Lake-Saint Croix River"]
["Dev: DBParsing_231030_v01.xlsm","BYoTzFrEWkox23XYbUI9","2023-10-10T16:08:05","2023-10-10T10:08:05","2023-10-10",2023,10,"5sE4Yqji6nO193vOJEyE5nVk3V33",null,-92.845676400000002,45.0697312,null,"",0,null,1,180,120,null,null,7,0,null,1,48,1,0.15,1,"Canal/Ditch","",-1,-1,-1,-1,-1,-1,-1,-1,1,null,0,null,0,"",-1,-1,-1,-1,1,null,0,"No Data","No Data","No Data","No Data","No Data","No Data","No Data","No Data","No Data","Browns Creek","Browns Creek",1,"","Twin Cities","TCTU","070300050907","Browns Creek","Big Marine Lake-Saint Croix River"]
["Dev: DBParsing_231030_v01.xlsm","YhoSyrgBtQe2pmywA3PG","2023-10-10T15:46:58","2023-10-10T09:46:58","2023-10-10",2023,10,"5sE4Yqji6nO193vOJEyE5nVk3V33",null,-92.844331699999998,45.070724200000001,null,"",0,null,1,240,0,null,null,7,0,null,1,46,1,0.15,1,"River/Stream","Fish Barrier,Bank Erosion",1,1,0,0,0,0,0,0,0,"Mid-stage",1,"Murky",1,"None",0,0,0,0,0,null,0,"Present","Present","Absent","Absent","Absent","Absent","Absent","Absent","Recorded","Browns Creek","Browns Creek",1,"","Twin Cities","TCTU","070300050907","Browns Creek","Big Marine Lake-Saint Croix River"]
["Dev: DBParsing_231030_v01.xlsm","RzuLmqoVIgW7d3UaIZbJ","2023-10-10T14:48:05","2023-10-10T08:48:05","2023-10-10",2023,10,"5sE4Yqji6nO193vOJEyE5nVk3V33",null,-92.844364299999995,45.070721599999999,null,"",0,null,1,240,120,null,null,6.5,0,null,1,45,1,0.15,2,"River/Stream","Bank Erosion,Trash",0,1,1,0,0,0,0,0,0,"Mid-stage",1,"Murky",1,"None",0,0,0,0,0,null,0,"Absent","Present","Present","Absent","Absent","Absent","Absent","Absent","Recorded","Browns Creek","Browns Creek",1,"","Twin Cities","TCTU","070300050907","Browns Creek","Big Marine Lake-Saint Croix River"]
["Dev: DBParsing_231030_v01.xlsm","uwhvaFc5w7LNoa8HcxVd","2023-10-08T19:36:10","2023-10-08T13:36:10","2023-10-08",2023,10,"sV8r8QoTpTQ81023RxB7QRB9qBu1","Belle Creek",-92.725414799999996,44.547061300000003,null,"",0,null,1,240,60,null,null,7,1,100,1,54,1,0,0,"River/Stream","None",0,0,0,0,0,0,0,1,0,"Baseflow",1,"Clear",1,"None",0,0,0,0,0,null,0,"Absent","Absent","Absent","Absent","Absent","Absent","Absent","Present","Recorded","Belle Creek","Belle Creek","","","Twin Cities","TCTU","070400020803","Lower Belle Creek","Belle Creek"]
["Dev: DBParsing_231030_v01.xlsm","IpUWYrQuuCyf6xpzOc1T","2023-10-06T13:07:05","2023-10-06T07:07:05","2023-10-06",2023,10,"MHFdkCj8zqhw6MGszjwZYx49QR22","Vermillion River, South Branch",-93.009021515113304,44.657266787295143,null,"2023-10-06 08:07:04.871848.jpg-02023-10-06 08:07:04.871848.jpg-1",1,null,1,240,120,null,null,7,1,0,1,51,1,0.15,5,"River/Stream","None",0,0,0,0,0,0,0,1,0,"Baseflow",1,"Clear",1,"None",0,0,0,0,0,"water level slightly lower than base",1,"Absent","Absent","Absent","Absent","Absent","Absent","Absent","Present","Recorded","South Branch Vermillion River","South Branch Vermillion River",1,"","Twin Cities","TCTU","070400010205","South Branch Vermillion River","Vermillion River"]
["Dev: DBParsing_231030_v01.xlsm","NXxt1jO5QHOfcc69znwr","2023-10-05T19:55:35","2023-10-05T13:55:35","2023-10-05",2023,10,"jr4xjZvRQFP5TMTbzZ3WFt91JbZ2","",-92.929894000000004,44.370343599999998,null,"2023-10-05 14:55:35.208208.jpg-02023-10-05 14:55:35.208208.jpg-12023-10-05 14:55:35.208208.jpg-22023-10-05 14:55:35.208208.jpg-32023-10-05 14:55:35.208208.jpg-4",1,null,1,180,60,null,null,7,1,0,1,57,1,0,0,"River/Stream","Bank Erosion,Trash",0,1,1,0,0,0,0,0,0,"Bankfull Stage",1,"Murky",1,"Regional Rainfall",1,0,0,0,0,"about 66 degrees out sunny and windy.  water in stream barely lookalike it is moving.  very green murky.",1,"Absent","Present","Present","Absent","Absent","Absent","Absent","Absent","Recorded","Little Cannon River","Little Cannon River",1,"","Hiawatha","TCTU","070400020702","Middle Little Cannon River","Little Cannon River"]
["Dev: DBParsing_231030_v01.xlsm","YS80iKxMZ8HWo5AR8MQi","2023-10-05T17:35:23","2023-10-05T11:35:23","2023-10-05",2023,10,"GFBS1bSIACUVgSmsBlw0BYkB9i72",null,-90.534531696051801,43.352663459094487,null,"2023-10-05 12:35:22.860505.jpg-0",1,null,1,240,120,null,null,8,1,0,1,60,1,0,1,"River/Stream","Bank Erosion",0,1,0,0,0,0,0,0,0,"Baseflow",1,"Clear",1,"None",0,0,0,0,0,"TT 120",1,"Absent","Present","Absent","Absent","Absent","Absent","Absent","Absent","Recorded","Mill Creek","Mill Creek",1,"","Coulee Region","TU Staff","070700051301","West Branch Mill Creek-Mill Creek","Hoosier Hollow-Mill Creek"]
["Dev: DBParsing_231030_v01.xlsm","fkNNRKoaLaOBkiWetDs4","2023-10-05T14:24:12","2023-10-05T08:24:12","2023-10-05",2023,10,"GFBS1bSIACUVgSmsBlw0BYkB9i72","",-90.8293658213463,43.477057980767782,null,"2023-10-05 09:24:12.359128.jpg-0",1,null,1,240,120,null,null,8,1,0,1,53,1,0.15,2,"River/Stream","None",0,0,0,0,0,0,0,1,0,"Baseflow",1,"Clear",1,"None",0,0,0,0,0,"TT 120",1,"Absent","Absent","Absent","Absent","Absent","Absent","Absent","Present","Recorded","Reads Creek","Reads Creek",1,"","Coulee Region","TU Staff","070700060401","Reads Creek","Tainter Creek-Kickapoo River"]
["Dev: DBParsing_231030_v01.xlsm","YJIaHBzKEMqpivmT3d2m","2023-10-04T20:41:18","2023-10-04T14:41:18","2023-10-04",2023,10,"wQCfNJcgkMPI4m2bsIm33lNVmqH2",null,-92.586911597530687,44.478772714746469,null,"",0,null,1,240,30,null,null,9,1,0,1,52,1,0,2,"River/Stream","None",0,0,0,0,0,0,0,1,0,"Bankfull Stage",1,null,0,"Regional Rainfall",1,0,0,0,0,"running clear and colder ",1,"Absent","Absent","Absent","Absent","Absent","Absent","Absent","Present","Recorded","Hay Creek","Hay Creek",1,"","Twin Cities","TCTU","070400010401","Hay Creek","Hay Creek-Mississippi River"]
["Dev: DBParsing_231030_v01.xlsm","YRHSleEMwkX3HRKkmglb","2023-10-01T20:20:01","2023-10-01T14:20:01","2023-10-01",2023,10,"JXs3JH9frrZM0ZdjV8qFZY0NE3P2","SF Kinnickinnic River @ 900th St",-92.583489214736801,44.848848178023381,null,"",0,null,1,240,180,null,null,8,0,null,1,59,1,0,2,"River/Stream","",-1,-1,-1,-1,-1,-1,-1,-1,1,"Baseflow",1,"Clear",1,"None",0,0,0,0,0,null,0,"No Data","No Data","No Data","No Data","No Data","No Data","No Data","No Data","No Data","South Fork Kinnickinnic River","South Fork Kinnickinnic River",1,1,"Kiap TU Wish","Kiap-TU-Wish","070300051103","South Fork Kinnickinnic River","Kinnickinnic River"]
["Dev: DBParsing_231030_v01.xlsm","CaWWzuul3R7LP7fN7u9P","2023-09-30T18:32:11","2023-09-30T12:32:11","2023-09-30",2023,9,"qg0Gw2Z5bFP7xIvHpN2bfZB65d62","Eagle Creek",-93.384216004658981,44.779484880628893,null,"",0,null,1,240,180,null,null,7.5,0,null,1,59,0,"","","River/Stream","",-1,-1,-1,-1,-1,-1,-1,-1,1,"Mid-stage",1,"Clear",1,"Regional Rainfall,Local Thunderstorm",1,1,0,0,0,null,0,"No Data","No Data","No Data","No Data","No Data","No Data","No Data","No Data","No Data","Eagle Creek","Eagle Creek",1,"","Twin Cities","TCTU","070200121106","Eagle Creek-Minnesota River","Minnesota River"]
["Dev: DBParsing_231030_v01.xlsm","5yELpuEiLCL2LwLggyjt","2023-09-30T18:03:32","2023-09-30T12:03:32","2023-09-30",2023,9,"3ewh0JhsqndewkOhEmNvJ9cb0n83","Cady Creek @ 50th St",-92.146930550854833,44.79323386008614,null,"2023-09-30 13:03:32.088890.jpg-0",1,null,1,240,30,null,null,7,1,200,1,59,1,0,5,"River/Stream","None",0,0,0,0,0,0,0,1,0,"Baseflow",1,"Clear",1,"None",0,0,0,0,0,null,0,"Absent","Absent","Absent","Absent","Absent","Absent","Absent","Present","Recorded","Cady Creek","Cady Creek",1,1,"Kiap TU Wish","Kiap-TU-Wish","070500051003","Cady Creek","Eau Galle River"]
["Dev: DBParsing_231030_v01.xlsm","ajdUStPOK08o3t97QEJB","2023-09-30T14:50:42","2023-09-30T08:50:42","2023-09-30",2023,9,"80reiKTTqGYqqpgYAhPwqypFwak1",null,-92.116679739724717,43.797646485746114,null,"2023-09-30 09:50:42.768319.jpg-0",1,null,1,240,180,null,null,7.5,1,0,1,56,1,0,2,"River/Stream","None",0,0,0,0,0,0,0,1,0,"Baseflow",1,"Clear",1,"None",0,0,0,0,0,"very peaceful. near record high today.  ",1,"Absent","Absent","Absent","Absent","Absent","Absent","Absent","Present","Recorded","Rice Creek","Rice Creek",1,"","Hiawatha","Hiawatha","070400080301","Rice Creek","Trout Run-Root River"]
["Dev: DBParsing_231030_v01.xlsm","3O3CNijO50nFgSBWGx18","2023-09-30T14:28:03","2023-09-30T08:28:03","2023-09-30",2023,9,"80reiKTTqGYqqpgYAhPwqypFwak1",null,-92.101676724074238,43.697772657204894,null,"2023-09-30 09:28:02.928506.jpg-0",1,null,1,240,180,null,null,7.5,1,0,1,66,1,0,2,"River/Stream","None",0,0,0,0,0,0,0,1,0,"Baseflow",1,"Clear",1,"None",0,0,0,0,0,"looks good. ",1,"Absent","Absent","Absent","Absent","Absent","Absent","Absent","Present","Recorded","Watson Creek","Watson Creek",1,"","Hiawatha","Hiawatha","070400080408","Watson Creek","South Branch Root River"]
["Dev: DBParsing_231030_v01.xlsm","dufnahYFTh4PRx509MCy","2023-09-30T13:56:01","2023-09-30T07:56:01","2023-09-30",2023,9,"80reiKTTqGYqqpgYAhPwqypFwak1",null,-92.154924969826482,43.760185391778563,null,"2023-09-30 08:56:00.900043.jpg-0",1,null,1,240,180,null,null,7.5,1,0,1,60,1,0,2,null,"None",0,0,0,0,0,0,0,1,0,"Baseflow",1,"Clear",1,"None",0,0,0,0,0,"warmer than I thought. ",1,"Absent","Absent","Absent","Absent","Absent","Absent","Absent","Present","Recorded",0,0,1,"","Hiawatha","Hiawatha","070400080301","Rice Creek","Trout Run-Root River"]
["Dev: DBParsing_231030_v01.xlsm","gnE9WcnBb7EO2ORhFSMH","2023-09-29T18:23:41","2023-09-29T12:23:41","2023-09-29",2023,9,"ZMmGOOwucYXE3nEMRlAJSj4Cg8c2",null,-93.384538488549566,44.779147203122307,null,"",0,null,1,240,30,null,null,8,1,0,1,59,1,0,1,null,"None",0,0,0,0,0,0,0,1,0,"Mid-stage",1,"Clear",1,"Local Thunderstorm",0,1,0,0,0,null,0,"Absent","Absent","Absent","Absent","Absent","Absent","Absent","Present","Recorded","Eagle Creek","Eagle Creek",1,"","Twin Cities","TCTU","070200121106","Eagle Creek-Minnesota River","Minnesota River"]
["Dev: DBParsing_231030_v01.xlsm","VXJwbr6nLqNmQpnudapb","2023-09-28T18:22:55","2023-09-28T12:22:55","2023-09-28",2023,9,"VQ9bNtzttGcXOEuaXrEAEYLfT103",null,-91.813337599999997,43.597632300000001,null,"",0,null,0,"",null,null,null,null,1,0,1,57,1,0,5,"River/Stream","None",0,0,0,0,0,0,0,1,0,"Baseflow",1,"Clear",1,"None",0,0,0,0,0,null,0,"Absent","Absent","Absent","Absent","Absent","Absent","Absent","Present","Recorded","Wisel Creek","Wisel Creek",1,1,"Win Cres","Hiawatha","070400080802","Wisel Creek","South Fork Root River"]
["Dev: DBParsing_231030_v01.xlsm","wDhx3hqQajCVdd5Ylecn","2023-09-28T17:30:27","2023-09-28T11:30:27","2023-09-28",2023,9,"VQ9bNtzttGcXOEuaXrEAEYLfT103",null,-91.580972399999993,43.641398799999997,null,"",0,null,0,"",null,null,null,null,1,0,1,50,1,0,0,"River/Stream","None",0,0,0,0,0,0,0,1,0,"Baseflow",1,"Clear",1,"None",0,0,0,0,0,null,0,"Absent","Absent","Absent","Absent","Absent","Absent","Absent","Present","Recorded","Beaver Creek East","Beaver Creek East",1,"","Win Cres","Hiawatha","070400080805","Beaver Creek","South Fork Root River"]
["Dev: DBParsing_231030_v01.xlsm","ZkSzdRrhMnLu8BkIfj9X","2023-09-28T17:02:15","2023-09-28T11:02:15","2023-09-28",2023,9,"VQ9bNtzttGcXOEuaXrEAEYLfT103",null,-91.373342199999996,43.603722500000003,null,"",0,null,0,"",null,null,null,null,1,0,1,60,1,0,2,"River/Stream","None",0,0,0,0,0,0,0,1,0,"Baseflow",1,"Clear",1,"None",0,0,0,0,0,null,0,"Absent","Absent","Absent","Absent","Absent","Absent","Absent","Present","Recorded","Crooked Creek","Crooked Creek",1,"","Win Cres","Hiawatha","070600010203","Clear Creek-Crooked Creek","Crooked Creek"]
["Dev: DBParsing_231030_v01.xlsm","3PXTFvJLrjrhzWRGes3Y","2023-09-28T16:36:56","2023-09-28T10:36:56","2023-09-28",2023,9,"VQ9bNtzttGcXOEuaXrEAEYLfT103",null,-91.413050400000003,43.540521099999999,null,"",0,null,0,"",null,null,null,null,1,0,1,56,1,0,1,"River/Stream","None",0,0,0,0,0,0,0,1,0,"Baseflow",1,"Clear",1,"None",0,0,0,0,0,null,0,"Absent","Absent","Absent","Absent","Absent","Absent","Absent","Present","Recorded","Winnebago Creek","Winnebago Creek",1,1,"Win Cres","Hiawatha","070600010401","Upper Winnebago Creek","Winnebago Creek"]
["Dev: DBParsing_231030_v01.xlsm","5DglOB0TQnLLMeYnI5PG","2023-09-28T15:49:08","2023-09-28T09:49:08","2023-09-28",2023,9,"VQ9bNtzttGcXOEuaXrEAEYLfT103",null,-91.569779699999998,43.502225299999999,null,"",0,null,0,"",null,null,null,null,1,0,1,52,1,0,5,"River/Stream","None",0,0,0,0,0,0,0,1,0,"Baseflow",1,"Clear",1,"None",0,0,0,0,0,null,0,"Absent","Absent","Absent","Absent","Absent","Absent","Absent","Present","Recorded","Bee Creek","Bee Creek",1,1,"Win Cres","Hiawatha","070600020502","Waterloo Creek","Bear Creek"]
["Dev: DBParsing_231030_v01.xlsm","nUCkiJGtE6NmDWmli4po","2023-09-28T14:42:26","2023-09-28T08:42:26","2023-09-28",2023,9,"mOliWfJ8EcTqb0crRnvVrqCHyEi1","Hay Creek @ 320th St",-92.575486900000001,44.488343899999997,null,"",0,null,1,240,60,null,null,7.5,1,100,1,58,0,"","","River/Stream","None",0,0,0,0,0,0,0,1,0,"Bankfull Stage",1,"Murky",1,"Regional Rainfall",1,0,0,0,0,null,0,"Absent","Absent","Absent","Absent","Absent","Absent","Absent","Present","Recorded","Hay Creek","Hay Creek",1,"","Twin Cities","TCTU","070400010401","Hay Creek","Hay Creek-Mississippi River"]
["Dev: DBParsing_231030_v01.xlsm","ru40b3F1o0I7mRm0kC9K","2023-09-26T18:45:50","2023-09-26T12:45:50","2023-09-26",2023,9,"inidBfHzkzPKUyeLROUq9PMQemF2",null,-90.044136399999999,43.281557499999998,null,"2023-09-26 13:45:50.159061.jpg-0",1,null,1,240,180,null,null,7.5,1,300,1,60,1,0,0,"River/Stream","",-1,-1,-1,-1,-1,-1,-1,-1,1,"Mid-stage",1,"Muddy",1,"Regional Rainfall",1,0,0,0,0,"sugar Grove valley creek at sth 23. samples collected and submitted to WSLH",1,"No Data","No Data","No Data","No Data","No Data","No Data","No Data","No Data","No Data",0,0,"","","Harry & Laura Nohr","Agency/University","070700050403","Middle Honey Creek","Honey Creek"]
["Dev: DBParsing_231030_v01.xlsm","FLy0Dnm3WkamH2W3tzl0","2023-09-26T18:26:43","2023-09-26T12:26:43","2023-09-26",2023,9,"inidBfHzkzPKUyeLROUq9PMQemF2",null,-90.044273000000004,43.292415900000002,null,"2023-09-26 13:26:43.173097.jpg-0",1,null,1,180,60,null,null,7.5,1,0,0,null,1,0,2,"River/Stream","",-1,-1,-1,-1,-1,-1,-1,-1,1,"Mid-stage",1,"Muddy",1,"Regional Rainfall",1,0,0,0,0,"unnamed trib are Sth 23, samples collected and submitted to WSLH",1,"No Data","No Data","No Data","No Data","No Data","No Data","No Data","No Data","No Data","Sugar Grove Valley","Sugar Grove Valley","","","Harry & Laura Nohr","Agency/University","070700050401","Upper Honey Creek","Honey Creek"]
["Dev: DBParsing_231030_v01.xlsm","XKqdkVvG9C23hLnF22Zu","2023-09-26T18:14:20","2023-09-26T12:14:20","2023-09-26",2023,9,"inidBfHzkzPKUyeLROUq9PMQemF2",null,-90.037115900000003,43.293126700000002,null,"2023-09-26 13:14:20.852846.jpg-0",1,null,1,240,180,null,null,8,1,200,1,60,1,0.15,2,"River/Stream","",-1,-1,-1,-1,-1,-1,-1,-1,1,"",0,"Muddy",1,"Regional Rainfall",1,0,0,0,0,"honey creek at Willow road. samples collected and sent to WSLH",1,"No Data","No Data","No Data","No Data","No Data","No Data","No Data","No Data","No Data","Honey Creek","Honey Creek",1,"","Harry & Laura Nohr","Agency/University","070700050401","Upper Honey Creek","Honey Creek"]
["Dev: DBParsing_231030_v01.xlsm","oTX4D0TYfA1hqzalmTpq","2023-09-26T17:55:47","2023-09-26T11:55:47","2023-09-26",2023,9,"inidBfHzkzPKUyeLROUq9PMQemF2",null,-90.070313100000007,43.351031999999996,null,"2023-09-26 12:55:47.886929.jpg-0",1,null,1,240,0,null,null,7.5,1,300,1,58,1,0,0,"River/Stream","",-1,-1,-1,-1,-1,-1,-1,-1,1,"Mid-stage",1,"Clear",1,"Regional Rainfall",1,0,0,0,0,"honey at CTH GG. Sample collected and sent to WSLH",1,"No Data","No Data","No Data","No Data","No Data","No Data","No Data","No Data","No Data","Honey Creek","Honey Creek",1,"","Aldo Leopold","Agency/University","070700050401","Upper Honey Creek","Honey Creek"]
["Dev: DBParsing_231030_v01.xlsm","C3UvxJH9sG7XdotKyuT4","2023-09-26T17:43:13","2023-09-26T11:43:13","2023-09-26",2023,9,"inidBfHzkzPKUyeLROUq9PMQemF2",null,-90.077896800000005,43.350897600000003,null,"2023-09-26 12:43:13.452381.jpg-0",1,null,1,240,120,null,null,7.5,1,0,1,66,1,0,1,"River/Stream","",-1,-1,-1,-1,-1,-1,-1,-1,1,"Mid-stage",1,"Clear",1,"",-1,-1,-1,-1,1,"Shanahan valley Creek at CTH GG. samples collected and brought to WSLH",1,"No Data","No Data","No Data","No Data","No Data","No Data","No Data","No Data","No Data",0,0,"","","Aldo Leopold","Agency/University","070700050401","Upper Honey Creek","Honey Creek"]
["Dev: DBParsing_231030_v01.xlsm","hiI4LJqEoEMKMBITHAWa","2023-09-26T17:23:28","2023-09-26T11:23:28","2023-09-26",2023,9,"inidBfHzkzPKUyeLROUq9PMQemF2",null,-90.093867200000005,43.372702500000003,null,"",0,null,1,240,120,null,null,7,0,null,1,59,1,0,1,"River/Stream","",-1,-1,-1,-1,-1,-1,-1,-1,1,"Mid-stage",1,null,0,"Regional Rainfall",1,0,0,0,0,"Shanahan valley cr a pouty road.  sample collected and sent to WSLH",1,"No Data","No Data","No Data","No Data","No Data","No Data","No Data","No Data","No Data",0,0,"","","Aldo Leopold","Agency/University","070700050401","Upper Honey Creek","Honey Creek"]
["Dev: DBParsing_231030_v01.xlsm","cqWew2U5nSRHdsgH79Hg","2023-09-26T16:56:37","2023-09-26T10:56:37","2023-09-26",2023,9,"inidBfHzkzPKUyeLROUq9PMQemF2",null,-90.039989700000007,43.278809600000002,null,"2023-09-26 11:56:37.150796.jpg-0",1,null,1,180,180,null,null,6.5,1,300,1,62,1,0.15,2,"River/Stream","",-1,-1,-1,-1,-1,-1,-1,-1,1,"Bankfull Stage",1,"Murky",1,"Regional Rainfall",1,0,0,0,0,"unnamed trib at cth b. very low DO. sample collected and sent to WSLH",1,"No Data","No Data","No Data","No Data","No Data","No Data","No Data","No Data","No Data",0,0,"","","Harry & Laura Nohr","Agency/University","070700050403","Middle Honey Creek","Honey Creek"]
["Dev: DBParsing_231030_v01.xlsm","esfTDpvq3DIw90X82scj","2023-09-26T16:46:34","2023-09-26T10:46:34","2023-09-26",2023,9,"5sE4Yqji6nO193vOJEyE5nVk3V33",null,-93.142363700000004,44.793846100000003,null,"2023-09-26 11:46:34.667068.jpg-0",1,null,1,240,0,null,null,7,0,null,1,67,1,0.3,1,"Lake/Pond","Bank Erosion,Trash,Algal Bloom",0,1,1,0,0,1,0,0,0,"Baseflow",1,"Clear",1,"Regional Rainfall",1,0,0,0,0,null,0,"Absent","Present","Present","Absent","Absent","Present","Absent","Absent","Recorded","","","","","Twin Cities","TCTU","070200121110","Minnesota River","Minnesota River"]
["Dev: DBParsing_231030_v01.xlsm","2uSFRnIuFeEycoJeVqkm","2023-09-26T16:28:46","2023-09-26T10:28:46","2023-09-26",2023,9,"inidBfHzkzPKUyeLROUq9PMQemF2","",-89.887419499999993,43.286933099999999,null,"2023-09-26 11:28:46.414008.jpg-0",1,null,1,180,180,null,null,7.5,1,300,1,62,1,0,1,"River/Stream","",-1,-1,-1,-1,-1,-1,-1,-1,1,"Mid-stage",1,"Muddy",1,"Regional Rainfall",1,0,0,0,0,"honey creek at cth e. paired with samples collected and sent to WSLH",1,"No Data","No Data","No Data","No Data","No Data","No Data","No Data","No Data","No Data","Honey Creek","Honey Creek","","","Aldo Leopold","Agency/University","070700050403","Middle Honey Creek","Honey Creek"]
["Dev: DBParsing_231030_v01.xlsm","Ma1pO8lUHERvEzpgWCjr","2023-09-26T15:50:03","2023-09-26T09:50:03","2023-09-26",2023,9,"5sE4Yqji6nO193vOJEyE5nVk3V33",null,-93.130449900000002,44.792417800000003,null,"",0,null,1,240,60,null,null,7,0,null,0,null,0,"","","Lake/Pond","",-1,-1,-1,-1,-1,-1,-1,-1,1,null,0,null,0,"",-1,-1,-1,-1,1,null,0,"No Data","No Data","No Data","No Data","No Data","No Data","No Data","No Data","No Data","","","","","Twin Cities","TCTU","070200121110","Minnesota River","Minnesota River"]
["Dev: DBParsing_231030_v01.xlsm","uDFKosF35gzQqZVtSzjU","2023-09-25T20:12:16","2023-09-25T14:12:16","2023-09-25",2023,9,"80reiKTTqGYqqpgYAhPwqypFwak1","",-92.342937137787715,43.773984790794039,null,"2023-09-25 15:12:15.939095.jpg-0",1,null,1,240,180,null,null,7.5,1,0,1,57,1,0,0,"River/Stream","Livestock in Water",0,0,0,0,1,0,0,0,0,"Mid-stage",1,"Clear",1,"None",0,0,0,0,0,"looks very good except for cattle.  ",1,"Absent","Absent","Absent","Absent","Present","Absent","Absent","Absent","Recorded","Kedron Creek","Kedron Creek",1,"","Hiawatha","Hiawatha","070400080203","Kedron Creek","Middle Branch Root River"]
["Dev: DBParsing_231030_v01.xlsm","yo4oAjAfQodU3BzK5nFv","2023-09-25T20:08:43","2023-09-25T14:08:43","2023-09-25",2023,9,"AFSRTEftiTe1HDjxTst1HuMIU1l1","Plum Creek @ Plum CIty Park",-92.189569869811962,44.632871663356781,null,"",0,null,1,240,60,null,null,7,1,0,1,53,1,0,0,"River/Stream","",-1,-1,-1,-1,-1,-1,-1,-1,1,"Bankfull Stage",1,"Murky",1,"Regional Rainfall",1,0,0,0,0,null,0,"No Data","No Data","No Data","No Data","No Data","No Data","No Data","No Data","No Data","Plum Creek","Plum Creek",1,1,"Kiap TU Wish","Kiap-TU-Wish","070500051101","Nugget Lake-Plum Creek","Plum Creek"]
["Dev: DBParsing_231030_v01.xlsm","P8DAYTurSidpZTulWye3","2023-09-25T19:39:41","2023-09-25T13:39:41","2023-09-25",2023,9,"80reiKTTqGYqqpgYAhPwqypFwak1",null,-92.278088100074882,43.793164209217409,null,"2023-09-25 14:39:41.309978.jpg-0",1,null,1,240,180,null,null,8,1,0,1,57,1,0,2,"River/Stream","None",0,0,0,0,0,0,0,1,0,"Mid-stage",1,"Clear",1,"None",0,0,0,0,0,"it’s definitely higher and stained.  not dirty.  just stained.  ",1,"Absent","Absent","Absent","Absent","Absent","Absent","Absent","Present","Recorded","Carson Creek","Carson Creek",1,1,"Hiawatha","Hiawatha","070400080208","Middle Branch Root River","Middle Branch Root River"]
["Dev: DBParsing_231030_v01.xlsm","KLZ7ZMTh0Hl5UVEGWGIG","2023-09-25T18:27:34","2023-09-25T12:27:34","2023-09-25",2023,9,"45rXX7ilGVVrOJRshsY6hOrN1Hd2","",-92.434398700000003,44.2894158,null,"",0,null,1,240,0,null,null,7.5,1,100,1,55,0,"","","River/Stream","None",0,0,0,0,0,0,0,1,0,null,0,"Clear",1,"Regional Rainfall",1,0,0,0,0,null,0,"Absent","Absent","Absent","Absent","Absent","Absent","Absent","Present","Recorded","Cold Creek","Cold Creek",1,1,"Hiawatha","Hiawatha","070400040503","Cold Creek","Zumbro River"]
["Dev: DBParsing_231030_v01.xlsm","WFZwgBmffdOwzJja4udj","2023-09-25T18:22:24","2023-09-25T12:22:24","2023-09-25",2023,9,"45rXX7ilGVVrOJRshsY6hOrN1Hd2","",-92.434397799999999,44.289415300000002,null,"",0,null,1,240,0,null,null,7,0,null,0,null,1,0,0,"River/Stream","None",0,0,0,0,0,0,0,1,0,"Baseflow",1,"Clear",1,"Regional Rainfall",1,0,0,0,0,null,0,"Absent","Absent","Absent","Absent","Absent","Absent","Absent","Present","Recorded","Cold Creek","Cold Creek",1,1,"Hiawatha","Hiawatha","070400040503","Cold Creek","Zumbro River"]
["Dev: DBParsing_231030_v01.xlsm","xOfFGjKAYYG8Xqv0W42L","2023-09-25T18:21:50","2023-09-25T12:21:50","2023-09-25",2023,9,"80reiKTTqGYqqpgYAhPwqypFwak1",null,-92.224595619560674,43.62269470479108,null,"2023-09-25 13:21:50.414413.jpg-0",1,null,1,240,180,null,null,8,1,0,1,64,1,0,0,"River/Stream","",-1,-1,-1,-1,-1,-1,-1,-1,1,"Mid-stage",1,"Clear",1,"None",0,0,0,0,0,"South Branch Root looks great despite the rain.  but it has a titch of nitrite ",1,"No Data","No Data","No Data","No Data","No Data","No Data","No Data","No Data","No Data","Canfield Creek","Canfield Creek",1,"","Hiawatha","Hiawatha","070400080402","Etna Creek-South Branch Root River","South Branch Root River"]
["Dev: DBParsing_231030_v01.xlsm","Qch6zmfeCEtrMrzr8i9t","2023-09-25T17:48:04","2023-09-25T11:48:04","2023-09-25",2023,9,"80reiKTTqGYqqpgYAhPwqypFwak1",null,-92.224513350225081,43.622284277670971,null,"2023-09-25 12:48:04.494182.jpg-0",1,null,1,240,60,null,null,8,1,0,1,54,1,0,5,null,"None",0,0,0,0,0,0,0,1,0,"Mid-stage",1,"Clear",1,"None",0,0,0,0,0,"we had heavy rains past few days. Canfield is up but clear. nitrates high.  ",1,"Absent","Absent","Absent","Absent","Absent","Absent","Absent","Present","Recorded","Canfield Creek","Canfield Creek",1,"","Hiawatha","Hiawatha","070400080405","Town of Forestville-South Branch Root River","South Branch Root River"]
["Dev: DBParsing_231030_v01.xlsm","9V3uNDnquPWFqZnUw5MZ","2023-09-25T17:06:36","2023-09-25T11:06:36","2023-09-25",2023,9,"VQ9bNtzttGcXOEuaXrEAEYLfT103",null,-92.294279700000004,43.728083599999998,null,"",0,null,0,"",null,null,null,null,1,0,1,61,1,0,5,"River/Stream","",-1,-1,-1,-1,-1,-1,-1,-1,1,null,0,null,0,"",-1,-1,-1,-1,1,null,0,"No Data","No Data","No Data","No Data","No Data","No Data","No Data","No Data","No Data","Spring Valley Creek","Spring Valley Creek",1,"","Hiawatha","Hiawatha","070400080205","Spring Valley Creek","Middle Branch Root River"]
["Dev: DBParsing_231030_v01.xlsm","ISEV051SI0j72qUWWdJ2","2023-09-25T16:20:21","2023-09-25T10:20:21","2023-09-25",2023,9,"K0EjhOrGL4NGhPVbB1pKi320lLr2","Hay Creek @ 320th St",-92.575569799999997,44.4883728,null,"2023-09-25 11:20:21.694859.jpg-02023-09-25 11:20:21.694859.jpg-1",1,null,1,240,120,null,null,7,1,100,1,56,1,0.15,2,"River/Stream","None",0,0,0,0,0,0,0,1,0,"Mid-stage",1,"Clear",1,"Regional Rainfall",1,0,0,0,0,"1.5\"+ rain last 24hrs. Tree and brush in stream at crossing",1,"Absent","Absent","Absent","Absent","Absent","Absent","Absent","Present","Recorded","Hay Creek","Hay Creek",1,"","Twin Cities","TCTU","070400010401","Hay Creek","Hay Creek-Mississippi River"]
["Dev: DBParsing_231030_v01.xlsm","mb0oxeBhOgS3CvNhFHuu","2023-09-25T15:51:04","2023-09-25T09:51:04","2023-09-25",2023,9,"K0EjhOrGL4NGhPVbB1pKi320lLr2","Hay Creek @ 325th St",-92.597036500000002,44.4726517,null,"",0,null,1,240,120,null,null,7.5,1,200,1,53,1,0,0,"River/Stream","None",0,0,0,0,0,0,0,1,0,"Mid-stage",1,"Clear",1,"Regional Rainfall",1,0,0,0,0,"1.5\"+ rain last 24hrs. Much vegetation in stream",1,"Absent","Absent","Absent","Absent","Absent","Absent","Absent","Present","Recorded","Hay Creek","Hay Creek",1,"","Twin Cities","TCTU","070400010401","Hay Creek","Hay Creek-Mississippi River"]
["Dev: DBParsing_231030_v01.xlsm","PmerAy46w2qwe2v3YLDy","2023-09-25T15:36:48","2023-09-25T09:36:48","2023-09-25",2023,9,"AFSRTEftiTe1HDjxTst1HuMIU1l1","Pine Creek @ County Rd. AA",-92.284021027852916,44.542240612542578,null,"",0,null,1,240,120,null,null,7,1,0,1,50,1,0,2,"River/Stream","None",0,0,0,0,0,0,0,1,0,"Bankfull Stage",1,"Clear",1,"Regional Rainfall",1,0,0,0,0,"It’s been raining ",1,"Absent","Absent","Absent","Absent","Absent","Absent","Absent","Present","Recorded","Pine Creek","Pine Creek",1,1,"Wisconsin Clear Water","Kiap-TU-Wish","070400010702","Pine Creek","Lake Pepin"]
["Dev: DBParsing_231030_v01.xlsm","5zrUY16uSsXTVC1k3yd6","2023-09-24T21:40:23","2023-09-24T15:40:23","2023-09-24",2023,9,"H4dZvxTdViejefqREn5k066JVZG3",null,-92.235894223201797,44.23085623631674,null,"2023-09-24 16:40:23.849517.jpg-0",1,null,1,180,180,null,null,7,1,300,1,60,1,0,2,"River/Stream","None",0,0,0,0,0,0,0,1,0,"Baseflow",1,"Clear",1,"None",0,0,0,0,0,"long creek, downstream from cnty 8 bridge.  recent rain showers ",1,"Absent","Absent","Absent","Absent","Absent","Absent","Absent","Present","Recorded","Long Creek","Long Creek",1,1,"Hiawatha","Hiawatha","070400040505","Long Creek","Zumbro River"]
["Dev: DBParsing_231030_v01.xlsm","hQ05GQQqij1KY3vVqJGu","2023-09-23T20:47:01","2023-09-23T14:47:01","2023-09-23",2023,9,"iL4InQVt0eQdf8HXXiLJJxA4dTA2",null,-91.187728199999995,43.7495592,null,"",0,null,1,240,120,null,null,7.5,0,null,1,62,1,0.15,2,"River/Stream","Bank Erosion",0,1,0,0,0,0,0,0,0,"Mid-stage",1,"Muddy",1,"Regional Rainfall",1,0,0,0,0,null,0,"Absent","Present","Absent","Absent","Absent","Absent","Absent","Absent","Recorded","Mormon Creek","Mormon Creek",1,"","Coulee Region","Unknown","070600010501","Mormon Creek","Mormon Creek-Mississippi River"]
["Dev: DBParsing_231030_v01.xlsm","iIWM4knaiJB6MlD7QRA5","2023-09-23T20:06:28","2023-09-23T14:06:28","2023-09-23",2023,9,"iL4InQVt0eQdf8HXXiLJJxA4dTA2",null,-91.061658699999995,43.756051900000003,null,"",0,null,1,180,180,null,null,7.5,0,null,1,60,1,0,1,"River/Stream","None",0,0,0,0,0,0,0,1,0,"Baseflow",1,"Clear",1,"Regional Rainfall",1,0,0,0,0,"kreibach coulee easement",1,"Absent","Absent","Absent","Absent","Absent","Absent","Absent","Present","Recorded","Mormon Creek","Mormon Creek",1,1,"Coulee Region","Unknown","070600010501","Mormon Creek","Mormon Creek-Mississippi River"]
["Dev: DBParsing_231030_v01.xlsm","2xJSFdxUMfxYtvszHGMV","2023-09-23T18:46:21","2023-09-23T12:46:21","2023-09-23",2023,9,"iL4InQVt0eQdf8HXXiLJJxA4dTA2",null,-90.774885699999999,43.799038199999998,null,"",0,null,1,240,60,null,null,7.5,0,null,1,62,1,0,2,"River/Stream","",-1,-1,-1,-1,-1,-1,-1,-1,1,"Baseflow",1,"Muddy",1,"Regional Rainfall",1,0,0,0,0,"melvina little la crosse easement",1,"No Data","No Data","No Data","No Data","No Data","No Data","No Data","No Data","No Data","Little LaCrosse River","Little LaCrosse River",1,"","Coulee Region","Unknown","070400060303","Headwaters Little La Crosse River","Middle La Crosse River"]
["Dev: DBParsing_231030_v01.xlsm","PTrGa7GrBP4L6AJx7d38","2023-09-23T17:49:00","2023-09-23T11:49:00","2023-09-23",2023,9,"iL4InQVt0eQdf8HXXiLJJxA4dTA2",null,-90.755493799999996,43.815704199999999,null,"",0,null,1,240,120,null,null,7.5,0,null,1,59,1,0,1,"River/Stream","None",0,0,0,0,0,0,0,1,0,"Baseflow",1,"Murky",1,"Regional Rainfall",1,0,0,0,0,"halls valley creek easement off F.",1,"Absent","Absent","Absent","Absent","Absent","Absent","Absent","Present","Recorded",0,0,1,"","Coulee Region","Unknown","070400060303","Headwaters Little La Crosse River","Middle La Crosse River"]
["Dev: DBParsing_231030_v01.xlsm","ybuGpHPNDZ2mvB14JLzp","2023-09-23T16:46:22","2023-09-23T10:46:22","2023-09-23",2023,9,"iL4InQVt0eQdf8HXXiLJJxA4dTA2",null,-90.768414399999997,43.835720500000001,null,"",0,null,1,240,180,null,null,7.5,0,null,1,60,1,0,0,"River/Stream","Livestock in Water",0,0,0,0,1,0,0,0,0,"Bankfull Stage",1,"Muddy",1,"Regional Rainfall,Local Thunderstorm",1,1,0,0,0,"little la crosse easement down from Lyons valley creek easment. open pasture many cows and manure everywhere along riverside",1,"Absent","Absent","Absent","Absent","Present","Absent","Absent","Absent","Recorded","Little LaCrosse River","Little LaCrosse River",1,"","Coulee Region","Unknown","070400060303","Headwaters Little La Crosse River","Middle La Crosse River"]
["Dev: DBParsing_231030_v01.xlsm","sL6LR1qvFUCEezCXRAL8","2023-09-23T14:38:22","2023-09-23T08:38:22","2023-09-23",2023,9,"iL4InQVt0eQdf8HXXiLJJxA4dTA2",null,-90.806591699999998,43.843738500000001,null,"",0,null,1,240,180,null,null,7.5,1,100,1,61,1,0,0,"River/Stream","Bank Erosion",0,1,0,0,0,0,0,0,0,"Mid-stage",1,"Muddy",1,"Regional Rainfall",1,0,0,0,0,"cannon valley creek easement.",1,"Absent","Present","Absent","Absent","Absent","Absent","Absent","Absent","Recorded",0,0,1,"","Coulee Region","Unknown","070400060303","Headwaters Little La Crosse River","Middle La Crosse River"]
["Dev: DBParsing_231030_v01.xlsm","LKOrJJMiEzAtCS8f7ZMo","2023-09-22T19:55:40","2023-09-22T13:55:40","2023-09-22",2023,9,"M7nEAKQN9zgYz7BtxGWTXq0oso12","SF Kinnickinnic River @ 900th St",-92.644958947059138,44.843511257892793,null,"2023-09-22 14:55:39.950148.jpg-0",1,null,1,240,120,null,null,8,1,0,1,59,1,0,5,"River/Stream","None",0,0,0,0,0,0,0,1,0,"Baseflow",1,"Clear",1,"None",0,0,0,0,0,"ptly cloudy, 72 degrees, very dry conditions",1,"Absent","Absent","Absent","Absent","Absent","Absent","Absent","Present","Recorded","Kinnickinnic River","Kinnickinnic River",1,"","Kiap TU Wish","Kiap-TU-Wish","070300051105","Lower Kinnickinnic Pond-Kinnickinnic River","Kinnickinnic River"]
["Dev: DBParsing_231030_v01.xlsm","DGCBYj40qVQANBbmqbXf","2023-09-22T14:51:24","2023-09-22T08:51:24","2023-09-22",2023,9,"wOnBJTAV2CZK06CRnr5oUK45EDv1",null,-89.67474591180985,43.398744219659271,null,"2023-09-22 09:51:24.499279.jpg-0",1,null,1,240,120,null,null,7.5,1,100,1,59,1,0,1,"River/Stream","None",0,0,0,0,0,0,0,1,0,"Baseflow",1,"Clear",1,"None",0,0,0,0,0,null,0,"Absent","Absent","Absent","Absent","Absent","Absent","Absent","Present","Recorded","Manley Creek","Manley Creek",1,1,"Aldo Leopold","US FWS","070700050206","Prairie du Sac Dam-Wisconsin River","Prairie du Sac Dam-Wisconsin River"]
["Dev: DBParsing_231030_v01.xlsm","UCQCIfV2NWdBLokYXE9s","2023-09-21T15:33:01","2023-09-21T09:33:01","2023-09-21",2023,9,"wOnBJTAV2CZK06CRnr5oUK45EDv1",null,-89.713087117050819,42.843240448511118,null,"2023-09-21 10:33:01.290365.jpg-0",1,null,1,240,120,null,null,8,0,null,1,63,1,0,2,"River/Stream","",-1,-1,-1,-1,-1,-1,-1,-1,1,"Baseflow",1,"Clear",1,"None",0,0,0,0,0,null,0,"No Data","No Data","No Data","No Data","No Data","No Data","No Data","No Data","No Data","Hustad Valley","Hustad Valley","","","Blackhawk","US FWS","070900040402","Ward Creek-Little Sugar River","Little Sugar River"]
["Dev: DBParsing_231030_v01.xlsm","GItk7iNBhW5mdHw9VlAG","2023-09-18T20:42:01","2023-09-18T14:42:01","2023-09-18",2023,9,"wOnBJTAV2CZK06CRnr5oUK45EDv1",null,-90.058501828545758,42.906104740726889,null,"2023-09-18 15:42:01.771290.jpg-0",1,null,1,240,120,null,null,8,1,0,1,59,1,0,2,"River/Stream","Bank Erosion",0,1,0,0,0,0,0,0,0,"Baseflow",1,"Clear",1,"None",0,0,0,0,0,"very soft bottom. water temp on dodge branch upstream from confluence is 62",1,"Absent","Present","Absent","Absent","Absent","Absent","Absent","Absent","Recorded","Dodge Branch","Dodge Branch",1,"","Harry & Laura Nohr","US FWS","070900030403","Gribble Branch-Dodge Branch","Dodge Branch"]
["Dev: DBParsing_231030_v01.xlsm","Dxn6VhIWAmMgo1wD4YUk","2023-09-18T20:15:35","2023-09-18T14:15:35","2023-09-18",2023,9,"wOnBJTAV2CZK06CRnr5oUK45EDv1","Other Locations",-90.07353829228326,42.898742579895213,null,"2023-09-18 15:15:35.104370.jpg-0",1,null,1,240,120,null,null,8,0,null,1,63,1,0,5,"River/Stream","Livestock in Water",0,0,0,0,1,0,0,0,0,"Baseflow",1,"Clear",1,"None",0,0,0,0,0,"downstream end of culvert 1 foot above stream water elevation ",1,"Absent","Absent","Absent","Absent","Present","Absent","Absent","Absent","Recorded","Lynch Branch","Lynch Branch",1,"","Harry & Laura Nohr","US FWS","070900030403","Gribble Branch-Dodge Branch","Dodge Branch"]
["Dev: DBParsing_231030_v01.xlsm","vcdnlMb1XrcWcQemBPsl","2023-09-18T19:34:48","2023-09-18T13:34:48","2023-09-18",2023,9,"wOnBJTAV2CZK06CRnr5oUK45EDv1",null,-90.169061310673285,42.821865105110057,null,"2023-09-18 14:34:48.273357.jpg-0",1,null,1,240,120,null,null,8,1,100,1,61,1,0,0,"River/Stream","Livestock in Water",0,0,0,0,1,0,0,0,0,"Baseflow",1,"Clear",1,"None",0,0,0,0,0,"observed trout. fish access easement",1,"Absent","Absent","Absent","Absent","Present","Absent","Absent","Absent","Recorded","Rock Branch","Rock Branch",1,"","Harry & Laura Nohr","US FWS","070900030103","Mineral Point Branch","Mineral Point Branch"]
["Dev: DBParsing_231030_v01.xlsm","NylZGH2h5yaaokOWjkaO","2023-09-18T18:34:31","2023-09-18T12:34:31","2023-09-18",2023,9,"wOnBJTAV2CZK06CRnr5oUK45EDv1",null,-90.353311553121841,42.821946890915221,null,"2023-09-18 13:34:31.783343.jpg-0",1,null,1,240,120,null,null,8,0,null,1,57,1,0,5,"River/Stream","Livestock in Water",0,0,0,0,1,0,0,0,0,"Baseflow",1,"Clear",1,"None",0,0,0,0,0,null,0,"Absent","Absent","Absent","Absent","Present","Absent","Absent","Absent","Recorded","Williams-rewey Branch","Williams-rewey Branch",1,1,"Harry & Laura Nohr","US FWS","070900030203","Williams Branch-Pecatonica River","Headwaters Pecatonica River"]
["Dev: DBParsing_231030_v01.xlsm","Io7GcWN71a6gxFRzBIkP","2023-09-18T18:19:16","2023-09-18T12:19:16","2023-09-18",2023,9,"wOnBJTAV2CZK06CRnr5oUK45EDv1",null,-90.362960379654879,42.828322271856315,null,"2023-09-18 13:19:16.628534.jpg-0",1,null,1,240,120,null,null,8,1,0,1,55,1,0,2,"River/Stream","None",0,0,0,0,0,0,0,1,0,"Baseflow",1,"Clear",1,"None",0,0,0,0,0,null,0,"Absent","Absent","Absent","Absent","Absent","Absent","Absent","Present","Recorded","Williams-rewey Branch","Williams-rewey Branch",1,1,"Harry & Laura Nohr","US FWS","070900030203","Williams Branch-Pecatonica River","Headwaters Pecatonica River"]
["Dev: DBParsing_231030_v01.xlsm","ZGACYWZMPoDRm5cZ6D6i","2023-09-18T17:29:29","2023-09-18T11:29:29","2023-09-18",2023,9,"wOnBJTAV2CZK06CRnr5oUK45EDv1",null,-90.24904855535388,42.907990333664365,null,"2023-09-18 12:29:29.674643.jpg-0",1,null,1,240,120,null,null,8,1,0,1,57,1,0,2,"River/Stream","Bank Erosion,Livestock in Water",0,1,0,0,1,0,0,0,0,"Baseflow",1,"Clear",1,"None",0,0,0,0,0,"rock substrate. sediment",1,"Absent","Present","Absent","Absent","Present","Absent","Absent","Absent","Recorded","Pedler Creek","Pedler Creek","","","Harry & Laura Nohr","US FWS","070900030101","East Pecatonica River","Mineral Point Branch"]
["Dev: DBParsing_231030_v01.xlsm","lPE7cPoZz6vA9N5eqNCd","2023-09-18T16:56:02","2023-09-18T10:56:02","2023-09-18",2023,9,"wOnBJTAV2CZK06CRnr5oUK45EDv1",null,-90.291274068961201,42.946041449944666,null,"2023-09-18 11:56:02.818251.jpg-0",1,null,1,240,120,null,null,8,1,100,1,55,1,0,0,"River/Stream","None",0,0,0,0,0,0,0,1,0,"Baseflow",1,"Clear",1,"None",0,0,0,0,0,"active quarry upstream. new culvert At road ",1,"Absent","Absent","Absent","Absent","Absent","Absent","Absent","Present","Recorded","Sudan Branch","Sudan Branch",1,"","Harry & Laura Nohr","US FWS","070900030101","East Pecatonica River","Mineral Point Branch"]
["Dev: DBParsing_231030_v01.xlsm","RmWmK3A9itBj9BmSII48","2023-09-18T16:04:22","2023-09-18T10:04:22","2023-09-18",2023,9,"wOnBJTAV2CZK06CRnr5oUK45EDv1",null,-90.220488058487163,42.960166884626453,null,"2023-09-18 11:04:22.681253.jpg-0",1,null,1,240,120,null,null,7.5,1,0,1,51,1,0,2,"River/Stream","None",0,0,0,0,0,0,0,1,0,"Baseflow",1,"Clear",1,"None",0,0,0,0,0,null,0,"Absent","Absent","Absent","Absent","Absent","Absent","Absent","Present","Recorded","Pedler Creek","Pedler Creek","","","Harry & Laura Nohr","US FWS","070900030101","East Pecatonica River","Mineral Point Branch"]
["Dev: DBParsing_231030_v01.xlsm","pt3it2FatRX9aq2FwNsv","2023-09-17T15:55:06","2023-09-17T09:55:06","2023-09-17",2023,9,"H4dZvxTdViejefqREn5k066JVZG3","",-92.146287628457742,44.239802434168851,null,"2023-09-17 10:55:06.701033.jpg-02023-09-17 10:55:06.701033.jpg-1",1,null,1,240,180,null,null,7,1,100,1,55,1,0,0,"River/Stream","None",0,0,0,0,0,0,0,1,0,"Baseflow",1,"Clear",1,"None",0,0,0,0,0,"West Indian upstream from parking lot ",1,"Absent","Absent","Absent","Absent","Absent","Absent","Absent","Present","Recorded","West Indian Creek","West Indian Creek",1,1,"Hiawatha","Hiawatha","070400040510","West Indian Creek","Zumbro River"]
["Dev: DBParsing_231030_v01.xlsm","sW0H5ObPZeCLdz234EpA","2023-09-16T21:11:58","2023-09-16T15:11:58","2023-09-16",2023,9,"UlOTIjO5fRXyX2NgghYvxYXOF0j2","",-91.81214269471036,44.001346811271141,null,"",0,null,1,240,120,null,null,7,1,100,1,55,0,"","","River/Stream","",-1,-1,-1,-1,-1,-1,-1,-1,1,null,0,null,0,"",-1,-1,-1,-1,1,null,0,"No Data","No Data","No Data","No Data","No Data","No Data","No Data","No Data","No Data","Garvin Brook","Garvin Brook",1,1,"Win Cres","Unknown","070400030502","Garvin Brook","Garvin Brook"]
["Dev: DBParsing_231030_v01.xlsm","XRfHIeeS4UfhDBEYdIRz","2023-09-16T20:32:15","2023-09-16T14:32:15","2023-09-16",2023,9,"UlOTIjO5fRXyX2NgghYvxYXOF0j2","",-91.999441441485047,44.090156001218595,null,"",0,null,0,"",null,null,null,null,1,100,1,57,0,"","","River/Stream","",-1,-1,-1,-1,-1,-1,-1,-1,1,"Baseflow",1,"Clear",1,"None",0,0,0,0,0,null,0,"No Data","No Data","No Data","No Data","No Data","No Data","No Data","No Data","No Data","South Fork Whitewater River","South Fork Whitewater River",1,"","Hiawatha","Unknown","070400030307","Lower South Fork Whitewater River","Whitewater River"]
["Dev: DBParsing_231030_v01.xlsm","HAVAGNgUryX5zurK9f69","2023-09-16T16:38:58","2023-09-16T10:38:58","2023-09-16",2023,9,"jr4xjZvRQFP5TMTbzZ3WFt91JbZ2","Other Locations",-92.149242400000006,44.248816400000003,null,"2023-09-16 11:38:58.235082.jpg-0",1,null,1,240,180,null,null,7.5,1,0,1,54,1,0,0,"River/Stream","None",0,0,0,0,0,0,0,1,0,"Baseflow",1,"Murky",1,"None",0,0,0,0,0,"West Indian Creek",1,"Absent","Absent","Absent","Absent","Absent","Absent","Absent","Present","Recorded","West Indian Creek","West Indian Creek",1,1,"Hiawatha","TCTU","070400040510","West Indian Creek","Zumbro River"]
["Dev: DBParsing_231030_v01.xlsm","aUtLQkhKcVHIgGVCmodr","2023-09-15T20:26:38","2023-09-15T14:26:38","2023-09-15",2023,9,"jr4xjZvRQFP5TMTbzZ3WFt91JbZ2",null,-91.975118899999998,44.050599099999999,null,"2023-09-15 15:26:38.320282.jpg-02023-09-15 15:26:38.320282.jpg-1",1,null,1,240,180,null,null,7.5,1,100,1,56,0,"","","River/Stream","",-1,-1,-1,-1,-1,-1,-1,-1,1,null,0,null,0,"",-1,-1,-1,-1,1,"South Branch of Whitewater",1,"No Data","No Data","No Data","No Data","No Data","No Data","No Data","No Data","No Data","South Fork Whitewater River","South Fork Whitewater River",1,"","Win Cres","TCTU","070400030307","Lower South Fork Whitewater River","Whitewater River"]
["Dev: DBParsing_231030_v01.xlsm","8vf718SmAcxyw1vnfeP2","2023-09-15T19:04:55","2023-09-15T13:04:55","2023-09-15",2023,9,"jr4xjZvRQFP5TMTbzZ3WFt91JbZ2","",-92.046965900000004,44.057150300000004,null,"2023-09-15 14:04:55.154089.jpg-02023-09-15 14:04:55.154089.jpg-12023-09-15 14:04:55.154089.jpg-2",1,null,1,240,60,null,null,7,1,0,1,57,0,"","","River/Stream","None",0,0,0,0,0,0,0,1,0,"Baseflow",1,"Clear",1,"Regional Rainfall",1,0,0,0,0,"Middle Fork of Whitewater ",1,"Absent","Absent","Absent","Absent","Absent","Absent","Absent","Present","Recorded","Middle Fork Whitewater River","Middle Fork Whitewater River",1,"","Win Cres","TCTU","070400030305","Middle Fork Whitewater River","Whitewater River"]
["Dev: DBParsing_231030_v01.xlsm","IvUPiEJeEV5Lkd8uzlnB","2023-09-14T20:18:38","2023-09-14T14:18:38","2023-09-14",2023,9,"wOnBJTAV2CZK06CRnr5oUK45EDv1",null,-89.484949590823547,42.842822379851981,null,"2023-09-14 15:18:38.668377.jpg-0",1,null,1,240,120,null,null,7.5,0,null,1,60,1,0,2,"River/Stream","None",0,0,0,0,0,0,0,1,0,"Baseflow",1,"Clear",1,"None",0,0,0,0,0,null,0,"Absent","Absent","Absent","Absent","Absent","Absent","Absent","Present","Recorded","Story Creek","Story Creek",1,"","Blackhawk","US FWS","070900040501","Story Creek","Story Creek-Sugar River"]
["Dev: DBParsing_231030_v01.xlsm","oUS5T5AK8QpP2VdiwYw8","2023-09-14T19:39:18","2023-09-14T13:39:18","2023-09-14",2023,9,"wOnBJTAV2CZK06CRnr5oUK45EDv1","Other Locations",-89.496291971329342,42.813757486698741,null,"2023-09-14 14:43:23.984021.jpg-0",1,null,1,240,180,null,null,7.5,1,100,1,62,1,0,0,"River/Stream","None",0,0,0,0,0,0,0,1,0,"Baseflow",1,"Clear",1,"None",0,0,0,0,0,null,0,"Absent","Absent","Absent","Absent","Absent","Absent","Absent","Present","Recorded","Story Creek","Story Creek",1,"","S. Wisconsin","US FWS","070900040501","Story Creek","Story Creek-Sugar River"]
["Dev: DBParsing_231030_v01.xlsm","4dfta3rIhf6NGyawf0e3","2023-09-14T19:19:46","2023-09-14T13:19:46","2023-09-14",2023,9,"wOnBJTAV2CZK06CRnr5oUK45EDv1",null,-89.46820698253886,42.810060418320887,null,"2023-09-14 14:19:46.439442.jpg-0",1,null,1,240,180,null,null,8,0,null,1,60,1,0,5,"River/Stream","Bank Erosion",0,1,0,0,0,0,0,0,0,"Baseflow",1,"Clear",1,"None",0,0,0,0,0,null,0,"Absent","Present","Absent","Absent","Absent","Absent","Absent","Absent","Recorded","Gill Creek","Gill Creek","",1,"Blackhawk","US FWS","070900040503","Gill Creek-Sugar River","Story Creek-Sugar River"]
["Dev: DBParsing_231030_v01.xlsm","mp46kvBXiy0FpgQA94TB","2023-09-14T19:06:00","2023-09-14T13:06:00","2023-09-14",2023,9,"wOnBJTAV2CZK06CRnr5oUK45EDv1",null,-89.466815755380026,42.811687433854253,null,"2023-09-14 14:06:00.044066.jpg-0",1,null,1,240,120,null,null,7,0,null,1,58,0,"","","River/Stream","Bank Erosion",0,1,0,0,0,0,0,0,0,"Baseflow",1,"Clear",1,"None",0,0,0,0,0,"Japanese knotweed present",1,"Absent","Present","Absent","Absent","Absent","Absent","Absent","Absent","Recorded","Gill Creek","Gill Creek","",1,"Blackhawk","US FWS","070900040503","Gill Creek-Sugar River","Story Creek-Sugar River"]
["Dev: DBParsing_231030_v01.xlsm","McFf1HA6GDtHpUztDJTu","2023-09-13T20:40:17","2023-09-13T14:40:17","2023-09-13",2023,9,"wOnBJTAV2CZK06CRnr5oUK45EDv1",null,-89.998010300415174,42.77505816114617,null,"2023-09-13 15:40:16.983275.jpg-0",1,null,1,240,30,null,null,8,0,null,1,59,0,"","","River/Stream","None",0,0,0,0,0,0,0,1,0,"Baseflow",1,"Murky",1,"None",0,0,0,0,0,null,0,"Absent","Absent","Absent","Absent","Absent","Absent","Absent","Present","Recorded","Steiner Branch","Steiner Branch",1,1,"Harry & Laura Nohr","US FWS","070900030702","Middle Yellowstone River","Yellowstone River"]
["Dev: DBParsing_231030_v01.xlsm","4dvAlM59eruZwAH6Ikk3","2023-09-13T20:02:20","2023-09-13T14:02:20","2023-09-13",2023,9,"wOnBJTAV2CZK06CRnr5oUK45EDv1",null,-90.029198576694156,42.778592913596107,null,"2023-09-13 15:02:20.798772.jpg-0",1,null,1,240,120,null,null,8,1,0,1,57,1,0,2,"River/Stream","Bank Erosion",0,1,0,0,0,0,0,0,0,"Baseflow",1,"Clear",1,"None",0,0,0,0,0,null,0,"Absent","Present","Absent","Absent","Absent","Absent","Absent","Absent","Recorded","Steiner Branch","Steiner Branch",1,1,"Harry & Laura Nohr","US FWS","070900030702","Middle Yellowstone River","Yellowstone River"]
["Dev: DBParsing_231030_v01.xlsm","erGOsZ0X3TFcsUEbpvHc","2023-09-13T19:18:33","2023-09-13T13:18:33","2023-09-13",2023,9,"7a7IFD1YT3aDXB8CbnSJjn1oLRC2","Isabelle Creek @ County Rd. EE",-92.442966232929365,44.621396150849478,null,"",0,null,1,240,180,null,null,8,1,0,1,54,1,0.15,2,"River/Stream","None",0,0,0,0,0,0,0,1,0,"Baseflow",1,null,0,"None",0,0,0,0,0,null,0,"Absent","Absent","Absent","Absent","Absent","Absent","Absent","Present","Recorded","Isabelle Creek","Isabelle Creek",1,"","Kiap TU Wish","Unknown","070400010701","Isabelle Creek","Lake Pepin"]
["Dev: DBParsing_231030_v01.xlsm","ltLfgHfOCJJvakWYd7Rr","2023-09-11T17:48:20","2023-09-11T11:48:20","2023-09-11",2023,9,"ZMmGOOwucYXE3nEMRlAJSj4Cg8c2","Hay Creek @ 320th St",-92.563742911334927,44.502626326099751,null,"",0,null,1,240,120,null,null,8,0,null,1,58,1,0,0,"River/Stream","None",0,0,0,0,0,0,0,1,0,"Baseflow",1,"Clear",1,"None",0,0,0,0,0,null,0,"Absent","Absent","Absent","Absent","Absent","Absent","Absent","Present","Recorded","Hay Creek","Hay Creek",1,"","Twin Cities","TCTU","070400010401","Hay Creek","Hay Creek-Mississippi River"]
["Dev: DBParsing_231030_v01.xlsm","rJ5LIpSkfEgdYV3Kl4VV","2023-09-10T13:41:19","2023-09-10T07:41:19","2023-09-10",2023,9,"2XHDjq71v6QuQ2mR0YUjDtciKej1","",-91.406585100000001,43.1175821,null,"2023-09-10 08:41:19.705194.jpg-0",1,null,1,240,180,null,null,8,0,null,1,52,1,0,0,"River/Stream","None",0,0,0,0,0,0,0,1,0,"Baseflow",1,"Clear",1,"None",0,0,0,0,0,null,0,"Absent","Absent","Absent","Absent","Absent","Absent","Absent","Present","Recorded","Hickory Creek","Hickory Creek",1,1,"Spring Creeks","Oak Brook","070600010904","Hickory Creek","Yellow River"]
["Dev: DBParsing_231030_v01.xlsm","SJKEpB70TmYIGbZcqKth","2023-09-09T19:06:05","2023-09-09T13:06:05","2023-09-09",2023,9,"7fp9eoNK1RTW0XUKFpn9oieJe1W2",null,-91.865659600000001,43.357577800000001,null,"",0,null,0,"",null,null,null,null,0,null,0,null,1,0.15,5,null,"",-1,-1,-1,-1,-1,-1,-1,-1,1,null,0,null,0,"",-1,-1,-1,-1,1,null,0,"No Data","No Data","No Data","No Data","No Data","No Data","No Data","No Data","No Data",0,0,1,"","Iowa Driftless","TU Staff","070600020208","Falcon Springs State Wildlife Area-Upper Iowa River","Cold Water Creek-Upper Iowa River"]
["Dev: DBParsing_231030_v01.xlsm","WvLTH0KONm4gIu1tFN6T","2023-09-09T18:54:14","2023-09-09T12:54:14","2023-09-09",2023,9,"7fp9eoNK1RTW0XUKFpn9oieJe1W2",null,-91.865690499999999,43.357558900000001,null,"2023-09-09 13:54:14.631188.jpg-0",1,null,1,240,180,null,null,8.5,0,null,1,62,0,"","","River/Stream","None",0,0,0,0,0,0,0,1,0,"Baseflow",1,"Clear",1,"None",0,0,0,0,0,null,0,"Absent","Absent","Absent","Absent","Absent","Absent","Absent","Present","Recorded",0,0,1,"","Iowa Driftless","TU Staff","070600020208","Falcon Springs State Wildlife Area-Upper Iowa River","Cold Water Creek-Upper Iowa River"]
["Dev: DBParsing_231030_v01.xlsm","YHUQ51ycDexKRePwmulP","2023-09-09T15:02:49","2023-09-09T09:02:49","2023-09-09",2023,9,"sPbTkTzcbybDduQDEAb0F4hUDHf2","MOA Creek",-93.23139826989852,44.846838734735883,null,"",0,null,1,240,120,null,null,7,1,0,1,56,1,0,1,"River/Stream","None",0,0,0,0,0,0,0,1,0,"Baseflow",1,"Clear",1,"None",0,0,0,0,0,"Air temp 67",1,"Absent","Absent","Absent","Absent","Absent","Absent","Absent","Present","Recorded","","","","","Twin Cities","TCTU","070200121110","Minnesota River","Minnesota River"]
["Dev: DBParsing_231030_v01.xlsm","e9HIX3EJMwducY0KPhvu","2023-09-08T19:19:57","2023-09-08T13:19:57","2023-09-08",2023,9,"dzm5kGoaEqWZ3aoqMW65dlUm5g92","Vermillion River, South Branch",-93.008991675537999,44.657276971307262,null,"",0,null,1,240,30,null,null,7,1,200,1,62,1,0,5,"River/Stream","None",0,0,0,0,0,0,0,1,0,"Baseflow",1,"Clear",1,"None",0,0,0,0,0,null,0,"Absent","Absent","Absent","Absent","Absent","Absent","Absent","Present","Recorded","South Branch Vermillion River","South Branch Vermillion River",1,"","Twin Cities","TCTU","070400010205","South Branch Vermillion River","Vermillion River"]
["Dev: DBParsing_231030_v01.xlsm","Osg8ohBvOuOgAz7DCYcC","2023-09-08T18:45:14","2023-09-08T12:45:14","2023-09-08",2023,9,"xYjaaWkJX4fiKpH7uMmSdC5YE0h2",null,-91.406139967785165,43.117776291423091,null,"",0,null,1,240,120,null,null,7,0,null,0,null,0,"","","River/Stream","",-1,-1,-1,-1,-1,-1,-1,-1,1,null,0,null,0,"",-1,-1,-1,-1,1,null,0,"No Data","No Data","No Data","No Data","No Data","No Data","No Data","No Data","No Data","Hickory Creek","Hickory Creek",1,1,"Spring Creeks","Oak Brook","070600010904","Hickory Creek","Yellow River"]
["Dev: DBParsing_231030_v01.xlsm","eEwrlyfYrCbP9Eiy7YuS","2023-09-07T14:40:16","2023-09-07T08:40:16","2023-09-07",2023,9,"ZMmGOOwucYXE3nEMRlAJSj4Cg8c2","",-91.079844886121762,43.749820154308487,null,"",0,null,0,"",null,null,null,null,0,null,1,58,1,0,2,"River/Stream","None",0,0,0,0,0,0,0,1,0,"Baseflow",1,"Clear",1,"None",0,0,0,0,0,null,0,"Absent","Absent","Absent","Absent","Absent","Absent","Absent","Present","Recorded","Mormon Creek","Mormon Creek",1,1,"Coulee Region","TCTU","070600010501","Mormon Creek","Mormon Creek-Mississippi River"]
["Dev: DBParsing_231030_v01.xlsm","HyXAuwjVbrKJfLDnGasS","2023-09-05T20:43:35","2023-09-05T14:43:35","2023-09-05",2023,9,"6oemLSFIHIXnYk5OuejKZ9Uhljr1",null,-92.547529927295514,43.984531695727732,null,"2023-09-05 15:43:35.750686.jpg-0",1,null,1,240,180,null,null,8,1,100,1,76,1,0,2,"River/Stream","None",0,0,0,0,0,0,0,1,0,"Baseflow",1,"Clear",1,"None",0,0,0,0,0,null,0,"Absent","Absent","Absent","Absent","Absent","Absent","Absent","Present","Recorded","South Fork Zumbro River","South Fork Zumbro River","","","Hiawatha","Hiawatha","070400040108","City of Rochester-South Fork Zumbro River","South Fork Zumbro River"]
["Dev: DBParsing_231030_v01.xlsm","DGnblBDJHdPLDt8j9jvJ","2023-09-05T16:38:26","2023-09-05T10:38:26","2023-09-05",2023,9,"ZMmGOOwucYXE3nEMRlAJSj4Cg8c2",null,-90.954054292671515,43.757973538739584,null,"",0,null,0,"",null,null,null,null,0,null,1,62,0,"","","River/Stream","None",0,0,0,0,0,0,0,1,0,"Baseflow",1,"Clear",1,"None",0,0,0,0,0,null,0,"Absent","Absent","Absent","Absent","Absent","Absent","Absent","Present","Recorded","Coon Creek","Coon Creek",1,"","Coulee Region","TCTU","070600010102","Upper Coon Creek","Coon Creek"]
["Dev: DBParsing_231030_v01.xlsm","GkTqqiEuzXnoSWfitqOK","2023-09-04T17:51:46","2023-09-04T11:51:46","2023-09-04",2023,9,"M7nEAKQN9zgYz7BtxGWTXq0oso12","SF Kinnickinnic River @ 900th St",-92.644945822662223,44.843586927638839,null,"2023-09-04 12:51:45.954133.jpg-0",1,null,1,240,180,null,null,8,1,0,1,64,1,0.15,5,"River/Stream","None",0,0,0,0,0,0,0,1,0,"Baseflow",1,"Clear",1,"None",0,0,0,0,0,"hot and sunny. 89 degrees. water low, drought conditions. ",1,"Absent","Absent","Absent","Absent","Absent","Absent","Absent","Present","Recorded","Kinnickinnic River","Kinnickinnic River",1,"","Kiap TU Wish","Kiap-TU-Wish","070300051105","Lower Kinnickinnic Pond-Kinnickinnic River","Kinnickinnic River"]
["Dev: DBParsing_231030_v01.xlsm","KBrcMpF8BTeYDVjevALe","2023-09-03T12:00:52","2023-09-03T06:00:52","2023-09-03",2023,9,"K0EjhOrGL4NGhPVbB1pKi320lLr2","Hay Creek @ 325th St",-92.596983300000005,44.472676700000001,null,"2023-09-03 07:00:51.955281.jpg-0",1,null,1,240,0,null,null,7.5,1,100,1,56,1,0.15,5,"River/Stream","None",0,0,0,0,0,0,0,1,0,"Mid-stage",1,"Clear",1,"None",0,0,0,0,0,"good flow, nice color",1,"Absent","Absent","Absent","Absent","Absent","Absent","Absent","Present","Recorded","Hay Creek","Hay Creek",1,"","Twin Cities","TCTU","070400010401","Hay Creek","Hay Creek-Mississippi River"]
["Dev: DBParsing_231030_v01.xlsm","bfBDn4ZIulgdEdfZOpmy","2023-09-03T11:37:27","2023-09-03T05:37:27","2023-09-03",2023,9,"K0EjhOrGL4NGhPVbB1pKi320lLr2","Hay Creek @ 320th St",-92.575598900000003,44.488412500000003,null,"2023-09-03 06:37:27.267356.jpg-0",1,null,1,240,0,null,null,7,1,100,1,60,1,0.15,2,"River/Stream","None",0,0,0,0,0,0,0,1,0,"Mid-stage",1,"Clear",1,"None",0,0,0,0,0,"bank vegetation filled in, stream vegetation good. Mayflies present",1,"Absent","Absent","Absent","Absent","Absent","Absent","Absent","Present","Recorded","Hay Creek","Hay Creek",1,"","Twin Cities","TCTU","070400010401","Hay Creek","Hay Creek-Mississippi River"]
["Dev: DBParsing_231030_v01.xlsm","SwwLKWFRoJUPXuAsoSHR","2023-09-02T19:09:42","2023-09-02T13:09:42","2023-09-02",2023,9,"f7qMRlnlkOgrA1xpaxXrTTeRGWX2",null,-92.732147378454655,44.831281947033681,null,"",0,null,1,240,120,null,null,9,1,0,1,66,1,0,5,"River/Stream","Bank Erosion",0,1,0,0,0,0,0,0,0,"Baseflow",1,"Clear",1,"None",0,0,0,0,0,"Secchi Tube > 100 cm.\nExtensive macrophyte development along RDB.\nNo rainfall for 16 days.",1,"Absent","Present","Absent","Absent","Absent","Absent","Absent","Absent","Recorded","Kinnickinnic River","Kinnickinnic River",1,"","Kiap TU Wish","Kiap-TU-Wish","070300051105","Lower Kinnickinnic Pond-Kinnickinnic River","Kinnickinnic River"]
["Dev: DBParsing_231030_v01.xlsm","b4AMSGJ9r6rrhzw4ZtWX","2023-09-02T13:32:12","2023-09-02T07:32:12","2023-09-02",2023,9,"MHFdkCj8zqhw6MGszjwZYx49QR22","Vermillion River, South Branch",-93.009039198500318,44.657231044369617,null,"2023-09-02 08:32:12.220328.jpg-02023-09-02 08:32:12.220328.jpg-1",1,null,1,240,30,null,null,7,1,200,1,65,1,0.15,2,"River/Stream","Fish Barrier",1,0,0,0,0,0,0,0,0,"Baseflow",1,"Clear",1,"None",0,0,0,0,0,"water level is lower than base level; fish trap was found in stream",1,"Present","Absent","Absent","Absent","Absent","Absent","Absent","Absent","Recorded","South Branch Vermillion River","South Branch Vermillion River","","","Twin Cities","TCTU","070400010205","South Branch Vermillion River","Vermillion River"]
["Dev: DBParsing_231030_v01.xlsm","TwFfudHCubBtvnlt1FA5","2023-08-30T15:29:07","2023-08-30T09:29:07","2023-08-30",2023,8,"80reiKTTqGYqqpgYAhPwqypFwak1",null,-92.224535113411761,43.622293675985233,null,"2023-08-30 10:29:07.089062.jpg-0",1,null,1,240,180,null,null,8,1,0,1,50,1,0,2,"River/Stream","None",0,0,0,0,0,0,0,1,0,"Baseflow",1,"Clear",1,"None",0,0,0,0,0,"Canfield looks great BUT nitrite/nitrate surprised me. I ran it again with new strip and got same result.  no idea why",1,"Absent","Absent","Absent","Absent","Absent","Absent","Absent","Present","Recorded","Canfield Creek","Canfield Creek",1,"","Hiawatha","Hiawatha","070400080405","Town of Forestville-South Branch Root River","South Branch Root River"]
["Dev: DBParsing_231030_v01.xlsm","qbhwnqIvzWN4zeIA9JQj","2023-08-30T14:03:51","2023-08-30T08:03:51","2023-08-30",2023,8,"80reiKTTqGYqqpgYAhPwqypFwak1",null,-92.278075617326962,43.793152464591245,null,"2023-08-30 09:03:51.594789.jpg-0",1,null,1,240,180,null,null,8,1,0,1,50,1,0,0,"River/Stream","None",0,0,0,0,0,0,0,1,0,"Baseflow",1,"Clear",1,"None",0,0,0,0,0,"Little Jordan is a touch stained.  not sure why.  but very low nitrates.  I still called it clear.  ",1,"Absent","Absent","Absent","Absent","Absent","Absent","Absent","Present","Recorded","Carson Creek","Carson Creek",1,1,"Hiawatha","Hiawatha","070400080208","Middle Branch Root River","Middle Branch Root River"]
["Dev: DBParsing_231030_v01.xlsm","0QBooxcXLHTeYvDkpuEp","2023-08-30T13:16:41","2023-08-30T07:16:41","2023-08-30",2023,8,"80reiKTTqGYqqpgYAhPwqypFwak1",null,-92.342888912499077,43.773987864760819,null,"2023-08-30 08:16:41.182712.jpg-0",1,null,1,240,180,null,null,8,1,0,1,51,1,0,2,"River/Stream","None",0,0,0,0,0,0,0,1,0,"Baseflow",1,"Clear",1,"None",0,0,0,0,0,"very low and clear.  I flushed a dozen wood ducks and a great blue heron coming in.  ",1,"Absent","Absent","Absent","Absent","Absent","Absent","Absent","Present","Recorded","Kedron Creek","Kedron Creek",1,"","Hiawatha","Hiawatha","070400080203","Kedron Creek","Middle Branch Root River"]
["Dev: DBParsing_231030_v01.xlsm","eZfyCpCZGWazeyM6LogI","2023-08-28T16:45:47","2023-08-28T10:45:47","2023-08-28",2023,8,"VQ9bNtzttGcXOEuaXrEAEYLfT103",null,-92.342176699999996,43.6031075,null,"",0,null,0,"",null,null,null,null,1,0,1,55,1,0,5,"River/Stream","None",0,0,0,0,0,0,0,1,0,"Baseflow",1,"Clear",1,"None",0,0,0,0,0,null,0,"Absent","Absent","Absent","Absent","Absent","Absent","Absent","Present","Recorded","Etna Creek","Etna Creek",1,"","Hiawatha","Hiawatha","070400080402","Etna Creek-South Branch Root River","South Branch Root River"]
["Dev: DBParsing_231030_v01.xlsm","DItF5YQkWOLMFyl3xjMv","2023-08-28T16:11:41","2023-08-28T10:11:41","2023-08-28",2023,8,"VQ9bNtzttGcXOEuaXrEAEYLfT103",null,-92.295060300000003,43.736323800000001,null,"",0,null,0,"",null,null,null,null,1,0,1,66,1,0,2,"River/Stream","None",0,0,0,0,0,0,0,1,0,"Baseflow",1,"Clear",1,"None",0,0,0,0,0,null,0,"Absent","Absent","Absent","Absent","Absent","Absent","Absent","Present","Recorded","Deer Creek","Deer Creek",1,"","Hiawatha","Hiawatha","070400080206","Deer Creek","Middle Branch Root River"]
["Dev: DBParsing_231030_v01.xlsm","glBNib2rjReHoBVTiyWl","2023-08-28T00:09:10","2023-08-27T18:09:10","2023-08-27",2023,8,"H4dZvxTdViejefqREn5k066JVZG3",null,-92.236281034586398,44.230630512123668,null,"2023-08-27 19:09:10.025027.jpg-0",1,null,1,180,60,null,null,7.5,1,100,1,60,1,0,2,"River/Stream","None",0,0,0,0,0,0,0,1,0,"Baseflow",1,"Clear",1,"None",0,0,0,0,0,"long creek downstream from county 8 bridge ",1,"Absent","Absent","Absent","Absent","Absent","Absent","Absent","Present","Recorded","Long Creek","Long Creek",1,1,"Hiawatha","Hiawatha","070400040505","Long Creek","Zumbro River"]
["Dev: DBParsing_231030_v01.xlsm","v1l0bjBxdqMdvabzdLUz","2023-08-27T15:34:21","2023-08-27T09:34:21","2023-08-27",2023,8,"H4dZvxTdViejefqREn5k066JVZG3",null,-92.149245494123804,44.248832443067222,null,"2023-08-27 10:34:21.806937.jpg-0",1,null,1,240,0,null,null,7,1,0,1,58,1,0,0,"River/Stream","None",0,0,0,0,0,0,0,1,0,"Baseflow",1,"Clear",1,"None",0,0,0,0,0,"West Indian creek - just upstream from parking lot",1,"Absent","Absent","Absent","Absent","Absent","Absent","Absent","Present","Recorded","West Indian Creek","West Indian Creek",1,1,"Hiawatha","Hiawatha","070400040510","West Indian Creek","Zumbro River"]
["Dev: DBParsing_231030_v01.xlsm","sYuGSQbAHkqMAugn0o6H","2023-08-25T15:52:28","2023-08-25T09:52:28","2023-08-25",2023,8,"AFSRTEftiTe1HDjxTst1HuMIU1l1","Pine Creek @ County Rd. AA",-92.283992347004244,44.542223110118179,null,"",0,null,1,240,120,null,null,7,1,0,1,52,1,0,0,"River/Stream","",-1,-1,-1,-1,-1,-1,-1,-1,1,"Baseflow",1,"Clear",1,"None",0,0,0,0,0,null,0,"No Data","No Data","No Data","No Data","No Data","No Data","No Data","No Data","No Data","Pine Creek","Pine Creek",1,1,"Wisconsin Clear Water","Kiap-TU-Wish","070400010702","Pine Creek","Lake Pepin"]
["Dev: DBParsing_231030_v01.xlsm","54lffBe1Osagvtp3tMEO","2023-08-22T20:53:34","2023-08-22T14:53:34","2023-08-22",2023,8,"inidBfHzkzPKUyeLROUq9PMQemF2",null,-90.044152100000005,43.281529800000001,null,"",0,null,1,240,180,null,null,9,0,null,1,66,0,"","","River/Stream","",-1,-1,-1,-1,-1,-1,-1,-1,1,null,0,null,0,"",-1,-1,-1,-1,1,"sugar Grove valley cr at sth 23. tp, TN, orthop, not, and ammonia sample collected and sent to WSLH ",1,"No Data","No Data","No Data","No Data","No Data","No Data","No Data","No Data","No Data",0,0,"","","Harry & Laura Nohr","Agency/University","070700050403","Middle Honey Creek","Honey Creek"]
["Dev: DBParsing_231030_v01.xlsm","WMhi5JNvNu7Lp5gCsPEc","2023-08-22T20:40:39","2023-08-22T14:40:39","2023-08-22",2023,8,"inidBfHzkzPKUyeLROUq9PMQemF2",null,-90.044273200000006,43.291769199999997,null,"",0,null,1,240,180,null,null,8,1,0,1,65,1,0.15,2,null,"",-1,-1,-1,-1,-1,-1,-1,-1,1,null,0,"Clear",1,"",-1,-1,-1,-1,1,"Unnamed trib to honey creek at STH 23. TP, TN, NOx, ammonia, and ortho p samples collected and submitted to WSLH ",1,"No Data","No Data","No Data","No Data","No Data","No Data","No Data","No Data","No Data","Sugar Grove Valley","Sugar Grove Valley","","","Harry & Laura Nohr","Agency/University","070700050401","Upper Honey Creek","Honey Creek"]
["Dev: DBParsing_231030_v01.xlsm","U9bSONARi9Sw54eClH3Z","2023-08-22T20:27:38","2023-08-22T14:27:38","2023-08-22",2023,8,"inidBfHzkzPKUyeLROUq9PMQemF2",null,-90.037177499999999,43.293121599999999,null,"",0,null,1,240,180,null,null,7.5,1,300,1,71,1,0.15,2,"River/Stream","",-1,-1,-1,-1,-1,-1,-1,-1,1,null,0,"Clear",1,"",-1,-1,-1,-1,1,"honey creek at willow road. tp, TN, ammonia, nox, and orthop samples collected and sent to WSLH ",1,"No Data","No Data","No Data","No Data","No Data","No Data","No Data","No Data","No Data","Honey Creek","Honey Creek",1,"","Harry & Laura Nohr","Agency/University","070700050401","Upper Honey Creek","Honey Creek"]
["Dev: DBParsing_231030_v01.xlsm","7w4elmuXP9exyeYAJVkk","2023-08-22T20:11:05","2023-08-22T14:11:05","2023-08-22",2023,8,"inidBfHzkzPKUyeLROUq9PMQemF2",null,-90.070328000000003,43.351005999999998,null,"",0,null,1,240,60,null,null,7,1,100,1,61,1,0.15,2,"River/Stream","",-1,-1,-1,-1,-1,-1,-1,-1,1,null,0,"Clear",1,"",-1,-1,-1,-1,1,"honey creek at cth GG. TP sample collected and sent to WSLH ",1,"No Data","No Data","No Data","No Data","No Data","No Data","No Data","No Data","No Data","Honey Creek","Honey Creek",1,"","Aldo Leopold","Agency/University","070700050401","Upper Honey Creek","Honey Creek"]
["Dev: DBParsing_231030_v01.xlsm","btAAuRl3qN3DSajhVnxE","2023-08-22T20:02:14","2023-08-22T14:02:14","2023-08-22",2023,8,"inidBfHzkzPKUyeLROUq9PMQemF2",null,-90.077992499999993,43.350886199999998,null,"",0,null,1,240,60,null,null,7,1,100,1,73,1,0.15,2,"River/Stream","",-1,-1,-1,-1,-1,-1,-1,-1,1,null,0,"Clear",1,"",-1,-1,-1,-1,1,"Shanahan valley creek at GG. Tp, Tn, nitrates, and ortho p sample collected and sent to WSLH ",1,"No Data","No Data","No Data","No Data","No Data","No Data","No Data","No Data","No Data",0,0,"","","Aldo Leopold","Agency/University","070700050401","Upper Honey Creek","Honey Creek"]
["Dev: DBParsing_231030_v01.xlsm","nDYV8DLFzNLQzpaQKmj6","2023-08-22T19:43:56","2023-08-22T13:43:56","2023-08-22",2023,8,"inidBfHzkzPKUyeLROUq9PMQemF2",null,-90.093846900000003,43.3726889,null,"",0,null,1,240,180,null,null,8,1,100,1,67,1,0,0,"River/Stream","",-1,-1,-1,-1,-1,-1,-1,-1,1,null,0,"Clear",1,"",-1,-1,-1,-1,1,"Shanahan valley creek at prouty road. Tp sample collected and sent to WSLH.",1,"No Data","No Data","No Data","No Data","No Data","No Data","No Data","No Data","No Data",0,0,"","","Aldo Leopold","Agency/University","070700050401","Upper Honey Creek","Honey Creek"]
["Dev: DBParsing_231030_v01.xlsm","79af17desMLbe17GpA7v","2023-08-22T19:09:28","2023-08-22T13:09:28","2023-08-22",2023,8,"inidBfHzkzPKUyeLROUq9PMQemF2","Other Locations",-90.040131599999995,43.2786057,null,"",0,null,1,240,120,null,null,7.5,1,200,1,64,1,0,1,"River/Stream","",-1,-1,-1,-1,-1,-1,-1,-1,1,"Baseflow",1,"Clear",1,"",-1,-1,-1,-1,1,"",0,"No Data","No Data","No Data","No Data","No Data","No Data","No Data","No Data","No Data",0,0,"","","Harry & Laura Nohr","Agency/University","070700050403","Middle Honey Creek","Honey Creek"]
["Dev: DBParsing_231030_v01.xlsm","90OZQFTmIoLTXTnp8AlL","2023-08-22T18:46:34","2023-08-22T12:46:34","2023-08-22",2023,8,"inidBfHzkzPKUyeLROUq9PMQemF2","",-89.887445200000002,43.287237400000002,null,"",0,null,1,240,120,null,null,7.5,0,null,0,null,1,0,2,null,"",-1,-1,-1,-1,-1,-1,-1,-1,1,null,0,"Clear",1,"",-1,-1,-1,-1,1,"Honey Creek at CTH E. Stream was the most clear we've seen it. this observation was taken in conjunction with water samples collected by DNR and sent to WSLH.",1,"No Data","No Data","No Data","No Data","No Data","No Data","No Data","No Data","No Data","Honey Creek","Honey Creek","","","Aldo Leopold","Agency/University","070700050402","North Branch Honey Creek","Honey Creek"]
["Dev: DBParsing_231030_v01.xlsm","mXCodMEsFtEkxHIy2kWC","2023-08-22T15:43:50","2023-08-22T09:43:50","2023-08-22",2023,8,"sV8r8QoTpTQ81023RxB7QRB9qBu1","Belle Creek",-92.738138000000006,44.563296700000002,null,"",0,null,1,240,0,null,null,6.5,1,0,1,61,1,0,0,"River/Stream","None",0,0,0,0,0,0,0,1,0,"Baseflow",1,"Clear",1,"None",0,0,0,0,0,null,0,"Absent","Absent","Absent","Absent","Absent","Absent","Absent","Present","Recorded","","","","","Twin Cities","TCTU","070400020903","Town of Welch-Cannon River","Lower Cannon River"]
["Dev: DBParsing_231030_v01.xlsm","IXGjffhKLmFGY13EZgxg","2023-08-21T21:50:03","2023-08-21T15:50:03","2023-08-21",2023,8,"JXs3JH9frrZM0ZdjV8qFZY0NE3P2","SF Kinnickinnic River @ 900th St",-92.583453450884704,44.84879058927352,null,"2023-08-21 16:50:02.924557.jpg-0",1,null,1,240,180,null,null,8,0,null,1,56,1,0,2,"River/Stream","Algal Bloom",0,0,0,0,0,1,0,0,0,null,0,null,0,"",-1,-1,-1,-1,1,"significant amount of algae throughout the stretch",1,"Absent","Absent","Absent","Absent","Absent","Present","Absent","Absent","Recorded","South Fork Kinnickinnic River","South Fork Kinnickinnic River",1,1,"Kiap TU Wish","Kiap-TU-Wish","070300051103","South Fork Kinnickinnic River","Kinnickinnic River"]
["Dev: DBParsing_231030_v01.xlsm","UUEvD8dNA48aITfq2627","2023-08-21T12:25:10","2023-08-21T06:25:10","2023-08-21",2023,8,"7NTXAgPEn9VYyuIA3Cp8vDW3NQX2",null,-90.397463200000004,43.369614300000002,null,"",0,null,1,240,180,null,null,7.5,1,0,1,61,1,0,1,"River/Stream","",-1,-1,-1,-1,-1,-1,-1,-1,1,"Baseflow",1,"Murky",1,"None",0,0,0,0,0,null,0,"No Data","No Data","No Data","No Data","No Data","No Data","No Data","No Data","No Data","Horse Creek","Horse Creek",1,"","Coulee Region","TU Staff","070700051107","Brush Creek-Pine River","Pine River"]
["Dev: DBParsing_231030_v01.xlsm","jSLis5aLB8Gl8HAncE1U","2023-08-21T11:52:39","2023-08-21T05:52:39","2023-08-21",2023,8,"7NTXAgPEn9VYyuIA3Cp8vDW3NQX2",null,-90.384382900000006,43.373379300000003,null,"",0,null,1,240,180,null,null,8,1,0,1,69,1,0,1,"River/Stream","None",0,0,0,0,0,0,0,1,0,"Baseflow",1,"Murky",1,"None",0,0,0,0,0,null,0,"Absent","Absent","Absent","Absent","Absent","Absent","Absent","Present","Recorded","Pine River","Pine River",1,"","Coulee Region","TU Staff","070700051107","Brush Creek-Pine River","Pine River"]
["Dev: DBParsing_231030_v01.xlsm","OlOUyYehCnsaPXJS2Bx4","2023-08-20T21:56:14","2023-08-20T15:56:14","2023-08-20",2023,8,"sPbTkTzcbybDduQDEAb0F4hUDHf2","MOA Creek",-93.232710374745182,44.846295637008431,null,"",0,null,1,240,120,null,null,8,1,0,1,61,1,0,1,"River/Stream","None",0,0,0,0,0,0,0,1,0,"Baseflow",1,"Clear",1,"None",0,0,0,0,0,"79 degrees. Sunny.",1,"Absent","Absent","Absent","Absent","Absent","Absent","Absent","Present","Recorded","","","","","Twin Cities","TCTU","070200121110","Minnesota River","Minnesota River"]
["Dev: DBParsing_231030_v01.xlsm","91ZY11pZa2QtR03g4dn6","2023-08-20T20:03:05","2023-08-20T14:03:05","2023-08-20",2023,8,"f7qMRlnlkOgrA1xpaxXrTTeRGWX2",null,-92.732079630671507,44.831133791153555,null,"",0,null,1,240,180,null,null,8,1,0,1,67,1,0,5,"River/Stream","Bank Erosion",0,1,0,0,0,0,0,0,0,"Baseflow",1,"Clear",1,"None",0,0,0,0,0,"Secchi Tube > 100 cm.\nExtensive macrophyte presence at site.",1,"Absent","Present","Absent","Absent","Absent","Absent","Absent","Absent","Recorded","Kinnickinnic River","Kinnickinnic River",1,"","Kiap TU Wish","Kiap-TU-Wish","070300051105","Lower Kinnickinnic Pond-Kinnickinnic River","Kinnickinnic River"]
["Dev: DBParsing_231030_v01.xlsm","uvZ7xRjfhH7DM0mIdktr","2023-08-19T15:37:44","2023-08-19T09:37:44","2023-08-19",2023,8,"wQCfNJcgkMPI4m2bsIm33lNVmqH2","Hay Creek @ 325th St",-92.587053207789936,44.478872349126966,null,"2023-08-19 10:37:44.444828.jpg-0",1,null,0,"",null,null,null,null,1,100,1,57,1,0,0,null,"None",0,0,0,0,0,0,0,1,0,"Bankfull Stage",1,"Clear",1,"Regional Rainfall",1,0,0,0,0,"pristine trout stream",1,"Absent","Absent","Absent","Absent","Absent","Absent","Absent","Present","Recorded","Hay Creek","Hay Creek",1,"","Twin Cities","TCTU","070400010401","Hay Creek","Hay Creek-Mississippi River"]
["Dev: DBParsing_231030_v01.xlsm","HBBkJqzVMdaWDALh2teu","2023-08-18T20:11:13","2023-08-18T14:11:13","2023-08-18",2023,8,"vJrwbdPvPnXJgon4SQthmTwobKu2",null,-92.621245301133754,44.875087653631986,null,"",0,null,0,"",null,null,null,null,0,null,0,null,1,0,5,null,"",-1,-1,-1,-1,-1,-1,-1,-1,1,null,0,null,0,"",-1,-1,-1,-1,1,null,0,"No Data","No Data","No Data","No Data","No Data","No Data","No Data","No Data","No Data","Kinnickinnic River","Kinnickinnic River",1,"","Kiap TU Wish","Kinni Corridor Collaborative","070300051104","Parker Creek-Kinnickinnic River","Kinnickinnic River"]
["Dev: DBParsing_231030_v01.xlsm","GjvxqyHrkqCL1yEdv7Dh","2023-08-18T15:21:20","2023-08-18T09:21:20","2023-08-18",2023,8,"JPeRKIYV47UbzfPT6XNOkzh8jrH3",null,-92.641686508355306,44.849885414736214,null,"",0,null,0,"",null,null,null,null,0,null,0,null,1,0.15,1,null,"",-1,-1,-1,-1,-1,-1,-1,-1,1,null,0,null,0,"",-1,-1,-1,-1,1,null,0,"No Data","No Data","No Data","No Data","No Data","No Data","No Data","No Data","No Data","Kinnickinnic River","Kinnickinnic River",1,1,"Kiap TU Wish","Unknown","070300051105","Lower Kinnickinnic Pond-Kinnickinnic River","Kinnickinnic River"]
["Dev: DBParsing_231030_v01.xlsm","k7IhgjdcawqiovGyfmd4","2023-08-17T20:55:40","2023-08-17T14:55:40","2023-08-17",2023,8,"priF5cixMzgI8IDVbN4UORA8Axx2",null,-92.634629799999999,44.8549972,null,"",0,null,0,"",null,null,null,null,0,null,0,null,1,0.15,1,null,"",-1,-1,-1,-1,-1,-1,-1,-1,1,null,0,null,0,"",-1,-1,-1,-1,1,null,0,"No Data","No Data","No Data","No Data","No Data","No Data","No Data","No Data","No Data","Kinnickinnic River","Kinnickinnic River",1,1,"Kiap TU Wish","Unknown","070300051105","Lower Kinnickinnic Pond-Kinnickinnic River","Kinnickinnic River"]
["Dev: DBParsing_231030_v01.xlsm","mj5VnvWjAFK9Bf5G8sB3","2023-08-17T20:31:04","2023-08-17T14:31:04","2023-08-17",2023,8,"priF5cixMzgI8IDVbN4UORA8Axx2",null,-92.636234000000002,44.854673400000003,null,"",0,null,0,"",null,null,null,null,0,null,0,null,1,0,0,null,"",-1,-1,-1,-1,-1,-1,-1,-1,1,null,0,null,0,"",-1,-1,-1,-1,1,null,0,"No Data","No Data","No Data","No Data","No Data","No Data","No Data","No Data","No Data","Kinnickinnic River","Kinnickinnic River",1,1,"Kiap TU Wish","Unknown","070300051105","Lower Kinnickinnic Pond-Kinnickinnic River","Kinnickinnic River"]
["Dev: DBParsing_231030_v01.xlsm","koQhieAGItj7uyvJo8eb","2023-08-16T22:05:43","2023-08-16T16:05:43","2023-08-16",2023,8,"dzm5kGoaEqWZ3aoqMW65dlUm5g92","Vermillion River, South Branch",-93.008947335270236,44.657291891094907,null,"",0,null,1,240,0,null,null,7,1,100,1,67,1,0,5,"River/Stream","Trash,None",0,0,1,0,0,0,0,1,0,"Baseflow",1,"Clear",1,"None",0,0,0,0,0,null,0,"Absent","Absent","Present","Absent","Absent","Absent","Absent","Present","Recorded","South Branch Vermillion River","South Branch Vermillion River",1,"","Twin Cities","TCTU","070400010205","South Branch Vermillion River","Vermillion River"]
["Dev: DBParsing_231030_v01.xlsm","GZxkT9Qi8R4nEOooHE22","2023-08-16T19:37:21","2023-08-16T13:37:21","2023-08-16",2023,8,"b5Q5MWoIy9OOBrhn8HbZMPPsGST2",null,-91.912846782744197,43.710002930803597,null,"2023-08-16 14:37:21.006444.jpg-0",1,null,1,240,180,null,null,8,1,200,1,56,1,0,5,"River/Stream","Bank Erosion",0,1,0,0,0,0,0,0,0,"Baseflow",1,"Clear",1,"None",0,0,0,0,0,"Gribben Creek, lots of instream vegetation",1,"Absent","Present","Absent","Absent","Absent","Absent","Absent","Absent","Recorded","Gribben Creek","Gribben Creek",1,"","Hiawatha","Agency/University","070400080701","City of Whalan-Root River","City of Rushford-Root River"]
["Dev: DBParsing_231030_v01.xlsm","im4qJA26wx3Nb0Uhc5ab","2023-08-16T13:16:13","2023-08-16T07:16:13","2023-08-16",2023,8,"7NTXAgPEn9VYyuIA3Cp8vDW3NQX2",null,-90.351235000000003,43.475812400000002,null,"",0,null,1,240,180,null,null,7.5,1,0,1,63,1,0.15,0,"River/Stream","None",0,0,0,0,0,0,0,1,0,"Baseflow",1,"Clear",1,"None",0,0,0,0,0,null,0,"Absent","Absent","Absent","Absent","Absent","Absent","Absent","Present","Recorded","Soules Creek","Soules Creek",1,"","Coulee Region","TU Staff","070700051103","Hawkins Creek-Pine River","Pine River"]
["Dev: DBParsing_231030_v01.xlsm","4uqb1hzI0MfIcXbrho9k","2023-08-15T18:47:11","2023-08-15T12:47:11","2023-08-15",2023,8,"k6imGQxkdoYmMVg7pAz2w40EZAb2",null,-92.644068399999995,44.8443714,null,"",0,null,0,"",null,null,null,null,0,null,0,null,1,0.15,2,"River/Stream","",-1,-1,-1,-1,-1,-1,-1,-1,1,null,0,null,0,"",-1,-1,-1,-1,1,null,0,"No Data","No Data","No Data","No Data","No Data","No Data","No Data","No Data","No Data","Kinnickinnic River","Kinnickinnic River",1,"","Kiap TU Wish","Kinni Corridor Collaborative","070300051105","Lower Kinnickinnic Pond-Kinnickinnic River","Kinnickinnic River"]
["Dev: DBParsing_231030_v01.xlsm","Y0DC0TYX9I8ZHohsG2Ww","2023-08-15T18:15:28","2023-08-15T12:15:28","2023-08-15",2023,8,"7fp9eoNK1RTW0XUKFpn9oieJe1W2",null,-90.765066000000004,43.575713999999998,null,"",0,null,0,"",null,null,null,null,0,null,1,68,0,"","",null,"",-1,-1,-1,-1,-1,-1,-1,-1,1,null,0,null,0,"",-1,-1,-1,-1,1,null,0,"No Data","No Data","No Data","No Data","No Data","No Data","No Data","No Data","No Data","West Fork Kickapoo River","West Fork Kickapoo River",1,1,"Coulee Region","TU Staff","070700060205","West Fork Kickapoo River","West Fork Kickapoo River"]
["Dev: DBParsing_231030_v01.xlsm","ygbyv6VGbz7IAxSqtC7f","2023-08-15T18:13:35","2023-08-15T12:13:35","2023-08-15",2023,8,"7fp9eoNK1RTW0XUKFpn9oieJe1W2","",-90.765058199999999,43.575701700000003,null,"2023-08-15 13:13:35.029068.jpg-0",1,null,1,240,180,null,null,7,0,null,0,null,1,0,0,"River/Stream","None",0,0,0,0,0,0,0,1,0,"Baseflow",1,"Clear",1,"None",0,0,0,0,0,"light rain day before. Sunny and 72 degrees today.",1,"Absent","Absent","Absent","Absent","Absent","Absent","Absent","Present","Recorded","West Fork Kickapoo River","West Fork Kickapoo River",1,1,"Coulee Region","TU Staff","070700060205","West Fork Kickapoo River","West Fork Kickapoo River"]
["Dev: DBParsing_231030_v01.xlsm","NHMATqrY6cL0rAOZKfhL","2023-08-15T16:12:05","2023-08-15T10:12:05","2023-08-15",2023,8,"VQ9bNtzttGcXOEuaXrEAEYLfT103",null,-91.569513599999993,43.502429599999999,null,"",0,null,0,"",null,null,null,null,1,0,1,53,1,0,5,"River/Stream","None",0,0,0,0,0,0,0,1,0,"Baseflow",1,"Clear",1,"None",0,0,0,0,0,null,0,"Absent","Absent","Absent","Absent","Absent","Absent","Absent","Present","Recorded","Bee Creek","Bee Creek",1,1,"Win Cres","Hiawatha","070600020502","Waterloo Creek","Bear Creek"]
["Dev: DBParsing_231030_v01.xlsm","GxfmEVmTgZaN596Qu7jY","2023-08-15T15:28:17","2023-08-15T09:28:17","2023-08-15",2023,8,"VQ9bNtzttGcXOEuaXrEAEYLfT103",null,-91.4131103,43.540574999999997,null,"",0,null,1,240,120,null,null,7.5,1,0,1,56,1,0.15,5,"River/Stream","None",0,0,0,0,0,0,0,1,0,"Baseflow",1,"Clear",1,"None",0,0,0,0,0,null,0,"Absent","Absent","Absent","Absent","Absent","Absent","Absent","Present","Recorded","Winnebago Creek","Winnebago Creek",1,1,"Win Cres","Hiawatha","070600010401","Upper Winnebago Creek","Winnebago Creek"]
["Dev: DBParsing_231030_v01.xlsm","eaxdMEkdLQ520k90XQ1l","2023-08-15T14:41:51","2023-08-15T08:41:51","2023-08-15",2023,8,"VQ9bNtzttGcXOEuaXrEAEYLfT103",null,-91.393278600000002,43.606850700000003,null,"",0,null,1,240,180,null,null,7.5,1,0,1,60,1,0.15,2,"River/Stream","None",0,0,0,0,0,0,0,1,0,"Baseflow",1,"Murky",1,"None",0,0,0,0,0,null,0,"Absent","Absent","Absent","Absent","Absent","Absent","Absent","Present","Recorded","Crooked Creek","Crooked Creek",1,"","Win Cres","Hiawatha","070600010203","Clear Creek-Crooked Creek","Crooked Creek"]
["Dev: DBParsing_231030_v01.xlsm","O6R7cgBAFlN231yDLtQS","2023-08-15T13:24:04","2023-08-15T07:24:04","2023-08-15",2023,8,"VQ9bNtzttGcXOEuaXrEAEYLfT103",null,-91.580416999999997,43.642175899999998,null,"",0,null,1,240,120,null,null,7.5,1,0,1,50,1,0,5,"River/Stream","None",0,0,0,0,0,0,0,1,0,"Baseflow",1,"Clear",1,"None",0,0,0,0,0,null,0,"Absent","Absent","Absent","Absent","Absent","Absent","Absent","Present","Recorded","Beaver Creek East","Beaver Creek East",1,"","Win Cres","Hiawatha","070400080805","Beaver Creek","South Fork Root River"]
["Dev: DBParsing_231030_v01.xlsm","MPtCND8dInykzhck1yMZ","2023-08-15T00:37:38","2023-08-14T18:37:38","2023-08-14",2023,8,"xGf42w3UBFa817jAA3vYGVMhqZo2","Vermillion River, South Branch",-93.00899125644284,44.657255429816111,null,"",0,null,1,240,180,null,null,9,1,100,1,60,1,0,5,"River/Stream","None",0,0,0,0,0,0,0,1,0,"Bankfull Stage",1,"Clear",1,"Regional Rainfall",1,0,0,0,0,null,0,"Absent","Absent","Absent","Absent","Absent","Absent","Absent","Present","Recorded","South Branch Vermillion River","South Branch Vermillion River",1,"","Twin Cities","TCTU","070400010205","South Branch Vermillion River","Vermillion River"]
["Dev: DBParsing_231030_v01.xlsm","5tEGKclaUEoIyXjvNxAP","2023-08-14T21:51:57","2023-08-14T15:51:57","2023-08-14",2023,8,"3ewh0JhsqndewkOhEmNvJ9cb0n83","Cady Creek @ 50th St",-92.146956233978258,44.79318431744634,null,"2023-08-14 16:51:57.461919.jpg-0",1,null,1,180,120,null,null,7,1,300,1,61,1,0,1,"River/Stream","None",0,0,0,0,0,0,0,1,0,"Mid-stage",1,"Muddy",1,"",-1,-1,-1,-1,1,"2 inches of rain in the previous 24 hours",1,"Absent","Absent","Absent","Absent","Absent","Absent","Absent","Present","Recorded","Cady Creek","Cady Creek",1,1,"Kiap TU Wish","Kiap-TU-Wish","070500051003","Cady Creek","Eau Galle River"]
["Dev: DBParsing_231030_v01.xlsm","8hqdFDg0PfrHcBTLP13b","2023-08-14T21:46:43","2023-08-14T15:46:43","2023-08-14",2023,8,"3ewh0JhsqndewkOhEmNvJ9cb0n83",null,-92.14694620781448,44.793181003098894,null,"",0,null,1,240,120,null,null,7,1,300,1,61,1,0,2,"River/Stream","",-1,-1,-1,-1,-1,-1,-1,-1,1,null,0,null,0,"",-1,-1,-1,-1,1,null,0,"No Data","No Data","No Data","No Data","No Data","No Data","No Data","No Data","No Data","Cady Creek","Cady Creek",1,1,"Kiap TU Wish","Kiap-TU-Wish","070500051003","Cady Creek","Eau Galle River"]
["Dev: DBParsing_231030_v01.xlsm","OglLIPeRzlMGEns0ejSf","2023-08-14T17:01:32","2023-08-14T11:01:32","2023-08-14",2023,8,"UlOTIjO5fRXyX2NgghYvxYXOF0j2",null,-91.812359736511397,44.001311521693928,null,"",0,null,0,"",null,null,null,null,1,200,1,52,0,"","",null,"",-1,-1,-1,-1,-1,-1,-1,-1,1,null,0,null,0,"",-1,-1,-1,-1,1,null,0,"No Data","No Data","No Data","No Data","No Data","No Data","No Data","No Data","No Data","Garvin Brook","Garvin Brook",1,1,"Win Cres","Unknown","070400030502","Garvin Brook","Garvin Brook"]
["Dev: DBParsing_231030_v01.xlsm","THAIeJZ3xUBpSXMc8cKN","2023-08-14T16:58:27","2023-08-14T10:58:27","2023-08-14",2023,8,"UlOTIjO5fRXyX2NgghYvxYXOF0j2","",-91.812375187965401,44.001317101942959,null,"",0,null,1,240,120,null,null,7.5,0,null,0,null,1,0,5,"River/Stream","None",0,0,0,0,0,0,0,1,0,"Mid-stage",1,null,0,"Regional Rainfall",1,0,0,0,0,null,0,"Absent","Absent","Absent","Absent","Absent","Absent","Absent","Present","Recorded","Garvin Brook","Garvin Brook",1,1,"Win Cres","Unknown","070400030502","Garvin Brook","Garvin Brook"]
["Dev: DBParsing_231030_v01.xlsm","0jSI9RjktcWbUtELK7Ke","2023-08-14T16:19:56","2023-08-14T10:19:56","2023-08-14",2023,8,"UlOTIjO5fRXyX2NgghYvxYXOF0j2",null,-91.998411481527086,44.090263383908578,null,"",0,null,0,"",null,null,null,null,1,0,1,57,0,"","",null,"",-1,-1,-1,-1,-1,-1,-1,-1,1,null,0,null,0,"",-1,-1,-1,-1,1,null,0,"No Data","No Data","No Data","No Data","No Data","No Data","No Data","No Data","No Data","South Fork Whitewater River","South Fork Whitewater River",1,"","Win Cres","Unknown","070400030307","Lower South Fork Whitewater River","Whitewater River"]
["Dev: DBParsing_231030_v01.xlsm","EZzCrOMQZ4MjZoYLkHsV","2023-08-14T16:18:46","2023-08-14T10:18:46","2023-08-14",2023,8,"UlOTIjO5fRXyX2NgghYvxYXOF0j2","",-91.998459221439944,44.090364490869824,null,"",0,null,1,240,120,null,null,7,0,null,0,null,1,0,5,"River/Stream","None",0,0,0,0,0,0,0,1,0,"Baseflow",1,"Clear",1,"Regional Rainfall",1,0,0,0,0,null,0,"Absent","Absent","Absent","Absent","Absent","Absent","Absent","Present","Recorded","South Fork Whitewater River","South Fork Whitewater River",1,"","Win Cres","Unknown","070400030307","Lower South Fork Whitewater River","Whitewater River"]
["Dev: DBParsing_231030_v01.xlsm","eIhJt7Ofv84A58dvphVO","2023-08-12T15:18:50","2023-08-12T09:18:50","2023-08-12",2023,8,"sPbTkTzcbybDduQDEAb0F4hUDHf2","MOA Creek",-93.231430252812757,44.846776416703499,null,"",0,null,1,240,180,null,null,7,1,0,1,57,1,0,1,"River/Stream","None",0,0,0,0,0,0,0,1,0,"Mid-stage",1,"Clear",1,"None",0,0,0,0,0,"72 degrees, bight sun. Rain within last 36 hours.",1,"Absent","Absent","Absent","Absent","Absent","Absent","Absent","Present","Recorded","","","","","Twin Cities","TCTU","070200121110","Minnesota River","Minnesota River"]
["Dev: DBParsing_231030_v01.xlsm","Q6t8q1hEJwTB3iUttTZF","2023-08-12T14:01:56","2023-08-12T08:01:56","2023-08-12",2023,8,"iL4InQVt0eQdf8HXXiLJJxA4dTA2",null,-90.887706699999995,43.442246699999998,null,"",0,null,1,180,120,null,null,7.5,1,0,0,null,1,0,2,"River/Stream","None",0,0,0,0,0,0,0,1,0,"Baseflow",1,"Clear",1,"Local Thunderstorm",0,1,0,0,0,"tainted creek. no browns few brook. after storm but very clear. high sediment lad with few exposed rocks and high instead aquatic vegetation",1,"Absent","Absent","Absent","Absent","Absent","Absent","Absent","Present","Recorded","Tainter Creek","Tainter Creek",1,1,"Coulee Region","Unknown","070700060403","Tainter Creek","Tainter Creek-Kickapoo River"]
["Dev: DBParsing_231030_v01.xlsm","20dB8PFTZlMUodaxB2Cy","2023-08-11T18:54:52","2023-08-11T12:54:52","2023-08-11",2023,8,"7NTXAgPEn9VYyuIA3Cp8vDW3NQX2",null,-90.487932400000005,43.281854600000003,null,"",0,null,1,240,180,null,null,8.5,1,0,1,70,1,0,2,"River/Stream","None",0,0,0,0,0,0,0,1,0,"Baseflow",1,"Clear",1,"None",0,0,0,0,0,null,0,"Absent","Absent","Absent","Absent","Absent","Absent","Absent","Present","Recorded","John Hill Creek","John Hill Creek",1,"","Harry & Laura Nohr","TU Staff","070700051302","East Branch Mill Creek-Mill Creek","Hoosier Hollow-Mill Creek"]
["Dev: DBParsing_231030_v01.xlsm","kP8cJ7U0ZhqrARzTwqKs","2023-08-11T15:29:07","2023-08-11T09:29:07","2023-08-11",2023,8,"7NTXAgPEn9VYyuIA3Cp8vDW3NQX2",null,-90.192094499999996,43.306909500000003,null,"",0,null,1,240,120,null,null,8,1,0,1,64,1,0,1,"River/Stream","None",0,0,0,0,0,0,0,1,0,"Baseflow",1,"Murky",1,"None",0,0,0,0,0,null,0,"Absent","Absent","Absent","Absent","Absent","Absent","Absent","Present","Recorded","Bear Creek","Bear Creek",1,"","Harry & Laura Nohr","TU Staff","070700050902","Middle Bear Creek","Bear Creek"]
["Dev: DBParsing_231030_v01.xlsm","3dVJzDFoiW6ja02XKbEY","2023-08-10T20:35:14","2023-08-10T14:35:14","2023-08-10",2023,8,"DKq8OLTYViaAQZeR9ADiCfs22M63",null,-90.211558956698781,43.505759145444237,null,"2023-08-10 15:35:14.876145.jpg-0",1,null,0,"",null,null,null,null,1,100,1,67,1,0,2,"River/Stream","None",0,0,0,0,0,0,0,1,0,"Baseflow",1,"Clear",1,"None",0,0,0,0,0,"ran out of 5 in 1 test strips",1,"Absent","Absent","Absent","Absent","Absent","Absent","Absent","Present","Recorded","McGlynn Creek","McGlynn Creek",1,"","Coulee Region","TU Staff","070700040203","Cazenovia Branch","Little Baraboo River-Baraboo River"]
["Dev: DBParsing_231030_v01.xlsm","nmVaiQ7ZoLO7cuRBhkvu","2023-08-10T13:43:35","2023-08-10T07:43:35","2023-08-10",2023,8,"7NTXAgPEn9VYyuIA3Cp8vDW3NQX2",null,-90.926336300000003,43.405335399999998,null,"",0,null,1,240,180,null,null,7.5,1,0,1,55,1,0,0,"River/Stream","None",0,0,0,0,0,0,0,1,0,"Baseflow",1,"Clear",1,"None",0,0,0,0,0,null,0,"Absent","Absent","Absent","Absent","Absent","Absent","Absent","Present","Recorded",0,0,"","","Coulee Region","TU Staff","070700060403","Tainter Creek","Tainter Creek-Kickapoo River"]
["Dev: DBParsing_231030_v01.xlsm","oeFQgbfGAKxThemaCDYA","2023-08-09T22:13:16","2023-08-09T16:13:16","2023-08-09",2023,8,"DKq8OLTYViaAQZeR9ADiCfs22M63",null,-90.304765028807239,43.345455902793397,null,"2023-08-09 17:13:16.293395.jpg-0",1,null,0,"",null,null,null,null,1,100,1,69,1,0,0,"River/Stream","Bank Erosion,Livestock in Water",0,1,0,0,1,0,0,0,0,"Baseflow",1,"Murky",1,"None",0,0,0,0,0,"ran out of 5 in 1 tests",1,"Absent","Present","Absent","Absent","Present","Absent","Absent","Absent","Recorded","Little Willow Creek","Little Willow Creek",1,"","Coulee Region","TU Staff","070700051002","Middle Willow Creek","Willow Creek"]
["Dev: DBParsing_231030_v01.xlsm","k5HIdZUQqzwdx76UDUgj","2023-08-09T16:04:05","2023-08-09T10:04:05","2023-08-09",2023,8,"DKq8OLTYViaAQZeR9ADiCfs22M63",null,-90.419797644458797,43.372563542596403,null,"2023-08-09 11:04:05.246337.jpg-0",1,null,0,"",null,null,null,null,1,100,1,60,1,0.15,0,"River/Stream","None",0,0,0,0,0,0,0,1,0,"Baseflow",1,"Clear",1,"None",0,0,0,0,0,"ran out of 5 in 1 tests",1,"Absent","Absent","Absent","Absent","Absent","Absent","Absent","Present","Recorded","Horse Creek","Horse Creek",1,"","Coulee Region","TU Staff","070700051107","Brush Creek-Pine River","Pine River"]
["Dev: DBParsing_231030_v01.xlsm","vq6aXlsU6t0Ncec8B4Bx","2023-08-08T22:13:01","2023-08-08T16:13:01","2023-08-08",2023,8,"DKq8OLTYViaAQZeR9ADiCfs22M63",null,-90.41036198333336,43.520417999999999,null,"",0,null,0,"",null,null,null,null,0,null,1,77,0,"","","River/Stream","None",0,0,0,0,0,0,0,1,0,"Baseflow",1,"Murky",1,"None",0,0,0,0,0,null,0,"Absent","Absent","Absent","Absent","Absent","Absent","Absent","Present","Recorded","Pine River","Pine River",1,"","Coulee Region","TU Staff","070700051103","Hawkins Creek-Pine River","Pine River"]
["Dev: DBParsing_231030_v01.xlsm","oOO3GBCg6WikzMGrZszJ","2023-08-08T20:47:12","2023-08-08T14:47:12","2023-08-08",2023,8,"GFBS1bSIACUVgSmsBlw0BYkB9i72",null,-90.997517200000004,43.710333499999997,null,"2023-08-08 15:47:12.262632.jpg-0",1,null,1,240,120,null,null,8.5,1,0,1,70,1,0,0,"River/Stream","None",0,0,0,0,0,0,0,1,0,"Baseflow",1,"Clear",1,"None",0,0,0,0,0,null,0,"Absent","Absent","Absent","Absent","Absent","Absent","Absent","Present","Recorded","Coon Creek","Coon Creek",1,1,"Coulee Region","TU Staff","070600010103","Middle Coon Creek","Coon Creek"]
["Dev: DBParsing_231030_v01.xlsm","EQtPFnOqwjpuBhTZ065A","2023-08-08T20:41:07","2023-08-08T14:41:07","2023-08-08",2023,8,"M7nEAKQN9zgYz7BtxGWTXq0oso12","SF Kinnickinnic River @ 900th St",-92.644993770162799,44.843563921689054,null,"2023-08-08 15:41:07.020599.jpg-0",1,null,1,240,120,null,null,8,1,100,1,63,1,0,5,"River/Stream","None",0,0,0,0,0,0,0,1,0,"Baseflow",1,"Clear",1,"None",0,0,0,0,0,"sunny, 83 degrees, low and clear",1,"Absent","Absent","Absent","Absent","Absent","Absent","Absent","Present","Recorded","Kinnickinnic River","Kinnickinnic River",1,"","Kiap TU Wish","Kiap-TU-Wish","070300051105","Lower Kinnickinnic Pond-Kinnickinnic River","Kinnickinnic River"]
["Dev: DBParsing_231030_v01.xlsm","MBLPe0kPKLrlV6QRxRcm","2023-08-08T20:39:11","2023-08-08T14:39:11","2023-08-08",2023,8,"GFBS1bSIACUVgSmsBlw0BYkB9i72",null,-90.997298599999993,43.7096564,null,"2023-08-08 15:39:11.249672.jpg-0",1,null,1,240,0,null,null,7.5,1,0,1,51,1,0,1,"Springs","",-1,-1,-1,-1,-1,-1,-1,-1,1,"Baseflow",1,"Clear",1,"None",0,0,0,0,0,null,0,"No Data","No Data","No Data","No Data","No Data","No Data","No Data","No Data","No Data","Coon Creek","Coon Creek",1,1,"Coulee Region","TU Staff","070600010103","Middle Coon Creek","Coon Creek"]
["Dev: DBParsing_231030_v01.xlsm","Cz9J5tkg6HYADRDIMzbf","2023-08-08T19:40:48","2023-08-08T13:40:48","2023-08-08",2023,8,"GFBS1bSIACUVgSmsBlw0BYkB9i72",null,-90.666938191642487,43.6459072113094,null,"2023-08-08 14:40:48.593683.jpg-0",1,null,1,240,60,null,null,8,1,0,1,62,1,0,1,"River/Stream","None",0,0,0,0,0,0,0,1,0,"Baseflow",1,"Clear",1,"None",0,0,0,0,0,null,0,"Absent","Absent","Absent","Absent","Absent","Absent","Absent","Present","Recorded","Weister Creek","Weister Creek",1,"","Coulee Region","TU Staff","070700060304","Wester Creek","Bear Creek-Kickapoo River"]
["Dev: DBParsing_231030_v01.xlsm","89q9DhOLV432YcDuCPBz","2023-08-07T19:32:40","2023-08-07T13:32:40","2023-08-07",2023,8,"DKq8OLTYViaAQZeR9ADiCfs22M63",null,-90.65253782864464,43.514161863381233,null,"2023-08-07 14:32:40.769393.jpg-0",1,null,0,"",null,null,null,null,0,null,1,62,0,"","","River/Stream","Fish Barrier",1,0,0,0,0,0,0,0,0,"Baseflow",1,"Clear",1,"None",0,0,0,0,0,"This looks like trout habitat but is not designated as a trout stream.  Box culvert is perched creating a fish movement barrier.",1,"Present","Absent","Absent","Absent","Absent","Absent","Absent","Absent","Recorded","Kickapoo River","Kickapoo River",1,"","Coulee Region","TU Staff","070700060310","Goose Creek-Kickapoo River","Bear Creek-Kickapoo River"]
["Dev: DBParsing_231030_v01.xlsm","Bi7YlqHsSbHQQcGPp9xR","2023-08-07T19:03:45","2023-08-07T13:03:45","2023-08-07",2023,8,"6oemLSFIHIXnYk5OuejKZ9Uhljr1",null,-91.850047535129178,43.657495256557205,null,"2023-08-07 14:03:44.983840.jpg-0",1,null,1,180,180,null,null,7,1,100,1,61,1,0,5,"River/Stream","None",0,0,0,0,0,0,0,1,0,"Baseflow",1,"Clear",1,"None",0,0,0,0,0,"clear & low",1,"Absent","Absent","Absent","Absent","Absent","Absent","Absent","Present","Recorded","Shattuck Creek","Shattuck Creek",1,"","Hiawatha","Hiawatha","070400080803","Middle South Fork Root River","South Fork Root River"]
["Dev: DBParsing_231030_v01.xlsm","5vTVWxWRJWRXOb7nXtHl","2023-08-07T18:39:18","2023-08-07T12:39:18","2023-08-07",2023,8,"6oemLSFIHIXnYk5OuejKZ9Uhljr1",null,-91.8237507957368,43.642496649830704,null,"2023-08-07 13:39:18.494529.jpg-0",1,null,1,180,180,null,null,8,1,100,1,62,1,0,5,"River/Stream","None",0,0,0,0,0,0,0,1,0,"Baseflow",1,"Clear",1,"None",0,0,0,0,0,"not much rain all summer! lots of weed growth",1,"Absent","Absent","Absent","Absent","Absent","Absent","Absent","Present","Recorded","South Fork Root River","South Fork Root River",1,1,"Win Cres","Hiawatha","070400080803","Middle South Fork Root River","South Fork Root River"]
["Dev: DBParsing_231030_v01.xlsm","yaHGyrViB8wVCyl7HJ3w","2023-08-07T16:55:57","2023-08-07T10:55:57","2023-08-07",2023,8,"cJZVjbWzjsRfePMeXT5aflRnGhh1","Trout Brook",-92.983068000000003,44.845246199999998,null,"",0,null,0,"",null,null,null,null,1,100,1,54,0,"","","River/Stream","None",0,0,0,0,0,0,0,1,0,"Baseflow",1,"Clear",1,"Regional Rainfall",1,0,0,0,0,null,0,"Absent","Absent","Absent","Absent","Absent","Absent","Absent","Present","Recorded","","","","","Twin Cities","TCTU","070102060901","Schmidt Lake-Mississippi River","Lock and Dam No 2-Mississippi River"]
["Dev: DBParsing_231030_v01.xlsm","x4Nn1xsVVBpi6BPkDfGN","2023-08-07T16:04:08","2023-08-07T10:04:08","2023-08-07",2023,8,"cJZVjbWzjsRfePMeXT5aflRnGhh1","Trout Brook",-92.774402899999998,44.5426334,null,"",0,null,1,240,0,null,null,7,1,100,1,54,0,"","","River/Stream","None",0,0,0,0,0,0,0,1,0,"Baseflow",1,"Clear",1,"Regional Rainfall",1,0,0,0,0,null,0,"Absent","Absent","Absent","Absent","Absent","Absent","Absent","Present","Recorded","","","","","Twin Cities","TCTU","070400020903","Town of Welch-Cannon River","Lower Cannon River"]
["Dev: DBParsing_231030_v01.xlsm","N94iG0XT3NooUZGUdGPC","2023-08-05T22:14:02","2023-08-05T16:14:02","2023-08-05",2023,8,"Qa8zCFJze3TAFBtRlCzL60f4jez2",null,-92.737251696477642,45.138962708989389,null,"",0,null,0,"",null,null,null,null,0,null,0,null,0,"","","","None",0,0,0,0,0,0,0,1,0,null,0,null,0,"",-1,-1,-1,-1,1,null,0,"Absent","Absent","Absent","Absent","Absent","Absent","Absent","Present","Recorded","","","","","Kiap TU Wish","Kiap-TU-Wish","070300050908","Silver Creek-Saint Croix River","Big Marine Lake-Saint Croix River"]
["Dev: DBParsing_231030_v01.xlsm","xHAw6GH73zIA0MbpeIrm","2023-08-04T18:15:52","2023-08-04T12:15:52","2023-08-04",2023,8,"wOnBJTAV2CZK06CRnr5oUK45EDv1",null,-89.776096129641701,43.035971203809545,null,"2023-08-04 13:15:52.495202.jpg-0",1,null,1,240,120,null,null,7.5,0,null,1,65,1,0,0,"River/Stream","None",0,0,0,0,0,0,0,1,0,"Baseflow",1,"Clear",1,"None",0,0,0,0,0,null,0,"Absent","Absent","Absent","Absent","Absent","Absent","Absent","Present","Recorded","Bohn Creek","Bohn Creek",1,1,"S. Wisconsin","US FWS","070700050601","East Branch Blue Mounds Creek","Blue Mounds Creek"]
["Dev: DBParsing_231030_v01.xlsm","jv0BkmYJ7W1zI2qttO9S","2023-08-04T17:58:50","2023-08-04T11:58:50","2023-08-04",2023,8,"Qa8zCFJze3TAFBtRlCzL60f4jez2",null,-92.3313306467834,44.746270391440063,null,"2023-08-04 12:58:50.397364.jpg-0",1,null,1,240,30,null,null,7,1,200,1,67,1,0,2,"River/Stream","",-1,-1,-1,-1,-1,-1,-1,-1,1,null,0,null,0,"",-1,-1,-1,-1,1,null,0,"No Data","No Data","No Data","No Data","No Data","No Data","No Data","No Data","No Data","Rush River","Rush River",1,1,"Kiap TU Wish","Kiap-TU-Wish","070400010505","Brush Creek-Rush River","Rush River"]
["Dev: DBParsing_231030_v01.xlsm","s2Uk6dzYV4ccWlNW0w4x","2023-08-04T12:25:25","2023-08-04T06:25:25","2023-08-04",2023,8,"MHFdkCj8zqhw6MGszjwZYx49QR22","",-93.009024959816685,44.657224391273473,null,"2023-08-04 07:25:25.316920.jpg-0",1,null,1,240,120,null,null,7,1,0,1,64,1,0,0,"River/Stream","",-1,-1,-1,-1,-1,-1,-1,-1,1,"Baseflow",1,"Clear",1,"None",0,0,0,0,0," Water level is low but stream is flowing free at the south branch of the vermilion river",1,"No Data","No Data","No Data","No Data","No Data","No Data","No Data","No Data","No Data","South Branch Vermillion River","South Branch Vermillion River","","","Twin Cities","TCTU","070400010205","South Branch Vermillion River","Vermillion River"]
["Dev: DBParsing_231030_v01.xlsm","zibv5AyFkufK7wjdVfSb","2023-08-03T21:05:16","2023-08-03T15:05:16","2023-08-03",2023,8,"DKq8OLTYViaAQZeR9ADiCfs22M63",null,-90.355694999999997,43.460973016666671,null,"2023-08-03 16:05:15.995662.jpg-0",1,null,0,"",null,null,null,null,0,null,1,69,0,"","","River/Stream","None",0,0,0,0,0,0,0,1,0,"Baseflow",1,"Murky",1,"None",0,0,0,0,0,null,0,"Absent","Absent","Absent","Absent","Absent","Absent","Absent","Present","Recorded","Hawkins Creek","Hawkins Creek",1,"","Coulee Region","TU Staff","070700051103","Hawkins Creek-Pine River","Pine River"]
["Dev: DBParsing_231030_v01.xlsm","4kBvadcHNJhED5aOrMQ5","2023-08-03T17:11:43","2023-08-03T11:11:43","2023-08-03",2023,8,"DKq8OLTYViaAQZeR9ADiCfs22M63",null,-90.373525001092517,43.449920687429092,null,"2023-08-03 12:11:43.291558.jpg-0",1,null,0,"",null,null,null,null,1,100,1,69,1,0,1,"River/Stream","None",0,0,0,0,0,0,0,1,0,"Baseflow",1,"Murky",1,"None",0,0,0,0,0,"ran out of 5 in 1 tests",1,"Absent","Absent","Absent","Absent","Absent","Absent","Absent","Present","Recorded","West Branch Pine River","West Branch Pine River",1,"","Coulee Region","TU Staff","070700051102","West Branch Pine River","Pine River"]
["Dev: DBParsing_231030_v01.xlsm","l5Iky592ovQ8lqj319sx","2023-08-03T15:50:22","2023-08-03T09:50:22","2023-08-03",2023,8,"7a7IFD1YT3aDXB8CbnSJjn1oLRC2","Isabelle Creek @ County Rd. EE",-92.442835706785885,44.621393886795126,null,"",0,null,1,240,120,null,null,8,1,0,1,59,1,0.15,2,"River/Stream","None",0,0,0,0,0,0,0,1,0,"Baseflow",1,"Clear",1,"None",0,0,0,0,0,null,0,"Absent","Absent","Absent","Absent","Absent","Absent","Absent","Present","Recorded","Isabelle Creek","Isabelle Creek",1,"","Kiap TU Wish","Unknown","070400010701","Isabelle Creek","Lake Pepin"]
["Dev: DBParsing_231030_v01.xlsm","tlo89kxqJ3ydHKhghaBO","2023-08-02T22:57:24","2023-08-02T16:57:24","2023-08-02",2023,8,"DKq8OLTYViaAQZeR9ADiCfs22M63",null,-90.668479474246638,43.456048471517782,null,"",0,null,0,"",null,null,null,null,0,null,1,66,0,"","","River/Stream","None",0,0,0,0,0,0,0,1,0,"Baseflow",1,"Clear",1,"None",0,0,0,0,0,null,0,"Absent","Absent","Absent","Absent","Absent","Absent","Absent","Present","Recorded","Elk Creek","Elk Creek",1,1,"Coulee Region","TU Staff","070700060309","Elk Creek","Bear Creek-Kickapoo River"]
["Dev: DBParsing_231030_v01.xlsm","G2RfdLTOzf0fozd8JKyV","2023-08-02T22:47:00","2023-08-02T16:47:00","2023-08-02",2023,8,"DKq8OLTYViaAQZeR9ADiCfs22M63",null,-90.689099850570074,43.46773706705374,null,"2023-08-02 17:47:00.726443.jpg-0",1,null,0,"",null,null,null,null,0,null,1,67,0,"","","River/Stream","None",0,0,0,0,0,0,0,1,0,"Baseflow",1,"Clear",1,"None",0,0,0,0,0,null,0,"Absent","Absent","Absent","Absent","Absent","Absent","Absent","Present","Recorded","Elk Creek","Elk Creek",1,"","Coulee Region","TU Staff","070700060309","Elk Creek","Bear Creek-Kickapoo River"]
["Dev: DBParsing_231030_v01.xlsm","M1U3p9TEd3BM0P6BsQUi","2023-08-02T22:14:58","2023-08-02T16:14:58","2023-08-02",2023,8,"DKq8OLTYViaAQZeR9ADiCfs22M63",null,-90.465536999999998,43.486973000000006,null,"2023-08-02 17:14:58.310221.jpg-0",1,null,0,"",null,null,null,null,0,null,1,69,0,"","","River/Stream","None",0,0,0,0,0,0,0,1,0,"Baseflow",1,"Clear",1,"None",0,0,0,0,0,null,0,"Absent","Absent","Absent","Absent","Absent","Absent","Absent","Present","Recorded","Hynek Hollow","Hynek Hollow",1,1,"Coulee Region","TU Staff","070700051102","West Branch Pine River","Pine River"]
["Dev: DBParsing_231030_v01.xlsm","qRz5N0d3V9J77j2o434h","2023-08-02T20:44:00","2023-08-02T14:44:00","2023-08-02",2023,8,"DKq8OLTYViaAQZeR9ADiCfs22M63",null,-90.488991999999996,43.48619699999999,null,"2023-08-02 15:44:00.567249.jpg-0",1,null,0,"",null,null,null,null,0,null,1,61,0,"","","River/Stream","Livestock in Water",0,0,0,0,1,0,0,0,0,"Baseflow",1,"Clear",1,"None",0,0,0,0,0,null,0,"Absent","Absent","Absent","Absent","Present","Absent","Absent","Absent","Recorded","Gault Hollow","Gault Hollow",1,1,"Coulee Region","TU Staff","070700051102","West Branch Pine River","Pine River"]
["Dev: DBParsing_231030_v01.xlsm","iQjYPvWWNqqbJKQ40cwz","2023-08-02T19:11:26","2023-08-02T13:11:26","2023-08-02",2023,8,"DKq8OLTYViaAQZeR9ADiCfs22M63",null,-90.477920547411458,43.515199029624583,null,"2023-08-02 14:11:26.185418.jpg-0",1,null,0,"",null,null,null,null,0,null,1,68,0,"","","River/Stream","None",0,0,0,0,0,0,0,1,0,"Baseflow",1,"Clear",1,"None",0,0,0,0,0,null,0,"Absent","Absent","Absent","Absent","Absent","Absent","Absent","Present","Recorded","West Branch Pine River","West Branch Pine River",1,"","Coulee Region","TU Staff","070700051102","West Branch Pine River","Pine River"]
["Dev: DBParsing_231030_v01.xlsm","3ljo1SyyIxE7mNj4o20L","2023-08-02T18:32:51","2023-08-02T12:32:51","2023-08-02",2023,8,"7NTXAgPEn9VYyuIA3Cp8vDW3NQX2","",-90.452213900000004,43.338873499999998,null,"",0,null,1,240,180,null,null,7.5,1,0,1,67,1,0,1,"River/Stream","None",0,0,0,0,0,0,0,1,0,"Baseflow",1,"Clear",1,"None",0,0,0,0,0,null,0,"Absent","Absent","Absent","Absent","Absent","Absent","Absent","Present","Recorded","Pier Spring Creek","Pier Spring Creek",1,"","Coulee Region","TU Staff","070700051107","Brush Creek-Pine River","Pine River"]
["Dev: DBParsing_231030_v01.xlsm","NUT9EoGc5rplRlWRYDq4","2023-08-02T16:36:58","2023-08-02T10:36:58","2023-08-02",2023,8,"7NTXAgPEn9VYyuIA3Cp8vDW3NQX2",null,-90.6356854,43.289148500000003,null,"",0,null,1,240,180,null,null,7.5,1,0,1,65,1,0,1,"River/Stream","None",0,0,0,0,0,0,0,1,0,"Baseflow",1,"Clear",1,"None",0,0,0,0,0,null,0,"Absent","Absent","Absent","Absent","Absent","Absent","Absent","Present","Recorded","Beebe Hollow","Beebe Hollow",1,"","Harry & Laura Nohr","TU Staff","070700051503","Middle Knapp Creek","Knapp Creek"]
["Dev: DBParsing_231030_v01.xlsm","3oKvQ3lbVt8BiyXR6KSm","2023-08-02T14:02:04","2023-08-02T08:02:04","2023-08-02",2023,8,"VQ9bNtzttGcXOEuaXrEAEYLfT103",null,-91.813376000000005,43.5976158,null,"",0,null,1,240,60,null,null,7,1,0,1,56,1,0,5,"River/Stream","None",0,0,0,0,0,0,0,1,0,"Baseflow",1,"Clear",1,"None",0,0,0,0,0,null,0,"Absent","Absent","Absent","Absent","Absent","Absent","Absent","Present","Recorded","Wisel Creek","Wisel Creek",1,1,"Win Cres","Hiawatha","070400080802","Wisel Creek","South Fork Root River"]
["Dev: DBParsing_231030_v01.xlsm","nIVdneol1avyHwECjtom","2023-08-02T11:41:36","2023-08-02T05:41:36","2023-08-02",2023,8,"7NTXAgPEn9VYyuIA3Cp8vDW3NQX2",null,-90.578721299999998,43.270387900000003,null,"2023-08-02 06:41:36.231209.jpg-0",1,null,1,240,120,null,null,7.5,1,0,1,55,1,0,0,"River/Stream","",-1,-1,-1,-1,-1,-1,-1,-1,1,"Baseflow",1,"Clear",1,"None",0,0,0,0,0,"",0,"No Data","No Data","No Data","No Data","No Data","No Data","No Data","No Data","No Data","Byrds Creek","Byrds Creek",1,"","Harry & Laura Nohr","TU Staff","070700051702","Byrds Creek-Wisconsin River","City of Boscobel-Wisconsin River"]
["Dev: DBParsing_231030_v01.xlsm","qq8iDpiozVy573f2lix0","2023-08-01T22:22:17","2023-08-01T16:22:17","2023-08-01",2023,8,"DKq8OLTYViaAQZeR9ADiCfs22M63",null,-90.57587882450504,43.403188469161087,null,"",0,null,0,"",null,null,null,null,0,null,1,52,0,"","","River/Stream","None",0,0,0,0,0,0,0,1,0,"Baseflow",1,"Clear",1,"None",0,0,0,0,0,"probably the clearest water I have ever seen",1,"Absent","Absent","Absent","Absent","Absent","Absent","Absent","Present","Recorded","Pine Valley","Pine Valley",1,"","Coulee Region","TU Staff","070700051301","West Branch Mill Creek-Mill Creek","Hoosier Hollow-Mill Creek"]
["Dev: DBParsing_231030_v01.xlsm","bAhPgMsb58iOduSRUDZZ","2023-08-01T20:52:58","2023-08-01T14:52:58","2023-08-01",2023,8,"DKq8OLTYViaAQZeR9ADiCfs22M63",null,-90.543305559918394,43.374346555888977,null,"",0,null,0,"",null,null,null,null,0,null,1,63,0,"","","River/Stream","Fish Barrier",1,0,0,0,0,0,0,0,0,"Baseflow",1,"Clear",1,"None",0,0,0,0,0,"4 feet wide.  0.2 feet deep.  1.6 ft per sec",1,"Present","Absent","Absent","Absent","Absent","Absent","Absent","Absent","Recorded","Mill Creek","Mill Creek",1,1,"Coulee Region","TU Staff","070700051301","West Branch Mill Creek-Mill Creek","Hoosier Hollow-Mill Creek"]
["Dev: DBParsing_231030_v01.xlsm","dvwMjDzKj2eTzd06KbjH","2023-08-01T19:55:08","2023-08-01T13:55:08","2023-08-01",2023,8,"DKq8OLTYViaAQZeR9ADiCfs22M63",null,-90.533071120279502,43.332629712054434,null,"",0,null,0,"",null,null,null,null,0,null,1,68,0,"","","River/Stream","None",0,0,0,0,0,0,0,1,0,"Baseflow",1,"Murky",1,"None",0,0,0,0,0,null,0,"Absent","Absent","Absent","Absent","Absent","Absent","Absent","Present","Recorded","Core Hollow","Core Hollow",1,"","Harry & Laura Nohr","TU Staff","070700051302","East Branch Mill Creek-Mill Creek","Hoosier Hollow-Mill Creek"]
["Dev: DBParsing_231030_v01.xlsm","xsru5ZvAqdhHlSFdLrdU","2023-08-01T19:52:02","2023-08-01T13:52:02","2023-08-01",2023,8,"7NTXAgPEn9VYyuIA3Cp8vDW3NQX2",null,-90.764527900000004,43.347345799999999,null,"2023-08-01 14:52:02.035265.jpg-0",1,null,1,240,180,null,null,7.5,1,100,1,57,1,0,0,"River/Stream","None",0,0,0,0,0,0,0,1,0,"Baseflow",1,"Murky",1,"Regional Rainfall,None",1,0,0,0,0,"beaver activity",1,"Absent","Absent","Absent","Absent","Absent","Absent","Absent","Present","Recorded","Bear Creek","Bear Creek",1,"","Coulee Region","TU Staff","070700060404","Caswell Hollow-Kickapoo River","Tainter Creek-Kickapoo River"]
["Dev: DBParsing_231030_v01.xlsm","Uyi52H2uk5qwbx7cIngX","2023-08-01T19:20:22","2023-08-01T13:20:22","2023-08-01",2023,8,"DKq8OLTYViaAQZeR9ADiCfs22M63",null,-90.537285366954805,43.320960017132883,null,"",0,null,0,"",null,null,null,null,0,null,1,60,0,"","","River/Stream","None",0,0,0,0,0,0,0,1,0,"Baseflow",1,"Murky",1,"None",0,0,0,0,0,null,0,"Absent","Absent","Absent","Absent","Absent","Absent","Absent","Present","Recorded",0,0,1,"","Harry & Laura Nohr","TU Staff","070700051302","East Branch Mill Creek-Mill Creek","Hoosier Hollow-Mill Creek"]
["Dev: DBParsing_231030_v01.xlsm","i9kCo7lMz3saRxzPSOd0","2023-08-01T19:08:21","2023-08-01T13:08:21","2023-08-01",2023,8,"k6imGQxkdoYmMVg7pAz2w40EZAb2",null,-92.732177800000002,44.831106200000001,null,"2023-08-01 14:08:21.317708.jpg-0",1,null,1,240,0,null,null,7,1,0,1,67,1,0.15,2,"River/Stream","Bank Erosion,Trash",0,1,1,0,0,0,0,0,0,"Baseflow",1,"Clear",1,"None",0,0,0,0,0,"turbidity tube: greater than 120 cm\n\nHACH nitrate kit: 8",1,"Absent","Present","Present","Absent","Absent","Absent","Absent","Absent","Recorded","Kinnickinnic River","Kinnickinnic River",1,"","Kiap TU Wish","Kinni Corridor Collaborative","070300051105","Lower Kinnickinnic Pond-Kinnickinnic River","Kinnickinnic River"]
["Dev: DBParsing_231030_v01.xlsm","ZgOigMLkRYVnDg1KiMgF","2023-08-01T18:12:31","2023-08-01T12:12:31","2023-08-01",2023,8,"k6imGQxkdoYmMVg7pAz2w40EZAb2",null,-92.641482800000006,44.849601800000002,null,"2023-08-01 13:12:31.109340.jpg-0",1,null,1,240,180,null,null,8.5,1,0,1,65,1,0.15,2,"River/Stream","Bank Erosion,Trash",0,1,1,0,0,0,0,0,0,"Baseflow",1,"Clear",1,"None",0,0,0,0,0,"secchi tube: greater than 120 cm\nHACH nitrate kit: 2",1,"Absent","Present","Present","Absent","Absent","Absent","Absent","Absent","Recorded","Kinnickinnic River","Kinnickinnic River",1,1,"Kiap TU Wish","Kinni Corridor Collaborative","070300051105","Lower Kinnickinnic Pond-Kinnickinnic River","Kinnickinnic River"]
["Dev: DBParsing_231030_v01.xlsm","NiMIpXMxQ88T8DN7FXUF","2023-08-01T17:49:15","2023-08-01T11:49:15","2023-08-01",2023,8,"k6imGQxkdoYmMVg7pAz2w40EZAb2",null,-92.644078800000003,44.844255199999999,null,"2023-08-01 12:49:14.935699.jpg-0",1,null,1,240,180,null,null,7,1,0,1,65,1,0,5,"River/Stream","Bank Erosion,Trash",0,1,1,0,0,0,0,0,0,"Baseflow",1,"Clear",1,"None",0,0,0,0,0,"HACH nitrate kit: 2 mg/L\nturbidity: greater than 120 cm",1,"Absent","Present","Present","Absent","Absent","Absent","Absent","Absent","Recorded","Kinnickinnic River","Kinnickinnic River",1,"","Kiap TU Wish","Kinni Corridor Collaborative","070300051105","Lower Kinnickinnic Pond-Kinnickinnic River","Kinnickinnic River"]
["Dev: DBParsing_231030_v01.xlsm","Or9YP6tIW8wyhV0Bk1V1","2023-08-01T17:08:07","2023-08-01T11:08:07","2023-08-01",2023,8,"7NTXAgPEn9VYyuIA3Cp8vDW3NQX2",null,-90.976668399999994,43.3798678,null,"2023-08-01 12:08:07.093665.jpg-0",1,null,1,240,60,null,null,7,1,0,1,55,1,0,0,"River/Stream","None",0,0,0,0,0,0,0,1,0,"Baseflow",1,"Clear",1,"None",0,0,0,0,0,null,0,"Absent","Absent","Absent","Absent","Absent","Absent","Absent","Present","Recorded","South Fork Sugar Creek","South Fork Sugar Creek",1,"","Coulee Region","TU Staff","070600010703","Sugar Creek","Rush Creek-Mississippi River"]
["Dev: DBParsing_231030_v01.xlsm","2nbMTiLt0KDtFxqMmwqP","2023-08-01T16:05:41","2023-08-01T10:05:41","2023-08-01",2023,8,"k6imGQxkdoYmMVg7pAz2w40EZAb2",null,-92.631941999999995,44.855554400000003,null,"2023-08-01 11:05:41.247627.jpg-0",1,null,1,240,120,null,null,7,1,0,1,63,1,0,2,"River/Stream","Bank Erosion,Trash",0,1,1,0,0,0,0,0,0,"Baseflow",1,"Clear",1,"None",0,0,0,0,0,"HACH nitrate kit: 4\nturbidity: greater than 120 cm",1,"Absent","Present","Present","Absent","Absent","Absent","Absent","Absent","Recorded","Kinnickinnic River","Kinnickinnic River",1,1,"Kiap TU Wish","Kinni Corridor Collaborative","070300051104","Parker Creek-Kinnickinnic River","Kinnickinnic River"]
["Dev: DBParsing_231030_v01.xlsm","Hwzmsp4gSt5r8dfTgbA6","2023-08-01T15:27:33","2023-08-01T09:27:33","2023-08-01",2023,8,"k6imGQxkdoYmMVg7pAz2w40EZAb2","",-92.638243500000002,44.851708100000003,null,"",0,null,1,240,120,null,null,7.5,1,0,1,61,1,0,5,"River/Stream","Bank Erosion,Trash",0,1,1,0,0,0,0,0,0,"Baseflow",1,"Clear",1,"None",0,0,0,0,0,"HACH nitrate kit: 4\nturbidity tube: greater than 120 cm",1,"Absent","Present","Present","Absent","Absent","Absent","Absent","Absent","Recorded","Kinnickinnic River","Kinnickinnic River",1,1,"Kiap TU Wish","Kinni Corridor Collaborative","070300051105","Lower Kinnickinnic Pond-Kinnickinnic River","Kinnickinnic River"]
["Dev: DBParsing_231030_v01.xlsm","OuVeRtHMECVRg8TLBBss","2023-08-01T14:56:40","2023-08-01T08:56:40","2023-08-01",2023,8,"k6imGQxkdoYmMVg7pAz2w40EZAb2",null,-92.636491800000002,44.854627299999997,null,"2023-08-01 09:56:40.593632.jpg-0",1,null,1,240,120,null,null,7.5,1,0,1,60,1,0,5,"River/Stream","Bank Erosion,Trash,Pipe/Drain Outflow",0,1,1,1,0,0,0,0,0,"Baseflow",1,"Clear",1,"None",0,0,0,0,0,"HACH nitrate kit: 4\n\nturbidity: greater than 120 cm",1,"Absent","Present","Present","Present","Absent","Absent","Absent","Absent","Recorded","Kinnickinnic River","Kinnickinnic River",1,1,"Kiap TU Wish","Kinni Corridor Collaborative","070300051105","Lower Kinnickinnic Pond-Kinnickinnic River","Kinnickinnic River"]
["Dev: DBParsing_231030_v01.xlsm","3nRrNTkdJJnoVWWu6QkE","2023-08-01T14:17:09","2023-08-01T08:17:09","2023-08-01",2023,8,"k6imGQxkdoYmMVg7pAz2w40EZAb2",null,-92.623916899999998,44.864030900000003,null,"2023-08-01 09:17:09.423763.jpg-0",1,null,1,240,120,null,null,7,1,0,1,58,1,0,2,"River/Stream","Bank Erosion,Pipe/Drain Outflow",0,1,0,1,0,0,0,0,0,"Baseflow",1,"Clear",1,"None",0,0,0,0,0,"turbidity: greater than 120 cm\nHACH nitrate kit: 2",1,"Absent","Present","Absent","Present","Absent","Absent","Absent","Absent","Recorded","Kinnickinnic River","Kinnickinnic River",1,"","Kiap TU Wish","Kinni Corridor Collaborative","070300051104","Parker Creek-Kinnickinnic River","Kinnickinnic River"]
["Dev: DBParsing_231030_v01.xlsm","YBUCh6cfhZWrlF4GZZNc","2023-08-01T13:50:38","2023-08-01T07:50:38","2023-08-01",2023,8,"c2yLP2VgfvNBOWuOqq6XscGxbVi1",null,-92.621325049635615,44.875131980558059,null,"",0,null,1,240,180,null,null,7,1,100,1,57,1,0,2,"River/Stream","None",0,0,0,0,0,0,0,1,0,"Baseflow",1,"Clear",1,"None",0,0,0,0,0,"turbidity is greater than 120. NO3 is 4. ",1,"Absent","Absent","Absent","Absent","Absent","Absent","Absent","Present","Recorded","Kinnickinnic River","Kinnickinnic River",1,"","Kiap TU Wish","Kinni Corridor Collaborative","070300051104","Parker Creek-Kinnickinnic River","Kinnickinnic River"]
["Dev: DBParsing_231030_v01.xlsm","93LtO5wOThoQNS61jDHb","2023-08-01T00:51:42","2023-07-31T18:51:42","2023-07-31",2023,7,"mMKogvdinjOuckB5tkMQrxnYO852",null,-92.236532600000004,44.840274000000001,null,"2023-07-31 19:51:42.194385.jpg-0",1,null,1,240,60,null,null,7,1,0,1,70,1,0,1,"River/Stream","",-1,-1,-1,-1,-1,-1,-1,-1,1,null,0,null,0,"",-1,-1,-1,-1,1,"water is running high",1,"No Data","No Data","No Data","No Data","No Data","No Data","No Data","No Data","No Data","Burkhart Creek","Burkhart Creek",1,1,"Kiap TU Wish","Kiap-TU-Wish","070500051004","Burkhart Creek-Eau Galle Creek","Eau Galle River"]
["Dev: DBParsing_231030_v01.xlsm","oB4QUQ3BZILmelrtrtTj","2023-07-31T22:06:27","2023-07-31T16:06:27","2023-07-31",2023,7,"DKq8OLTYViaAQZeR9ADiCfs22M63",null,-90.553661750117584,43.393784769520401,null,"2023-07-31 17:06:27.242200.jpg-0",1,null,0,"",null,null,null,null,1,0,1,69,1,0,0,"River/Stream","None",0,0,0,0,0,0,0,1,0,"Baseflow",1,"Clear",1,"None",0,0,0,0,0,"drought this year. ran out of 5 in 1 tests",1,"Absent","Absent","Absent","Absent","Absent","Absent","Absent","Present","Recorded","Mill Creek","Mill Creek",1,1,"Coulee Region","TU Staff","070700051301","West Branch Mill Creek-Mill Creek","Hoosier Hollow-Mill Creek"]
["Dev: DBParsing_231030_v01.xlsm","LD8fYH2Ao50f4NFa1Zsh","2023-07-31T18:39:01","2023-07-31T12:39:01","2023-07-31",2023,7,"f7qMRlnlkOgrA1xpaxXrTTeRGWX2",null,-92.732201786197805,44.831295067476631,null,"",0,null,1,240,120,null,null,8,1,0,1,65,1,0,5,"River/Stream","Bank Erosion",0,1,0,0,0,0,0,0,0,"Baseflow",1,"Clear",1,"None",0,0,0,0,0,"Secchi Tube > 100 cm",1,"Absent","Present","Absent","Absent","Absent","Absent","Absent","Absent","Recorded","Kinnickinnic River","Kinnickinnic River",1,"","Kiap TU Wish","Kiap-TU-Wish","070300051105","Lower Kinnickinnic Pond-Kinnickinnic River","Kinnickinnic River"]
["Dev: DBParsing_231030_v01.xlsm","Xj0aHcX5tCelWL63VON3","2023-07-31T18:36:11","2023-07-31T12:36:11","2023-07-31",2023,7,"oCltWtS7poTmhdoeies5qt6zlVg1",null,-91.867372524078803,43.167636254842769,null,"",0,null,0,"",null,null,null,null,0,null,0,null,1,0.15,5,null,"",-1,-1,-1,-1,-1,-1,-1,-1,1,null,0,null,0,"",-1,-1,-1,-1,1,null,0,"No Data","No Data","No Data","No Data","No Data","No Data","No Data","No Data","No Data","","","","","Iowa Driftless","Agency/University","070600040309","Brockamp Creek-Turkey River","Headwaters Turkey River"]
["Dev: DBParsing_231030_v01.xlsm","NTglxnWXNMNP6UmhpsRc","2023-07-31T17:08:09","2023-07-31T11:08:09","2023-07-31",2023,7,"ODZAZt42ngf0K8HRsQw4BSqkli42","",-91.866572136144967,43.168428889515965,null,"2023-07-31 12:08:08.847523.jpg-0",1,null,1,240,120,null,null,7,1,100,1,72,1,0,1,"Lake/Pond","",-1,-1,-1,-1,-1,-1,-1,-1,1,"Mid-stage",1,"Murky",1,"None",0,0,0,0,0,"warm day",1,"No Data","No Data","No Data","No Data","No Data","No Data","No Data","No Data","No Data","","","","","Iowa Driftless","Agency/University","070600040309","Brockamp Creek-Turkey River","Headwaters Turkey River"]
["Dev: DBParsing_231030_v01.xlsm","QgPeYjhSDsgesLuAGvir","2023-07-31T15:08:38","2023-07-31T09:08:38","2023-07-31",2023,7,"jhGh651Hl7cRangRQ2zqYMCZHdv1",null,-90.647004595375037,43.306514906666287,null,"",0,null,1,240,120,null,null,8,1,0,1,61,1,0,2,"River/Stream","None",0,0,0,0,0,0,0,1,0,"Baseflow",1,"Murky",1,"None",0,0,0,0,0,null,0,"Absent","Absent","Absent","Absent","Absent","Absent","Absent","Present","Recorded","Knapp Creek","Knapp Creek",1,"","Harry & Laura Nohr","TU Staff","070700051503","Middle Knapp Creek","Knapp Creek"]
["Dev: DBParsing_231030_v01.xlsm","QO19ngln1XLHJR2kNLcv","2023-07-31T12:35:09","2023-07-31T06:35:09","2023-07-31",2023,7,"jhGh651Hl7cRangRQ2zqYMCZHdv1",null,-90.619870474305046,43.327058513612229,null,"",0,null,1,240,180,null,null,8,1,0,1,52,1,0,1,"River/Stream","None",0,0,0,0,0,0,0,1,0,"Baseflow",1,"Clear",1,"None",0,0,0,0,0,null,0,"Absent","Absent","Absent","Absent","Absent","Absent","Absent","Present","Recorded",0,0,1,"","Harry & Laura Nohr","TU Staff","070700051503","Middle Knapp Creek","Knapp Creek"]
["Dev: DBParsing_231030_v01.xlsm","2dIsvfMeIyDE0I2B6Fd5","2023-07-30T17:14:40","2023-07-30T11:14:40","2023-07-30",2023,7,"iL4InQVt0eQdf8HXXiLJJxA4dTA2","Other Locations",-91.126392499999994,43.764361600000001,null,"2023-07-30 12:14:39.919735.jpg-0",1,null,1,240,0,null,null,7,1,0,0,null,1,0,1,"River/Stream","Trash",0,0,1,0,0,0,0,0,0,"Baseflow",1,"Clear",1,"None",0,0,0,0,0,null,0,"Absent","Absent","Present","Absent","Absent","Absent","Absent","Absent","Recorded","Mormon Creek","Mormon Creek",1,1,"Coulee Region","Unknown","070600010501","Mormon Creek","Mormon Creek-Mississippi River"]
["Dev: DBParsing_231030_v01.xlsm","CnOimAMlkMt3OUvVwqzP","2023-07-30T16:56:53","2023-07-30T10:56:53","2023-07-30",2023,7,"iL4InQVt0eQdf8HXXiLJJxA4dTA2","Other Locations",-91.126242899999994,43.764561499999999,null,"2023-07-30 11:58:23.521770.jpg-0",1,null,1,180,180,null,null,7.5,1,0,0,null,1,0,1,"River/Stream","None",0,0,0,0,0,0,0,1,0,"Baseflow",1,"Clear",1,"None",0,0,0,0,0,null,0,"Absent","Absent","Absent","Absent","Absent","Absent","Absent","Present","Recorded","Mormon Creek","Mormon Creek",1,1,"Coulee Region","Unknown","070600010501","Mormon Creek","Mormon Creek-Mississippi River"]
["Dev: DBParsing_231030_v01.xlsm","4BrTrMbcWgoy4mLOzldv","2023-07-30T15:55:02","2023-07-30T09:55:02","2023-07-30",2023,7,"iL4InQVt0eQdf8HXXiLJJxA4dTA2","Other Locations",-91.178613799999994,43.760331100000002,null,"2023-07-30 10:55:02.550394.jpg-0",1,null,1,240,0,null,null,6,1,100,0,null,1,0,1,"River/Stream","Pipe/Drain Outflow",0,0,0,1,0,0,0,0,0,"Baseflow",1,"Murky",1,"None",0,0,0,0,0,null,0,"Absent","Absent","Absent","Present","Absent","Absent","Absent","Absent","Recorded","Mormon Creek","Mormon Creek",1,"","Coulee Region","Unknown","070600010501","Mormon Creek","Mormon Creek-Mississippi River"]
["Dev: DBParsing_231030_v01.xlsm","CvoaWYkAYqTVcVjqGlPZ","2023-07-30T13:47:13","2023-07-30T07:47:13","2023-07-30",2023,7,"iL4InQVt0eQdf8HXXiLJJxA4dTA2",null,-91.186611499999998,43.750440400000002,null,"2023-07-30 08:47:13.266237.jpg-0",1,null,1,240,120,null,null,7.5,1,0,0,null,1,0,1,"River/Stream","Bank Erosion",0,1,0,0,0,0,0,0,0,"Mid-stage",1,"Clear",1,"None",0,0,0,0,0,null,0,"Absent","Present","Absent","Absent","Absent","Absent","Absent","Absent","Recorded","Mormon Creek","Mormon Creek",1,"","Coulee Region","Unknown","070600010501","Mormon Creek","Mormon Creek-Mississippi River"]
["Dev: DBParsing_231030_v01.xlsm","smRjkDTL9qpEDlNJBYeI","2023-07-30T11:29:27","2023-07-30T05:29:27","2023-07-30",2023,7,"iL4InQVt0eQdf8HXXiLJJxA4dTA2",null,-91.192568399999999,43.7463555,null,"2023-07-30 06:29:27.898966.jpg-0",1,null,1,240,180,null,null,7.5,1,0,1,0,1,0,0,"River/Stream","Bank Erosion",0,1,0,0,0,0,0,0,0,"Mid-stage",1,"Murky",1,"None",0,0,0,0,0,null,0,"Absent","Present","Absent","Absent","Absent","Absent","Absent","Absent","Recorded","Mormon Creek","Mormon Creek",1,"","Coulee Region","Unknown","070600010501","Mormon Creek","Mormon Creek-Mississippi River"]
["Dev: DBParsing_231030_v01.xlsm","21n74Qr2W2YBf9INZQXT","2023-07-29T22:03:42","2023-07-29T16:03:42","2023-07-29",2023,7,"TwGnpUOZyJhOTHOqw2pGQ0maGfh1","",-91.647808246766004,43.457347286664856,null,"2023-07-29 17:03:42.699711.jpg-0",1,null,0,"",null,null,null,null,1,0,1,66,0,"","","River/Stream","None",0,0,0,0,0,0,0,1,0,"Baseflow",1,"Clear",1,"None",0,0,0,0,0,"clear water and blue sky. air temp80+",1,"Absent","Absent","Absent","Absent","Absent","Absent","Absent","Present","Recorded","","","","","Iowa Driftless","Iowa Driftless","070600020501","North Bear Creek","Bear Creek"]
["Dev: DBParsing_231030_v01.xlsm","FtglSMPe2BdT7yywqzSF","2023-07-29T21:04:23","2023-07-29T15:04:23","2023-07-29",2023,7,"qg0Gw2Z5bFP7xIvHpN2bfZB65d62","Eagle Creek",-93.384230767307855,44.779419774080601,null,"2023-07-29 16:04:23.246782.jpg-0",1,null,1,240,120,null,null,7.5,0,null,0,null,0,"","","River/Stream","",-1,-1,-1,-1,-1,-1,-1,-1,1,"",0,"Clear",1,"None",0,0,0,0,0,"water temp: 61.5 degrees",1,"No Data","No Data","No Data","No Data","No Data","No Data","No Data","No Data","No Data","Eagle Creek","Eagle Creek",1,"","Twin Cities","TCTU","070200121106","Eagle Creek-Minnesota River","Minnesota River"]
["Dev: DBParsing_231030_v01.xlsm","P0kAtUdjxdI3pqFXuizc","2023-07-28T22:11:34","2023-07-28T16:11:34","2023-07-28",2023,7,"DKq8OLTYViaAQZeR9ADiCfs22M63",null,-91.441414128595483,44.179971393865515,null,"2023-07-28 17:11:34.432330.jpg-0",1,null,1,240,30,null,null,7.5,1,200,1,67,1,0,0,"River/Stream","None",0,0,0,0,0,0,0,1,0,"Baseflow",1,"Murky",1,"None",0,0,0,0,0,"invasive species phragmites observed on downstream side of site.",1,"Absent","Absent","Absent","Absent","Absent","Absent","Absent","Present","Recorded","Tamarack Creek","Tamarack Creek",1,"","Wisconsin Clear Water","TU Staff","070400050503","Tamarack Creek","Lower Trempealeau River"]
["Dev: DBParsing_231030_v01.xlsm","KMeODFCDwmdyKG6a342v","2023-07-28T19:10:02","2023-07-28T13:10:02","2023-07-28",2023,7,"DKq8OLTYViaAQZeR9ADiCfs22M63",null,-91.35398285780586,44.125353924313657,null,"2023-07-28 14:10:01.919270.jpg-0",1,null,1,240,120,null,null,7.5,1,200,1,61,0,"","","River/Stream","None",0,0,0,0,0,0,0,1,0,"Baseflow",1,"Murky",1,"None",0,0,0,0,0,"could not get nitrogen tests to work",1,"Absent","Absent","Absent","Absent","Absent","Absent","Absent","Present","Recorded",0,0,1,"","Coulee Region","TU Staff","070400071104","Little Tamarack Creek-Beaver Creek","Beaver Creek"]
["Dev: DBParsing_231030_v01.xlsm","PgcNBR0myaD97qdAu1nB","2023-07-28T18:17:49","2023-07-28T12:17:49","2023-07-28",2023,7,"DKq8OLTYViaAQZeR9ADiCfs22M63",null,-91.322093240105119,44.108696771754254,null,"2023-07-28 13:17:48.941844.jpg-0",1,null,1,120,60,null,null,7,1,100,1,67,1,0,2,"River/Stream","Livestock in Water",0,0,0,0,1,0,0,0,0,"Baseflow",1,"Clear",1,"None",0,0,0,0,0,null,0,"Absent","Absent","Absent","Absent","Present","Absent","Absent","Absent","Recorded","Dutch Creek","Dutch Creek",1,1,"Coulee Region","TU Staff","070400071104","Little Tamarack Creek-Beaver Creek","Beaver Creek"]
["Dev: DBParsing_231030_v01.xlsm","8BOn8nxSnOeBe40D7XSn","2023-07-28T16:24:31","2023-07-28T10:24:31","2023-07-28",2023,7,"DKq8OLTYViaAQZeR9ADiCfs22M63",null,-91.297735028313596,44.115683391152629,null,"",0,null,0,"",null,null,null,null,0,null,1,67,0,"","","River/Stream","None",0,0,0,0,0,0,0,1,0,"Baseflow",1,"Murky",1,"None",0,0,0,0,0,null,0,"Absent","Absent","Absent","Absent","Absent","Absent","Absent","Present","Recorded","Dutch Creek","Dutch Creek",1,"","Coulee Region","TU Staff","070400071104","Little Tamarack Creek-Beaver Creek","Beaver Creek"]
["Dev: DBParsing_231030_v01.xlsm","C6dZktp9JNbqNNTwc8jo","2023-07-28T16:12:01","2023-07-28T10:12:01","2023-07-28",2023,7,"H4dZvxTdViejefqREn5k066JVZG3","",-92.146966787322981,44.242763272358957,null,"2023-07-28 11:12:00.887285.jpg-0",1,null,1,240,120,null,null,7,1,0,1,62,1,0,2,"River/Stream","None",0,0,0,0,0,0,0,1,0,"Baseflow",1,"Clear",1,"None",0,0,0,0,0,"West Indian creek.  upstream from parking lot.  low flow",1,"Absent","Absent","Absent","Absent","Absent","Absent","Absent","Present","Recorded","West Indian Creek","West Indian Creek",1,1,"Hiawatha","Hiawatha","070400040510","West Indian Creek","Zumbro River"]
["Dev: DBParsing_231030_v01.xlsm","IoY87h6IK7gQXYrQJMoq","2023-07-28T15:59:14","2023-07-28T09:59:14","2023-07-28",2023,7,"K0EjhOrGL4NGhPVbB1pKi320lLr2","Hay Creek @ 320th St",-92.575564999999997,44.488341699999999,null,"2023-07-28 10:59:14.161074.jpg-0",1,null,1,240,180,null,null,7.5,1,100,1,63,1,0.15,2,"River/Stream","None",0,0,0,0,0,0,0,1,0,"Mid-stage",1,"Clear",1,"Local Thunderstorm",0,1,0,0,0,"vegetation in water down here. 2\" rain Tuesday night/ Wednesday am",1,"Absent","Absent","Absent","Absent","Absent","Absent","Absent","Present","Recorded","Hay Creek","Hay Creek",1,"","Twin Cities","TCTU","070400010401","Hay Creek","Hay Creek-Mississippi River"]
["Dev: DBParsing_231030_v01.xlsm","tGlMPsWwcIwOT3n6Lmqg","2023-07-28T15:58:14","2023-07-28T09:58:14","2023-07-28",2023,7,"DKq8OLTYViaAQZeR9ADiCfs22M63",null,-91.292698729825005,44.12167628416227,null,"",0,null,0,"",null,null,null,null,0,null,1,58,0,"","","River/Stream","Fish Barrier",1,0,0,0,0,0,0,0,0,"Baseflow",1,"Clear",1,"None",0,0,0,0,0,null,0,"Present","Absent","Absent","Absent","Absent","Absent","Absent","Absent","Recorded","Dutch Creek","Dutch Creek",1,"","Coulee Region","TU Staff","070400071104","Little Tamarack Creek-Beaver Creek","Beaver Creek"]
["Dev: DBParsing_231030_v01.xlsm","humS2mzYyMHyxRBve2XI","2023-07-28T15:38:01","2023-07-28T09:38:01","2023-07-28",2023,7,"DKq8OLTYViaAQZeR9ADiCfs22M63",null,-91.292662813486075,44.120671754529056,null,"",0,null,0,"",null,null,null,null,0,null,1,58,0,"","","River/Stream","None",0,0,0,0,0,0,0,1,0,"Baseflow",1,"Clear",1,"None",0,0,0,0,0,null,0,"Absent","Absent","Absent","Absent","Absent","Absent","Absent","Present","Recorded","Dutch Creek","Dutch Creek",1,"","Coulee Region","TU Staff","070400071104","Little Tamarack Creek-Beaver Creek","Beaver Creek"]
["Dev: DBParsing_231030_v01.xlsm","nMDwRMN5el5ZXMxDeUzW","2023-07-28T15:22:11","2023-07-28T09:22:11","2023-07-28",2023,7,"K0EjhOrGL4NGhPVbB1pKi320lLr2","Hay Creek @ 325th St",-92.5970133,44.472661700000003,null,"2023-07-28 10:22:11.138211.jpg-0",1,null,1,240,120,null,null,7.5,1,100,1,59,1,0,0,"River/Stream","None",0,0,0,0,0,0,0,1,0,"Mid-stage",1,"Clear",1,"Local Thunderstorm",0,1,0,0,0,"2\" rain Tuesday night/Wednesday am. Most vegetation in water I've seen in years",1,"Absent","Absent","Absent","Absent","Absent","Absent","Absent","Present","Recorded","Hay Creek","Hay Creek",1,"","Twin Cities","TCTU","070400010401","Hay Creek","Hay Creek-Mississippi River"]
["Dev: DBParsing_231030_v01.xlsm","5GPYu7Hs7nRaX7G1nymd","2023-07-28T14:34:59","2023-07-28T08:34:59","2023-07-28",2023,7,"H4dZvxTdViejefqREn5k066JVZG3",null,-92.236304695313237,44.230598354692418,null,"2023-07-28 09:34:59.300480.jpg-0",1,null,1,180,180,null,null,8,1,100,1,62,1,0,2,"River/Stream","None",0,0,0,0,0,0,0,1,0,"Baseflow",1,"Clear",1,"None",0,0,0,0,0,"long creek, downstream of city 8 bridge.  low flow ",1,"Absent","Absent","Absent","Absent","Absent","Absent","Absent","Present","Recorded","Long Creek","Long Creek",1,1,"Hiawatha","Hiawatha","070400040505","Long Creek","Zumbro River"]
["Dev: DBParsing_231030_v01.xlsm","gT1kdJ5E5ARxyvbl54e0","2023-07-28T14:32:47","2023-07-28T08:32:47","2023-07-28",2023,7,"3ewh0JhsqndewkOhEmNvJ9cb0n83","Cady Creek @ 50th St",-92.146943262504223,44.793199320832677,null,"2023-07-28 09:32:47.088855.jpg-0",1,null,1,240,120,null,null,7.5,1,200,1,64,1,0,2,"River/Stream","None",0,0,0,0,0,0,0,1,0,"Mid-stage",1,"Muddy",1,"Regional Rainfall,Local Thunderstorm",1,1,0,0,0,"heavy rains over the night",1,"Absent","Absent","Absent","Absent","Absent","Absent","Absent","Present","Recorded","Cady Creek","Cady Creek",1,1,"Kiap TU Wish","Kiap-TU-Wish","070500051003","Cady Creek","Eau Galle River"]
["Dev: DBParsing_231030_v01.xlsm","IUd0byvpDvMlhUfU9DZx","2023-07-27T16:22:12","2023-07-27T10:22:12","2023-07-27",2023,7,"DKq8OLTYViaAQZeR9ADiCfs22M63",null,-91.001118873214807,44.089353964334862,null,"2023-07-27 11:22:12.908120.jpg-0",1,null,0,"",null,null,null,null,0,null,1,60,0,"","","River/Stream","None",0,0,0,0,0,0,0,1,0,"Baseflow",1,"Clear",1,"None",0,0,0,0,0,"crystal clear water",1,"Absent","Absent","Absent","Absent","Absent","Absent","Absent","Present","Recorded","Sand Creek","Sand Creek",1,1,"Coulee Region","TU Staff","070400071204","Sand Creek","Fleming Creek-Black River"]
["Dev: DBParsing_231030_v01.xlsm","nzcVgthB31gGd9a8IPp7","2023-07-27T14:57:29","2023-07-27T08:57:29","2023-07-27",2023,7,"DKq8OLTYViaAQZeR9ADiCfs22M63",null,-90.943106533847541,44.057508178195434,null,"2023-07-27 09:57:28.875162.jpg-0",1,null,1,80,60,null,null,6.5,1,300,1,58,1,0,0,"River/Stream","None",0,0,0,0,0,0,0,1,0,"Baseflow",1,"Clear",1,"Local Thunderstorm",0,1,0,0,0,"1.5” rain yesterday ",1,"Absent","Absent","Absent","Absent","Absent","Absent","Absent","Present","Recorded","Sand Creek","Sand Creek",1,1,"Coulee Region","TU Staff","070400071204","Sand Creek","Fleming Creek-Black River"]
["Dev: DBParsing_231030_v01.xlsm","C64JkgJr67R4x4GtID62","2023-07-27T14:21:04","2023-07-27T08:21:04","2023-07-27",2023,7,"jhGh651Hl7cRangRQ2zqYMCZHdv1",null,-90.664344114139723,43.340820796204696,null,"",0,null,1,240,180,null,null,7.5,0,null,1,62,1,0,1,"River/Stream","None",0,0,0,0,0,0,0,1,0,"Baseflow",1,"Clear",1,"None",0,0,0,0,0,null,0,"Absent","Absent","Absent","Absent","Absent","Absent","Absent","Present","Recorded","Jimtown Branch","Jimtown Branch",1,"","Coulee Region","TU Staff","070700051501","Upper Knapp Creek","Knapp Creek"]
["Dev: DBParsing_231030_v01.xlsm","JZoHhAHSjLivzWbAj6dh","2023-07-27T12:29:54","2023-07-27T06:29:54","2023-07-27",2023,7,"jhGh651Hl7cRangRQ2zqYMCZHdv1",null,-90.559654239002285,43.364109937827124,null,"",0,null,1,180,120,null,null,7,1,0,1,55,1,0,1,"River/Stream","None",0,0,0,0,0,0,0,1,0,"Baseflow",1,"Clear",1,"None",0,0,0,0,0,null,0,"Absent","Absent","Absent","Absent","Absent","Absent","Absent","Present","Recorded","Ryan Hollow","Ryan Hollow",1,1,"Coulee Region","TU Staff","070700051301","West Branch Mill Creek-Mill Creek","Hoosier Hollow-Mill Creek"]
["Dev: DBParsing_231030_v01.xlsm","dMRLzisa6caDb0i1n6UX","2023-07-26T21:03:57","2023-07-26T15:03:57","2023-07-26",2023,7,"DKq8OLTYViaAQZeR9ADiCfs22M63",null,-91.568349409713022,44.213526160203173,null,"2023-07-26 16:03:57.136202.jpg-0",1,null,1,240,120,null,null,7.5,1,200,1,69,1,0,1,"River/Stream","Bank Erosion,Livestock in Water",0,1,0,0,1,0,0,0,0,"Mid-stage",1,"Muddy",1,"Local Thunderstorm",0,1,0,0,0,"I am doubting the accuracy of this data because it was collected immediately downstream of a farm with cattle and very exposed stream banks and we received 1.5” of rain this morning.  see picture",1,"Absent","Present","Absent","Absent","Present","Absent","Absent","Absent","Recorded","Trout Run Creek","Trout Run Creek",1,"","Wisconsin Clear Water","TU Staff","070400050501","Trout Run Creek-Trempealeau River","Lower Trempealeau River"]
["Dev: DBParsing_231030_v01.xlsm","CHaZjZv7uJaVD4POfGrl","2023-07-26T20:44:51","2023-07-26T14:44:51","2023-07-26",2023,7,"jhGh651Hl7cRangRQ2zqYMCZHdv1",null,-90.609765597550464,43.390554581335159,null,"",0,null,1,240,120,null,null,8,1,100,1,71,1,0,1,"River/Stream","None",0,0,0,0,0,0,0,1,0,"Baseflow",1,"Clear",1,"None",0,0,0,0,0,null,0,"Absent","Absent","Absent","Absent","Absent","Absent","Absent","Present","Recorded","West Branch Mill Creek","West Branch Mill Creek",1,"","Coulee Region","TU Staff","070700051301","West Branch Mill Creek-Mill Creek","Hoosier Hollow-Mill Creek"]
["Dev: DBParsing_231030_v01.xlsm","IsF38m4ngudoNKtiOUpu","2023-07-26T18:28:44","2023-07-26T12:28:44","2023-07-26",2023,7,"7NTXAgPEn9VYyuIA3Cp8vDW3NQX2",null,-90.546493400000003,43.415717700000002,null,"",0,null,1,240,180,null,null,8,1,0,1,63,1,0,1,"River/Stream","None",0,0,0,0,0,0,0,1,0,"Baseflow",1,"Clear",1,"None",0,0,0,0,0,null,0,"Absent","Absent","Absent","Absent","Absent","Absent","Absent","Present","Recorded","Babb Hollow","Babb Hollow",1,1,"Coulee Region","TU Staff","070700051301","West Branch Mill Creek-Mill Creek","Hoosier Hollow-Mill Creek"]
["Dev: DBParsing_231030_v01.xlsm","b8FCNlAlSPyRCoNNydU1","2023-07-26T18:04:49","2023-07-26T12:04:49","2023-07-26",2023,7,"80reiKTTqGYqqpgYAhPwqypFwak1",null,-92.342601077991716,43.773780339570393,null,"2023-07-26 13:04:49.325012.jpg-0",1,null,1,240,0,null,null,8,1,0,1,59,1,0,5,"River/Stream","Algal Bloom",0,0,0,0,0,1,0,0,0,null,0,"Clear",1,"None",0,0,0,0,0,"tons of algae and gunk in stream.  we’ve had little rain.  ",1,"Absent","Absent","Absent","Absent","Absent","Present","Absent","Absent","Recorded","Kedron Creek","Kedron Creek",1,"","Hiawatha","Hiawatha","070400080203","Kedron Creek","Middle Branch Root River"]
["Dev: DBParsing_231030_v01.xlsm","BqRA6EVAxQJTMoPMnK0O","2023-07-26T17:17:44","2023-07-26T11:17:44","2023-07-26",2023,7,"80reiKTTqGYqqpgYAhPwqypFwak1",null,-92.278081701690496,43.793184876136287,null,"2023-07-26 12:17:44.351557.jpg-0",1,null,1,240,180,null,null,7.5,1,0,1,57,1,0,2,"River/Stream","None",0,0,0,0,0,0,0,1,0,"Mid-stage",1,"Murky",1,"None",0,0,0,0,0,"it looks a bit more stained and a bit higher than usual.  heavy rains in some part of region in early morning.  ",1,"Absent","Absent","Absent","Absent","Absent","Absent","Absent","Present","Recorded","Carson Creek","Carson Creek",1,1,"Hiawatha","Hiawatha","070400080208","Middle Branch Root River","Middle Branch Root River"]
["Dev: DBParsing_231030_v01.xlsm","SgAHMfNs32HJBY4kkFQI","2023-07-26T16:07:01","2023-07-26T10:07:01","2023-07-26",2023,7,"80reiKTTqGYqqpgYAhPwqypFwak1",null,-92.224510822167659,43.62225778228693,null,"2023-07-26 11:07:01.723521.jpg-0",1,null,1,240,60,null,null,8,1,0,1,57,1,0,5,"River/Stream","None",0,0,0,0,0,0,0,1,0,"Baseflow",1,"Clear",1,"None",0,0,0,0,0,"couldn’t be prettier.  and we had 2.5-3 people niches of rain in NW Rochestet since Saturday evening.  downpour early this morning.  Canfield still clear.  ",1,"Absent","Absent","Absent","Absent","Absent","Absent","Absent","Present","Recorded","Canfield Creek","Canfield Creek",1,"","Hiawatha","Hiawatha","070400080405","Town of Forestville-South Branch Root River","South Branch Root River"]
["Dev: DBParsing_231030_v01.xlsm","GfyX4e9KpKFhoMNdPQA4","2023-07-26T13:24:01","2023-07-26T07:24:01","2023-07-26",2023,7,"jhGh651Hl7cRangRQ2zqYMCZHdv1",null,-90.588360758737707,43.424537938290584,null,"2023-07-26 08:24:01.404814.jpg-0",1,null,1,240,120,null,null,7,1,0,1,64,1,0,2,"River/Stream","None",0,0,0,0,0,0,0,1,0,"Baseflow",1,"Clear",1,"None",0,0,0,0,0,null,0,"Absent","Absent","Absent","Absent","Absent","Absent","Absent","Present","Recorded","Kepler Branch","Kepler Branch",1,"","Coulee Region","TU Staff","070700051301","West Branch Mill Creek-Mill Creek","Hoosier Hollow-Mill Creek"]
["Dev: DBParsing_231030_v01.xlsm","kKMk7d5Yt8CiDK50N3yJ","2023-07-25T22:15:08","2023-07-25T16:15:08","2023-07-25",2023,7,"DKq8OLTYViaAQZeR9ADiCfs22M63",null,-91.191111697647898,44.436750543347017,null,"2023-07-25 17:15:08.646863.jpg-0",1,null,1,240,60,null,null,7,1,200,1,69,1,0,1,"River/Stream","None",0,0,0,0,0,0,0,1,0,"Baseflow",1,"Murky",1,"None",0,0,0,0,0,null,0,"Absent","Absent","Absent","Absent","Absent","Absent","Absent","Present","Recorded","Big Slough","Big Slough",1,1,"Wisconsin Clear Water","TU Staff","070400050102","Middle Pigeon Creek","Pigeon Creek"]
["Dev: DBParsing_231030_v01.xlsm","tJbGW8xJ5Ty3rFtbCc0D","2023-07-25T20:48:47","2023-07-25T14:48:47","2023-07-25",2023,7,"7NTXAgPEn9VYyuIA3Cp8vDW3NQX2",null,-90.994556200000005,43.307122800000002,null,"2023-07-25 15:48:47.325764.jpg-0",1,null,1,240,180,null,null,8,1,0,1,67,1,0,0,"River/Stream","None",0,0,0,0,0,0,0,1,0,"Baseflow",1,"Clear",1,"None",0,0,0,0,0,null,0,"Absent","Absent","Absent","Absent","Absent","Absent","Absent","Present","Recorded","South Branch Copper Creek","South Branch Copper Creek",1,1,"Coulee Region","TU Staff","070600010704","Copper Creek","Rush Creek-Mississippi River"]
["Dev: DBParsing_231030_v01.xlsm","u0hXOOsxKTf1I6fVNLSs","2023-07-25T20:20:54","2023-07-25T14:20:54","2023-07-25",2023,7,"DKq8OLTYViaAQZeR9ADiCfs22M63",null,-91.074729282186581,44.468501772349626,null,"",0,null,0,"",null,null,null,null,0,null,1,65,0,"","","River/Stream","None",0,0,0,0,0,0,0,1,0,"Baseflow",1,"Murky",1,"None",0,0,0,0,0,null,0,"Absent","Absent","Absent","Absent","Absent","Absent","Absent","Present","Recorded","Ellingson Coulee","Ellingson Coulee",1,1,"Wisconsin Clear Water","TU Staff","070400050101","Upper Pigeon Creek","Pigeon Creek"]
["Dev: DBParsing_231030_v01.xlsm","2CW4KuvXgAvg5hYbohLG","2023-07-25T19:20:43","2023-07-25T13:20:43","2023-07-25",2023,7,"jhGh651Hl7cRangRQ2zqYMCZHdv1",null,-90.965794677111447,43.325089937452852,null,"",0,null,1,240,120,null,null,7.5,1,0,1,71,1,0,2,null,"None",0,0,0,0,0,0,0,1,0,"Baseflow",1,"Clear",1,"None",0,0,0,0,0,null,0,"Absent","Absent","Absent","Absent","Absent","Absent","Absent","Present","Recorded","Copper Creek","Copper Creek",1,"","Coulee Region","TU Staff","070600010704","Copper Creek","Rush Creek-Mississippi River"]
["Dev: DBParsing_231030_v01.xlsm","DUPMIuf5yWITZvSBSTHL","2023-07-25T18:33:43","2023-07-25T12:33:43","2023-07-25",2023,7,"DKq8OLTYViaAQZeR9ADiCfs22M63",null,-91.029851714745078,44.513783479535789,null,"",0,null,0,"",null,null,null,null,0,null,1,59,0,"","","River/Stream","Fish Barrier",1,0,0,0,0,0,0,0,0,"Baseflow",1,"Clear",1,"None",0,0,0,0,0,null,0,"Present","Absent","Absent","Absent","Absent","Absent","Absent","Absent","Recorded","","",1,1,"Wisconsin Clear Water","TU Staff","070400050101","Upper Pigeon Creek","Pigeon Creek"]
["Dev: DBParsing_231030_v01.xlsm","teDCVW23jaFAkR7Zkznj","2023-07-25T18:16:47","2023-07-25T12:16:47","2023-07-25",2023,7,"lyrizH9jreV0VG7fAgccBEropRQ2",null,-93.256608900000003,44.940777199999999,null,"",0,null,1,180,30,null,null,6.5,1,100,1,81,1,0,0,"Lake/Pond","",-1,-1,-1,-1,-1,-1,-1,-1,1,null,0,null,0,"",-1,-1,-1,-1,1,null,0,"No Data","No Data","No Data","No Data","No Data","No Data","No Data","No Data","No Data","","","","","Twin Cities","Unknown","070102060703","Saint Anthony Falls-Mississippi River","City of Minneapolis-Mississippi River"]
["Dev: DBParsing_231030_v01.xlsm","QhtX88BP9SO1tZEjP1xF","2023-07-25T16:37:17","2023-07-25T10:37:17","2023-07-25",2023,7,"7NTXAgPEn9VYyuIA3Cp8vDW3NQX2",null,-91.081221999999997,43.339810900000003,null,"",0,null,1,240,180,null,null,7,1,0,1,72,1,0,2,"River/Stream","None",0,0,0,0,0,0,0,1,0,"Baseflow",1,"Clear",1,"None",0,0,0,0,0,null,0,"Absent","Absent","Absent","Absent","Absent","Absent","Absent","Present","Recorded","Sugar Creek","Sugar Creek",1,"","Coulee Region","TU Staff","070600010703","Sugar Creek","Rush Creek-Mississippi River"]
["Dev: DBParsing_231030_v01.xlsm","XhnqUVmwFQWUwpUFncGp","2023-07-25T14:13:09","2023-07-25T08:13:09","2023-07-25",2023,7,"jhGh651Hl7cRangRQ2zqYMCZHdv1",null,-91.000525104834182,43.37752741204946,null,"",0,null,1,240,120,null,null,7,1,0,1,56,1,0,2,"River/Stream","None",0,0,0,0,0,0,0,1,0,"Baseflow",1,"Clear",1,"None",0,0,0,0,0,null,0,"Absent","Absent","Absent","Absent","Absent","Absent","Absent","Present","Recorded","Sugar Creek","Sugar Creek",1,"","Coulee Region","TU Staff","070600010703","Sugar Creek","Rush Creek-Mississippi River"]
["Dev: DBParsing_231030_v01.xlsm","JubBbNeXxZDiTwLWlev7","2023-07-25T12:26:24","2023-07-25T06:26:24","2023-07-25",2023,7,"7NTXAgPEn9VYyuIA3Cp8vDW3NQX2",null,-90.917148299999994,43.368523199999998,null,"",0,null,1,240,180,null,null,7.5,1,0,1,57,1,0,1,"River/Stream","None",0,0,0,0,0,0,0,1,0,"Baseflow",1,"Clear",1,"None",0,0,0,0,0,null,0,"Absent","Absent","Absent","Absent","Absent","Absent","Absent","Present","Recorded","Johnstown Valley","Johnstown Valley",1,1,"Coulee Region","TU Staff","070700060403","Tainter Creek","Tainter Creek-Kickapoo River"]
["Dev: DBParsing_231030_v01.xlsm","8Cy7eocmO8NxRcZYzdhQ","2023-07-24T22:48:51","2023-07-24T16:48:51","2023-07-24",2023,7,"jhGh651Hl7cRangRQ2zqYMCZHdv1",null,-90.861436196097074,43.370395355271683,null,"",0,null,1,240,60,null,null,8,1,0,1,75,1,0,2,"River/Stream","None",0,0,0,0,0,0,0,1,0,"Baseflow",1,"Clear",1,"None",0,0,0,0,0,null,0,"Absent","Absent","Absent","Absent","Absent","Absent","Absent","Present","Recorded","Tainter Creek","Tainter Creek",1,1,"Coulee Region","TU Staff","070700060403","Tainter Creek","Tainter Creek-Kickapoo River"]
["Dev: DBParsing_231030_v01.xlsm","ZYtcXU0ZN5MFmIDSCvF3","2023-07-24T21:06:30","2023-07-24T15:06:30","2023-07-24",2023,7,"MZ8CvOB6bBeEPjwpBrk2zCVH7bk2","MOA Creek",-93.231273859523839,44.846724961179945,null,"2023-07-24 16:06:30.113240.jpg-02023-07-24 16:06:30.113240.jpg-12023-07-24 16:06:30.113240.jpg-2",1,null,1,240,60,null,null,7.5,1,0,1,57,1,0,1,"River/Stream","None",0,0,0,0,0,0,0,1,0,"Mid-stage",1,"Clear",1,"Regional Rainfall",1,0,0,0,0,null,0,"Absent","Absent","Absent","Absent","Absent","Absent","Absent","Present","Recorded","","","","","Twin Cities","TCTU","070200121110","Minnesota River","Minnesota River"]
["Dev: DBParsing_231030_v01.xlsm","kNU3UMAfJQ45SMUIRkqk","2023-07-24T20:36:26","2023-07-24T14:36:26","2023-07-24",2023,7,"7NTXAgPEn9VYyuIA3Cp8vDW3NQX2","",-90.892386000000002,43.413794299999999,null,"2023-07-24 15:36:26.102166.jpg-0",1,null,1,240,180,null,null,9,1,0,1,74,1,0,2,"River/Stream","None",0,0,0,0,0,0,0,1,0,"Baseflow",1,"Clear",1,"None",0,0,0,0,0,null,0,"Absent","Absent","Absent","Absent","Absent","Absent","Absent","Present","Recorded","Hanson Valley","Hanson Valley",1,"","Coulee Region","TU Staff","070700060403","Tainter Creek","Tainter Creek-Kickapoo River"]
["Dev: DBParsing_231030_v01.xlsm","x1eZdJrffpDuZYPb645B","2023-07-24T18:57:01","2023-07-24T12:57:01","2023-07-24",2023,7,"jhGh651Hl7cRangRQ2zqYMCZHdv1",null,-90.689626768329916,43.346230509569637,null,"",0,null,1,240,120,null,null,7.5,1,0,1,66,1,0,0,"River/Stream","None",0,0,0,0,0,0,0,1,0,"Baseflow",1,"Clear",1,"None",0,0,0,0,0,null,0,"Absent","Absent","Absent","Absent","Absent","Absent","Absent","Present","Recorded","Pigeon Run","Pigeon Run",1,1,"Coulee Region","TU Staff","070700051501","Upper Knapp Creek","Knapp Creek"]
["Dev: DBParsing_231030_v01.xlsm","lJlPWeBAWASp8shAGKFI","2023-07-24T18:29:30","2023-07-24T12:29:30","2023-07-24",2023,7,"7NTXAgPEn9VYyuIA3Cp8vDW3NQX2",null,-90.670416900000006,43.353039199999998,null,"2023-07-24 13:29:30.431020.jpg-0",1,null,1,240,120,null,null,9,1,0,1,73,1,0,1,"River/Stream","None",0,0,0,0,0,0,0,1,0,"Baseflow",1,"Clear",1,"None",0,0,0,0,0,null,0,"Absent","Absent","Absent","Absent","Absent","Absent","Absent","Present","Recorded","Plum Run","Plum Run",1,"","Coulee Region","TU Staff","070700051501","Upper Knapp Creek","Knapp Creek"]
["Dev: DBParsing_231030_v01.xlsm","fvMzOEzuMKmH0zkA4DNa","2023-07-24T17:49:31","2023-07-24T11:49:31","2023-07-24",2023,7,"AFSRTEftiTe1HDjxTst1HuMIU1l1","Plum Creek @ Plum CIty Park",-92.189615180857444,44.632845690676746,null,"",0,null,1,240,120,null,null,8,1,0,0,null,1,0,2,"River/Stream","",-1,-1,-1,-1,-1,-1,-1,-1,1,"Baseflow",1,"Clear",1,"None",0,0,0,0,0,null,0,"No Data","No Data","No Data","No Data","No Data","No Data","No Data","No Data","No Data","Plum Creek","Plum Creek",1,1,"Kiap TU Wish","Kiap-TU-Wish","070500051101","Nugget Lake-Plum Creek","Plum Creek"]
["Dev: DBParsing_231030_v01.xlsm","DAtZUGpDxeYqoGYLMf4T","2023-07-24T17:45:23","2023-07-24T11:45:23","2023-07-24",2023,7,"AFSRTEftiTe1HDjxTst1HuMIU1l1","Plum Creek @ Plum CIty Park",-92.189611067303119,44.63283493775149,null,"",0,null,1,240,120,null,null,7.5,0,null,1,57,0,"","","River/Stream","",-1,-1,-1,-1,-1,-1,-1,-1,1,null,0,null,0,"",-1,-1,-1,-1,1,null,0,"No Data","No Data","No Data","No Data","No Data","No Data","No Data","No Data","No Data","Plum Creek","Plum Creek",1,1,"Kiap TU Wish","Kiap-TU-Wish","070500051101","Nugget Lake-Plum Creek","Plum Creek"]
["Dev: DBParsing_231030_v01.xlsm","luqkOv3pPlU2iTpFd2QW","2023-07-24T15:58:52","2023-07-24T09:58:52","2023-07-24",2023,7,"VQ9bNtzttGcXOEuaXrEAEYLfT103",null,-92.270834300000004,43.624995400000003,null,"2023-07-24 10:58:52.468701.jpg-0",1,null,1,240,180,null,null,7.5,1,0,1,68,1,0,0,"River/Stream","None",0,0,0,0,0,0,0,1,0,"Baseflow",1,"Clear",1,"None",0,0,0,0,0,null,0,"Absent","Absent","Absent","Absent","Absent","Absent","Absent","Present","Recorded","South Branch Root River","South Branch Root River",1,"","Hiawatha","Hiawatha","070400080402","Etna Creek-South Branch Root River","South Branch Root River"]
["Dev: DBParsing_231030_v01.xlsm","mp9bjqk6nTjgRrjWpXVw","2023-07-24T13:02:10","2023-07-24T07:02:10","2023-07-24",2023,7,"jhGh651Hl7cRangRQ2zqYMCZHdv1",null,-90.713773287389557,43.404960160841306,null,"2023-07-24 08:02:09.877733.jpg-0",1,null,1,240,180,null,null,7,1,0,1,51,1,0,0,"River/Stream","None",0,0,0,0,0,0,0,1,0,"Baseflow",1,"Clear",1,"None",0,0,0,0,0,null,0,"Absent","Absent","Absent","Absent","Absent","Absent","Absent","Present","Recorded","Trout Creek","Trout Creek",1,"","Coulee Region","TU Staff","070700060402","Trout Creek-Kickapoo River","Tainter Creek-Kickapoo River"]
["Dev: DBParsing_231030_v01.xlsm","p7woBsYuZVnGncyooiAa","2023-07-24T12:58:44","2023-07-24T06:58:44","2023-07-24",2023,7,"VCf2q8JFBSOaJbmxiMqirI5xKFn2","Pine Creek @ County Rd. AA",-92.284083468677679,44.542252244856201,null,"",0,null,1,180,120,null,null,7,1,0,1,50,1,0,0,"River/Stream","None",0,0,0,0,0,0,0,1,0,"Baseflow",1,"Clear",1,"None",0,0,0,0,0,null,0,"Absent","Absent","Absent","Absent","Absent","Absent","Absent","Present","Recorded","Pine Creek","Pine Creek",1,1,"Wisconsin Clear Water","Kiap-TU-Wish","070400010702","Pine Creek","Lake Pepin"]
["Dev: DBParsing_231030_v01.xlsm","PdTjMQbeEF9QUMo7JKzb","2023-07-23T21:54:14","2023-07-23T15:54:14","2023-07-23",2023,7,"p4yu7gSyP5X56i8vIVA6AxqyR5D2","",-91.664757385025155,43.276457111816562,null,"2023-07-23 16:54:14.179027.jpg-0",1,null,0,"",null,null,null,null,1,100,0,null,0,"","","River/Stream","None",0,0,0,0,0,0,0,1,0,"Baseflow",1,"Clear",1,"None",0,0,0,0,0,null,0,"Absent","Absent","Absent","Absent","Absent","Absent","Absent","Present","Recorded","Trout River","Trout River",1,"","Iowa Driftless","Iowa Driftless","070600020406","Trout River","Trout Creek-Upper Iowa River"]
["Dev: DBParsing_231030_v01.xlsm","ZoB2SHmpXjLg0Mj9b4u3","2023-07-21T21:05:15","2023-07-21T15:05:15","2023-07-21",2023,7,"DKq8OLTYViaAQZeR9ADiCfs22M63",null,-90.912767665445799,44.381928445027327,null,"2023-07-21 16:05:15.228866.jpg-0",1,null,0,"",null,null,null,null,0,null,1,62,0,"","","River/Stream","None",0,0,0,0,0,0,0,1,0,"Baseflow",1,"Clear",1,"None",0,0,0,0,0,null,0,"Absent","Absent","Absent","Absent","Absent","Absent","Absent","Present","Recorded","South Branch Trempealeau River","South Branch Trempealeau River",1,1,"Wisconsin Clear Water","TU Staff","070400050202","South Branch of the Trempealeau River","Upper Trempealeau River"]
["Dev: DBParsing_231030_v01.xlsm","h6VbiZHJ2gfW15E2WzeI","2023-07-21T19:58:56","2023-07-21T13:58:56","2023-07-21",2023,7,"DKq8OLTYViaAQZeR9ADiCfs22M63",null,-90.866371634183125,44.448641617085634,null,"",0,null,0,"",null,null,null,null,0,null,1,66,0,"","","River/Stream","Fish Barrier",1,0,0,0,0,0,0,0,0,"Baseflow",1,"Clear",1,"None",0,0,0,0,0,null,0,"Present","Absent","Absent","Absent","Absent","Absent","Absent","Absent","Recorded","Cisna Creek","Cisna Creek",1,1,"Wisconsin Clear Water","TU Staff","070400070802","South Fork of Halls Creek-Halls Creek","Halls Creek"]
["Dev: DBParsing_231030_v01.xlsm","vpDtSSemV2luR9Ted77z","2023-07-21T19:18:16","2023-07-21T13:18:16","2023-07-21",2023,7,"DKq8OLTYViaAQZeR9ADiCfs22M63",null,-90.867720423934443,44.443722271331509,null,"2023-07-21 14:18:15.995076.jpg-0",1,null,0,"",null,null,null,null,0,null,1,63,0,"","","River/Stream","Fish Barrier",1,0,0,0,0,0,0,0,0,"Baseflow",1,"Clear",1,"None",0,0,0,0,0,null,0,"Present","Absent","Absent","Absent","Absent","Absent","Absent","Absent","Recorded","South Fork Halls Creek","South Fork Halls Creek",1,1,"Wisconsin Clear Water","TU Staff","070400070802","South Fork of Halls Creek-Halls Creek","Halls Creek"]
["Dev: DBParsing_231030_v01.xlsm","oq6JN6dnsGq6dpYn3DRP","2023-07-21T17:30:31","2023-07-21T11:30:31","2023-07-21",2023,7,"DKq8OLTYViaAQZeR9ADiCfs22M63",null,-91.088610047947,44.335388918372523,null,"2023-07-21 12:30:31.300541.jpg-0",1,null,1,240,30,null,null,6,1,200,1,60,1,0,0,"River/Stream","None",0,0,0,0,0,0,0,1,0,"Baseflow",1,"Clear",1,"None",0,0,0,0,0,null,0,"Absent","Absent","Absent","Absent","Absent","Absent","Absent","Present","Recorded","Pine Creek","Pine Creek",1,1,"Wisconsin Clear Water","TU Staff","070400050205","Pine Creek-Trempealeau River","Upper Trempealeau River"]
["Dev: DBParsing_231030_v01.xlsm","gnwmW9d4ld1wS0eXZB0h","2023-07-21T15:13:55","2023-07-21T09:13:55","2023-07-21",2023,7,"DKq8OLTYViaAQZeR9ADiCfs22M63",null,-90.983790914054183,44.371563712850318,null,"2023-07-21 10:13:55.712849.jpg-0",1,null,1,240,0,null,null,6,1,100,1,55,1,0,1,"River/Stream","None",0,0,0,0,0,0,0,1,0,"Baseflow",1,"Clear",1,"None",0,0,0,0,0,null,0,"Absent","Absent","Absent","Absent","Absent","Absent","Absent","Present","Recorded","Tank Creek","Tank Creek",1,1,"Wisconsin Clear Water","TU Staff","070400050203","Tank Creek-Trempealeau River","Upper Trempealeau River"]
["Dev: DBParsing_231030_v01.xlsm","toNfkgpRuadTzwHXvEMR","2023-07-21T14:48:15","2023-07-21T08:48:15","2023-07-21",2023,7,"DKq8OLTYViaAQZeR9ADiCfs22M63",null,-90.9705807854412,44.362562888412363,null,"",0,null,0,"",null,null,null,null,0,null,1,59,0,"","","River/Stream","None",0,0,0,0,0,0,0,1,0,"Baseflow",1,"Clear",1,"None",0,0,0,0,0,"0.1 feet deep.  0.5 ft per second.  2 feet wide.  not a class 1 trout stream as indicated on DNR map",1,"Absent","Absent","Absent","Absent","Absent","Absent","Absent","Present","Recorded","Tank Creek","Tank Creek",1,1,"Wisconsin Clear Water","TU Staff","070400050203","Tank Creek-Trempealeau River","Upper Trempealeau River"]
["Dev: DBParsing_231030_v01.xlsm","AunvwDfiPb8YcfiEt8vw","2023-07-21T13:58:38","2023-07-21T07:58:38","2023-07-21",2023,7,"DKq8OLTYViaAQZeR9ADiCfs22M63",null,-90.960865879987637,44.357181346600818,null,"",0,null,0,"",null,null,null,null,0,null,1,54,0,"","","River/Stream","None",0,0,0,0,0,0,0,1,0,"Baseflow",1,"Clear",1,"None",0,0,0,0,0,null,0,"Absent","Absent","Absent","Absent","Absent","Absent","Absent","Present","Recorded","Tank Creek","Tank Creek",1,1,"Wisconsin Clear Water","TU Staff","070400050203","Tank Creek-Trempealeau River","Upper Trempealeau River"]
["Dev: DBParsing_231030_v01.xlsm","BkwDR0OXrYrHcLzDhiw4","2023-07-20T22:35:56","2023-07-20T16:35:56","2023-07-20",2023,7,"3XObfMb7QSfrAYng16E97lQdZ3k1",null,-91.448231199999995,44.409359000000002,null,"",0,null,1,240,120,null,null,7.5,1,100,1,64,1,0,1,"River/Stream","None",0,0,0,0,0,0,0,1,0,"Baseflow",1,"Murky",1,"Local Thunderstorm",0,1,0,0,0,null,0,"Absent","Absent","Absent","Absent","Absent","Absent","Absent","Present","Recorded","Borst Valley Creek","Borst Valley Creek",1,1,"Wisconsin Clear Water","TU Staff","070400050303","Borst Valley Creek","Elk Creek"]
["Dev: DBParsing_231030_v01.xlsm","bDR2pQfMEms0yAKWxhG6","2023-07-20T21:12:54","2023-07-20T15:12:54","2023-07-20",2023,7,"DKq8OLTYViaAQZeR9ADiCfs22M63",null,-91.483542080643247,44.457730017089055,null,"",0,null,0,"",null,null,null,null,0,null,1,57,0,"","","River/Stream","",-1,-1,-1,-1,-1,-1,-1,-1,1,"Baseflow",1,"Clear",1,"Local Thunderstorm",0,1,0,0,0,null,0,"No Data","No Data","No Data","No Data","No Data","No Data","No Data","No Data","No Data","Borst Valley Creek","Borst Valley Creek",1,"","Wisconsin Clear Water","TU Staff","070400050303","Borst Valley Creek","Elk Creek"]
["Dev: DBParsing_231030_v01.xlsm","5gOE7xCWElQUSJSdhNVn","2023-07-20T18:25:07","2023-07-20T12:25:07","2023-07-20",2023,7,"VQ9bNtzttGcXOEuaXrEAEYLfT103",null,-91.581095500000004,43.641490500000003,null,"",0,null,1,240,180,null,null,7.5,1,0,1,51,1,0.15,5,"River/Stream","None",0,0,0,0,0,0,0,1,0,"Baseflow",1,"Clear",1,"None",0,0,0,0,0,null,0,"Absent","Absent","Absent","Absent","Absent","Absent","Absent","Present","Recorded","Beaver Creek East","Beaver Creek East",1,"","Win Cres","Hiawatha","070400080805","Beaver Creek","South Fork Root River"]
["Dev: DBParsing_231030_v01.xlsm","X9RUYPALdd6G2D6Gs07b","2023-07-20T17:50:10","2023-07-20T11:50:10","2023-07-20",2023,7,"VQ9bNtzttGcXOEuaXrEAEYLfT103",null,-91.373385799999994,43.603564400000003,null,"",0,null,1,240,0,null,null,7,1,0,1,67,1,0,2,"River/Stream","None",0,0,0,0,0,0,0,1,0,"Baseflow",1,"Clear",1,"None",0,0,0,0,0,null,0,"Absent","Absent","Absent","Absent","Absent","Absent","Absent","Present","Recorded","Crooked Creek","Crooked Creek",1,"","Win Cres","Hiawatha","070600010203","Clear Creek-Crooked Creek","Crooked Creek"]
["Dev: DBParsing_231030_v01.xlsm","tJjNrHzCJ2vQWhp9jIGv","2023-07-20T17:21:29","2023-07-20T11:21:29","2023-07-20",2023,7,"VQ9bNtzttGcXOEuaXrEAEYLfT103",null,-91.413060900000005,43.540548100000002,null,"",0,null,1,240,120,null,null,8,1,0,1,62,1,0,0,"River/Stream","None",0,0,0,0,0,0,0,1,0,"Baseflow",1,"Clear",1,"None",0,0,0,0,0,null,0,"Absent","Absent","Absent","Absent","Absent","Absent","Absent","Present","Recorded","Winnebago Creek","Winnebago Creek",1,1,"Win Cres","Hiawatha","070600010401","Upper Winnebago Creek","Winnebago Creek"]
["Dev: DBParsing_231030_v01.xlsm","85ZMEwT4XLmjv2ZXUUrU","2023-07-20T16:20:17","2023-07-20T10:20:17","2023-07-20",2023,7,"jhGh651Hl7cRangRQ2zqYMCZHdv1",null,-90.428125292962861,43.426880690219846,null,"2023-07-20 11:20:17.704285.jpg-0",1,null,1,240,180,null,null,7.5,1,100,1,61,1,0,1,"River/Stream","None",0,0,0,0,0,0,0,1,0,"Baseflow",1,"Clear",1,"None",0,0,0,0,0,null,0,"Absent","Absent","Absent","Absent","Absent","Absent","Absent","Present","Recorded",0,0,1,"","Coulee Region","TU Staff","070700051104","Faney Creek","Pine River"]
["Dev: DBParsing_231030_v01.xlsm","biPPcSfzFkVh7CfJruXU","2023-07-20T16:17:41","2023-07-20T10:17:41","2023-07-20",2023,7,"VQ9bNtzttGcXOEuaXrEAEYLfT103",null,-91.569771299999999,43.502250799999999,null,"",0,null,1,180,120,null,null,7,1,0,1,54,1,0,5,"River/Stream","None",0,0,0,0,0,0,0,1,0,"Baseflow",1,"Clear",1,"None",0,0,0,0,0,null,0,"Absent","Absent","Absent","Absent","Absent","Absent","Absent","Present","Recorded","Bee Creek","Bee Creek",1,1,"Win Cres","Hiawatha","070600020502","Waterloo Creek","Bear Creek"]
["Dev: DBParsing_231030_v01.xlsm","McAosZ7w84lglnjBTy7A","2023-07-20T15:33:35","2023-07-20T09:33:35","2023-07-20",2023,7,"VQ9bNtzttGcXOEuaXrEAEYLfT103",null,-91.813342599999999,43.597614499999999,null,"",0,null,1,240,120,null,null,7,1,0,1,58,1,0.15,2,"River/Stream","None",0,0,0,0,0,0,0,1,0,"Baseflow",1,"Clear",1,"None",0,0,0,0,0,null,0,"Absent","Absent","Absent","Absent","Absent","Absent","Absent","Present","Recorded","Wisel Creek","Wisel Creek",1,1,"Win Cres","Hiawatha","070400080802","Wisel Creek","South Fork Root River"]
["Dev: DBParsing_231030_v01.xlsm","VqqLevRP93liwvldIiLe","2023-07-20T15:11:36","2023-07-20T09:11:36","2023-07-20",2023,7,"jhGh651Hl7cRangRQ2zqYMCZHdv1",null,-90.466267514373754,43.426660804926058,null,"2023-07-20 10:11:36.090846.jpg-0",1,null,1,240,120,null,null,7.5,1,0,1,61,1,0,1,"River/Stream","None",0,0,0,0,0,0,0,1,0,"Baseflow",1,"Murky",1,"None",0,0,0,0,0,null,0,"Absent","Absent","Absent","Absent","Absent","Absent","Absent","Present","Recorded","Marshall Creek","Marshall Creek",1,1,"Coulee Region","TU Staff","070700051104","Faney Creek","Pine River"]
["Dev: DBParsing_231030_v01.xlsm","iA9zQm8mC85xCski9toe","2023-07-20T12:52:22","2023-07-20T06:52:22","2023-07-20",2023,7,"jhGh651Hl7cRangRQ2zqYMCZHdv1",null,-90.492888619874861,43.415297349165456,null,"2023-07-20 07:52:22.416734.jpg-0",1,null,1,180,120,null,null,7,1,0,1,53,1,0,2,"River/Stream","None",0,0,0,0,0,0,0,1,0,"Baseflow",1,"Clear",1,"None",0,0,0,0,0,null,0,"Absent","Absent","Absent","Absent","Absent","Absent","Absent","Present","Recorded","Marshall Creek","Marshall Creek",1,1,"Coulee Region","TU Staff","070700051104","Faney Creek","Pine River"]
["Dev: DBParsing_231030_v01.xlsm","wLx9hxdybcUQG2smhQc6","2023-07-19T22:33:35","2023-07-19T16:33:35","2023-07-19",2023,7,"jhGh651Hl7cRangRQ2zqYMCZHdv1",null,-90.51002646793448,43.440306155214472,null,"2023-07-19 17:33:35.210836.jpg-0",1,null,1,240,180,null,null,7,1,0,1,60,1,0,0,"River/Stream","None",0,0,0,0,0,0,0,1,0,"Baseflow",1,"Clear",1,"None",0,0,0,0,0,null,0,"Absent","Absent","Absent","Absent","Absent","Absent","Absent","Present","Recorded","West Branch Marshall Creek","West Branch Marshall Creek",1,1,"Coulee Region","TU Staff","070700051104","Faney Creek","Pine River"]
["Dev: DBParsing_231030_v01.xlsm","DzBjXXCKvPoPCQSizVGM","2023-07-19T22:14:07","2023-07-19T16:14:07","2023-07-19",2023,7,"DKq8OLTYViaAQZeR9ADiCfs22M63",null,-91.361444268087396,44.434491113664706,null,"2023-07-19 17:14:07.371132.jpg-0",1,null,1,240,0,null,null,7,1,300,1,62,1,0,2,"River/Stream","None",0,0,0,0,0,0,0,1,0,"Baseflow",1,"Clear",1,"None",0,0,0,0,0,null,0,"Absent","Absent","Absent","Absent","Absent","Absent","Absent","Present","Recorded","Bruce Valley Creek","Bruce Valley Creek",1,1,"Wisconsin Clear Water","TU Staff","070400050304","Bruce Valley Creek-Elk Creek","Elk Creek"]
["Dev: DBParsing_231030_v01.xlsm","smQouY4ib0MwE06kXuqT","2023-07-19T21:38:05","2023-07-19T15:38:05","2023-07-19",2023,7,"jhGh651Hl7cRangRQ2zqYMCZHdv1",null,-90.457157307224719,43.431928821607919,null,"2023-07-19 16:38:05.557515.jpg-0",1,null,1,240,120,null,null,7,1,0,1,70,1,0,0,"River/Stream","None",0,0,0,0,0,0,0,1,0,"Baseflow",1,"Clear",1,"None",0,0,0,0,0,null,0,"Absent","Absent","Absent","Absent","Absent","Absent","Absent","Present","Recorded","Fancy Creek","Fancy Creek",1,1,"Coulee Region","TU Staff","070700051104","Faney Creek","Pine River"]
["Dev: DBParsing_231030_v01.xlsm","bKpnYG3DAAMJkDn8wyEe","2023-07-19T18:55:58","2023-07-19T12:55:58","2023-07-19",2023,7,"jhGh651Hl7cRangRQ2zqYMCZHdv1",null,-90.499863887148464,43.457378451647941,null,"2023-07-19 13:55:58.554402.jpg-0",1,null,1,240,180,null,null,9,1,0,1,58,1,0,2,"River/Stream","None",0,0,0,0,0,0,0,1,0,"Baseflow",1,"Clear",1,"None",0,0,0,0,0,null,0,"Absent","Absent","Absent","Absent","Absent","Absent","Absent","Present","Recorded","Fancy Creek","Fancy Creek",1,1,"Coulee Region","TU Staff","070700051104","Faney Creek","Pine River"]
["Dev: DBParsing_231030_v01.xlsm","icPTnirdEO4u58CzJrOv","2023-07-19T18:29:42","2023-07-19T12:29:42","2023-07-19",2023,7,"jhGh651Hl7cRangRQ2zqYMCZHdv1",null,-90.504704258674622,43.457271754558818,null,"2023-07-19 13:29:42.667275.jpg-0",1,null,1,180,180,null,null,7.5,1,0,1,54,1,0,5,"River/Stream","None",0,0,0,0,0,0,0,1,0,"Baseflow",1,"Clear",1,"None",0,0,0,0,0,null,0,"Absent","Absent","Absent","Absent","Absent","Absent","Absent","Present","Recorded",0,0,1,1,"Coulee Region","TU Staff","070700051104","Faney Creek","Pine River"]
["Dev: DBParsing_231030_v01.xlsm","7TLAieBHAZkPgQJ9PVAM","2023-07-19T17:33:43","2023-07-19T11:33:43","2023-07-19",2023,7,"jhGh651Hl7cRangRQ2zqYMCZHdv1","",-90.521287485529882,43.460853633173663,null,"",0,null,1,180,120,null,null,7.5,1,0,1,70,1,0,1,"River/Stream","None",0,0,0,0,0,0,0,1,0,"Baseflow",1,"Clear",1,"None",0,0,0,0,0,null,0,"Absent","Absent","Absent","Absent","Absent","Absent","Absent","Present","Recorded",0,0,1,"","Coulee Region","TU Staff","070700051104","Faney Creek","Pine River"]
["Dev: DBParsing_231030_v01.xlsm","R2YKnVLUEZhuFZJ1l35Q","2023-07-19T17:28:10","2023-07-19T11:28:10","2023-07-19",2023,7,"jhGh651Hl7cRangRQ2zqYMCZHdv1",null,-90.521408538816104,43.460913664791299,null,"2023-07-19 12:28:10.031576.jpg-0",1,null,1,180,180,null,null,8,1,100,1,62,1,0,2,"River/Stream","None",0,0,0,0,0,0,0,1,0,"Baseflow",1,"Muddy",1,"None",0,0,0,0,0,null,0,"Absent","Absent","Absent","Absent","Absent","Absent","Absent","Present","Recorded",0,0,1,"","Coulee Region","TU Staff","070700051104","Faney Creek","Pine River"]
["Dev: DBParsing_231030_v01.xlsm","2ZptsydlzxHr4JG4k4qC","2023-07-19T16:29:45","2023-07-19T10:29:45","2023-07-19",2023,7,"p4yu7gSyP5X56i8vIVA6AxqyR5D2","Other Locations",-91.758735116621523,43.290327864331381,null,"2023-07-19 11:53:13.323589.jpg-02023-07-19 11:53:13.323589.jpg-1",1,null,0,"",null,null,null,null,1,100,1,0,0,"","","River/Stream","None",0,0,0,0,0,0,0,1,0,"Baseflow",1,"Clear",1,"None",0,0,0,0,0,"located at end of Trout Run creek",1,"Absent","Absent","Absent","Absent","Absent","Absent","Absent","Present","Recorded","Trout Run","Trout Run",1,"","Iowa Driftless","Iowa Driftless","070600020403","Trout Creek","Trout Creek-Upper Iowa River"]
["Dev: DBParsing_231030_v01.xlsm","hwmcHc3cMLNYXIG7lC1W","2023-07-19T13:57:50","2023-07-19T07:57:50","2023-07-19",2023,7,"jhGh651Hl7cRangRQ2zqYMCZHdv1",null,-90.279933909145143,43.347642335599126,null,"2023-07-19 08:57:50.117615.jpg-0",1,null,1,240,180,null,null,8,1,100,1,56,1,0,1,"River/Stream","None",0,0,0,0,0,0,0,1,0,"Baseflow",1,"Clear",1,"None",0,0,0,0,0,null,0,"Absent","Absent","Absent","Absent","Absent","Absent","Absent","Present","Recorded","School Section Hollow","School Section Hollow",1,"","Coulee Region","TU Staff","070700051002","Middle Willow Creek","Willow Creek"]
["Dev: DBParsing_231030_v01.xlsm","w1iQgpe10WftG1svWqQN","2023-07-18T22:51:31","2023-07-18T16:51:31","2023-07-18",2023,7,"jhGh651Hl7cRangRQ2zqYMCZHdv1",null,-90.238346874083916,43.402148287850629,null,"",0,null,1,240,120,null,null,8,1,100,1,66,1,0,0,"","None",0,0,0,0,0,0,0,1,0,"Baseflow",1,"Clear",1,"None",0,0,0,0,0,null,0,"Absent","Absent","Absent","Absent","Absent","Absent","Absent","Present","Recorded","Willow Creek","Willow Creek",1,"","Coulee Region","TU Staff","070700051002","Middle Willow Creek","Willow Creek"]
["Dev: DBParsing_231030_v01.xlsm","a9q3CLGM3zwCbya5xrlq","2023-07-18T22:36:45","2023-07-18T16:36:45","2023-07-18",2023,7,"3XObfMb7QSfrAYng16E97lQdZ3k1",null,-91.267594900000006,44.5724071,null,"2023-07-18 17:36:44.873123.jpg-0",1,null,1,240,30,null,null,6,1,100,1,63,1,0,5,"River/Stream","None",0,0,0,0,0,0,0,1,0,"Baseflow",1,"Clear",1,"None",0,0,0,0,0,null,0,"Absent","Absent","Absent","Absent","Absent","Absent","Absent","Present","Recorded","Buffalo River","Buffalo River",1,1,"Wisconsin Clear Water","TU Staff","070400030103","Pine Creek-Buffalo River","Harvey Creek-Buffalo River"]
["Dev: DBParsing_231030_v01.xlsm","PJDApA1LhXoOK2woANVj","2023-07-18T22:31:31","2023-07-18T16:31:31","2023-07-18",2023,7,"jhGh651Hl7cRangRQ2zqYMCZHdv1",null,-90.226777061821366,43.398288542690331,null,"",0,null,1,180,180,null,null,8,1,0,1,72,1,0,2,"River/Stream","None",0,0,0,0,0,0,0,1,0,"Baseflow",1,"Clear",1,"None",0,0,0,0,0,null,0,"Absent","Absent","Absent","Absent","Absent","Absent","Absent","Present","Recorded","Lost Hollow","Lost Hollow",1,"","Coulee Region","TU Staff","070700051002","Middle Willow Creek","Willow Creek"]
["Dev: DBParsing_231030_v01.xlsm","0pVFLsOKCKcedU4w5TAC","2023-07-18T20:13:06","2023-07-18T14:13:06","2023-07-18",2023,7,"3XObfMb7QSfrAYng16E97lQdZ3k1",null,-91.246929600000001,44.577975100000003,null,"2023-07-18 15:13:06.621037.jpg-0",1,null,1,240,60,null,null,6.5,1,100,1,65,1,0,2,"River/Stream","Bank Erosion",0,1,0,0,0,0,0,0,0,"Baseflow",1,"Clear",1,"None",0,0,0,0,0,null,0,"Absent","Present","Absent","Absent","Absent","Absent","Absent","Absent","Recorded","Buffalo River","Buffalo River",1,"","Wisconsin Clear Water","TU Staff","070400030103","Pine Creek-Buffalo River","Harvey Creek-Buffalo River"]
["Dev: DBParsing_231030_v01.xlsm","PFtJpAiYRTmXWOVKJ3jV","2023-07-18T19:33:34","2023-07-18T13:33:34","2023-07-18",2023,7,"3XObfMb7QSfrAYng16E97lQdZ3k1",null,-91.221721900000006,44.582684399999998,null,"2023-07-18 14:33:34.423064.jpg-0",1,null,1,240,60,null,null,7,1,100,1,61,0,"","","River/Stream","None",0,0,0,0,0,0,0,1,0,"Baseflow",1,"Clear",1,"None",0,0,0,0,0,null,0,"Absent","Absent","Absent","Absent","Absent","Absent","Absent","Present","Recorded","North Fork Buffalo River","North Fork Buffalo River",1,1,"Wisconsin Clear Water","TU Staff","070400030101","North Fork of the Buffalo River","Harvey Creek-Buffalo River"]
["Dev: DBParsing_231030_v01.xlsm","52C2RjSM85AhL4icj1rx","2023-07-18T19:24:56","2023-07-18T13:24:56","2023-07-18",2023,7,"jhGh651Hl7cRangRQ2zqYMCZHdv1",null,-90.22762863823236,43.412646946447914,null,"",0,null,1,240,120,null,null,8,1,200,1,65,1,0,0,"River/Stream","None",0,0,0,0,0,0,0,1,0,"Baseflow",1,"Clear",1,"None",0,0,0,0,0,null,0,"Absent","Absent","Absent","Absent","Absent","Absent","Absent","Present","Recorded","Robin Hollow","Robin Hollow",1,"","Coulee Region","TU Staff","070700051001","Upper Willow Creek","Willow Creek"]
["Dev: DBParsing_231030_v01.xlsm","u5lxRIlFvI4QDHD3iWCX","2023-07-18T16:43:18","2023-07-18T10:43:18","2023-07-18",2023,7,"NWIhS2n51yTWxXjbMfTT6jX8rmi1","",-91.218388109060044,43.039674579822822,null,"2023-07-18 11:43:18.406885.jpg-0",1,null,1,240,0,null,null,7,1,0,1,52,1,0,0,"River/Stream","",-1,-1,-1,-1,-1,-1,-1,-1,1,null,0,null,0,"",-1,-1,-1,-1,1,null,0,"No Data","No Data","No Data","No Data","No Data","No Data","No Data","No Data","No Data","Bloody Run","Bloody Run",1,"","Spring Creeks","Unknown","070600011002","Bloody Run","Bloody Run-Mississippi River"]
["Dev: DBParsing_231030_v01.xlsm","XCbiHzbtWF5cswg9gjyU","2023-07-18T16:07:15","2023-07-18T10:07:15","2023-07-18",2023,7,"jhGh651Hl7cRangRQ2zqYMCZHdv1",null,-90.211530099177963,43.427399262306352,null,"2023-07-18 11:07:15.039703.jpg-0",1,null,1,240,120,null,null,7,1,100,1,59,1,0,2,"River/Stream","None",0,0,0,0,0,0,0,1,0,"Baseflow",1,"Clear",1,"None",0,0,0,0,0,null,0,"Absent","Absent","Absent","Absent","Absent","Absent","Absent","Present","Recorded","Smith Hollow","Smith Hollow",1,"","Aldo Leopold","TU Staff","070700051001","Upper Willow Creek","Willow Creek"]
["Dev: DBParsing_231030_v01.xlsm","mjZmAZTv8nNtSRvIFXFj","2023-07-18T00:02:55","2023-07-17T18:02:55","2023-07-17",2023,7,"xGf42w3UBFa817jAA3vYGVMhqZo2","Vermillion River, South Branch",-93.008974324998434,44.657278438140317,null,"",0,null,1,240,180,null,null,8,1,0,1,61,1,0,0,"River/Stream","None",0,0,0,0,0,0,0,1,0,"Baseflow",1,"Clear",1,"None",0,0,0,0,0,null,0,"Absent","Absent","Absent","Absent","Absent","Absent","Absent","Present","Recorded","South Branch Vermillion River","South Branch Vermillion River",1,"","Twin Cities","TCTU","070400010205","South Branch Vermillion River","Vermillion River"]
["Dev: DBParsing_231030_v01.xlsm","fDvQohavwk0JZmApWLjP","2023-07-17T20:02:33","2023-07-17T14:02:33","2023-07-17",2023,7,"7a7IFD1YT3aDXB8CbnSJjn1oLRC2","Isabelle Creek @ County Rd. EE",-92.442923811049482,44.621394416972677,null,"",0,null,1,240,180,null,null,8,1,100,1,58,1,0.15,2,"River/Stream","None",0,0,0,0,0,0,0,1,0,"Baseflow",1,"Clear",1,"None",0,0,0,0,0,null,0,"Absent","Absent","Absent","Absent","Absent","Absent","Absent","Present","Recorded","Isabelle Creek","Isabelle Creek",1,"","Kiap TU Wish","Unknown","070400010701","Isabelle Creek","Lake Pepin"]
["Dev: DBParsing_231030_v01.xlsm","qCC8zfLTuBDKQoIx7Kid","2023-07-17T18:28:08","2023-07-17T12:28:08","2023-07-17",2023,7,"jhGh651Hl7cRangRQ2zqYMCZHdv1",null,-90.216357678335342,43.457145520238683,null,"2023-07-17 13:28:08.524948.jpg-0",1,null,1,240,120,null,null,8,1,100,1,64,1,0,0,"River/Stream","None",0,0,0,0,0,0,0,1,0,"Baseflow",1,"Clear",1,"None",0,0,0,0,0,null,0,"Absent","Absent","Absent","Absent","Absent","Absent","Absent","Present","Recorded","Willow Creek","Willow Creek",1,"","Coulee Region","TU Staff","070700051001","Upper Willow Creek","Willow Creek"]
["Dev: DBParsing_231030_v01.xlsm","knli9DcxKNA6eqhDPJS7","2023-07-17T16:50:36","2023-07-17T10:50:36","2023-07-17",2023,7,"5gmJEp8QCCSFYxglsiszWKzeL1K2","",-91.814488079484377,43.298049783374459,null,"",0,null,1,180,180,null,null,6.5,0,null,1,53,1,0.15,2,"River/Stream","None",0,0,0,0,0,0,0,1,0,"Baseflow",1,"Clear",1,"None",0,0,0,0,0,null,0,"Absent","Absent","Absent","Absent","Absent","Absent","Absent","Present","Recorded",0,0,1,"","Iowa Driftless","Iowa Driftless","070600020401","Dry Run","Trout Creek-Upper Iowa River"]
["Dev: DBParsing_231030_v01.xlsm","fdAe5x2v4ubjGhxmExLF","2023-07-17T15:28:46","2023-07-17T09:28:46","2023-07-17",2023,7,"jhGh651Hl7cRangRQ2zqYMCZHdv1",null,-90.213681138339822,43.458457691173372,null,"",0,null,1,180,180,null,null,8,1,0,1,64,1,0,2,"River/Stream","None",0,0,0,0,0,0,0,1,0,"Baseflow",1,"Clear",1,"None",0,0,0,0,0,null,0,"Absent","Absent","Absent","Absent","Absent","Absent","Absent","Present","Recorded","Willow Creek","Willow Creek",1,"","Coulee Region","TU Staff","070700051001","Upper Willow Creek","Willow Creek"]
["Dev: DBParsing_231030_v01.xlsm","Q0mza8sPoqyNRmqAghzf","2023-07-16T18:05:01","2023-07-16T12:05:01","2023-07-16",2023,7,"jr4xjZvRQFP5TMTbzZ3WFt91JbZ2","",-92.9298924,44.370308299999998,null,"2023-07-16 18:54:17.350384.jpg-0",1,null,1,240,0,null,null,7,1,100,1,68,1,0.15,2,"River/Stream","None",0,0,0,0,0,0,0,1,0,"Mid-stage",1,"Clear",1,"None",0,0,0,0,0,"outside temp in shade was 78 degrees. \n\nnitrate nitrite test ......photo wouldn't process in 30 seconds.  kept getting error processing.  Retested couldn't get photo into app so took photo of 2nd try results on camera and put in comments/photos. ",1,"Absent","Absent","Absent","Absent","Absent","Absent","Absent","Present","Recorded","Little Cannon River","Little Cannon River",1,"","Hiawatha","TCTU","070400020702","Middle Little Cannon River","Little Cannon River"]
["Dev: DBParsing_231030_v01.xlsm","5295yEds7yGjNaQjhgYh","2023-07-16T16:55:01","2023-07-16T10:55:01","2023-07-16",2023,7,"f7qMRlnlkOgrA1xpaxXrTTeRGWX2",null,-92.732126003955841,44.831194423014011,null,"",0,null,0,"",null,null,null,null,0,null,0,null,1,0,5,"River/Stream","",-1,-1,-1,-1,-1,-1,-1,-1,1,null,0,null,0,"",-1,-1,-1,-1,1,null,0,"No Data","No Data","No Data","No Data","No Data","No Data","No Data","No Data","No Data","Kinnickinnic River","Kinnickinnic River",1,"","Kiap TU Wish","Kiap-TU-Wish","070300051105","Lower Kinnickinnic Pond-Kinnickinnic River","Kinnickinnic River"]
["Dev: DBParsing_231030_v01.xlsm","LwpzTpUz1nkibJZiTGWj","2023-07-16T16:45:23","2023-07-16T10:45:23","2023-07-16",2023,7,"f7qMRlnlkOgrA1xpaxXrTTeRGWX2",null,-92.732262148216861,44.831099649758492,null,"",0,null,0,"",null,null,null,null,1,0,1,61,0,"","","River/Stream","Bank Erosion",0,1,0,0,0,0,0,0,0,"Baseflow",1,"Clear",1,"None",0,0,0,0,0,"Secchi Tube > 100 cm",1,"Absent","Present","Absent","Absent","Absent","Absent","Absent","Absent","Recorded","Kinnickinnic River","Kinnickinnic River",1,"","Kiap TU Wish","Kiap-TU-Wish","070300051105","Lower Kinnickinnic Pond-Kinnickinnic River","Kinnickinnic River"]
["Dev: DBParsing_231030_v01.xlsm","ms3h6Pr6Bwd4FshGHg5A","2023-07-13T22:18:46","2023-07-13T16:18:46","2023-07-13",2023,7,"DKq8OLTYViaAQZeR9ADiCfs22M63",null,-91.175552060779523,44.594180897716299,null,"2023-07-13 17:18:46.182805.jpg-0",1,null,1,180,30,null,null,6,1,100,1,61,1,0,0,"River/Stream","None",0,0,0,0,0,0,0,1,0,"Baseflow",1,"Murky",1,"None",0,0,0,0,0,null,0,"Absent","Absent","Absent","Absent","Absent","Absent","Absent","Present","Recorded","North Fork Buffalo River","North Fork Buffalo River",1,1,"Wisconsin Clear Water","TU Staff","070400030101","North Fork of the Buffalo River","Harvey Creek-Buffalo River"]
["Dev: DBParsing_231030_v01.xlsm","LmHSuWEZ0m6pytWtlshH","2023-07-13T20:12:52","2023-07-13T14:12:52","2023-07-13",2023,7,"b5Q5MWoIy9OOBrhn8HbZMPPsGST2",null,-92.026640358788114,44.215611466065525,null,"",0,null,1,240,120,null,null,7,1,200,1,61,1,0,2,"River/Stream","Bank Erosion",0,1,0,0,0,0,0,0,0,"Baseflow",1,"Clear",1,"None",0,0,0,0,0,"East Indian Creek- no rain today but 3-4 inches fell over the previous 2-3 days.",1,"Absent","Present","Absent","Absent","Absent","Absent","Absent","Absent","Recorded","East Indian Creek","East Indian Creek",1,1,"Win Cres","Agency/University","070400030603","East Indian Creek","City of Winona-Mississippi River"]
["Dev: DBParsing_231030_v01.xlsm","vEDxmdQNdujfZaU9uNJI","2023-07-13T19:34:02","2023-07-13T13:34:02","2023-07-13",2023,7,"inidBfHzkzPKUyeLROUq9PMQemF2","",-89.887541799999994,43.286989300000002,null,"",0,null,1,240,120,null,null,7.5,1,500,1,67,1,0,0,null,"",-1,-1,-1,-1,-1,-1,-1,-1,1,null,0,"Muddy",1,"",-1,-1,-1,-1,1,"honey creek at cth E. water samples: TP, ORTHO P, TN, ammonia and nitrate were collected and sent to state lab of hygiene. nitrate levels on test strip seem extremely high and uncharacteristic of previous water chem samples collected at this site",1,"No Data","No Data","No Data","No Data","No Data","No Data","No Data","No Data","No Data","Honey Creek","Honey Creek","","","Aldo Leopold","Agency/University","070700050403","Middle Honey Creek","Honey Creek"]
["Dev: DBParsing_231030_v01.xlsm","ItyFLaKD5YaN1dx6fBBj","2023-07-13T17:57:43","2023-07-13T11:57:43","2023-07-13",2023,7,"DKq8OLTYViaAQZeR9ADiCfs22M63",null,-91.065177486074603,44.578610088005682,null,"2023-07-13 12:57:43.241318.jpg-0",1,null,1,240,30,null,null,7,1,100,1,58,1,0,2,"River/Stream","None",0,0,0,0,0,0,0,1,0,"Baseflow",1,"Clear",1,"None",0,0,0,0,0,null,0,"Absent","Absent","Absent","Absent","Absent","Absent","Absent","Present","Recorded","Solum Creek","Solum Creek",1,1,"Wisconsin Clear Water","TU Staff","070400030101","North Fork of the Buffalo River","Harvey Creek-Buffalo River"]
["Dev: DBParsing_231030_v01.xlsm","Na3Fft4yik9fFfzjFz8t","2023-07-13T17:55:19","2023-07-13T11:55:19","2023-07-13",2023,7,"inidBfHzkzPKUyeLROUq9PMQemF2",null,-90.044126899999995,43.281514799999997,null,"",0,null,1,240,120,null,null,7,1,300,1,62,1,0,2,null,"",-1,-1,-1,-1,-1,-1,-1,-1,1,null,0,"Clear",1,"",-1,-1,-1,-1,1,"sugar Grove creek at STH 23. TP, TN, OrthoP, ammonia and nitrate samples collected and sent to WI state lab of hygiene ",1,"No Data","No Data","No Data","No Data","No Data","No Data","No Data","No Data","No Data",0,0,"","","Harry & Laura Nohr","Agency/University","070700050403","Middle Honey Creek","Honey Creek"]
["Dev: DBParsing_231030_v01.xlsm","4utmKUexcIXJ5d4yTws5","2023-07-13T17:35:51","2023-07-13T11:35:51","2023-07-13",2023,7,"inidBfHzkzPKUyeLROUq9PMQemF2","",-90.044301200000007,43.291775800000003,null,"",0,null,1,240,180,null,null,8,1,200,1,60,1,0,2,null,"",-1,-1,-1,-1,-1,-1,-1,-1,1,null,0,"Clear",1,"",-1,-1,-1,-1,1,"Unnamed trib to honey creek at Sth 23. Tp, ortho p, TN, Nitrate,  and ammonia samples were collected at same time and submitted to WI state lab of hygiene ",1,"No Data","No Data","No Data","No Data","No Data","No Data","No Data","No Data","No Data","Sugar Grove Valley","Sugar Grove Valley","","","Harry & Laura Nohr","Agency/University","070700050401","Upper Honey Creek","Honey Creek"]
["Dev: DBParsing_231030_v01.xlsm","P92Ola9sz5JPI11gZpHQ","2023-07-13T17:25:12","2023-07-13T11:25:12","2023-07-13",2023,7,"jhGh651Hl7cRangRQ2zqYMCZHdv1",null,-90.246293585424525,43.534415584735022,null,"2023-07-13 12:25:12.698473.jpg-0",1,null,1,240,120,null,null,8,1,0,1,59,1,0,1,"River/Stream","None",0,0,0,0,0,0,0,1,0,"Baseflow",1,"Murky",1,"None",0,0,0,0,0,null,0,"Absent","Absent","Absent","Absent","Absent","Absent","Absent","Present","Recorded","Cazenovia Branch","Cazenovia Branch",1,1,"Coulee Region","TU Staff","070700040203","Cazenovia Branch","Little Baraboo River-Baraboo River"]
["Dev: DBParsing_231030_v01.xlsm","RC8fnhqGQ5nxvFHW07Bk","2023-07-13T17:17:24","2023-07-13T11:17:24","2023-07-13",2023,7,"inidBfHzkzPKUyeLROUq9PMQemF2",null,-90.037353699999997,43.2932177,null,"",0,null,1,240,180,null,null,7.5,1,200,0,null,1,0.15,2,null,"Livestock in Water",0,0,0,0,1,0,0,0,0,null,0,"Muddy",1,"",-1,-1,-1,-1,1,"honey creek at Willow road. Tp, ortho P, nitrate, TN, and ammonia samples collected at same time and sent to WI state lab of hygiene. multiple cows in stream",1,"Absent","Absent","Absent","Absent","Present","Absent","Absent","Absent","Recorded","Honey Creek","Honey Creek",1,"","Harry & Laura Nohr","Agency/University","070700050401","Upper Honey Creek","Honey Creek"]
["Dev: DBParsing_231030_v01.xlsm","cFyYtI98dsqheX2SZob3","2023-07-13T16:56:30","2023-07-13T10:56:30","2023-07-13",2023,7,"DKq8OLTYViaAQZeR9ADiCfs22M63",null,-91.065252858452965,44.582333648271742,null,"2023-07-13 11:56:30.711831.jpg-0",1,null,1,240,0,null,null,6,1,0,1,57,1,0,1,"River/Stream","Fish Barrier",1,0,0,0,0,0,0,0,0,"Baseflow",1,"Clear",1,"None",0,0,0,0,0,"two beaver dams immediately upstream of test site(July 2023)",1,"Present","Absent","Absent","Absent","Absent","Absent","Absent","Absent","Recorded","North Fork Buffalo River","North Fork Buffalo River",1,1,"Wisconsin Clear Water","TU Staff","070400030101","North Fork of the Buffalo River","Harvey Creek-Buffalo River"]
["Dev: DBParsing_231030_v01.xlsm","o79GL5eTUidI7PZI52fb","2023-07-13T16:52:22","2023-07-13T10:52:22","2023-07-13",2023,7,"inidBfHzkzPKUyeLROUq9PMQemF2","",-90.070437900000002,43.351128699999997,null,"",0,null,1,240,180,null,null,7.5,1,300,1,57,1,0,0,null,"",-1,-1,-1,-1,-1,-1,-1,-1,1,null,0,"Clear",1,"",-1,-1,-1,-1,1,"honey creek at cth GG. total phosphorus sample collected and sent to Wisconsin state lab of hygiene ",1,"No Data","No Data","No Data","No Data","No Data","No Data","No Data","No Data","No Data","Honey Creek","Honey Creek",1,"","Aldo Leopold","Agency/University","070700050401","Upper Honey Creek","Honey Creek"]
["Dev: DBParsing_231030_v01.xlsm","E4fnxuTQ8nJL6WlzRAwN","2023-07-13T16:40:11","2023-07-13T10:40:11","2023-07-13",2023,7,"inidBfHzkzPKUyeLROUq9PMQemF2","",-90.077844600000006,43.350893200000002,null,"",0,null,1,180,60,null,null,7,1,100,1,71,1,0.15,1,null,"",-1,-1,-1,-1,-1,-1,-1,-1,1,null,0,"Clear",1,"",-1,-1,-1,-1,1,"should compare values, particularly nitrate levels to lab results for this location. Shanahan Valley creek at CTH GG",1,"No Data","No Data","No Data","No Data","No Data","No Data","No Data","No Data","No Data",0,0,"","","Aldo Leopold","Agency/University","070700050401","Upper Honey Creek","Honey Creek"]
["Dev: DBParsing_231030_v01.xlsm","Oxy9uspF20sPueyNo4Ph","2023-07-13T16:09:59","2023-07-13T10:09:59","2023-07-13",2023,7,"inidBfHzkzPKUyeLROUq9PMQemF2",null,-90.093850799999998,43.372652899999999,null,"",0,null,0,"",null,null,null,null,1,300,1,61,0,"","",null,"",-1,-1,-1,-1,-1,-1,-1,-1,1,"",0,"Clear",1,"",-1,-1,-1,-1,1,"Shanahan valley creek at Prouty Road.  Total phosphorus sample also collected for WI State lab of hygiene analysis ",1,"No Data","No Data","No Data","No Data","No Data","No Data","No Data","No Data","No Data",0,0,"","","Aldo Leopold","Agency/University","070700050401","Upper Honey Creek","Honey Creek"]
["Dev: DBParsing_231030_v01.xlsm","tZK5ixohtPNyJTpZP8Ni","2023-07-13T15:30:28","2023-07-13T09:30:28","2023-07-13",2023,7,"k4Pe0JRs4tfWvDzxrT35e1UE1ce2",null,-92.802102835935358,44.543072995771226,null,"",0,null,1,240,120,null,null,8,1,100,1,56,1,0,0,"River/Stream","",-1,-1,-1,-1,-1,-1,-1,-1,1,"Baseflow",1,"Clear",1,"None",0,0,0,0,0,null,0,"No Data","No Data","No Data","No Data","No Data","No Data","No Data","No Data","No Data","Cannon River","Cannon River",1,1,"Twin Cities","Unknown","070400020902","Trout Brook","Lower Cannon River"]
["Dev: DBParsing_231030_v01.xlsm","5DaKvtop31QNhSb9kCmI","2023-07-13T13:41:44","2023-07-13T07:41:44","2023-07-13",2023,7,"7NTXAgPEn9VYyuIA3Cp8vDW3NQX2",null,-90.603819799999997,43.497918300000002,null,"",0,null,1,240,180,null,null,7.5,1,0,1,54,1,0,1,"River/Stream","None",0,0,0,0,0,0,0,1,0,"Mid-stage",1,"Clear",1,"None",0,0,0,0,0,null,0,"Absent","Absent","Absent","Absent","Absent","Absent","Absent","Present","Recorded","Camp Creek","Camp Creek",1,"","Coulee Region","TU Staff","070700060308","Camp Creek","Bear Creek-Kickapoo River"]
["Dev: DBParsing_231030_v01.xlsm","lgSlJViRKBuvgpw7ZeWl","2023-07-12T22:42:52","2023-07-12T16:42:52","2023-07-12",2023,7,"7NTXAgPEn9VYyuIA3Cp8vDW3NQX2",null,-90.518549500000006,43.299202299999997,null,"",0,null,1,240,180,null,null,8,1,200,1,61,1,0,0,"River/Stream","",-1,-1,-1,-1,-1,-1,-1,-1,1,"Bankfull Stage",1,"Muddy",1,"Local Thunderstorm",0,1,0,0,0,null,0,"No Data","No Data","No Data","No Data","No Data","No Data","No Data","No Data","No Data","Fox Hollow","Fox Hollow",1,"","Harry & Laura Nohr","TU Staff","070700051302","East Branch Mill Creek-Mill Creek","Hoosier Hollow-Mill Creek"]
["Dev: DBParsing_231030_v01.xlsm","wNjqnGuu4MWQhitxexpo","2023-07-12T21:43:57","2023-07-12T15:43:57","2023-07-12",2023,7,"DKq8OLTYViaAQZeR9ADiCfs22M63",null,-91.145595724045904,44.537896551856889,null,"2023-07-12 16:43:57.209144.jpg-0",1,null,1,180,30,null,null,7,1,100,1,59,1,0,0,"River/Stream","None",0,0,0,0,0,0,0,1,0,"Baseflow",1,"Clear",1,"None",0,0,0,0,0,null,0,"Absent","Absent","Absent","Absent","Absent","Absent","Absent","Present","Recorded","South Fork Buffalo River","South Fork Buffalo River","",1,"Wisconsin Clear Water","TU Staff","070400030102","South Fork of the Buffalo River","Harvey Creek-Buffalo River"]
["Dev: DBParsing_231030_v01.xlsm","ETrNm6a7t6rXdWhKrP3l","2023-07-12T16:13:14","2023-07-12T10:13:14","2023-07-12",2023,7,"3XObfMb7QSfrAYng16E97lQdZ3k1",null,-91.166285900000005,44.545716499999997,null,"2023-07-12 11:13:13.939140.jpg-0",1,null,1,240,60,null,null,6,1,0,1,59,1,0,5,"River/Stream","None",0,0,0,0,0,0,0,1,0,"Baseflow",1,"Clear",1,"None",0,0,0,0,0,null,0,"Absent","Absent","Absent","Absent","Absent","Absent","Absent","Present","Recorded","South Fork Buffalo River","South Fork Buffalo River",1,1,"Wisconsin Clear Water","TU Staff","070400030102","South Fork of the Buffalo River","Harvey Creek-Buffalo River"]
["Dev: DBParsing_231030_v01.xlsm","5tHCrJBE0f1APdJT1wXo","2023-07-12T14:05:29","2023-07-12T08:05:29","2023-07-12",2023,7,"3XObfMb7QSfrAYng16E97lQdZ3k1",null,-91.206094300000004,44.571172300000001,null,"2023-07-12 09:05:29.238395.jpg-0",1,null,1,240,30,null,null,6,0,null,0,null,1,0,2,"River/Stream","None",0,0,0,0,0,0,0,1,0,"Baseflow",1,"Murky",1,"None",0,0,0,0,0,null,0,"Absent","Absent","Absent","Absent","Absent","Absent","Absent","Present","Recorded","South Fork Buffalo River","South Fork Buffalo River",1,1,"Wisconsin Clear Water","TU Staff","070400030102","South Fork of the Buffalo River","Harvey Creek-Buffalo River"]
["Dev: DBParsing_231030_v01.xlsm","DpfSDqNwiZ4o5wn43Ev4","2023-07-11T22:10:13","2023-07-11T16:10:13","2023-07-11",2023,7,"DKq8OLTYViaAQZeR9ADiCfs22M63",null,-91.100324117670382,44.538899906210567,null,"2023-07-11 17:10:13.599502.jpg-0",1,null,1,180,30,null,null,7.5,1,0,1,58,1,0,2,"River/Stream","Fish Barrier",1,0,0,0,0,0,0,0,0,"Baseflow",1,"Clear",1,"None",0,0,0,0,0,null,0,"Present","Absent","Absent","Absent","Absent","Absent","Absent","Absent","Recorded","Jermstad Creek","Jermstad Creek",1,1,"Wisconsin Clear Water","TU Staff","070400030102","South Fork of the Buffalo River","Harvey Creek-Buffalo River"]
["Dev: DBParsing_231030_v01.xlsm","gKqY1Fhh0IZPsDGv0jyt","2023-07-11T21:07:20","2023-07-11T15:07:20","2023-07-11",2023,7,"jhGh651Hl7cRangRQ2zqYMCZHdv1",null,-90.41602021866774,43.522865922325494,null,"",0,null,1,240,120,null,null,7.5,1,0,1,77,1,0,0,"River/Stream","None",0,0,0,0,0,0,0,1,0,"Baseflow",1,"Clear",1,"None",0,0,0,0,0,null,0,"Absent","Absent","Absent","Absent","Absent","Absent","Absent","Present","Recorded","Pine River","Pine River",1,"","Coulee Region","TU Staff","070700051103","Hawkins Creek-Pine River","Pine River"]
["Dev: DBParsing_231030_v01.xlsm","y1yo64azHkGHV5qMubUI","2023-07-11T20:27:58","2023-07-11T14:27:58","2023-07-11",2023,7,"K0EjhOrGL4NGhPVbB1pKi320lLr2","Hay Creek @ 325th St",-92.597054499999999,44.472602299999998,null,"2023-07-11 15:27:58.394577.jpg-0",1,null,1,240,180,null,null,7,1,100,1,61,1,0,0,"River/Stream","None",0,0,0,0,0,0,0,1,0,"Baseflow",1,"Clear",1,"None",0,0,0,0,0,null,0,"Absent","Absent","Absent","Absent","Absent","Absent","Absent","Present","Recorded","Hay Creek","Hay Creek",1,"","Twin Cities","TCTU","070400010401","Hay Creek","Hay Creek-Mississippi River"]
["Dev: DBParsing_231030_v01.xlsm","D4ODT35OnJ8TsSNG6kCq","2023-07-11T19:54:06","2023-07-11T13:54:06","2023-07-11",2023,7,"K0EjhOrGL4NGhPVbB1pKi320lLr2","Hay Creek @ 320th St",-92.575608799999998,44.488346499999999,null,"2023-07-11 14:54:06.154631.jpg-0",1,null,1,240,180,null,null,8.5,1,100,1,65,1,0.15,2,"River/Stream","None",0,0,0,0,0,0,0,1,0,"Mid-stage",1,"Clear",1,"None",0,0,0,0,0,null,0,"Absent","Absent","Absent","Absent","Absent","Absent","Absent","Present","Recorded","Hay Creek","Hay Creek",1,"","Twin Cities","TCTU","070400010401","Hay Creek","Hay Creek-Mississippi River"]
["Dev: DBParsing_231030_v01.xlsm","mirhHetyNTa7UaWnbrSj","2023-07-11T16:07:58","2023-07-11T10:07:58","2023-07-11",2023,7,"3XObfMb7QSfrAYng16E97lQdZ3k1",null,-90.963043400000004,44.465666900000002,null,"",0,null,1,240,0,null,null,6,1,100,0,null,1,0,0,"River/Stream","",-1,-1,-1,-1,-1,-1,-1,-1,1,null,0,null,0,"",-1,-1,-1,-1,1,null,0,"No Data","No Data","No Data","No Data","No Data","No Data","No Data","No Data","No Data","Judkins Creek","Judkins Creek",1,"","Wisconsin Clear Water","TU Staff","070400050201","North Branch of the Trempealeau River","Upper Trempealeau River"]
["Dev: DBParsing_231030_v01.xlsm","zA8o9KXKqpz8yv5MgNnD","2023-07-11T15:17:16","2023-07-11T09:17:16","2023-07-11",2023,7,"GFBS1bSIACUVgSmsBlw0BYkB9i72",null,-91.413106619815593,43.540497915233075,null,"2023-07-11 10:17:16.210384.jpg-0",1,null,1,180,120,null,null,7.5,1,100,1,59,1,0,0,"River/Stream","Livestock in Water",0,0,0,0,1,0,0,0,0,"Baseflow",1,"Clear",1,"None",0,0,0,0,0,"Ttube 120 cm",1,"Absent","Absent","Absent","Absent","Present","Absent","Absent","Absent","Recorded","Winnebago Creek","Winnebago Creek",1,1,"Win Cres","TU Staff","070600010401","Upper Winnebago Creek","Winnebago Creek"]
["Dev: DBParsing_231030_v01.xlsm","sfh6aH5omZO0jRmZioqs","2023-07-11T14:34:09","2023-07-11T08:34:09","2023-07-11",2023,7,"7NTXAgPEn9VYyuIA3Cp8vDW3NQX2",null,-90.433327800000001,43.5498324,null,"",0,null,1,240,120,null,null,7.5,1,200,1,62,1,0,0,"River/Stream","None",0,0,0,0,0,0,0,1,0,"Baseflow",1,"Clear",1,"None",0,0,0,0,0,null,0,"Absent","Absent","Absent","Absent","Absent","Absent","Absent","Present","Recorded","Champion Valley","Champion Valley",1,"","Coulee Region","TU Staff","070700051101","Headwaters Pine River","Pine River"]
["Dev: DBParsing_231030_v01.xlsm","QneMaPuPUTIFIWSygMMi","2023-07-11T12:44:56","2023-07-11T06:44:56","2023-07-11",2023,7,"7NTXAgPEn9VYyuIA3Cp8vDW3NQX2",null,-90.357201500000002,43.493638300000001,null,"",0,null,1,240,180,null,null,7.5,1,0,1,62,1,0,1,"River/Stream","",-1,-1,-1,-1,-1,-1,-1,-1,1,"Baseflow",1,"Clear",1,"None",0,0,0,0,0,null,0,"No Data","No Data","No Data","No Data","No Data","No Data","No Data","No Data","No Data","Melancthon Creek","Melancthon Creek",1,1,"Coulee Region","TU Staff","070700051103","Hawkins Creek-Pine River","Pine River"]
["Dev: DBParsing_231030_v01.xlsm","DOBmXhSw5ylrwYvLIamD","2023-07-10T22:23:20","2023-07-10T16:23:20","2023-07-10",2023,7,"DKq8OLTYViaAQZeR9ADiCfs22M63","",-91.228710968099634,44.292050137606807,null,"2023-07-10 17:23:20.648407.jpg-0",1,null,1,180,120,null,null,7,1,300,1,70,1,0,2,"River/Stream","None",0,0,0,0,0,0,0,1,0,"Baseflow",1,"Murky",1,"None",0,0,0,0,0,null,0,"Absent","Absent","Absent","Absent","Absent","Absent","Absent","Present","Recorded","Tappen Coulee Creek","Tappen Coulee Creek",1,"","Wisconsin Clear Water","TU Staff","070400050207","Lakes Coulee Creek-Trempealeau River","Upper Trempealeau River"]
["Dev: DBParsing_231030_v01.xlsm","9bokvAa2yF0mDfcHFN2Q","2023-07-10T22:08:38","2023-07-10T16:08:38","2023-07-10",2023,7,"MZ8CvOB6bBeEPjwpBrk2zCVH7bk2","MOA Creek",-93.231281124760756,44.846775945437869,null,"2023-07-10 17:08:38.312231.jpg-02023-07-10 17:08:38.312231.jpg-12023-07-10 17:08:38.312231.jpg-22023-07-10 17:08:38.312231.jpg-3",1,null,1,240,120,null,null,8,1,0,1,65,1,0,1,"River/Stream","None",0,0,0,0,0,0,0,1,0,"Mid-stage",1,"Clear",1,"None",0,0,0,0,0,null,0,"Absent","Absent","Absent","Absent","Absent","Absent","Absent","Present","Recorded","","","","","Twin Cities","TCTU","070200121110","Minnesota River","Minnesota River"]
["Dev: DBParsing_231030_v01.xlsm","ykceQwoYVKVSnpXJifW7","2023-07-10T21:00:40","2023-07-10T15:00:40","2023-07-10",2023,7,"3XObfMb7QSfrAYng16E97lQdZ3k1",null,-91.166116200000005,44.3216885,null,"2023-07-10 16:00:40.712356.jpg-0",1,null,1,180,60,null,null,6,1,200,1,68,1,0,0,"River/Stream","Fish Barrier",1,0,0,0,0,0,0,0,0,"Baseflow",1,"Murky",1,"None",0,0,0,0,0,null,0,"Present","Absent","Absent","Absent","Absent","Absent","Absent","Absent","Recorded","Vosse Coulee Creek","Vosse Coulee Creek",1,1,"Wisconsin Clear Water","TU Staff","070400050206","Lake Henry-Trempealeau River","Upper Trempealeau River"]
["Dev: DBParsing_231030_v01.xlsm","wivtzvJx7vASYORXujDh","2023-07-10T19:37:36","2023-07-10T13:37:36","2023-07-10",2023,7,"k6imGQxkdoYmMVg7pAz2w40EZAb2",null,-92.732230099999995,44.8311128,null,"",0,null,1,240,180,null,null,8,1,0,1,70,1,0,0,"River/Stream","Bank Erosion",0,1,0,0,0,0,0,0,0,"Baseflow",1,"Clear",1,"None",0,0,0,0,0,"secchi tube: greater than 120 cm\n\nhac nitrate: 2 mg/L",1,"Absent","Present","Absent","Absent","Absent","Absent","Absent","Absent","Recorded","Kinnickinnic River","Kinnickinnic River",1,"","Kiap TU Wish","Kinni Corridor Collaborative","070300051105","Lower Kinnickinnic Pond-Kinnickinnic River","Kinnickinnic River"]
["Dev: DBParsing_231030_v01.xlsm","0ngTHFsiwvIyjhDIzi66","2023-07-10T18:55:30","2023-07-10T12:55:30","2023-07-10",2023,7,"c2yLP2VgfvNBOWuOqq6XscGxbVi1","",-92.641692906704407,44.849900691812039,null,"",0,null,1,240,30,null,null,7.5,1,0,1,68,1,0,5,"River/Stream","None",0,0,0,0,0,0,0,1,0,"Baseflow",1,"Clear",1,"None",0,0,0,0,0,"turbidity is greater than 120. no3 is 2 mg/L\n",1,"Absent","Absent","Absent","Absent","Absent","Absent","Absent","Present","Recorded","Kinnickinnic River","Kinnickinnic River",1,1,"Kiap TU Wish","Kinni Corridor Collaborative","070300051105","Lower Kinnickinnic Pond-Kinnickinnic River","Kinnickinnic River"]
["Dev: DBParsing_231030_v01.xlsm","WtxdoPLlleYl9YhT3PVY","2023-07-10T18:30:01","2023-07-10T12:30:01","2023-07-10",2023,7,"c2yLP2VgfvNBOWuOqq6XscGxbVi1",null,-92.644062722188082,44.84432601374094,null,"",0,null,1,240,120,null,null,7.5,1,0,1,67,1,0,2,"River/Stream","None",0,0,0,0,0,0,0,1,0,"Baseflow",1,"Clear",1,"None",0,0,0,0,0,"turbidity is over 120. NO3 is 4 mg/L\n",1,"Absent","Absent","Absent","Absent","Absent","Absent","Absent","Present","Recorded","Kinnickinnic River","Kinnickinnic River",1,"","Kiap TU Wish","Kinni Corridor Collaborative","070300051105","Lower Kinnickinnic Pond-Kinnickinnic River","Kinnickinnic River"]
["Dev: DBParsing_231030_v01.xlsm","HG57QRCvTxsKe4bHSd97","2023-07-10T17:45:53","2023-07-10T11:45:53","2023-07-10",2023,7,"b5Q5MWoIy9OOBrhn8HbZMPPsGST2",null,-91.859501793205837,43.620547996848195,null,"2023-07-10 12:45:53.244228.jpg-0",1,null,1,240,180,null,null,8,1,0,0,null,1,0,2,"River/Stream","Bank Erosion",0,1,0,0,0,0,0,0,0,"Baseflow",1,"Clear",1,"None",0,0,0,0,0,"South Fork Root River",1,"Absent","Present","Absent","Absent","Absent","Absent","Absent","Absent","Recorded","South Fork Root River","South Fork Root River",1,1,"Hiawatha","Agency/University","070400080801","Upper Souh Fork Root River","South Fork Root River"]
["Dev: DBParsing_231030_v01.xlsm","zPbi0cupblMnPdqRT6Vx","2023-07-10T17:37:01","2023-07-10T11:37:01","2023-07-10",2023,7,"7NTXAgPEn9VYyuIA3Cp8vDW3NQX2",null,-90.355056899999994,43.510896299999999,null,"",0,null,1,240,120,null,null,7,1,0,1,68,1,0,0,"River/Stream","None",0,0,0,0,0,0,0,1,0,"Baseflow",1,"Clear",1,"None",0,0,0,0,0,null,0,"Absent","Absent","Absent","Absent","Absent","Absent","Absent","Present","Recorded","Hanzel Creek","Hanzel Creek",1,1,"Coulee Region","TU Staff","070700051103","Hawkins Creek-Pine River","Pine River"]
["Dev: DBParsing_231030_v01.xlsm","l93Pm2LNpzKUegnV5Jgg","2023-07-10T17:11:55","2023-07-10T11:11:55","2023-07-10",2023,7,"k6imGQxkdoYmMVg7pAz2w40EZAb2",null,-92.626128800000004,44.857364599999997,null,"",0,null,1,240,120,null,null,7,1,0,1,65,1,0,5,"Lake/Pond","Trash,Algal Bloom",0,0,1,0,0,1,0,0,0,"Mid-stage",1,"Clear",1,"None",0,0,0,0,0,"secchi tube: greater than 120 cm\n\nnitrate hach test:  mg/L",1,"Absent","Absent","Present","Absent","Absent","Present","Absent","Absent","Recorded","Kinnickinnic River","Kinnickinnic River",1,"","Kiap TU Wish","Kinni Corridor Collaborative","070300051104","Parker Creek-Kinnickinnic River","Kinnickinnic River"]
["Dev: DBParsing_231030_v01.xlsm","Qj5x6aXsp6QYiFwDYB7A","2023-07-10T16:07:27","2023-07-10T10:07:27","2023-07-10",2023,7,"c2yLP2VgfvNBOWuOqq6XscGxbVi1","Other Locations",-92.638206652011803,44.851673282672131,null,"",0,null,1,240,120,null,null,7.5,1,0,1,62,1,0.15,2,"River/Stream","Bank Erosion",0,1,0,0,0,0,0,0,0,"Baseflow",1,"Clear",1,"None",0,0,0,0,0,"turbidity is greater than 120. NO3 is 3 mg/L\n",1,"Absent","Present","Absent","Absent","Absent","Absent","Absent","Absent","Recorded","Kinnickinnic River","Kinnickinnic River",1,1,"Kiap TU Wish","Kinni Corridor Collaborative","070300051105","Lower Kinnickinnic Pond-Kinnickinnic River","Kinnickinnic River"]
["Dev: DBParsing_231030_v01.xlsm","9lZ0OPTdYNcPkQqoowon","2023-07-10T15:43:36","2023-07-10T09:43:36","2023-07-10",2023,7,"k6imGQxkdoYmMVg7pAz2w40EZAb2",null,-92.636271600000001,44.854713599999997,null,"",0,null,1,240,120,null,null,7,1,0,1,61,1,0,5,"River/Stream","Bank Erosion,Trash,Pipe/Drain Outflow",0,1,1,1,0,0,0,0,0,"Baseflow",1,"Clear",1,"None",0,0,0,0,0,"secchi tube: greater than 120 cm\n\nnitrate hach test: 4",1,"Absent","Present","Present","Present","Absent","Absent","Absent","Absent","Recorded","Kinnickinnic River","Kinnickinnic River",1,1,"Kiap TU Wish","Kinni Corridor Collaborative","070300051105","Lower Kinnickinnic Pond-Kinnickinnic River","Kinnickinnic River"]
["Dev: DBParsing_231030_v01.xlsm","oJNAFfCNkTUVI43DHJJe","2023-07-10T15:00:34","2023-07-10T09:00:34","2023-07-10",2023,7,"jhGh651Hl7cRangRQ2zqYMCZHdv1",null,-90.347577816534795,43.536868213933325,null,"2023-07-10 10:00:34.190963.jpg-0",1,null,1,240,180,null,null,8,1,0,1,57,1,0,0,"River/Stream","None",0,0,0,0,0,0,0,1,0,"Baseflow",1,"Clear",1,"None",0,0,0,0,0,null,0,"Absent","Absent","Absent","Absent","Absent","Absent","Absent","Present","Recorded","Grinsell Branch","Grinsell Branch",1,"","Coulee Region","TU Staff","070700051103","Hawkins Creek-Pine River","Pine River"]
["Dev: DBParsing_231030_v01.xlsm","mm6iKbmOYQMWUnsMppdK","2023-07-10T14:57:09","2023-07-10T08:57:09","2023-07-10",2023,7,"k6imGQxkdoYmMVg7pAz2w40EZAb2",null,-92.624224600000005,44.864127600000003,null,"",0,null,1,240,120,null,null,7,1,0,1,60,1,0,0,"River/Stream","Pipe/Drain Outflow",0,0,0,1,0,0,0,0,0,"Baseflow",1,"Clear",1,"None",0,0,0,0,0,"secchi tube: greater than 120 cm\n\nnitrate hach test: 2",1,"Absent","Absent","Absent","Present","Absent","Absent","Absent","Absent","Recorded","Kinnickinnic River","Kinnickinnic River",1,"","Kiap TU Wish","Kinni Corridor Collaborative","070300051104","Parker Creek-Kinnickinnic River","Kinnickinnic River"]
["Dev: DBParsing_231030_v01.xlsm","MEkVZrT8saxoE1dkOc8Y","2023-07-10T14:32:13","2023-07-10T08:32:13","2023-07-10",2023,7,"k6imGQxkdoYmMVg7pAz2w40EZAb2",null,-92.621329299999999,44.875087999999998,null,"",0,null,1,240,120,null,null,7,1,0,1,59,1,0,2,"River/Stream","Bank Erosion,Trash",0,1,1,0,0,0,0,0,0,"Baseflow",1,"Clear",1,"None",0,0,0,0,0,"secchi tube: greater than 120 cm\n\n\nnitrate hach test: 4",1,"Absent","Present","Present","Absent","Absent","Absent","Absent","Absent","Recorded","Kinnickinnic River","Kinnickinnic River",1,"","Kiap TU Wish","Kinni Corridor Collaborative","070300051104","Parker Creek-Kinnickinnic River","Kinnickinnic River"]
["Dev: DBParsing_231030_v01.xlsm","0BHL2DG2MX20aHEGIm5p","2023-07-10T12:18:58","2023-07-10T06:18:58","2023-07-10",2023,7,"7NTXAgPEn9VYyuIA3Cp8vDW3NQX2",null,-90.350814799999995,43.565252899999997,null,"2023-07-10 07:18:58.070057.jpg-0",1,null,1,180,180,null,null,6.5,1,0,1,50,1,0,2,"River/Stream","None",0,0,0,0,0,0,0,1,0,"Baseflow",1,"Murky",1,"None",0,0,0,0,0,null,0,"Absent","Absent","Absent","Absent","Absent","Absent","Absent","Present","Recorded",0,0,1,1,"Coulee Region","TU Staff","070700051103","Hawkins Creek-Pine River","Pine River"]
["Dev: DBParsing_231030_v01.xlsm","5Zt5ytd3NxtT7179JBic","2023-07-09T18:29:06","2023-07-09T12:29:06","2023-07-09",2023,7,"dzm5kGoaEqWZ3aoqMW65dlUm5g92","Vermillion River, South Branch",-93.009009109896596,44.657243485604091,null,"",0,null,1,240,0,null,null,9,1,200,1,63,1,0,0,"River/Stream","None",0,0,0,0,0,0,0,1,0,"Mid-stage",1,"Clear",1,"None",0,0,0,0,0,null,0,"Absent","Absent","Absent","Absent","Absent","Absent","Absent","Present","Recorded","South Branch Vermillion River","South Branch Vermillion River",1,"","Twin Cities","TCTU","070400010205","South Branch Vermillion River","Vermillion River"]
["Dev: DBParsing_231030_v01.xlsm","0f1e4OaXFAYWPcOBIYbJ","2023-07-08T17:59:30","2023-07-08T11:59:30","2023-07-08",2023,7,"sPbTkTzcbybDduQDEAb0F4hUDHf2","MOA Creek",-93.231562803289293,44.846856286284712,null,"2023-07-08 12:59:29.965297.jpg-0",1,null,1,240,180,null,null,8,1,0,1,60,1,0,1,"River/Stream","None",0,0,0,0,0,0,0,1,0,"Baseflow",1,"Clear",1,"None",0,0,0,0,0,"Air temperature 75. No recent rain.",1,"Absent","Absent","Absent","Absent","Absent","Absent","Absent","Present","Recorded","","","","","Twin Cities","TCTU","070200121110","Minnesota River","Minnesota River"]
["Dev: DBParsing_231030_v01.xlsm","P20gnxNvaabPdJrgCPbW","2023-07-07T21:46:42","2023-07-07T15:46:42","2023-07-07",2023,7,"9SWyLZDRS8gsuAD2Vpf6duBiFib2","",-92.13766132744216,44.020501955281929,null,"",0,null,1,240,180,null,null,8,1,0,1,58,1,0.15,5,"River/Stream","Livestock in Water",0,0,0,0,1,0,0,0,0,"Baseflow",1,"Clear",1,"None",0,0,0,0,0,null,0,"Absent","Absent","Absent","Absent","Present","Absent","Absent","Absent","Recorded",0,0,"","","Hiawatha","Hiawatha","070400030305","Middle Fork Whitewater River","Whitewater River"]
["Dev: DBParsing_231030_v01.xlsm","JNCD7xKTklMlFstQ856x","2023-07-07T19:53:11","2023-07-07T13:53:11","2023-07-07",2023,7,"jhGh651Hl7cRangRQ2zqYMCZHdv1",null,-90.671820995898003,43.344374095348407,null,"2023-07-07 14:53:11.304242.jpg-0",1,null,1,240,180,null,null,8,1,0,1,64,1,0,1,"River/Stream","None",0,0,0,0,0,0,0,1,0,"Baseflow",1,"Clear",1,"None",0,0,0,0,0,null,0,"Absent","Absent","Absent","Absent","Absent","Absent","Absent","Present","Recorded","Knapp Creek","Knapp Creek",1,"","Coulee Region","TU Staff","070700051501","Upper Knapp Creek","Knapp Creek"]
["Dev: DBParsing_231030_v01.xlsm","gUhwo1YYcQVH1khd84vX","2023-07-07T18:35:31","2023-07-07T12:35:31","2023-07-07",2023,7,"oN50knyfHlSRv38FF1MSKXBSQ6v1",null,-91.502455697079284,43.963658626449607,null,"2023-07-07 13:35:31.426123.jpg-0",1,null,1,240,30,null,null,7,0,null,1,56,0,"","","River/Stream","None",0,0,0,0,0,0,0,1,0,"Baseflow",1,"Clear",1,"None",0,0,0,0,0,"pickeick creek",1,"Absent","Absent","Absent","Absent","Absent","Absent","Absent","Present","Recorded","Big Trout Creek","Big Trout Creek",1,"","Win Cres","TCTU","070400030609","Big Trout Creek","City of Winona-Mississippi River"]
["Dev: DBParsing_231030_v01.xlsm","yVHOJOLR3NswUi2KhS1O","2023-07-07T15:46:12","2023-07-07T09:46:12","2023-07-07",2023,7,"jhGh651Hl7cRangRQ2zqYMCZHdv1",null,-90.654918608842962,43.386621569889961,null,"2023-07-07 10:46:12.510677.jpg-0",1,null,1,180,180,null,null,7.5,1,0,1,58,1,0,0,"River/Stream","None",0,0,0,0,0,0,0,1,0,"Baseflow",1,"Clear",1,"None",0,0,0,0,0,null,0,"Absent","Absent","Absent","Absent","Absent","Absent","Absent","Present","Recorded","Knapp Creek","Knapp Creek",1,"","Coulee Region","TU Staff","070700051501","Upper Knapp Creek","Knapp Creek"]
["Dev: DBParsing_231030_v01.xlsm","0a55cq0onBsjZ3gbMBFH","2023-07-07T12:59:35","2023-07-07T06:59:35","2023-07-07",2023,7,"jhGh651Hl7cRangRQ2zqYMCZHdv1",null,-90.637098881118959,43.401065206523946,null,"2023-07-07 07:59:35.245721.jpg-0",1,null,1,180,60,null,null,7,1,0,1,53,1,0,1,"River/Stream","None",0,0,0,0,0,0,0,1,0,"Baseflow",1,"Clear",1,"None",0,0,0,0,0,null,0,"Absent","Absent","Absent","Absent","Absent","Absent","Absent","Present","Recorded",0,0,"","","Coulee Region","TU Staff","070700051501","Upper Knapp Creek","Knapp Creek"]
["Dev: DBParsing_231030_v01.xlsm","Z0cCQLzWgbpuu95WngSz","2023-07-06T20:52:44","2023-07-06T14:52:44","2023-07-06",2023,7,"7NTXAgPEn9VYyuIA3Cp8vDW3NQX2",null,-90.844141500000006,43.1814751,null,"",0,null,1,240,180,null,null,8.5,1,0,1,66,1,0,2,"River/Stream","None",0,0,0,0,0,0,0,1,0,null,0,null,0,"",-1,-1,-1,-1,1,null,0,"Absent","Absent","Absent","Absent","Absent","Absent","Absent","Present","Recorded","Kickapoo River","Kickapoo River",1,"","Coulee Region","TU Staff","070700060505","Shaw Hollow-Kickapoo River","Kickapoo River"]
["Dev: DBParsing_231030_v01.xlsm","4YSNCVw5WVVdxPsqMWEx","2023-07-06T16:24:22","2023-07-06T10:24:22","2023-07-06",2023,7,"wQCfNJcgkMPI4m2bsIm33lNVmqH2","Hay Creek @ 325th St",-92.574167322296503,44.488416053887342,null,"",0,null,1,240,120,null,null,7.5,1,100,1,67,1,0.15,2,"River/Stream","",-1,-1,-1,-1,-1,-1,-1,-1,1,"Bankfull Stage",1,null,0,"None",0,0,0,0,0,"crystal clear water, fair amount of rises",1,"No Data","No Data","No Data","No Data","No Data","No Data","No Data","No Data","No Data","Hay Creek","Hay Creek",1,"","Twin Cities","TCTU","070400010401","Hay Creek","Hay Creek-Mississippi River"]
["Dev: DBParsing_231030_v01.xlsm","dwrCtlk1n50SLxtaQxRQ","2023-07-06T15:19:38","2023-07-06T09:19:38","2023-07-06",2023,7,"VQ9bNtzttGcXOEuaXrEAEYLfT103",null,-92.342236700000001,43.603176300000001,null,"",0,null,1,180,180,null,null,6.5,1,0,1,55,1,0.15,2,"River/Stream","None",0,0,0,0,0,0,0,1,0,"Baseflow",1,"Clear",1,"None",0,0,0,0,0,null,0,"Absent","Absent","Absent","Absent","Absent","Absent","Absent","Present","Recorded","Etna Creek","Etna Creek",1,"","Hiawatha","Hiawatha","070400080402","Etna Creek-South Branch Root River","South Branch Root River"]
["Dev: DBParsing_231030_v01.xlsm","JFBLoykspqtWqfeZX4Gw","2023-07-06T12:07:30","2023-07-06T06:07:30","2023-07-06",2023,7,"7NTXAgPEn9VYyuIA3Cp8vDW3NQX2",null,-90.885930299999998,43.285282100000003,null,"",0,null,1,240,120,null,null,8,1,0,1,55,1,0,1,"River/Stream","None",0,0,0,0,0,0,0,1,0,"Baseflow",1,"Clear",1,"None",0,0,0,0,0,null,0,"Absent","Absent","Absent","Absent","Absent","Absent","Absent","Present","Recorded","Halls Branch","Halls Branch",1,1,"Coulee Region","TU Staff","070700060501","Halls Branch","Kickapoo River"]
["Dev: DBParsing_231030_v01.xlsm","rjdVkJqYhDkzQCvfp5hn","2023-07-06T01:13:16","2023-07-05T19:13:16","2023-07-05",2023,7,"k6imGQxkdoYmMVg7pAz2w40EZAb2",null,-92.636123499999997,44.854697700000003,null,"",0,null,1,240,120,null,null,7,1,0,1,67,1,0,0,"River/Stream","Trash",0,0,1,0,0,0,0,0,0,"Baseflow",1,"Clear",1,"None",0,0,0,0,0,"post storm event\n\nsecchi tube: greater than 120 cm",1,"Absent","Absent","Present","Absent","Absent","Absent","Absent","Absent","Recorded","Kinnickinnic River","Kinnickinnic River",1,1,"Kiap TU Wish","Kinni Corridor Collaborative","070300051105","Lower Kinnickinnic Pond-Kinnickinnic River","Kinnickinnic River"]
["Dev: DBParsing_231030_v01.xlsm","lH5qUlqqmSpznSJ2dybk","2023-07-06T00:37:49","2023-07-05T18:37:49","2023-07-05",2023,7,"k6imGQxkdoYmMVg7pAz2w40EZAb2",null,-92.732126899999997,44.831065500000001,null,"",0,null,1,240,120,null,null,7.5,1,100,1,70,1,0,5,null,"None",0,0,0,0,0,0,0,1,0,"Baseflow",1,"Clear",1,"None",0,0,0,0,0,"secchi tube: greater than 120 cm\n\npost storm event monitoring",1,"Absent","Absent","Absent","Absent","Absent","Absent","Absent","Present","Recorded","Kinnickinnic River","Kinnickinnic River",1,"","Kiap TU Wish","Kinni Corridor Collaborative","070300051105","Lower Kinnickinnic Pond-Kinnickinnic River","Kinnickinnic River"]
["Dev: DBParsing_231030_v01.xlsm","P7tmhNKGKwP4EDF3pDBf","2023-07-05T23:56:37","2023-07-05T17:56:37","2023-07-05",2023,7,"k6imGQxkdoYmMVg7pAz2w40EZAb2","",-92.641644200000002,44.849771799999999,null,"",0,null,1,240,120,null,null,7,1,100,1,68,1,0,2,"River/Stream","None",0,0,0,0,0,0,0,1,0,"Baseflow",1,"Murky",1,"None",0,0,0,0,0,"\nsecchi tube: 65 cm\npost storm water event ",1,"Absent","Absent","Absent","Absent","Absent","Absent","Absent","Present","Recorded","Kinnickinnic River","Kinnickinnic River",1,1,"Kiap TU Wish","Kinni Corridor Collaborative","070300051105","Lower Kinnickinnic Pond-Kinnickinnic River","Kinnickinnic River"]
["Dev: DBParsing_231030_v01.xlsm","Lppw9PvGqb430jDHyEXQ","2023-07-05T23:36:10","2023-07-05T17:36:10","2023-07-05",2023,7,"k6imGQxkdoYmMVg7pAz2w40EZAb2","",-92.643938199999994,44.844377700000003,null,"",0,null,1,240,120,null,null,7.5,1,100,1,68,1,0,5,"River/Stream","None",0,0,0,0,0,0,0,1,0,"Baseflow",1,"Clear",1,"None",0,0,0,0,0,"secchi tube: greater than 120 cm\n\npost Storm event ",1,"Absent","Absent","Absent","Absent","Absent","Absent","Absent","Present","Recorded","Kinnickinnic River","Kinnickinnic River",1,"","Kiap TU Wish","Kinni Corridor Collaborative","070300051105","Lower Kinnickinnic Pond-Kinnickinnic River","Kinnickinnic River"]
["Dev: DBParsing_231030_v01.xlsm","c5xkhjRqPtnAd9fl45IN","2023-07-05T22:35:06","2023-07-05T16:35:06","2023-07-05",2023,7,"3XObfMb7QSfrAYng16E97lQdZ3k1",null,-91.191188299999993,44.291538699999997,null,"2023-07-05 17:35:06.723302.jpg-0",1,null,1,180,60,null,null,6,1,200,1,65,1,0,2,"River/Stream","None",0,0,0,0,0,0,0,1,0,"Baseflow",1,"Murky",1,"Regional Rainfall",1,0,0,0,0,null,0,"Absent","Absent","Absent","Absent","Absent","Absent","Absent","Present","Recorded","Trump Coulee Creek","Trump Coulee Creek","","","Wisconsin Clear Water","TU Staff","070400050206","Lake Henry-Trempealeau River","Upper Trempealeau River"]
["Dev: DBParsing_231030_v01.xlsm","E6nPIxZWjd82AWDNCzFQ","2023-07-05T21:24:05","2023-07-05T15:24:05","2023-07-05",2023,7,"jhGh651Hl7cRangRQ2zqYMCZHdv1",null,-90.893359310442719,43.196073894681227,null,"2023-07-05 16:24:05.118631.jpg-0",1,null,1,240,180,null,null,8,1,0,1,66,1,0,2,"River/Stream","None",0,0,0,0,0,0,0,1,0,"Baseflow",1,"Clear",1,"None",0,0,0,0,0,null,0,"Absent","Absent","Absent","Absent","Absent","Absent","Absent","Present","Recorded","Citron Creek","Citron Creek",1,1,"Coulee Region","TU Staff","070700060503","Citron Creek","Kickapoo River"]
["Dev: DBParsing_231030_v01.xlsm","XoYfQfuc3FnT687o70Xf","2023-07-05T19:55:34","2023-07-05T13:55:34","2023-07-05",2023,7,"b5Q5MWoIy9OOBrhn8HbZMPPsGST2",null,-92.057229367800502,43.650563105365272,null,"2023-07-05 14:55:34.700030.jpg-0",1,null,1,240,0,null,null,7,1,100,0,null,1,0,2,"River/Stream","Bank Erosion",0,1,0,0,0,0,0,0,0,"Baseflow",1,"Clear",1,"None",0,0,0,0,0,"Camp Creek",1,"Absent","Present","Absent","Absent","Absent","Absent","Absent","Absent","Recorded","Camp Creek","Camp Creek",1,"","Hiawatha","Agency/University","070400080407","Camp Creek","South Branch Root River"]
["Dev: DBParsing_231030_v01.xlsm","Mk7jIuxRrCOEXPfs8p3h","2023-07-05T18:58:45","2023-07-05T12:58:45","2023-07-05",2023,7,"3XObfMb7QSfrAYng16E97lQdZ3k1",null,-91.193025300000002,44.210887999999997,null,"2023-07-05 13:58:45.229426.jpg-0",1,null,1,240,60,null,null,7,1,300,1,64,1,0,2,"River/Stream","None",0,0,0,0,0,0,0,1,0,"Baseflow",1,"Murky",1,"Regional Rainfall",1,0,0,0,0,null,0,"Absent","Absent","Absent","Absent","Absent","Absent","Absent","Present","Recorded","Legue Coulee","Legue Coulee",1,1,"Wisconsin Clear Water","TU Staff","070400071102","North Fork of Beaver Creek","Beaver Creek"]
["Dev: DBParsing_231030_v01.xlsm","K4FTY78FkXPvLMeV27oK","2023-07-05T16:42:33","2023-07-05T10:42:33","2023-07-05",2023,7,"3XObfMb7QSfrAYng16E97lQdZ3k1",null,-91.193135799999993,44.2157847,null,"2023-07-05 11:42:33.815407.jpg-0",1,null,1,240,60,null,null,7,1,500,1,57,1,0,1,"River/Stream","None",0,0,0,0,0,0,0,1,0,"Baseflow",1,"Clear",1,"Regional Rainfall",1,0,0,0,0,null,0,"Absent","Absent","Absent","Absent","Absent","Absent","Absent","Present","Recorded","Legue Coulee","Legue Coulee",1,1,"Wisconsin Clear Water","TU Staff","070400071102","North Fork of Beaver Creek","Beaver Creek"]
["Dev: DBParsing_231030_v01.xlsm","ApmJtHdwz6Noc1kBV5Hh","2023-07-05T16:37:50","2023-07-05T10:37:50","2023-07-05",2023,7,"jhGh651Hl7cRangRQ2zqYMCZHdv1",null,-90.965657558099622,43.216381106077755,null,"2023-07-05 11:37:50.100626.jpg-0",1,null,1,180,180,null,null,7.5,1,0,1,61,1,0,2,"River/Stream","Algal Bloom",0,0,0,0,0,1,0,0,0,"Baseflow",1,"Clear",1,"None",0,0,0,0,0,null,0,"Absent","Absent","Absent","Absent","Absent","Present","Absent","Absent","Recorded","Pine Creek","Pine Creek",1,"","Coulee Region","TU Staff","070700060504","Pine Creek","Kickapoo River"]
["Dev: DBParsing_231030_v01.xlsm","wtpbmekb1dUv96QkcgYv","2023-07-05T15:16:46","2023-07-05T09:16:46","2023-07-05",2023,7,"3XObfMb7QSfrAYng16E97lQdZ3k1","Other Locations",-91.180760899999996,44.221338600000003,null,"2023-07-05 10:16:46.876334.jpg-0",1,null,1,240,60,null,null,7,1,100,1,57,1,0,0,"River/Stream","Livestock in Water",0,0,0,0,1,0,0,0,0,"Baseflow",1,"Clear",1,"Regional Rainfall",1,0,0,0,0,null,0,"Absent","Absent","Absent","Absent","Present","Absent","Absent","Absent","Recorded","Joe Coulee Creek","Joe Coulee Creek",1,1,"Wisconsin Clear Water","TU Staff","070400071102","North Fork of Beaver Creek","Beaver Creek"]
["Dev: DBParsing_231030_v01.xlsm","lVJ1xvvRq9VLgqDaE7w8","2023-07-03T22:10:49","2023-07-03T16:10:49","2023-07-03",2023,7,"7fp9eoNK1RTW0XUKFpn9oieJe1W2",null,-90.764961799999995,43.575735999999999,null,"2023-07-03 17:10:48.528400.jpg-02023-07-03 17:10:48.528400.jpg-12023-07-03 17:10:48.528400.jpg-22023-07-03 17:10:48.528400.jpg-3",1,null,0,"",null,null,null,null,0,null,1,77,1,0,0,"River/Stream","Bank Erosion",0,1,0,0,0,0,0,0,0,"Baseflow",1,"Clear",1,"None",0,0,0,0,0,"air temperature 94 degrees and sunny.  water temperature 77.7 degrees.",1,"Absent","Present","Absent","Absent","Absent","Absent","Absent","Absent","Recorded","West Fork Kickapoo River","West Fork Kickapoo River",1,1,"Coulee Region","TU Staff","070700060205","West Fork Kickapoo River","West Fork Kickapoo River"]
["Dev: DBParsing_231030_v01.xlsm","NZsYQnDPwMhGpUOfkxh9","2023-07-03T15:16:24","2023-07-03T09:16:24","2023-07-03",2023,7,"3XObfMb7QSfrAYng16E97lQdZ3k1",null,-91.080899599999995,44.227047399999996,null,"2023-07-03 10:16:24.405916.jpg-02023-07-03 10:16:24.405916.jpg-1",1,null,1,180,60,null,null,7,1,200,1,54,1,0,2,"River/Stream","Fish Barrier",1,0,0,0,0,0,0,0,0,"Baseflow",1,"Clear",1,"None",0,0,0,0,0,"Fish barrier and one dead fingerling brook trout found.",1,"Present","Absent","Absent","Absent","Absent","Absent","Absent","Absent","Recorded","North Fork Beaver Creek","North Fork Beaver Creek",1,1,"Coulee Region","TU Staff","070400071102","North Fork of Beaver Creek","Beaver Creek"]
["Dev: DBParsing_231030_v01.xlsm","MxIHtfKREfNcTkRRmHZ0","2023-07-03T13:26:49","2023-07-03T07:26:49","2023-07-03",2023,7,"MHFdkCj8zqhw6MGszjwZYx49QR22","",-93.008985430040198,44.657202186466449,null,"2023-07-03 08:26:49.281677.jpg-0",1,null,1,240,30,null,null,8,1,100,1,62,1,0.15,0,"River/Stream","None",0,0,0,0,0,0,0,1,0,null,0,"Clear",1,"None",0,0,0,0,0,"steam is a little low but flowing well",1,"Absent","Absent","Absent","Absent","Absent","Absent","Absent","Present","Recorded","South Branch Vermillion River","South Branch Vermillion River","","","Twin Cities","TCTU","070400010205","South Branch Vermillion River","Vermillion River"]
["Dev: DBParsing_231030_v01.xlsm","vov2HQFwHMvHRvRFaqK0","2023-07-02T19:18:29","2023-07-02T13:18:29","2023-07-02",2023,7,"sV8r8QoTpTQ81023RxB7QRB9qBu1","Belle Creek",-92.725457199999994,44.547154399999997,null,"",0,null,1,240,30,null,null,7,1,0,1,68,1,0,0,"River/Stream","None",0,0,0,0,0,0,0,1,0,"Baseflow",1,"Clear",1,"None",0,0,0,0,0,null,0,"Absent","Absent","Absent","Absent","Absent","Absent","Absent","Present","Recorded","Belle Creek","Belle Creek","","","Twin Cities","TCTU","070400020803","Lower Belle Creek","Belle Creek"]
["Dev: DBParsing_231030_v01.xlsm","cWl4bYccGfTBtcOAKUsz","2023-07-02T17:43:51","2023-07-02T11:43:51","2023-07-02",2023,7,"oN50knyfHlSRv38FF1MSKXBSQ6v1",null,-92.174781878332382,44.115011160709237,null,"",0,null,0,"",null,null,null,null,0,null,1,62,0,"","","River/Stream","Algal Bloom",0,0,0,0,0,1,0,0,0,"Mid-stage",1,"Murky",1,"None",0,0,0,0,0,"whit Water North branch",1,"Absent","Absent","Absent","Absent","Absent","Present","Absent","Absent","Recorded","North Fork Whitewater River","North Fork Whitewater River",1,"","Hiawatha","TCTU","070400030304","Lower North Fork Whitewater River","Whitewater River"]
["Dev: DBParsing_231030_v01.xlsm","0tglesvrJSGnqUPdDair","2023-06-29T20:45:25","2023-06-29T14:45:25","2023-06-29",2023,6,"3XObfMb7QSfrAYng16E97lQdZ3k1",null,-90.996969399999998,44.403948800000002,null,"2023-06-29 15:45:25.858014.jpg-0",1,null,1,180,60,null,null,6.5,0,null,0,null,1,0,2,"River/Stream","None",0,0,0,0,0,0,0,1,0,"Baseflow",1,"Murky",1,"None",0,0,0,0,0,null,0,"Absent","Absent","Absent","Absent","Absent","Absent","Absent","Present","Recorded","North Branch Trempealeau River","North Branch Trempealeau River",1,1,"Wisconsin Clear Water","TU Staff","070400050201","North Branch of the Trempealeau River","Upper Trempealeau River"]
["Dev: DBParsing_231030_v01.xlsm","FrvHjqN514jBWJWiPCbi","2023-06-29T19:33:42","2023-06-29T13:33:42","2023-06-29",2023,6,"3XObfMb7QSfrAYng16E97lQdZ3k1",null,-91.000708700000004,44.436854400000001,null,"2023-06-29 14:33:42.726149.jpg-0",1,null,1,180,60,null,null,6,1,100,1,66,1,0,1,"River/Stream","None",0,0,0,0,0,0,0,1,0,"Baseflow",1,"Clear",1,"None",0,0,0,0,0,null,0,"Absent","Absent","Absent","Absent","Absent","Absent","Absent","Present","Recorded","North Branch Trempealeau River","North Branch Trempealeau River",1,1,"Wisconsin Clear Water","TU Staff","070400050201","North Branch of the Trempealeau River","Upper Trempealeau River"]
["Dev: DBParsing_231030_v01.xlsm","WeRSLoSUegt4o9lRHvXm","2023-06-29T17:32:07","2023-06-29T11:32:07","2023-06-29",2023,6,"7NTXAgPEn9VYyuIA3Cp8vDW3NQX2",null,-91.002170000000007,43.154008400000002,null,"",0,null,1,240,60,null,null,7.5,1,100,1,70,1,0,5,"River/Stream","",-1,-1,-1,-1,-1,-1,-1,-1,1,"Baseflow",1,"Clear",1,"None",0,0,0,0,0,null,0,"No Data","No Data","No Data","No Data","No Data","No Data","No Data","No Data","No Data",0,0,"","","Coulee Region","TU Staff","070700060506","Plum Creek","Kickapoo River"]
["Dev: DBParsing_231030_v01.xlsm","HcHcx5yKRfEAAC5SN1IU","2023-06-29T14:09:12","2023-06-29T08:09:12","2023-06-29",2023,6,"7NTXAgPEn9VYyuIA3Cp8vDW3NQX2",null,-90.943098500000005,43.089426500000002,null,"",0,null,1,240,180,null,null,7.5,1,0,1,52,1,0,2,"Lake/Pond","None",0,0,0,0,0,0,0,1,0,"Baseflow",1,"Clear",1,"None",0,0,0,0,0,null,0,"Absent","Absent","Absent","Absent","Absent","Absent","Absent","Present","Recorded","Little Kickapoo Creek","Little Kickapoo Creek",1,1,"Coulee Region","TU Staff","070700051802","Kickapoo River-Wisconsin River","Wisconsin River"]
["Dev: DBParsing_231030_v01.xlsm","lluSX135NOI3PjhGl9hF","2023-06-28T21:28:26","2023-06-28T15:28:26","2023-06-28",2023,6,"VCf2q8JFBSOaJbmxiMqirI5xKFn2","Pine Creek @ County Rd. AA",-92.283398357974846,44.544192463525917,null,"",0,null,1,240,120,null,null,8,1,0,1,55,1,0,0,"River/Stream","Fish Kill,None",0,0,0,0,0,0,1,1,0,"Baseflow",1,"Clear",1,"None",0,0,0,0,0,null,0,"Absent","Absent","Absent","Absent","Absent","Absent","Present","Present","Recorded","Pine Creek","Pine Creek",1,1,"Wisconsin Clear Water","Kiap-TU-Wish","070400010702","Pine Creek","Lake Pepin"]
["Dev: DBParsing_231030_v01.xlsm","iKECkX2b7RWErBObaI40","2023-06-28T20:56:09","2023-06-28T14:56:09","2023-06-28",2023,6,"3XObfMb7QSfrAYng16E97lQdZ3k1",null,-90.829381999999995,44.329018599999998,null,"2023-06-28 15:56:09.662553.jpg-0",1,null,1,180,60,null,null,6,1,100,1,64,1,0,2,"River/Stream","Fish Barrier",1,0,0,0,0,0,0,0,0,"Baseflow",1,"Clear",1,"None",0,0,0,0,0,null,0,"Present","Absent","Absent","Absent","Absent","Absent","Absent","Absent","Recorded","Snow Creek","Snow Creek",1,1,"Wisconsin Clear Water","TU Staff","070400071004","Town Creek-Black River","Robinson Creek-Black River"]
["Dev: DBParsing_231030_v01.xlsm","3ZzFNSQMjXlb5Pu5W8r5","2023-06-28T20:12:44","2023-06-28T14:12:44","2023-06-28",2023,6,"7NTXAgPEn9VYyuIA3Cp8vDW3NQX2",null,-91.024151099999997,43.280932999999997,null,"2023-06-28 15:12:44.194137.jpg-0",1,null,1,240,120,null,null,9,1,0,1,69,1,0,1,"River/Stream","Algal Bloom",0,0,0,0,0,1,0,0,0,"Baseflow",1,"Clear",1,"None",0,0,0,0,0,"algae",1,"Absent","Absent","Absent","Absent","Absent","Present","Absent","Absent","Recorded",0,0,"","","Coulee Region","TU Staff","070600010707","Leitner Creek-Mississippi River","Rush Creek-Mississippi River"]
["Dev: DBParsing_231030_v01.xlsm","zvjZ6KEKsZ1ii5GyuXQd","2023-06-28T17:06:22","2023-06-28T11:06:22","2023-06-28",2023,6,"AFSRTEftiTe1HDjxTst1HuMIU1l1","Plum Creek @ Plum CIty Park",-92.189595597418361,44.632845518445798,null,"",0,null,1,240,120,null,null,8,1,0,1,59,1,0,0,"River/Stream","None",0,0,0,0,0,0,0,1,0,"Baseflow",1,"Clear",1,"None",0,0,0,0,0,null,0,"Absent","Absent","Absent","Absent","Absent","Absent","Absent","Present","Recorded","Plum Creek","Plum Creek",1,1,"Kiap TU Wish","Kiap-TU-Wish","070500051101","Nugget Lake-Plum Creek","Plum Creek"]
["Dev: DBParsing_231030_v01.xlsm","ngyDAPOuJjmRfMEqVT3x","2023-06-28T15:48:20","2023-06-28T09:48:20","2023-06-28",2023,6,"7NTXAgPEn9VYyuIA3Cp8vDW3NQX2",null,-91.026265699999996,43.350311300000001,null,"",0,null,1,240,180,null,null,8,1,0,1,59,1,0,0,"River/Stream","None",0,0,0,0,0,0,0,1,0,"Baseflow",1,"Clear",1,"None",0,0,0,0,0,null,0,"Absent","Absent","Absent","Absent","Absent","Absent","Absent","Present","Recorded","Buck Creek","Buck Creek","","","Coulee Region","TU Staff","070600010705","Buck Creek-Mississippi River","Rush Creek-Mississippi River"]
["Dev: DBParsing_231030_v01.xlsm","OtSQTL4RLdRQWpwK6R08","2023-06-28T14:56:22","2023-06-28T08:56:22","2023-06-28",2023,6,"3XObfMb7QSfrAYng16E97lQdZ3k1",null,-90.835837100000006,44.3227397,null,"2023-06-28 09:56:22.710678.jpg-0",1,null,1,240,60,null,null,6.5,1,200,1,57,1,0,2,"River/Stream","None",0,0,0,0,0,0,0,1,0,"Baseflow",1,"Clear",1,"None",0,0,0,0,0,null,0,"Absent","Absent","Absent","Absent","Absent","Absent","Absent","Present","Recorded","Allen Creek","Allen Creek",1,1,"Wisconsin Clear Water","TU Staff","070400071004","Town Creek-Black River","Robinson Creek-Black River"]
["Dev: DBParsing_231030_v01.xlsm","o4atWSz6RDlymZJUMu7J","2023-06-27T22:27:36","2023-06-27T16:27:36","2023-06-27",2023,6,"3XObfMb7QSfrAYng16E97lQdZ3k1",null,-90.806577700000005,44.311616700000002,null,"2023-06-27 17:27:36.786247.jpg-0",1,null,1,180,30,null,null,6.5,1,0,1,63,1,0,0,"River/Stream","None",0,0,0,0,0,0,0,1,0,"Baseflow",1,"Murky",1,"None",0,0,0,0,0,null,0,"Absent","Absent","Absent","Absent","Absent","Absent","Absent","Present","Recorded","Levis Creek","Levis Creek",1,1,"Wisconsin Clear Water","TU Staff","070400071001","Levis Creek","Robinson Creek-Black River"]
["Dev: DBParsing_231030_v01.xlsm","TSWQIkcVNHQ6NeBXMnpt","2023-06-27T20:11:44","2023-06-27T14:11:44","2023-06-27",2023,6,"3XObfMb7QSfrAYng16E97lQdZ3k1",null,-90.742226599999995,44.292614299999997,null,"2023-06-27 15:11:44.071172.jpg-0",1,null,1,240,120,null,null,7,1,0,1,61,1,0,1,"River/Stream","None",0,0,0,0,0,0,0,1,0,"Baseflow",1,"Murky",1,"None",0,0,0,0,0,null,0,"Absent","Absent","Absent","Absent","Absent","Absent","Absent","Present","Recorded","Indian Grave Creek","Indian Grave Creek","","","Wisconsin Clear Water","TU Staff","070400071001","Levis Creek","Robinson Creek-Black River"]
["Dev: DBParsing_231030_v01.xlsm","FrOarENfhTdLoYcvPxFA","2023-06-27T19:42:37","2023-06-27T13:42:37","2023-06-27",2023,6,"k6imGQxkdoYmMVg7pAz2w40EZAb2",null,-92.733176400000005,44.831091800000003,null,"",0,null,1,240,120,null,null,7,1,0,1,68,1,0,5,"River/Stream","Trash",0,0,1,0,0,0,0,0,0,"Baseflow",1,"Clear",1,"None",0,0,0,0,0,"sexchi tube: greater than 120 cm\n\nHACH test: 2",1,"Absent","Absent","Present","Absent","Absent","Absent","Absent","Absent","Recorded","Kinnickinnic River","Kinnickinnic River",1,"","Kiap TU Wish","Kinni Corridor Collaborative","070300051105","Lower Kinnickinnic Pond-Kinnickinnic River","Kinnickinnic River"]
["Dev: DBParsing_231030_v01.xlsm","h6C3Cf3SthoJ4hVcrFoD","2023-06-27T18:56:24","2023-06-27T12:56:24","2023-06-27",2023,6,"6oemLSFIHIXnYk5OuejKZ9Uhljr1","",-91.850018050157004,43.657403625232881,null,"2023-06-27 13:56:24.566504.jpg-0",1,null,1,180,180,null,null,8,1,100,1,60,1,0,5,"River/Stream","None",0,0,0,0,0,0,0,1,0,"Baseflow",1,"Clear",1,"None",0,0,0,0,0,"clear & low no rain for a month",1,"Absent","Absent","Absent","Absent","Absent","Absent","Absent","Present","Recorded","Shattuck Creek","Shattuck Creek",1,"","Hiawatha","Hiawatha","070400080803","Middle South Fork Root River","South Fork Root River"]
["Dev: DBParsing_231030_v01.xlsm","Mjt85lASjf2voWaLN9r6","2023-06-27T18:47:05","2023-06-27T12:47:05","2023-06-27",2023,6,"c2yLP2VgfvNBOWuOqq6XscGxbVi1",null,-92.641671197575178,44.849895788398683,null,"",0,null,1,240,180,null,null,7.5,1,0,1,66,1,0,2,"River/Stream","None",0,0,0,0,0,0,0,1,0,"Baseflow",1,"Clear",1,"None",0,0,0,0,0,"secchi: greater than 120. NO3 = 2 mg/L",1,"Absent","Absent","Absent","Absent","Absent","Absent","Absent","Present","Recorded","Kinnickinnic River","Kinnickinnic River",1,1,"Kiap TU Wish","Kinni Corridor Collaborative","070300051105","Lower Kinnickinnic Pond-Kinnickinnic River","Kinnickinnic River"]
["Dev: DBParsing_231030_v01.xlsm","rmWTJFQyPG357HJ0aUa2","2023-06-27T18:22:38","2023-06-27T12:22:38","2023-06-27",2023,6,"k6imGQxkdoYmMVg7pAz2w40EZAb2",null,-92.644186300000001,44.844372800000002,null,"",0,null,1,240,120,null,null,7.5,1,0,1,65,1,0,0,"River/Stream","None",0,0,0,0,0,0,0,1,0,"Baseflow",1,"Clear",1,"None",0,0,0,0,0,"secchi tube: greater than 120 cm\n\nHACH TEST: 2 mg/L",1,"Absent","Absent","Absent","Absent","Absent","Absent","Absent","Present","Recorded","Kinnickinnic River","Kinnickinnic River",1,"","Kiap TU Wish","Kinni Corridor Collaborative","070300051105","Lower Kinnickinnic Pond-Kinnickinnic River","Kinnickinnic River"]
["Dev: DBParsing_231030_v01.xlsm","8ovaOCSNx7L59weTh6Se","2023-06-27T17:02:30","2023-06-27T11:02:30","2023-06-27",2023,6,"7NTXAgPEn9VYyuIA3Cp8vDW3NQX2",null,-91.134721200000001,43.139838599999997,null,"2023-06-27 12:02:30.627783.jpg-0",1,null,1,240,120,null,null,8,1,0,1,71,1,0,1,"River/Stream","None",0,0,0,0,0,0,0,1,0,"Baseflow",1,"Clear",1,"None",0,0,0,0,0,"stream crosses over private drive",1,"Absent","Absent","Absent","Absent","Absent","Absent","Absent","Present","Recorded","Picatee Creek","Picatee Creek","",1,"Coulee Region","TU Staff","070600011001","Picatee Creek-Mississippi River","Bloody Run-Mississippi River"]
["Dev: DBParsing_231030_v01.xlsm","iqPvZ4Lt2mA1fFg925ax","2023-06-27T16:30:28","2023-06-27T10:30:28","2023-06-27",2023,6,"c2yLP2VgfvNBOWuOqq6XscGxbVi1",null,-92.631832268175316,44.855494606350661,null,"",0,null,1,240,180,null,null,7.5,1,0,1,63,1,0,5,"River/Stream","Bank Erosion,Trash",0,1,1,0,0,0,0,0,0,"Baseflow",1,"Murky",1,"None",0,0,0,0,0,"HACH test: 2 mg/L\n\nsecchi tube: greater than 120 cm",1,"Absent","Present","Present","Absent","Absent","Absent","Absent","Absent","Recorded","Kinnickinnic River","Kinnickinnic River",1,1,"Kiap TU Wish","Kinni Corridor Collaborative","070300051104","Parker Creek-Kinnickinnic River","Kinnickinnic River"]
["Dev: DBParsing_231030_v01.xlsm","2BSkz1cXyoNICPqkZJ9u","2023-06-27T15:46:25","2023-06-27T09:46:25","2023-06-27",2023,6,"c2yLP2VgfvNBOWuOqq6XscGxbVi1",null,-92.638147026386704,44.851765497629643,null,"",0,null,1,240,120,null,null,8,1,0,1,61,1,0,5,"River/Stream","",-1,-1,-1,-1,-1,-1,-1,-1,1,"Mid-stage",1,"Clear",1,"None",0,0,0,0,0,"secchi <100. NO3 = 4 mg/L",1,"No Data","No Data","No Data","No Data","No Data","No Data","No Data","No Data","No Data","Kinnickinnic River","Kinnickinnic River",1,1,"Kiap TU Wish","Kinni Corridor Collaborative","070300051105","Lower Kinnickinnic Pond-Kinnickinnic River","Kinnickinnic River"]
["Dev: DBParsing_231030_v01.xlsm","lJmjvTn1gDkSt5zNpUht","2023-06-27T15:19:41","2023-06-27T09:19:41","2023-06-27",2023,6,"c2yLP2VgfvNBOWuOqq6XscGxbVi1",null,-92.636342151176777,44.854659601156463,null,"",0,null,1,240,180,null,null,7,1,0,1,60,1,0,2,"River/Stream","Bank Erosion,Trash",0,1,1,0,0,0,0,0,0,"Mid-stage",1,"Clear",1,"None",0,0,0,0,0,"<100 turbidity. NO3 = 2 mg/L",1,"Absent","Present","Present","Absent","Absent","Absent","Absent","Absent","Recorded","Kinnickinnic River","Kinnickinnic River",1,1,"Kiap TU Wish","Kinni Corridor Collaborative","070300051105","Lower Kinnickinnic Pond-Kinnickinnic River","Kinnickinnic River"]
["Dev: DBParsing_231030_v01.xlsm","PJnZgtBjljR4aKJkqVcj","2023-06-27T15:02:55","2023-06-27T09:02:55","2023-06-27",2023,6,"3XObfMb7QSfrAYng16E97lQdZ3k1","",-90.770084900000001,44.401094200000003,null,"2023-06-27 10:02:55.706980.jpg-02023-06-27 10:02:55.706980.jpg-1",1,null,0,"",null,null,null,null,1,0,1,55,0,"","","River/Stream","Fish Barrier",1,0,0,0,0,0,0,0,0,"Baseflow",1,"Clear",1,"None",0,0,0,0,0,"Large scour pool at the downstream side of a perched culvert.",1,"Present","Absent","Absent","Absent","Absent","Absent","Absent","Absent","Recorded","Vismal Creek","Vismal Creek",1,1,"Wisconsin Clear Water","TU Staff","070400070906","Lake Arbutus","Lake Arbutus-Black River"]
["Dev: DBParsing_231030_v01.xlsm","Cz2vU5bm8wq6yC8YgQRp","2023-06-27T14:50:00","2023-06-27T08:50:00","2023-06-27",2023,6,"6oemLSFIHIXnYk5OuejKZ9Uhljr1",null,-91.823754030145636,43.642520063800134,null,"2023-06-27 09:50:00.424016.jpg-0",1,null,1,240,60,null,null,7,1,200,1,59,1,0,5,"River/Stream","None",0,0,0,0,0,0,0,1,0,"Baseflow",1,"Clear",1,"None",0,0,0,0,0,"no rain in month, low and clear",1,"Absent","Absent","Absent","Absent","Absent","Absent","Absent","Present","Recorded","South Fork Root River","South Fork Root River",1,1,"Win Cres","Hiawatha","070400080803","Middle South Fork Root River","South Fork Root River"]
["Dev: DBParsing_231030_v01.xlsm","yuXIo8kFa7gAPNIAuuHX","2023-06-27T14:36:49","2023-06-27T08:36:49","2023-06-27",2023,6,"c2yLP2VgfvNBOWuOqq6XscGxbVi1","Other Locations",-92.624264713005616,44.864055262089536,null,"",0,null,1,180,180,null,null,7.5,1,0,1,57,1,0,0,"River/Stream","Pipe/Drain Outflow",0,0,0,1,0,0,0,0,0,"Baseflow",1,"Clear",1,"None",0,0,0,0,0,"secchi < 100. NO3 = 2 mg/L",1,"Absent","Absent","Absent","Present","Absent","Absent","Absent","Absent","Recorded","Kinnickinnic River","Kinnickinnic River",1,"","Kiap TU Wish","Kinni Corridor Collaborative","070300051104","Parker Creek-Kinnickinnic River","Kinnickinnic River"]
["Dev: DBParsing_231030_v01.xlsm","FR2KnngMEKh0QqI5KTID","2023-06-27T13:31:49","2023-06-27T07:31:49","2023-06-27",2023,6,"c2yLP2VgfvNBOWuOqq6XscGxbVi1","",-92.62131122494786,44.875134772142196,null,"",0,null,1,240,180,null,null,8,1,0,1,56,1,0.15,1,"River/Stream","None",0,0,0,0,0,0,0,1,0,"Mid-stage",1,"Clear",1,"None",0,0,0,0,0,"<100 secchi. NO3 = 4 mg\n",1,"Absent","Absent","Absent","Absent","Absent","Absent","Absent","Present","Recorded","Kinnickinnic River","Kinnickinnic River",1,"","Kiap TU Wish","Kinni Corridor Collaborative","070300051104","Parker Creek-Kinnickinnic River","Kinnickinnic River"]
["Dev: DBParsing_231030_v01.xlsm","7l255UYfzZj6qtdKJdj6","2023-06-26T23:12:52","2023-06-26T17:12:52","2023-06-26",2023,6,"MZ8CvOB6bBeEPjwpBrk2zCVH7bk2","MOA Creek",-93.231312689545717,44.846814293280929,null,"2023-06-26 18:12:52.478096.jpg-02023-06-26 18:12:52.478096.jpg-12023-06-26 18:12:52.478096.jpg-22023-06-26 18:12:52.478096.jpg-32023-06-26 18:12:52.478096.jpg-4",1,null,1,240,180,null,null,7.5,1,0,1,63,1,0,2,"River/Stream","None",0,0,0,0,0,0,0,1,0,"Mid-stage",1,"Clear",1,"Local Thunderstorm",0,1,0,0,0,null,0,"Absent","Absent","Absent","Absent","Absent","Absent","Absent","Present","Recorded","","","","","Twin Cities","TCTU","070200121110","Minnesota River","Minnesota River"]
["Dev: DBParsing_231030_v01.xlsm","Wfj1XjsbUlubUc2Y7kSS","2023-06-26T22:02:30","2023-06-26T16:02:30","2023-06-26",2023,6,"80reiKTTqGYqqpgYAhPwqypFwak1",null,-92.224449939405162,43.622236641619608,null,"2023-06-26 17:02:30.721890.jpg-0",1,null,1,240,180,null,null,7.5,1,0,1,57,1,0,5,"River/Stream","None",0,0,0,0,0,0,0,1,0,"Baseflow",1,"Clear",1,"None",0,0,0,0,0,"nice and cool. South Branch Root 160 feet away is 71. thank heavens for springs. ",1,"Absent","Absent","Absent","Absent","Absent","Absent","Absent","Present","Recorded","Canfield Creek","Canfield Creek",1,"","Hiawatha","Hiawatha","070400080405","Town of Forestville-South Branch Root River","South Branch Root River"]
["Dev: DBParsing_231030_v01.xlsm","7yrhsnGhTI6aXCOHgFFd","2023-06-26T21:37:51","2023-06-26T15:37:51","2023-06-26",2023,6,"3XObfMb7QSfrAYng16E97lQdZ3k1",null,-90.742153400000007,44.355875099999999,null,"2023-06-26 16:37:51.612205.jpg-0",1,null,1,240,30,null,null,6,1,0,1,57,1,0,1,"River/Stream","None",0,0,0,0,0,0,0,1,0,"Baseflow",1,"Clear",1,"None",0,0,0,0,0,null,0,"Absent","Absent","Absent","Absent","Absent","Absent","Absent","Present","Recorded","Valentine Creek","Valentine Creek",1,"","Wisconsin Clear Water","TU Staff","070400070703","Lower Morrison Creek","Morrison Creek"]
["Dev: DBParsing_231030_v01.xlsm","Hm3vruZLMfyqNuFddO5L","2023-06-26T20:38:17","2023-06-26T14:38:17","2023-06-26",2023,6,"jr4xjZvRQFP5TMTbzZ3WFt91JbZ2",null,-92.929873000000001,44.370337499999998,null,"2023-06-26 15:38:17.835972.jpg-02023-06-26 15:38:17.835972.jpg-1",1,null,1,240,180,null,null,7,1,200,1,72,1,0.15,1,"","",-1,-1,-1,-1,-1,-1,-1,-1,1,"Mid-stage",1,"Murky",1,"Regional Rainfall",1,0,0,0,0,"nice 75 degree day after sporadic rainfall in the area",1,"No Data","No Data","No Data","No Data","No Data","No Data","No Data","No Data","No Data","Little Cannon River","Little Cannon River",1,"","Hiawatha","TCTU","070400020702","Middle Little Cannon River","Little Cannon River"]
["Dev: DBParsing_231030_v01.xlsm","fk8ADunlkA4zpL1znW60","2023-06-26T20:18:27","2023-06-26T14:18:27","2023-06-26",2023,6,"80reiKTTqGYqqpgYAhPwqypFwak1",null,-92.277956709461435,43.793109490296402,null,"2023-06-26 15:18:27.321338.jpg-0",1,null,1,240,180,null,null,7.5,1,0,1,56,1,0,2,"River/Stream","None",0,0,0,0,0,0,0,1,0,"Baseflow",1,"Clear",1,"None",0,0,0,0,0,null,0,"Absent","Absent","Absent","Absent","Absent","Absent","Absent","Present","Recorded","Carson Creek","Carson Creek",1,1,"Hiawatha","Hiawatha","070400080208","Middle Branch Root River","Middle Branch Root River"]
["Dev: DBParsing_231030_v01.xlsm","kR66lKfjeNGS4JjejZoD","2023-06-26T19:45:47","2023-06-26T13:45:47","2023-06-26",2023,6,"80reiKTTqGYqqpgYAhPwqypFwak1",null,-92.342343524256719,43.77359433856342,null,"2023-06-26 14:45:47.693003.jpg-0",1,null,1,240,180,null,null,8,1,0,1,61,1,0,5,"River/Stream","None",0,0,0,0,0,0,0,1,0,"Baseflow",1,"Clear",1,"None",0,0,0,0,0,"seeing a rise or two. warmer than I expected.  ",1,"Absent","Absent","Absent","Absent","Absent","Absent","Absent","Present","Recorded","Kedron Creek","Kedron Creek",1,"","Hiawatha","Hiawatha","070400080203","Kedron Creek","Middle Branch Root River"]
["Dev: DBParsing_231030_v01.xlsm","rt5EbgLw9un8lMO6xrzx","2023-06-26T16:49:58","2023-06-26T10:49:58","2023-06-26",2023,6,"7NTXAgPEn9VYyuIA3Cp8vDW3NQX2",null,-91.137457299999994,43.075218100000001,null,"",0,null,1,240,180,null,null,8,1,0,1,57,1,0,0,"River/Stream","Bank Erosion",0,1,0,0,0,0,0,0,0,"Baseflow",1,"Clear",1,"None",0,0,0,0,0,null,0,"Absent","Present","Absent","Absent","Absent","Absent","Absent","Absent","Recorded",0,0,"","","Coulee Region","TU Staff","070600011003","City of Prairie du Chien-Mississippi River","Bloody Run-Mississippi River"]
["Dev: DBParsing_231030_v01.xlsm","8y0rfBAMP9vVNCWJ32e1","2023-06-26T13:53:39","2023-06-26T07:53:39","2023-06-26",2023,6,"cJZVjbWzjsRfePMeXT5aflRnGhh1","Trout Brook",-92.802850199999995,44.543082300000002,null,"",0,null,1,240,180,null,null,7,1,100,1,54,1,0,5,"River/Stream","",-1,-1,-1,-1,-1,-1,-1,-1,1,"Baseflow",1,"Clear",1,"Regional Rainfall",1,0,0,0,0,null,0,"No Data","No Data","No Data","No Data","No Data","No Data","No Data","No Data","No Data","Cannon River","Cannon River",1,1,"Twin Cities","TCTU","070400020902","Trout Brook","Lower Cannon River"]
["Dev: DBParsing_231030_v01.xlsm","N9NVHS44fv8y9TFxEy6i","2023-06-26T13:34:44","2023-06-26T07:34:44","2023-06-26",2023,6,"jhGh651Hl7cRangRQ2zqYMCZHdv1",null,-91.141120907481323,43.111426653930003,null,"2023-06-26 08:34:44.207355.jpg-0",1,null,1,240,180,null,null,8,1,0,1,59,1,0,0,"River/Stream","None",0,0,0,0,0,0,0,1,0,"Baseflow",1,"Clear",1,"None",0,0,0,0,0,null,0,"Absent","Absent","Absent","Absent","Absent","Absent","Absent","Present","Recorded",0,0,"",1,"Coulee Region","TU Staff","070600011003","City of Prairie du Chien-Mississippi River","Bloody Run-Mississippi River"]
["Dev: DBParsing_231030_v01.xlsm","xpF60Yb2lD58kG85mZUU","2023-06-25T18:33:34","2023-06-25T12:33:34","2023-06-25",2023,6,"VHRlmHCbVSYpoT7Xubj2OGSvIFl1","SF Kinnickinnic River @ 900th St",-92.645081643113343,44.843590094481108,null,"2023-06-25 13:33:33.845408.jpg-0",1,null,1,240,180,null,null,8,1,100,1,60,1,0,0,"River/Stream","None",0,0,0,0,0,0,0,1,0,"Baseflow",1,"Clear",1,"Regional Rainfall",1,0,0,0,0,"72 degrees air temp, heavy rain last night",1,"Absent","Absent","Absent","Absent","Absent","Absent","Absent","Present","Recorded","Kinnickinnic River","Kinnickinnic River",1,"","Kiap TU Wish","Kiap-TU-Wish","070300051105","Lower Kinnickinnic Pond-Kinnickinnic River","Kinnickinnic River"]
["Dev: DBParsing_231030_v01.xlsm","3kbCjNoHv3rxP5PxUYQR","2023-06-25T14:28:19","2023-06-25T08:28:19","2023-06-25",2023,6,"H4dZvxTdViejefqREn5k066JVZG3",null,-92.236309711717425,44.230661749796589,null,"2023-06-25 09:28:19.713181.jpg-0",1,null,1,240,120,null,null,8,1,100,1,58,1,0,5,"River/Stream","None",0,0,0,0,0,0,0,1,0,"Baseflow",1,"Clear",1,"Regional Rainfall",1,0,0,0,0,"long creek downstream from Wabasha county 8 bridge ",1,"Absent","Absent","Absent","Absent","Absent","Absent","Absent","Present","Recorded","Long Creek","Long Creek",1,1,"Hiawatha","Hiawatha","070400040505","Long Creek","Zumbro River"]
["Dev: DBParsing_231030_v01.xlsm","N9TRY2iQ4J1BweymzZVT","2023-06-24T16:36:08","2023-06-24T10:36:08","2023-06-24",2023,6,"f7qMRlnlkOgrA1xpaxXrTTeRGWX2",null,-92.732211298853287,44.831047659909785,null,"",0,null,1,240,180,null,null,8,1,0,1,65,1,0,5,"River/Stream","Bank Erosion,Trash",0,1,1,0,0,0,0,0,0,"Baseflow",1,"Clear",1,"None",0,0,0,0,0,"Secchi Tube > 100 cm",1,"Absent","Present","Present","Absent","Absent","Absent","Absent","Absent","Recorded","Kinnickinnic River","Kinnickinnic River",1,"","Kiap TU Wish","Kiap-TU-Wish","070300051105","Lower Kinnickinnic Pond-Kinnickinnic River","Kinnickinnic River"]
["Dev: DBParsing_231030_v01.xlsm","EB3BFmT0DKUIvMl32WbJ","2023-06-22T23:52:58","2023-06-22T17:52:58","2023-06-22",2023,6,"JXs3JH9frrZM0ZdjV8qFZY0NE3P2","SF Kinnickinnic River @ 900th St",-92.583498128968742,44.84881926792167,null,"",0,null,0,"",null,null,null,null,0,null,1,62,1,0,2,"River/Stream","",-1,-1,-1,-1,-1,-1,-1,-1,1,"Baseflow",1,"Clear",1,"None",0,0,0,0,0,null,0,"No Data","No Data","No Data","No Data","No Data","No Data","No Data","No Data","No Data","South Fork Kinnickinnic River","South Fork Kinnickinnic River",1,1,"Kiap TU Wish","Kiap-TU-Wish","070300051103","South Fork Kinnickinnic River","Kinnickinnic River"]
["Dev: DBParsing_231030_v01.xlsm","Rwe0CcNdpEwtp2NGbOBl","2023-06-22T20:15:27","2023-06-22T14:15:27","2023-06-22",2023,6,"7NTXAgPEn9VYyuIA3Cp8vDW3NQX2",null,-90.804896400000004,43.124659600000001,null,"",0,null,1,240,120,null,null,9,1,0,1,72,1,0,2,"River/Stream","None",0,0,0,0,0,0,0,1,0,"Baseflow",1,"Clear",1,"None",0,0,0,0,0,null,0,"Absent","Absent","Absent","Absent","Absent","Absent","Absent","Present","Recorded",0,0,"",1,"Coulee Region","TU Staff","070700051707","Clear Creek-Wisconsin River","City of Boscobel-Wisconsin River"]
["Dev: DBParsing_231030_v01.xlsm","tdOOX3gtFoI0pvR8fa0s","2023-06-22T19:41:21","2023-06-22T13:41:21","2023-06-22",2023,6,"3XObfMb7QSfrAYng16E97lQdZ3k1",null,-91.088397700000002,44.2198061,null,"2023-06-22 14:41:21.019240.jpg-0",1,null,1,180,60,null,null,6.5,1,0,1,69,1,0,0,"River/Stream","Bank Erosion",0,1,0,0,0,0,0,0,0,"Baseflow",1,"Clear",1,"None",0,0,0,0,0,null,0,"Absent","Present","Absent","Absent","Absent","Absent","Absent","Absent","Recorded","North Fork Beaver Creek","North Fork Beaver Creek",1,1,"Coulee Region","TU Staff","070400071102","North Fork of Beaver Creek","Beaver Creek"]
["Dev: DBParsing_231030_v01.xlsm","r2qx3NjxTKYZnJogCIZc","2023-06-22T19:11:48","2023-06-22T13:11:48","2023-06-22",2023,6,"b5Q5MWoIy9OOBrhn8HbZMPPsGST2",null,-91.988372680734955,43.693192536545482,null,"2023-06-22 14:11:48.138569.jpg-0",1,null,1,180,180,null,null,8,1,100,0,null,1,0,0,"River/Stream","Bank Erosion",0,1,0,0,0,0,0,0,0,"Baseflow",1,"Clear",1,"None",0,0,0,0,0,"Duschee Creek",1,"Absent","Present","Absent","Absent","Absent","Absent","Absent","Absent","Recorded","Duschee Creek","Duschee Creek",1,"","Hiawatha","Agency/University","070400080409","Duschee Creek","South Branch Root River"]
["Dev: DBParsing_231030_v01.xlsm","cb8v828iMxs8svEr0i9x","2023-06-22T18:50:54","2023-06-22T12:50:54","2023-06-22",2023,6,"3XObfMb7QSfrAYng16E97lQdZ3k1",null,-91.121549299999998,44.212505,null,"2023-06-22 13:50:54.563024.jpg-0",1,null,1,180,60,null,null,6.5,1,300,1,65,1,0,2,"River/Stream","None",0,0,0,0,0,0,0,1,0,"Baseflow",1,"Clear",1,"None",0,0,0,0,0,null,0,"Absent","Absent","Absent","Absent","Absent","Absent","Absent","Present","Recorded","Little Creek","Little Creek",1,1,"Wisconsin Clear Water","TU Staff","070400071102","North Fork of Beaver Creek","Beaver Creek"]
["Dev: DBParsing_231030_v01.xlsm","F5Fgot1sUAiYboP77VKQ","2023-06-22T18:25:59","2023-06-22T12:25:59","2023-06-22",2023,6,"3XObfMb7QSfrAYng16E97lQdZ3k1",null,-91.137148100000005,44.2087444,null,"2023-06-22 13:25:59.789861.jpg-0",1,null,1,120,60,null,null,6.5,1,100,1,65,1,0,2,"River/Stream","None",0,0,0,0,0,0,0,1,0,"Baseflow",1,"Clear",1,"None",0,0,0,0,0,null,0,"Absent","Absent","Absent","Absent","Absent","Absent","Absent","Present","Recorded","Columbus Creek","Columbus Creek",1,1,"Wisconsin Clear Water","TU Staff","070400071102","North Fork of Beaver Creek","Beaver Creek"]
["Dev: DBParsing_231030_v01.xlsm","8vRgD7L2ylGFVkpLVk10","2023-06-22T16:48:22","2023-06-22T10:48:22","2023-06-22",2023,6,"jhGh651Hl7cRangRQ2zqYMCZHdv1",null,-90.661319105578642,43.227140558159078,null,"2023-06-22 11:48:21.895532.jpg-0",1,null,1,180,180,null,null,7,1,0,1,53,1,0,1,"River/Stream","None",0,0,0,0,0,0,0,1,0,"Baseflow",1,"Clear",1,"None",0,0,0,0,0,null,0,"Absent","Absent","Absent","Absent","Absent","Absent","Absent","Present","Recorded","Gobin Hollow","Gobin Hollow",1,"","Harry & Laura Nohr","TU Staff","070700051504","Lower Knapp Creek","Knapp Creek"]
["Dev: DBParsing_231030_v01.xlsm","U6Pmb67oZIlDkZTnujR2","2023-06-22T15:25:39","2023-06-22T09:25:39","2023-06-22",2023,6,"VQ9bNtzttGcXOEuaXrEAEYLfT103",null,-91.581080200000002,43.641432799999997,null,"",0,null,1,240,60,null,null,7.5,1,0,1,51,1,0,1,"River/Stream","None",0,0,0,0,0,0,0,1,0,"Baseflow",1,"Clear",1,"None",0,0,0,0,0,null,0,"Absent","Absent","Absent","Absent","Absent","Absent","Absent","Present","Recorded","Beaver Creek East","Beaver Creek East",1,"","Win Cres","Hiawatha","070400080805","Beaver Creek","South Fork Root River"]
["Dev: DBParsing_231030_v01.xlsm","Nskz03jdkhlpm2wl3zSB","2023-06-22T14:48:31","2023-06-22T08:48:31","2023-06-22",2023,6,"VQ9bNtzttGcXOEuaXrEAEYLfT103","",-91.373392600000003,43.6035507,null,"",0,null,1,240,60,null,null,7.5,1,0,1,62,1,0,2,"River/Stream","None",0,0,0,0,0,0,0,1,0,"Baseflow",1,"Clear",1,"None",0,0,0,0,0,null,0,"Absent","Absent","Absent","Absent","Absent","Absent","Absent","Present","Recorded","Crooked Creek","Crooked Creek",1,"","Win Cres","Hiawatha","070600010203","Clear Creek-Crooked Creek","Crooked Creek"]
["Dev: DBParsing_231030_v01.xlsm","Op3JqW9PgBRlFk59QqhO","2023-06-22T14:12:59","2023-06-22T08:12:59","2023-06-22",2023,6,"VQ9bNtzttGcXOEuaXrEAEYLfT103",null,-91.413131800000002,43.540520600000001,null,"",0,null,1,240,0,null,null,7,1,0,1,59,1,0,2,"River/Stream","None",0,0,0,0,0,0,0,1,0,"Baseflow",1,"Clear",1,"None",0,0,0,0,0,null,0,"Absent","Absent","Absent","Absent","Absent","Absent","Absent","Present","Recorded","Winnebago Creek","Winnebago Creek",1,1,"Win Cres","Hiawatha","070600010401","Upper Winnebago Creek","Winnebago Creek"]
["Dev: DBParsing_231030_v01.xlsm","S57ikJ5cAQErvow3WkW7","2023-06-22T13:47:59","2023-06-22T07:47:59","2023-06-22",2023,6,"3XObfMb7QSfrAYng16E97lQdZ3k1",null,-91.178112999999996,44.210698399999998,null,"2023-06-22 08:47:59.105104.jpg-0",1,null,1,240,0,null,null,6.5,1,300,1,62,1,0,2,"River/Stream","None",0,0,0,0,0,0,0,1,0,"Baseflow",1,"Clear",1,"None",0,0,0,0,0,null,0,"Absent","Absent","Absent","Absent","Absent","Absent","Absent","Present","Recorded","North Fork Beaver Creek","North Fork Beaver Creek",1,1,"Wisconsin Clear Water","TU Staff","070400071102","North Fork of Beaver Creek","Beaver Creek"]
["Dev: DBParsing_231030_v01.xlsm","m1XWzsyUrkUAawJkzXFQ","2023-06-22T13:25:11","2023-06-22T07:25:11","2023-06-22",2023,6,"VQ9bNtzttGcXOEuaXrEAEYLfT103",null,-91.569919600000006,43.502389999999998,null,"",0,null,1,240,120,null,null,7.5,1,0,1,51,1,0,0,"River/Stream","None",0,0,0,0,0,0,0,1,0,"Baseflow",1,"Clear",1,"None",0,0,0,0,0,null,0,"Absent","Absent","Absent","Absent","Absent","Absent","Absent","Present","Recorded","Bee Creek","Bee Creek",1,1,"Win Cres","Hiawatha","070600020502","Waterloo Creek","Bear Creek"]
["Dev: DBParsing_231030_v01.xlsm","DTnPlV5HwzqDGSDyBKWt","2023-06-21T22:45:03","2023-06-21T16:45:03","2023-06-21",2023,6,"3XObfMb7QSfrAYng16E97lQdZ3k1",null,-91.176823099999993,44.206634399999999,null,"2023-06-21 17:45:02.990906.jpg-0",1,null,1,180,120,null,null,7,1,200,1,66,1,0,2,"River/Stream","None",0,0,0,0,0,0,0,1,0,"Baseflow",1,"Clear",1,"None",0,0,0,0,0,null,0,"Absent","Absent","Absent","Absent","Absent","Absent","Absent","Present","Recorded","Washington Coulee Creek","Washington Coulee Creek",1,1,"Wisconsin Clear Water","TU Staff","070400071102","North Fork of Beaver Creek","Beaver Creek"]
["Dev: DBParsing_231030_v01.xlsm","Um58GvP3RhsIvDNbG4us","2023-06-21T21:27:58","2023-06-21T15:27:58","2023-06-21",2023,6,"Qa8zCFJze3TAFBtRlCzL60f4jez2","Rush River @ 570th Ave",-92.331206625329244,44.745992895304489,null,"2023-06-21 16:27:58.354164.jpg-0",1,null,1,240,180,null,null,8,0,null,0,null,1,0,2,null,"",-1,-1,-1,-1,-1,-1,-1,-1,1,"Baseflow",1,"Clear",1,"",-1,-1,-1,-1,1,null,0,"No Data","No Data","No Data","No Data","No Data","No Data","No Data","No Data","No Data","Rush River","Rush River",1,1,"Kiap TU Wish","Kiap-TU-Wish","070400010505","Brush Creek-Rush River","Rush River"]
["Dev: DBParsing_231030_v01.xlsm","RupVWPcTngIPGt2ar8Zx","2023-06-21T21:01:52","2023-06-21T15:01:52","2023-06-21",2023,6,"3XObfMb7QSfrAYng16E97lQdZ3k1","Other Locations",-91.256931899999998,44.179817399999997,null,"2023-06-21 16:01:52.398091.jpg-0",1,null,1,240,120,null,null,8,1,200,1,70,1,0,2,"River/Stream","Fish Barrier",1,0,0,0,0,0,0,0,0,"Baseflow",1,"Clear",1,"None",0,0,0,0,0,null,0,"Present","Absent","Absent","Absent","Absent","Absent","Absent","Absent","Recorded","North Fork Beaver Creek","North Fork Beaver Creek",1,1,"Wisconsin Clear Water","TU Staff","070400071102","North Fork of Beaver Creek","Beaver Creek"]
["Dev: DBParsing_231030_v01.xlsm","9ry6yM6zvJsMm3sl40HO","2023-06-21T20:24:29","2023-06-21T14:24:29","2023-06-21",2023,6,"jhGh651Hl7cRangRQ2zqYMCZHdv1",null,-90.797316913261895,43.272741632307792,null,"2023-06-21 15:24:29.647240.jpg-0",1,null,1,240,180,null,null,7.5,1,0,1,65,1,0,1,"River/Stream","Algal Bloom",0,0,0,0,0,1,0,0,0,"Baseflow",1,"Clear",1,"None",0,0,0,0,0,null,0,"Absent","Absent","Absent","Absent","Absent","Present","Absent","Absent","Recorded","Crow Hollow","Crow Hollow",1,"","Coulee Region","TU Staff","070700060502","Crow Hollow-Kickapoo River","Kickapoo River"]
["Dev: DBParsing_231030_v01.xlsm","MVZCdsAvJHLX0vQbGdHA","2023-06-21T20:09:22","2023-06-21T14:09:22","2023-06-21",2023,6,"3XObfMb7QSfrAYng16E97lQdZ3k1",null,-91.270819500000002,44.1677271,null,"2023-06-21 15:09:22.475471.jpg-0",1,null,1,240,120,null,null,7,1,300,1,68,1,0,2,"River/Stream","None",0,0,0,0,0,0,0,1,0,"Baseflow",1,"Murky",1,"None",0,0,0,0,0,null,0,"Absent","Absent","Absent","Absent","Absent","Absent","Absent","Present","Recorded","North Fork Beaver Creek","North Fork Beaver Creek",1,1,"Wisconsin Clear Water","TU Staff","070400071102","North Fork of Beaver Creek","Beaver Creek"]
["Dev: DBParsing_231030_v01.xlsm","vvWRtr9P6wqfWtn5Npg6","2023-06-21T19:28:51","2023-06-21T13:28:51","2023-06-21",2023,6,"3XObfMb7QSfrAYng16E97lQdZ3k1",null,-91.267724599999994,44.164810500000002,null,"2023-06-21 14:28:51.731861.jpg-0",1,null,1,240,120,null,null,8,1,200,1,69,1,0,0,"River/Stream","None",0,0,0,0,0,0,0,1,0,"Baseflow",1,"Clear",1,"None",0,0,0,0,0,null,0,"Absent","Absent","Absent","Absent","Absent","Absent","Absent","Present","Recorded","Smikrud Coulee","Smikrud Coulee",1,1,"Wisconsin Clear Water","TU Staff","070400071101","South Fork of Beaver Creek","Beaver Creek"]
["Dev: DBParsing_231030_v01.xlsm","nNo4Qp9SuM1HFOzIagqq","2023-06-21T19:01:28","2023-06-21T13:01:28","2023-06-21",2023,6,"3XObfMb7QSfrAYng16E97lQdZ3k1",null,-91.267487399999993,44.162001799999999,null,"2023-06-21 14:01:27.961130.jpg-0",1,null,1,240,60,null,null,7,1,100,1,70,1,0,0,"River/Stream","Fish Barrier",1,0,0,0,0,0,0,0,0,"Baseflow",1,"Clear",1,"None",0,0,0,0,0,null,0,"Present","Absent","Absent","Absent","Absent","Absent","Absent","Absent","Recorded","Smikrud Coulee","Smikrud Coulee","","","Wisconsin Clear Water","TU Staff","070400071101","South Fork of Beaver Creek","Beaver Creek"]
["Dev: DBParsing_231030_v01.xlsm","JWy5ZJdPMSHTZTxIPka1","2023-06-21T18:28:21","2023-06-21T12:28:21","2023-06-21",2023,6,"jhGh651Hl7cRangRQ2zqYMCZHdv1",null,-90.767875010670082,43.270578395966211,null,"2023-06-21 13:28:20.995064.jpg-0",1,null,1,240,120,null,null,8,1,0,1,63,1,0,2,"River/Stream","None",0,0,0,0,0,0,0,1,0,"Baseflow",1,"Clear",1,"None",0,0,0,0,0,null,0,"Absent","Absent","Absent","Absent","Absent","Absent","Absent","Present","Recorded",0,0,1,"","Coulee Region","TU Staff","070700060502","Crow Hollow-Kickapoo River","Kickapoo River"]
["Dev: DBParsing_231030_v01.xlsm","q9h6ZqL2ARMNyAFAK0Ta","2023-06-21T16:51:39","2023-06-21T10:51:39","2023-06-21",2023,6,"3XObfMb7QSfrAYng16E97lQdZ3k1",null,-91.247623200000007,44.143129000000002,null,"2023-06-21 11:51:39.092697.jpg-0",1,null,1,240,120,null,null,7,1,100,1,59,1,0,0,"River/Stream","None",0,0,0,0,0,0,0,1,0,"Baseflow",1,"Murky",1,"None",0,0,0,0,0,null,0,"Absent","Absent","Absent","Absent","Absent","Absent","Absent","Present","Recorded","Stensven Coulee","Stensven Coulee","","","Wisconsin Clear Water","TU Staff","070400071101","South Fork of Beaver Creek","Beaver Creek"]
["Dev: DBParsing_231030_v01.xlsm","WgrPU5LmPJnXRotxKFUA","2023-06-21T16:22:54","2023-06-21T10:22:54","2023-06-21",2023,6,"b5Q5MWoIy9OOBrhn8HbZMPPsGST2",null,-91.836482656691899,43.628168251541261,null,"2023-06-21 11:22:54.022180.jpg-0",1,null,1,240,0,null,null,7,1,200,0,null,1,0,2,"River/Stream","Bank Erosion",0,1,0,0,0,0,0,0,0,"Baseflow",1,"Clear",1,"None",0,0,0,0,0,"South Fork Root",1,"Absent","Present","Absent","Absent","Absent","Absent","Absent","Absent","Recorded","South Fork Root River","South Fork Root River",1,1,"Hiawatha","Agency/University","070400080801","Upper Souh Fork Root River","South Fork Root River"]
["Dev: DBParsing_231030_v01.xlsm","g8Kphicpvbz5bVFE4hti","2023-06-21T16:02:03","2023-06-21T10:02:03","2023-06-21",2023,6,"jhGh651Hl7cRangRQ2zqYMCZHdv1",null,-90.830814668518244,43.290593918436905,null,"2023-06-21 11:02:03.408884.jpg-0",1,null,1,180,180,null,null,7.5,1,0,1,60,1,0,2,"River/Stream","None",0,0,0,0,0,0,0,1,0,"Baseflow",1,"Clear",1,"None",0,0,0,0,0,null,0,"Absent","Absent","Absent","Absent","Absent","Absent","Absent","Present","Recorded","Sand Creek","Sand Creek","","","Coulee Region","TU Staff","070700060502","Crow Hollow-Kickapoo River","Kickapoo River"]
["Dev: DBParsing_231030_v01.xlsm","91klfQHKTohXshaDqIKf","2023-06-21T12:57:52","2023-06-21T06:57:52","2023-06-21",2023,6,"jhGh651Hl7cRangRQ2zqYMCZHdv1",null,-90.778774647074258,43.316415675993667,null,"2023-06-21 07:57:52.783157.jpg-0",1,null,1,180,180,null,null,7.5,1,0,1,51,1,0,1,"River/Stream","None",0,0,0,0,0,0,0,1,0,"Baseflow",1,"Clear",1,"None",0,0,0,0,0,null,0,"Absent","Absent","Absent","Absent","Absent","Absent","Absent","Present","Recorded","Sand Creek","Sand Creek","","","Coulee Region","TU Staff","070700060502","Crow Hollow-Kickapoo River","Kickapoo River"]
["Dev: DBParsing_231030_v01.xlsm","CHSC9L4iU5Rh0o3I4XBi","2023-06-20T20:10:09","2023-06-20T14:10:09","2023-06-20",2023,6,"3XObfMb7QSfrAYng16E97lQdZ3k1",null,-91.198251600000006,44.175909599999997,null,"2023-06-20 15:10:09.521329.jpg-0",1,null,1,240,180,null,null,7,1,0,1,57,1,0,1,"River/Stream","None",0,0,0,0,0,0,0,1,0,"Baseflow",1,"Clear",1,"None",0,0,0,0,0,null,0,"Absent","Absent","Absent","Absent","Absent","Absent","Absent","Present","Recorded",0,0,"","","Wisconsin Clear Water","TU Staff","070400071101","South Fork of Beaver Creek","Beaver Creek"]
["Dev: DBParsing_231030_v01.xlsm","OoHcs74OnQVNqtD88phM","2023-06-20T18:04:40","2023-06-20T12:04:40","2023-06-20",2023,6,"7NTXAgPEn9VYyuIA3Cp8vDW3NQX2",null,-90.695232599999997,43.213055199999999,null,"",0,null,1,240,120,null,null,7.5,1,0,1,54,1,0,2,"River/Stream","None",0,0,0,0,0,0,0,1,0,"Baseflow",1,"Clear",1,"None",0,0,0,0,0,null,0,"Absent","Absent","Absent","Absent","Absent","Absent","Absent","Present","Recorded",0,0,1,"","Harry & Laura Nohr","TU Staff","070700051504","Lower Knapp Creek","Knapp Creek"]
["Dev: DBParsing_231030_v01.xlsm","OTAUUGRz7y1jZww1zSf6","2023-06-20T17:49:12","2023-06-20T11:49:12","2023-06-20",2023,6,"3XObfMb7QSfrAYng16E97lQdZ3k1",null,-91.199291500000001,44.161563100000002,null,"2023-06-20 12:49:12.207067.jpg-0",1,null,1,180,120,null,null,7,1,200,1,62,1,0,1,"River/Stream","None",0,0,0,0,0,0,0,1,0,"Baseflow",1,"Clear",1,"None",0,0,0,0,0,null,0,"Absent","Absent","Absent","Absent","Absent","Absent","Absent","Present","Recorded","Salzwedel Coulee Creek","Salzwedel Coulee Creek",1,"","Wisconsin Clear Water","TU Staff","070400071101","South Fork of Beaver Creek","Beaver Creek"]
["Dev: DBParsing_231030_v01.xlsm","zwKIks57bW4O0vtOvVSf","2023-06-20T16:05:16","2023-06-20T10:05:16","2023-06-20",2023,6,"jhGh651Hl7cRangRQ2zqYMCZHdv1",null,-90.700164915325885,43.169932901362664,null,"2023-06-20 11:05:16.509721.jpg-0",1,null,1,180,60,null,null,8,1,0,1,65,1,0,0,"River/Stream","None",0,0,0,0,0,0,0,1,0,"Baseflow",1,"Murky",1,"None",0,0,0,0,0,null,0,"Absent","Absent","Absent","Absent","Absent","Absent","Absent","Present","Recorded","Richland Creek","Richland Creek",1,"","Harry & Laura Nohr","TU Staff","070700051703","Richland Creek","City of Boscobel-Wisconsin River"]
["Dev: DBParsing_231030_v01.xlsm","QdPBs4odNwHf6WwSfmIM","2023-06-20T14:39:16","2023-06-20T08:39:16","2023-06-20",2023,6,"3XObfMb7QSfrAYng16E97lQdZ3k1",null,-91.207639900000004,44.157521699999997,null,"2023-06-20 09:39:15.950574.jpg-0",1,null,1,240,120,null,null,7,1,200,1,57,1,0,1,"River/Stream","Bank Erosion",0,1,0,0,0,0,0,0,0,"Baseflow",1,"Muddy",1,"None",0,0,0,0,0,null,0,"Absent","Present","Absent","Absent","Absent","Absent","Absent","Absent","Recorded","Salzwedel Coulee Creek","Salzwedel Coulee Creek",1,"","Wisconsin Clear Water","TU Staff","070400071101","South Fork of Beaver Creek","Beaver Creek"]
["Dev: DBParsing_231030_v01.xlsm","Vj5HBGXb4E3O1TU0s9hx","2023-06-20T12:35:12","2023-06-20T06:35:12","2023-06-20",2023,6,"7NTXAgPEn9VYyuIA3Cp8vDW3NQX2",null,-90.772642399999995,43.200864199999998,null,"2023-06-20 07:35:12.433812.jpg-0",1,null,1,240,180,null,null,7,1,0,1,50,1,0,1,"River/Stream","None",0,0,0,0,0,0,0,1,0,"Baseflow",1,"Clear",1,"None",0,0,0,0,0,"water overtopping gravel road, no structure",1,"Absent","Absent","Absent","Absent","Absent","Absent","Absent","Present","Recorded",0,0,"","","Harry & Laura Nohr","TU Staff","070700051703","Richland Creek","City of Boscobel-Wisconsin River"]
["Dev: DBParsing_231030_v01.xlsm","2xLfCN3C6mZAcIneZUEu","2023-06-19T23:21:17","2023-06-19T17:21:17","2023-06-19",2023,6,"H4dZvxTdViejefqREn5k066JVZG3","",-92.149199310850875,44.248784133971881,null,"2023-06-19 18:21:17.512514.jpg-0",1,null,1,240,120,null,null,7,1,100,1,68,1,0,1,"River/Stream","None",0,0,0,0,0,0,0,1,0,"Baseflow",1,"Clear",1,"None",0,0,0,0,0,"West Indian Creek - looks very pretty",1,"Absent","Absent","Absent","Absent","Absent","Absent","Absent","Present","Recorded","West Indian Creek","West Indian Creek",1,1,"Hiawatha","Hiawatha","070400040510","West Indian Creek","Zumbro River"]
["Dev: DBParsing_231030_v01.xlsm","kNTB32XrhPPJwVEULeCJ","2023-06-19T22:00:12","2023-06-19T16:00:12","2023-06-19",2023,6,"3XObfMb7QSfrAYng16E97lQdZ3k1",null,-91.180989400000001,44.147498800000001,null,"2023-06-19 17:00:12.852987.jpg-0",1,null,1,240,60,null,null,7.5,1,300,1,60,1,0,1,"River/Stream","None",0,0,0,0,0,0,0,1,0,"Baseflow",1,"Muddy",1,"Regional Rainfall",1,0,0,0,0,null,0,"Absent","Absent","Absent","Absent","Absent","Absent","Absent","Present","Recorded",0,0,"",1,"Wisconsin Clear Water","TU Staff","070400071101","South Fork of Beaver Creek","Beaver Creek"]
["Dev: DBParsing_231030_v01.xlsm","quuWceP0eB0264tWpUtx","2023-06-19T21:31:38","2023-06-19T15:31:38","2023-06-19",2023,6,"jhGh651Hl7cRangRQ2zqYMCZHdv1",null,-90.740018930610944,43.186739335110907,null,"2023-06-19 16:31:38.163108.jpg-0",1,null,1,240,120,null,null,8,1,0,1,67,1,0,0,"River/Stream","None",0,0,0,0,0,0,0,1,0,"Baseflow",1,"Clear",1,"None",0,0,0,0,0,null,0,"Absent","Absent","Absent","Absent","Absent","Absent","Absent","Present","Recorded","Richland Creek","Richland Creek",1,"","Harry & Laura Nohr","TU Staff","070700051703","Richland Creek","City of Boscobel-Wisconsin River"]
["Dev: DBParsing_231030_v01.xlsm","onS8Youd8AzLP0BtOBpb","2023-06-19T21:13:22","2023-06-19T15:13:22","2023-06-19",2023,6,"3XObfMb7QSfrAYng16E97lQdZ3k1",null,-91.182123399999995,44.1414616,null,"2023-06-19 16:13:21.924608.jpg-0",1,null,1,240,60,null,null,7,1,100,1,67,1,0,0,"River/Stream","Pipe/Drain Outflow",0,0,0,1,0,0,0,0,0,"Baseflow",1,"Clear",1,"Regional Rainfall",1,0,0,0,0,null,0,"Absent","Absent","Absent","Present","Absent","Absent","Absent","Absent","Recorded","South Fork Beaver Creek","South Fork Beaver Creek",1,1,"Wisconsin Clear Water","TU Staff","070400071101","South Fork of Beaver Creek","Beaver Creek"]
["Dev: DBParsing_231030_v01.xlsm","Xqm1PN6Zxm18nj2dpfSj","2023-06-19T20:05:09","2023-06-19T14:05:09","2023-06-19",2023,6,"3XObfMb7QSfrAYng16E97lQdZ3k1",null,-91.161557700000003,44.1158182,null,"",0,null,1,240,120,null,null,8,1,0,1,64,1,0,2,"River/Stream","Fish Barrier",1,0,0,0,0,0,0,0,0,"Baseflow",1,"Clear",1,"Regional Rainfall",1,0,0,0,0,null,0,"Present","Absent","Absent","Absent","Absent","Absent","Absent","Absent","Recorded","Peacock Road Coulee","Peacock Road Coulee","","","Wisconsin Clear Water","TU Staff","070400071101","South Fork of Beaver Creek","Beaver Creek"]
["Dev: DBParsing_231030_v01.xlsm","QLzLn6Qwd0YOzhFRJ2og","2023-06-19T19:29:03","2023-06-19T13:29:03","2023-06-19",2023,6,"3XObfMb7QSfrAYng16E97lQdZ3k1",null,-91.1571,44.136182400000003,null,"2023-06-19 14:29:02.980557.jpg-0",1,null,1,240,120,null,null,6.5,1,0,1,66,1,0,1,"River/Stream","None",0,0,0,0,0,0,0,1,0,"Baseflow",1,"Murky",1,"Regional Rainfall",1,0,0,0,0,null,0,"Absent","Absent","Absent","Absent","Absent","Absent","Absent","Present","Recorded","Peacock Road Coulee","Peacock Road Coulee",1,"","Wisconsin Clear Water","TU Staff","070400071101","South Fork of Beaver Creek","Beaver Creek"]
["Dev: DBParsing_231030_v01.xlsm","PYxiKBBXC1ambMH1GlHT","2023-06-19T18:35:04","2023-06-19T12:35:04","2023-06-19",2023,6,"jhGh651Hl7cRangRQ2zqYMCZHdv1",null,-90.716382693475921,43.236810476554673,null,"2023-06-19 13:35:04.635250.jpg-0",1,null,1,240,120,null,null,7,1,0,1,64,1,0,1,"River/Stream","None",0,0,0,0,0,0,0,1,0,"Baseflow",1,"Clear",1,"None",0,0,0,0,0,null,0,"Absent","Absent","Absent","Absent","Absent","Absent","Absent","Present","Recorded",0,0,"","","Harry & Laura Nohr","TU Staff","070700051703","Richland Creek","City of Boscobel-Wisconsin River"]
["Dev: DBParsing_231030_v01.xlsm","HlkiTM5cJqWIiT30xbSZ","2023-06-19T16:56:08","2023-06-19T10:56:08","2023-06-19",2023,6,"wOnBJTAV2CZK06CRnr5oUK45EDv1",null,-89.592755930581674,43.435710766393392,null,"2023-06-19 11:56:08.885742.jpg-0",1,null,1,240,0,null,null,7.5,1,200,1,57,0,"","","River/Stream","None",0,0,0,0,0,0,0,1,0,"Baseflow",1,"Clear",1,"None",0,0,0,0,0,null,0,"Absent","Absent","Absent","Absent","Absent","Absent","Absent","Present","Recorded",0,0,1,1,"Aldo Leopold","US FWS","070700050205","Prentice Creek-Wisconsin River","Prairie du Sac Dam-Wisconsin River"]
["Dev: DBParsing_231030_v01.xlsm","MXKU2rSSwr0ClEg9YuJJ","2023-06-19T15:32:33","2023-06-19T09:32:33","2023-06-19",2023,6,"3XObfMb7QSfrAYng16E97lQdZ3k1",null,-91.127074899999997,44.1489914,null,"2023-06-19 10:32:33.795659.jpg-02023-06-19 10:32:33.795659.jpg-1",1,null,1,240,60,null,null,7,1,0,1,57,1,0,1,"River/Stream","Fish Barrier,Bank Erosion",1,1,0,0,0,0,0,0,0,"Baseflow",1,"Clear",1,"Regional Rainfall",1,0,0,0,0,null,0,"Present","Present","Absent","Absent","Absent","Absent","Absent","Absent","Recorded","German Coulee","German Coulee","","","Coulee Region","TU Staff","070400071101","South Fork of Beaver Creek","Beaver Creek"]
["Dev: DBParsing_231030_v01.xlsm","uaGZgUCZ2CJiMP84Q9hV","2023-06-19T15:26:44","2023-06-19T09:26:44","2023-06-19",2023,6,"7NTXAgPEn9VYyuIA3Cp8vDW3NQX2",null,-90.755848999999998,43.235471500000003,null,"",0,null,1,240,180,null,null,7.5,1,0,1,62,1,0,0,"River/Stream","None",0,0,0,0,0,0,0,1,0,"Baseflow",1,"Clear",1,"None",0,0,0,0,0,null,0,"Absent","Absent","Absent","Absent","Absent","Absent","Absent","Present","Recorded","Richland Creek","Richland Creek",1,"","Harry & Laura Nohr","TU Staff","070700051703","Richland Creek","City of Boscobel-Wisconsin River"]
["Dev: DBParsing_231030_v01.xlsm","nr7ORHxwfJ9hAuRpwK6s","2023-06-19T14:11:21","2023-06-19T08:11:21","2023-06-19",2023,6,"3XObfMb7QSfrAYng16E97lQdZ3k1",null,-91.113399599999994,44.173609300000003,null,"2023-06-19 09:11:21.584489.jpg-0",1,null,1,240,60,null,null,8,1,0,1,64,1,0,0,"River/Stream","None",0,0,0,0,0,0,0,1,0,"Baseflow",1,"Murky",1,"Regional Rainfall",1,0,0,0,0,null,0,"Absent","Absent","Absent","Absent","Absent","Absent","Absent","Present","Recorded","German Coulee","German Coulee","","","Wisconsin Clear Water","TU Staff","070400071101","South Fork of Beaver Creek","Beaver Creek"]
["Dev: DBParsing_231030_v01.xlsm","qkUpJx4xSauHXyBuKtqV","2023-06-19T12:46:46","2023-06-19T06:46:46","2023-06-19",2023,6,"jhGh651Hl7cRangRQ2zqYMCZHdv1",null,-90.762023610170957,43.245138044239269,null,"2023-06-19 07:46:46.660751.jpg-0",1,null,1,240,120,null,null,7,1,100,1,57,1,0,0,"River/Stream","Fish Barrier",1,0,0,0,0,0,0,0,0,"Baseflow",1,"Murky",1,"None",0,0,0,0,0,null,0,"Present","Absent","Absent","Absent","Absent","Absent","Absent","Absent","Recorded","Richland Creek","Richland Creek",1,"","Harry & Laura Nohr","TU Staff","070700051703","Richland Creek","City of Boscobel-Wisconsin River"]
["Dev: DBParsing_231030_v01.xlsm","3DXsWJTKt0tPt2ZNskOR","2023-06-17T18:23:01","2023-06-17T12:23:01","2023-06-17",2023,6,"sPbTkTzcbybDduQDEAb0F4hUDHf2","MOA Creek",-93.231350718077366,44.846931848881702,null,"",0,null,1,240,180,null,null,7,1,100,1,61,1,0,1,"River/Stream","None",0,0,0,0,0,0,0,1,0,"Mid-stage",1,"Clear",1,"None",0,0,0,0,0,"80 degrees. Haze from forest fires.",1,"Absent","Absent","Absent","Absent","Absent","Absent","Absent","Present","Recorded","","","","","Twin Cities","TCTU","070200121110","Minnesota River","Minnesota River"]
["Dev: DBParsing_231030_v01.xlsm","VVvp18tJLAxXhvUaxbBE","2023-06-15T19:47:05","2023-06-15T13:47:05","2023-06-15",2023,6,"3XObfMb7QSfrAYng16E97lQdZ3k1",null,-91.227300600000007,44.2051552,null,"2023-06-15 14:47:05.632638.jpg-0",1,null,1,240,60,null,null,7,1,200,1,63,1,0,2,"River/Stream","None",0,0,0,0,0,0,0,1,0,"Baseflow",1,"Clear",1,"None",0,0,0,0,0,null,0,"Absent","Absent","Absent","Absent","Absent","Absent","Absent","Present","Recorded","North Fork Beaver Creek","North Fork Beaver Creek",1,1,"Wisconsin Clear Water","TU Staff","070400071102","North Fork of Beaver Creek","Beaver Creek"]
["Dev: DBParsing_231030_v01.xlsm","RbHTifpfkoSGEMizCX0W","2023-06-15T17:54:53","2023-06-15T11:54:53","2023-06-15",2023,6,"ODZAZt42ngf0K8HRsQw4BSqkli42",null,-91.599481450479104,42.854967461938834,null,"2023-06-15 12:54:53.026066.jpg-02023-06-15 12:54:53.026066.jpg-1",1,null,1,240,120,null,null,9,1,0,1,70,1,0,2,"River/Stream","Bank Erosion",0,1,0,0,0,0,0,0,0,"Baseflow",1,"Clear",1,"None",0,0,0,0,0,null,0,"Absent","Present","Absent","Absent","Absent","Absent","Absent","Absent","Recorded",0,0,1,"","Spring Creeks","Agency/University","070600040602","Mink Creek","Volga River"]
["Dev: DBParsing_231030_v01.xlsm","6IPlCGGgEV4LDDWFJkgl","2023-06-15T17:35:36","2023-06-15T11:35:36","2023-06-15",2023,6,"ODZAZt42ngf0K8HRsQw4BSqkli42",null,-91.597282877277195,42.844095840158722,null,"2023-06-15 12:35:35.956838.jpg-02023-06-15 12:35:35.956838.jpg-1",1,null,1,240,180,null,null,7.5,1,0,1,69,1,0,5,"River/Stream","Bank Erosion",0,1,0,0,0,0,0,0,0,"Baseflow",1,"Murky",1,"None",0,0,0,0,0,null,0,"Absent","Present","Absent","Absent","Absent","Absent","Absent","Absent","Recorded","Mink Creek","Mink Creek",1,"","Spring Creeks","Agency/University","070600040602","Mink Creek","Volga River"]
["Dev: DBParsing_231030_v01.xlsm","hFfNSP3c2gu1vKDpa74V","2023-06-15T17:05:21","2023-06-15T11:05:21","2023-06-15",2023,6,"ODZAZt42ngf0K8HRsQw4BSqkli42",null,-91.654981970872399,42.804123340214417,null,"2023-06-15 12:05:21.686113.jpg-02023-06-15 12:05:21.686113.jpg-1",1,null,1,240,180,null,null,8,1,0,1,65,1,0,5,"River/Stream","None",0,0,0,0,0,0,0,1,0,"Baseflow",1,"Clear",1,"None",0,0,0,0,0,null,0,"Absent","Absent","Absent","Absent","Absent","Absent","Absent","Present","Recorded","Deep Creek","Deep Creek","","","North Bear","Agency/University","070600040604","Nagle Creek-Volga River","Volga River"]
["Dev: DBParsing_231030_v01.xlsm","UdCbgdgvuQPsPY2IZVoq","2023-06-15T16:42:02","2023-06-15T10:42:02","2023-06-15",2023,6,"ODZAZt42ngf0K8HRsQw4BSqkli42",null,-91.607154244642317,42.816781397017479,null,"2023-06-15 11:42:02.167912.jpg-02023-06-15 11:42:02.167912.jpg-12023-06-15 11:42:02.167912.jpg-22023-06-15 11:42:02.167912.jpg-3",1,null,1,240,180,null,null,8,1,0,1,64,1,0,2,"River/Stream","Bank Erosion",0,1,0,0,0,0,0,0,0,"Baseflow",1,"Clear",1,"None",0,0,0,0,0,null,0,"Absent","Present","Absent","Absent","Absent","Absent","Absent","Absent","Recorded",0,0,"","","Spring Creeks","Agency/University","070600040604","Nagle Creek-Volga River","Volga River"]
["Dev: DBParsing_231030_v01.xlsm","fheUU2cuHRihgNlqlWnN","2023-06-15T16:30:42","2023-06-15T10:30:42","2023-06-15",2023,6,"3XObfMb7QSfrAYng16E97lQdZ3k1",null,-91.245488100000003,44.223557900000003,null,"2023-06-15 11:30:42.534737.jpg-0",1,null,1,240,120,null,null,7,1,500,1,58,1,0,1,"River/Stream","None",0,0,0,0,0,0,0,1,0,"Baseflow",1,"Clear",1,"None",0,0,0,0,0,null,0,"Absent","Absent","Absent","Absent","Absent","Absent","Absent","Present","Recorded",0,0,1,1,"Wisconsin Clear Water","TU Staff","070400071102","North Fork of Beaver Creek","Beaver Creek"]
["Dev: DBParsing_231030_v01.xlsm","CV40gQtKREeMvL2SC5l1","2023-06-15T16:23:06","2023-06-15T10:23:06","2023-06-15",2023,6,"ODZAZt42ngf0K8HRsQw4BSqkli42",null,-91.607167823325483,42.821548101532102,null,"2023-06-15 11:23:06.131076.jpg-02023-06-15 11:23:06.131076.jpg-12023-06-15 11:23:06.131076.jpg-22023-06-15 11:23:06.131076.jpg-3",1,null,1,240,180,null,null,9,1,0,1,68,1,0,1,"River/Stream","Fish Barrier,Bank Erosion",1,1,0,0,0,0,0,0,0,"Baseflow",1,"Clear",1,"None",0,0,0,0,0,null,0,"Present","Present","Absent","Absent","Absent","Absent","Absent","Absent","Recorded","Deep Creek","Deep Creek",1,"","Spring Creeks","Agency/University","070600040604","Nagle Creek-Volga River","Volga River"]
["Dev: DBParsing_231030_v01.xlsm","IsutoeSPhxddCcdOiFAX","2023-06-15T16:00:54","2023-06-15T10:00:54","2023-06-15",2023,6,"ODZAZt42ngf0K8HRsQw4BSqkli42",null,-91.576925916682526,42.817925778257489,null,"2023-06-15 11:00:54.469327.jpg-02023-06-15 11:00:54.469327.jpg-1",1,null,1,240,180,null,null,8,1,0,1,65,1,0,2,"River/Stream","Bank Erosion",0,1,0,0,0,0,0,0,0,"Baseflow",1,"Clear",1,"None",0,0,0,0,0,null,0,"Absent","Present","Absent","Absent","Absent","Absent","Absent","Absent","Recorded",0,0,1,"","Spring Creeks","Agency/University","070600040604","Nagle Creek-Volga River","Volga River"]
["Dev: DBParsing_231030_v01.xlsm","LNNOyoxR2sxistcIcjk2","2023-06-15T15:52:24","2023-06-15T09:52:24","2023-06-15",2023,6,"3XObfMb7QSfrAYng16E97lQdZ3k1",null,-91.263990899999996,44.226029799999999,null,"2023-06-15 10:52:24.008695.jpg-0",1,null,1,240,120,null,null,7,1,200,1,54,1,0,1,"River/Stream","None",0,0,0,0,0,0,0,1,0,"Baseflow",1,"Clear",1,"None",0,0,0,0,0,null,0,"Absent","Absent","Absent","Absent","Absent","Absent","Absent","Present","Recorded",0,0,"","","Wisconsin Clear Water","TU Staff","070400071102","North Fork of Beaver Creek","Beaver Creek"]
["Dev: DBParsing_231030_v01.xlsm","mYTku6fcc2BMyfsxaHWQ","2023-06-15T15:21:12","2023-06-15T09:21:12","2023-06-15",2023,6,"ODZAZt42ngf0K8HRsQw4BSqkli42",null,-91.590938530947625,42.780261905903721,null,"2023-06-15 10:21:12.259131.jpg-02023-06-15 10:21:12.259131.jpg-1",1,null,1,240,30,null,null,8,1,0,1,59,1,0,0,"River/Stream","Fish Barrier,Bank Erosion,Livestock in Water",1,1,0,0,1,0,0,0,0,"Baseflow",1,"Clear",1,"None",0,0,0,0,0,null,0,"Present","Present","Absent","Absent","Present","Absent","Absent","Absent","Recorded","Nagle Creek","Nagle Creek","","","North Bear","Agency/University","070600040604","Nagle Creek-Volga River","Volga River"]
["Dev: DBParsing_231030_v01.xlsm","pFONOrNqHTOqNErvi7FN","2023-06-15T15:06:30","2023-06-15T09:06:30","2023-06-15",2023,6,"3XObfMb7QSfrAYng16E97lQdZ3k1",null,-91.255153899999996,44.226560599999999,null,"2023-06-15 10:06:30.025414.jpg-0",1,null,1,180,120,null,null,7,1,200,1,54,1,0,0,"River/Stream","None",0,0,0,0,0,0,0,1,0,"Baseflow",1,"Clear",1,"None",0,0,0,0,0,null,0,"Absent","Absent","Absent","Absent","Absent","Absent","Absent","Present","Recorded",0,0,1,"","Wisconsin Clear Water","TU Staff","070400071102","North Fork of Beaver Creek","Beaver Creek"]
["Dev: DBParsing_231030_v01.xlsm","ERmgqPh2PQppfujsRFN9","2023-06-15T15:00:10","2023-06-15T09:00:10","2023-06-15",2023,6,"ODZAZt42ngf0K8HRsQw4BSqkli42",null,-91.557099027644441,42.792537873650708,null,"2023-06-15 10:00:10.374584.jpg-02023-06-15 10:00:10.374584.jpg-1",1,null,1,240,180,null,null,8,1,0,1,63,1,0,2,"River/Stream","Bank Erosion",0,1,0,0,0,0,0,0,0,"Baseflow",1,"Murky",1,"None",0,0,0,0,0,null,0,"Absent","Present","Absent","Absent","Absent","Absent","Absent","Absent","Recorded","Nagle Creek","Nagle Creek",1,"","Spring Creeks","Agency/University","070600040604","Nagle Creek-Volga River","Volga River"]
["Dev: DBParsing_231030_v01.xlsm","xc23Zh1OURNyFaypixw6","2023-06-15T14:21:50","2023-06-15T08:21:50","2023-06-15",2023,6,"ODZAZt42ngf0K8HRsQw4BSqkli42",null,-91.561912670816795,42.757020983884814,null,"2023-06-15 09:21:49.972668.jpg-02023-06-15 09:21:49.972668.jpg-1",1,null,1,240,120,null,null,8,1,0,1,56,1,0,0,"River/Stream","Bank Erosion",0,1,0,0,0,0,0,0,0,"Baseflow",1,"Clear",1,"None",0,0,0,0,0,null,0,"Absent","Present","Absent","Absent","Absent","Absent","Absent","Absent","Recorded","Hewett Creek","Hewett Creek",1,"","Spring Creeks","Agency/University","070600040603","Hewett Creek","Volga River"]
["Dev: DBParsing_231030_v01.xlsm","QzdHRbBejnzH8GuLACuG","2023-06-15T13:59:34","2023-06-15T07:59:34","2023-06-15",2023,6,"3XObfMb7QSfrAYng16E97lQdZ3k1",null,-91.239714300000003,44.210431,null,"2023-06-15 08:59:34.245072.jpg-0",1,null,1,240,60,null,null,7,1,300,1,53,1,0,1,"River/Stream","None",0,0,0,0,0,0,0,1,0,"Baseflow",1,"Clear",1,"None",0,0,0,0,0,null,0,"Absent","Absent","Absent","Absent","Absent","Absent","Absent","Present","Recorded","Bear Creek","Bear Creek",1,1,"Wisconsin Clear Water","TU Staff","070400071102","North Fork of Beaver Creek","Beaver Creek"]
["Dev: DBParsing_231030_v01.xlsm","hbB0UkrNyIMdMXixfG4v","2023-06-14T21:34:12","2023-06-14T15:34:12","2023-06-14",2023,6,"3XObfMb7QSfrAYng16E97lQdZ3k1",null,-91.2544659,44.200283300000002,null,"2023-06-14 16:34:12.646171.jpg-0",1,null,1,240,60,null,null,7,0,null,1,61,1,0,1,"River/Stream","Fish Barrier",1,0,0,0,0,0,0,0,0,"Baseflow",1,"Clear",1,"None",0,0,0,0,0,null,0,"Present","Absent","Absent","Absent","Absent","Absent","Absent","Absent","Recorded",0,0,"","","Wisconsin Clear Water","TU Staff","070400071102","North Fork of Beaver Creek","Beaver Creek"]
["Dev: DBParsing_231030_v01.xlsm","dUEpFdk8MtWGAhPNTgQA","2023-06-14T21:01:05","2023-06-14T15:01:05","2023-06-14",2023,6,"ODZAZt42ngf0K8HRsQw4BSqkli42",null,-91.67565015153184,42.846316122489839,null,"2023-06-14 16:01:04.821689.jpg-02023-06-14 16:01:04.821689.jpg-1",1,null,1,240,120,null,null,9,1,0,1,71,1,0.15,5,"River/Stream","Bank Erosion",0,1,0,0,0,0,0,0,0,"Baseflow",1,"Clear",1,"None",0,0,0,0,0,null,0,"Absent","Present","Absent","Absent","Absent","Absent","Absent","Absent","Recorded","Plum Creek","Plum Creek","","","Spring Creeks","Agency/University","070600040604","Nagle Creek-Volga River","Volga River"]
["Dev: DBParsing_231030_v01.xlsm","mjCeg8vkNBJZivumZnro","2023-06-14T20:46:40","2023-06-14T14:46:40","2023-06-14",2023,6,"ODZAZt42ngf0K8HRsQw4BSqkli42",null,-91.672250703062559,42.846626797730892,null,"2023-06-14 15:46:39.635656.jpg-02023-06-14 15:46:39.635656.jpg-1",1,null,1,240,120,null,null,8,1,0,1,69,1,0,0,"River/Stream","Bank Erosion",0,1,0,0,0,0,0,0,0,"Baseflow",1,"Murky",1,"None",0,0,0,0,0,null,0,"Absent","Present","Absent","Absent","Absent","Absent","Absent","Absent","Recorded","Plum Creek","Plum Creek","","","Spring Creeks","Agency/University","070600040604","Nagle Creek-Volga River","Volga River"]
["Dev: DBParsing_231030_v01.xlsm","Nfd0AXLPV9Z12UFjRJ5I","2023-06-14T20:18:00","2023-06-14T14:18:00","2023-06-14",2023,6,"ODZAZt42ngf0K8HRsQw4BSqkli42",null,-91.631438965063197,42.8431636467975,null,"2023-06-14 15:18:00.399223.jpg-02023-06-14 15:18:00.399223.jpg-1",1,null,1,240,180,null,null,9,1,0,1,79,1,0,2,"River/Stream","Fish Barrier,Bank Erosion,Livestock in Water",1,1,0,0,1,0,0,0,0,"Baseflow",1,"Clear",1,"None",0,0,0,0,0,null,0,"Present","Present","Absent","Absent","Present","Absent","Absent","Absent","Recorded","","","","","Spring Creeks","Agency/University","070600040604","Nagle Creek-Volga River","Volga River"]
["Dev: DBParsing_231030_v01.xlsm","hJiZqfIKI25Jp7R2BaLM","2023-06-14T20:11:24","2023-06-14T14:11:24","2023-06-14",2023,6,"3XObfMb7QSfrAYng16E97lQdZ3k1",null,-91.251013499999999,44.193811699999998,null,"2023-06-14 15:11:24.368015.jpg-0",1,null,1,180,120,null,null,7,1,200,1,63,1,0,2,"River/Stream","None",0,0,0,0,0,0,0,1,0,"Baseflow",1,"Murky",1,"None",0,0,0,0,0,null,0,"Absent","Absent","Absent","Absent","Absent","Absent","Absent","Present","Recorded","North Fork Beaver Creek","North Fork Beaver Creek",1,1,"Wisconsin Clear Water","TU Staff","070400071102","North Fork of Beaver Creek","Beaver Creek"]
["Dev: DBParsing_231030_v01.xlsm","nTq0R94V5VLYfRz77LvW","2023-06-14T19:52:47","2023-06-14T13:52:47","2023-06-14",2023,6,"ODZAZt42ngf0K8HRsQw4BSqkli42",null,-91.645404221575376,42.842968348453603,null,"2023-06-14 14:52:47.569380.jpg-02023-06-14 14:52:47.569380.jpg-1",1,null,1,240,180,null,null,7.5,1,0,1,72,1,0,0,"River/Stream","Fish Barrier,Bank Erosion",1,1,0,0,0,0,0,0,0,"Baseflow",1,"Clear",1,"None",0,0,0,0,0,null,0,"Present","Present","Absent","Absent","Absent","Absent","Absent","Absent","Recorded",0,0,"","","Spring Creeks","Agency/University","070600040604","Nagle Creek-Volga River","Volga River"]
["Dev: DBParsing_231030_v01.xlsm","0CUluRhSEbJQ030pL0WS","2023-06-14T19:31:31","2023-06-14T13:31:31","2023-06-14",2023,6,"ODZAZt42ngf0K8HRsQw4BSqkli42",null,-91.666221935387384,42.803136371115968,null,"2023-06-14 14:31:31.407399.jpg-02023-06-14 14:31:31.407399.jpg-1",1,null,1,240,180,null,null,8,1,0,1,66,1,0,2,"River/Stream","None",0,0,0,0,0,0,0,1,0,"Baseflow",1,"Clear",1,"None",0,0,0,0,0,"",0,"Absent","Absent","Absent","Absent","Absent","Absent","Absent","Present","Recorded",0,0,"","","North Bear","Agency/University","070600040601","Brush Creek","Volga River"]
["Dev: DBParsing_231030_v01.xlsm","iEN4kv09Ph09EzWcClyJ","2023-06-14T18:59:36","2023-06-14T12:59:36","2023-06-14",2023,6,"ODZAZt42ngf0K8HRsQw4BSqkli42",null,-91.667336812328244,42.810337976592415,null,"2023-06-14 13:59:35.798447.jpg-02023-06-14 13:59:35.798447.jpg-1",1,null,1,240,180,null,null,8,1,0,1,73,1,0,2,"River/Stream","Bank Erosion",0,1,0,0,0,0,0,0,0,"Baseflow",1,"Murky",1,"None",0,0,0,0,0,null,0,"Absent","Present","Absent","Absent","Absent","Absent","Absent","Absent","Recorded","Brush Creek","Brush Creek",1,"","Spring Creeks","Agency/University","070600040601","Brush Creek","Volga River"]
["Dev: DBParsing_231030_v01.xlsm","KzMxkvB55RIiHECuxLI1","2023-06-14T18:44:12","2023-06-14T12:44:12","2023-06-14",2023,6,"jhGh651Hl7cRangRQ2zqYMCZHdv1",null,-90.989414627368035,43.047325831139183,null,"2023-06-14 13:44:12.447419.jpg-0",1,null,1,240,120,null,null,8,1,0,1,61,1,0.15,2,"River/Stream","None",0,0,0,0,0,0,0,1,0,"Baseflow",1,"Muddy",1,"None",0,0,0,0,0,null,0,"Absent","Absent","Absent","Absent","Absent","Absent","Absent","Present","Recorded","Gran Grae Creek","Gran Grae Creek",1,1,"Coulee Region","TU Staff","070700051803","Gran Grae Creek","Wisconsin River"]
["Dev: DBParsing_231030_v01.xlsm","Fbsr8aa9QRJavueuDKTn","2023-06-14T18:36:09","2023-06-14T12:36:09","2023-06-14",2023,6,"ODZAZt42ngf0K8HRsQw4BSqkli42",null,-91.720909997906276,42.824640646616771,null,"2023-06-14 13:36:09.043153.jpg-02023-06-14 13:36:09.043153.jpg-1",1,null,1,240,180,null,null,8,1,0,1,61,1,0,5,"River/Stream","None",0,0,0,0,0,0,0,1,0,"Baseflow",1,"Clear",1,"None",0,0,0,0,0,null,0,"Absent","Absent","Absent","Absent","Absent","Absent","Absent","Present","Recorded","Grannis Creek","Grannis Creek",1,"","Iowa Driftless","Agency/University","070600040506","Grannis Creek-Volga River","Headwaters Volga River"]
["Dev: DBParsing_231030_v01.xlsm","EtVNLCZBq3w6Nd8CErH2","2023-06-14T18:09:24","2023-06-14T12:09:24","2023-06-14",2023,6,"ODZAZt42ngf0K8HRsQw4BSqkli42",null,-91.736816503192983,42.799184722865746,null,"2023-06-14 13:09:23.850014.jpg-02023-06-14 13:09:23.850014.jpg-1",1,null,1,240,180,null,null,8,1,0,1,65,1,0,5,"River/Stream","Livestock in Water",0,0,0,0,1,0,0,0,0,"Baseflow",1,"Murky",1,"None",0,0,0,0,0,null,0,"Absent","Absent","Absent","Absent","Present","Absent","Absent","Absent","Recorded",0,0,"","","Iowa Driftless","Agency/University","070600040601","Brush Creek","Volga River"]
["Dev: DBParsing_231030_v01.xlsm","uhUYT1g6tTn3OntYHC4W","2023-06-14T18:00:23","2023-06-14T12:00:23","2023-06-14",2023,6,"3XObfMb7QSfrAYng16E97lQdZ3k1",null,-91.323413299999999,44.164486099999998,null,"2023-06-14 13:00:23.432717.jpg-0",1,null,1,240,120,null,null,7,1,100,1,62,1,0,0,"River/Stream","None",0,0,0,0,0,0,0,1,0,"Baseflow",1,"Clear",1,"None",0,0,0,0,0,null,0,"Absent","Absent","Absent","Absent","Absent","Absent","Absent","Present","Recorded","French Creek","French Creek","",1,"Wisconsin Clear Water","TU Staff","070400071103","French Creek","Beaver Creek"]
["Dev: DBParsing_231030_v01.xlsm","tFNzKc5m7QJGC2IsfhKv","2023-06-14T17:44:06","2023-06-14T11:44:06","2023-06-14",2023,6,"ODZAZt42ngf0K8HRsQw4BSqkli42",null,-91.741165705110646,42.75947419930506,null,"2023-06-14 12:44:06.551238.jpg-02023-06-14 12:44:06.551238.jpg-1",1,null,1,240,180,null,null,8,1,100,1,66,1,0,0,"River/Stream","Fish Barrier,Bank Erosion",1,1,0,0,0,0,0,0,0,"Baseflow",1,"Murky",1,"None",0,0,0,0,0,null,0,"Present","Present","Absent","Absent","Absent","Absent","Absent","Absent","Recorded","Bear Creek","Bear Creek","","","Iowa Driftless","Agency/University","070600040601","Brush Creek","Volga River"]
["Dev: DBParsing_231030_v01.xlsm","8jLTqCQxqEPU1ufEmloP","2023-06-14T17:42:17","2023-06-14T11:42:17","2023-06-14",2023,6,"3XObfMb7QSfrAYng16E97lQdZ3k1","",-91.320996600000001,44.172005300000002,null,"2023-06-14 12:42:17.559936.jpg-0",1,null,1,240,120,null,null,7.5,1,100,1,61,1,0,2,"River/Stream","Livestock in Water",0,0,0,0,1,0,0,0,0,"Baseflow",1,"Clear",1,"None",0,0,0,0,0,null,0,"Absent","Absent","Absent","Absent","Present","Absent","Absent","Absent","Recorded","French Creek","French Creek","",1,"Wisconsin Clear Water","TU Staff","070400071103","French Creek","Beaver Creek"]
["Dev: DBParsing_231030_v01.xlsm","YWIRl2k0bjXKMRXyawDo","2023-06-14T17:21:05","2023-06-14T11:21:05","2023-06-14",2023,6,"ODZAZt42ngf0K8HRsQw4BSqkli42",null,-91.726576583545395,42.794699273112037,null,"2023-06-14 12:21:04.985896.jpg-02023-06-14 12:21:04.985896.jpg-1",1,null,1,240,180,null,null,7,1,0,1,69,1,0,5,"River/Stream","Bank Erosion",0,1,0,0,0,0,0,0,0,"Baseflow",1,"Clear",1,"None",0,0,0,0,0,null,0,"Absent","Present","Absent","Absent","Absent","Absent","Absent","Absent","Recorded","Bear Creek","Bear Creek",1,"","Iowa Driftless","Agency/University","070600040601","Brush Creek","Volga River"]
["Dev: DBParsing_231030_v01.xlsm","2ImnLlQ55Tjze7Ek3zIY","2023-06-14T17:19:52","2023-06-14T11:19:52","2023-06-14",2023,6,"3XObfMb7QSfrAYng16E97lQdZ3k1",null,-91.311645400000003,44.203385300000001,null,"2023-06-14 12:19:52.696112.jpg-0",1,null,1,240,120,null,null,7.5,1,100,1,61,1,0,1,"River/Stream","None",0,0,0,0,0,0,0,1,0,"Baseflow",1,"Clear",1,"None",0,0,0,0,0,null,0,"Absent","Absent","Absent","Absent","Absent","Absent","Absent","Present","Recorded","French Creek","French Creek",1,1,"Wisconsin Clear Water","TU Staff","070400071103","French Creek","Beaver Creek"]
["Dev: DBParsing_231030_v01.xlsm","2sbverYBqHFzZ3ZaPf7z","2023-06-14T16:56:37","2023-06-14T10:56:37","2023-06-14",2023,6,"ODZAZt42ngf0K8HRsQw4BSqkli42",null,-91.700786389495875,42.767411400603841,null,"2023-06-14 11:56:37.234432.jpg-02023-06-14 11:56:37.234432.jpg-1",1,null,1,240,30,null,null,7,1,200,0,null,1,0.15,5,"River/Stream","Fish Barrier,Bank Erosion,Livestock in Water",1,1,0,0,1,0,0,0,0,"Baseflow",1,"Murky",1,"None",0,0,0,0,0,null,0,"Present","Present","Absent","Absent","Present","Absent","Absent","Absent","Recorded","Moine Creek","Moine Creek","","","North Bear","Agency/University","070600040601","Brush Creek","Volga River"]
["Dev: DBParsing_231030_v01.xlsm","kVapsKEbKLKCY8M4sWhp","2023-06-14T16:32:35","2023-06-14T10:32:35","2023-06-14",2023,6,"ODZAZt42ngf0K8HRsQw4BSqkli42",null,-91.70692898341612,42.744820411356855,null,"2023-06-14 11:32:34.870305.jpg-02023-06-14 11:32:34.870305.jpg-1",1,null,1,240,180,null,null,7,0,null,1,69,1,0,5,"River/Stream","Fish Barrier,Bank Erosion",1,1,0,0,0,0,0,0,0,"Baseflow",1,"Murky",1,"None",0,0,0,0,0,null,0,"Present","Present","Absent","Absent","Absent","Absent","Absent","Absent","Recorded","Brush Creek","Brush Creek","","","North Bear","Agency/University","070600040601","Brush Creek","Volga River"]
["Dev: DBParsing_231030_v01.xlsm","WO81CIs0suKRXEIw4IM2","2023-06-14T16:28:30","2023-06-14T10:28:30","2023-06-14",2023,6,"7NTXAgPEn9VYyuIA3Cp8vDW3NQX2",null,-91.018014300000004,43.074202,null,"2023-06-14 11:28:30.710435.jpg-0",1,null,1,240,180,null,null,8,1,0,1,58,1,0,2,"River/Stream","None",0,0,0,0,0,0,0,1,0,"Baseflow",1,"Clear",1,"None",0,0,0,0,0,"ford overtopping driveway, just downstream from construction",1,"Absent","Absent","Absent","Absent","Absent","Absent","Absent","Present","Recorded","Gran Grae Creek","Gran Grae Creek",1,1,"Coulee Region","TU Staff","070700051803","Gran Grae Creek","Wisconsin River"]
["Dev: DBParsing_231030_v01.xlsm","kAJ6v9z9vWnPCB6cD3zB","2023-06-14T16:10:01","2023-06-14T10:10:01","2023-06-14",2023,6,"ODZAZt42ngf0K8HRsQw4BSqkli42",null,-91.666429387490879,42.754307552280608,null,"2023-06-14 11:10:01.116796.jpg-02023-06-14 11:10:01.116796.jpg-1",1,null,1,240,30,null,null,7.5,1,0,1,64,1,0,2,"River/Stream","None",0,0,0,0,0,0,0,1,0,"Baseflow",1,"Murky",1,"None",0,0,0,0,0,null,0,"Absent","Absent","Absent","Absent","Absent","Absent","Absent","Present","Recorded",0,0,"","","North Bear","Agency/University","070600040601","Brush Creek","Volga River"]
["Dev: DBParsing_231030_v01.xlsm","vEY8Tr5kGruoUVbAIWDe","2023-06-14T16:09:45","2023-06-14T10:09:45","2023-06-14",2023,6,"3XObfMb7QSfrAYng16E97lQdZ3k1",null,-91.3381823,44.2372516,null,"2023-06-14 11:09:44.935736.jpg-0",1,null,1,240,120,null,null,7.5,1,0,1,52,1,0,0,"River/Stream","None",0,0,0,0,0,0,0,1,0,"Baseflow",1,"Clear",1,"None",0,0,0,0,0,null,0,"Absent","Absent","Absent","Absent","Absent","Absent","Absent","Present","Recorded","French Creek","French Creek",1,1,"Wisconsin Clear Water","TU Staff","070400071103","French Creek","Beaver Creek"]
["Dev: DBParsing_231030_v01.xlsm","fVK86OqKnSwTSRsUQBAV","2023-06-14T15:44:04","2023-06-14T09:44:04","2023-06-14",2023,6,"ODZAZt42ngf0K8HRsQw4BSqkli42",null,-91.672716233964707,42.770965327548581,null,"2023-06-14 10:44:03.761646.jpg-02023-06-14 10:44:03.761646.jpg-1",1,null,1,240,30,null,null,7,1,100,1,63,1,0,2,"River/Stream","Bank Erosion",0,1,0,0,0,0,0,0,0,"Baseflow",1,"Clear",1,"None",0,0,0,0,0,null,0,"Absent","Present","Absent","Absent","Absent","Absent","Absent","Absent","Recorded","Brush Creek","Brush Creek",1,"","North Bear","Agency/University","070600040601","Brush Creek","Volga River"]
["Dev: DBParsing_231030_v01.xlsm","jTvQmBx1S8zIPwZq6hdj","2023-06-14T14:28:41","2023-06-14T08:28:41","2023-06-14",2023,6,"ODZAZt42ngf0K8HRsQw4BSqkli42","",-91.685911025937344,42.805041912982986,null,"2023-06-14 09:28:41.253205.jpg-02023-06-14 09:28:41.253205.jpg-1",1,null,1,240,180,null,null,8,1,100,1,62,1,0,2,"River/Stream","None",0,0,0,0,0,0,0,1,0,"Baseflow",1,"Clear",1,"None",0,0,0,0,0,null,0,"Absent","Absent","Absent","Absent","Absent","Absent","Absent","Present","Recorded","Brush Creek","Brush Creek",1,"","North Bear","Agency/University","070600040601","Brush Creek","Volga River"]
["Dev: DBParsing_231030_v01.xlsm","2STFsHTe5gqn2XLKtJAI","2023-06-13T23:52:39","2023-06-13T17:52:39","2023-06-13",2023,6,"dzm5kGoaEqWZ3aoqMW65dlUm5g92","Vermillion River, South Branch",-93.009014139038527,44.657258908305927,null,"",0,null,1,240,180,null,null,7.5,1,100,1,64,1,0,5,"River/Stream","",-1,-1,-1,-1,-1,-1,-1,-1,1,"Baseflow",1,"Clear",1,"None",0,0,0,0,0,null,0,"No Data","No Data","No Data","No Data","No Data","No Data","No Data","No Data","No Data","South Branch Vermillion River","South Branch Vermillion River",1,"","Twin Cities","TCTU","070400010205","South Branch Vermillion River","Vermillion River"]
["Dev: DBParsing_231030_v01.xlsm","XH6g8uGq8zKfQsMb3WKK","2023-06-13T17:23:54","2023-06-13T11:23:54","2023-06-13",2023,6,"ODZAZt42ngf0K8HRsQw4BSqkli42",null,-91.809970988046203,42.818777337710202,null,"2023-06-13 12:23:54.115955.jpg-02023-06-13 12:23:54.115955.jpg-1",1,null,1,240,180,null,null,8,1,100,1,65,1,0,5,"River/Stream","Bank Erosion",0,1,0,0,0,0,0,0,0,"Baseflow",1,"Clear",1,"None",0,0,0,0,0,null,0,"Absent","Present","Absent","Absent","Absent","Absent","Absent","Absent","Recorded","Alexander Creek","Alexander Creek","","","Iowa Driftless","Agency/University","070600040506","Grannis Creek-Volga River","Headwaters Volga River"]
["Dev: DBParsing_231030_v01.xlsm","Prrnf6pf3U0ayhOqqGcd","2023-06-13T16:09:16","2023-06-13T10:09:16","2023-06-13",2023,6,"ODZAZt42ngf0K8HRsQw4BSqkli42",null,-91.919960919853224,42.795203318859258,null,"2023-06-13 11:09:16.603800.jpg-02023-06-13 11:09:16.603800.jpg-1",1,null,1,240,180,null,null,9,1,0,1,62,1,0,5,"River/Stream","None",0,0,0,0,0,0,0,1,0,"Baseflow",1,"Murky",1,"None",0,0,0,0,0,null,0,"Absent","Absent","Absent","Absent","Absent","Absent","Absent","Present","Recorded",0,0,"","","North Bear","Agency/University","070600040503","Little Volga River","Headwaters Volga River"]
["Dev: DBParsing_231030_v01.xlsm","PouHhNyXsp8OhnNdaXYL","2023-06-13T15:49:10","2023-06-13T09:49:10","2023-06-13",2023,6,"ODZAZt42ngf0K8HRsQw4BSqkli42",null,-91.885247351687298,42.802779930683599,null,"2023-06-13 10:49:10.584899.jpg-02023-06-13 10:49:10.584899.jpg-1",1,null,1,240,180,null,null,8,1,300,1,63,1,0,5,"River/Stream","Bank Erosion",0,1,0,0,0,0,0,0,0,"Baseflow",1,"Murky",1,"None",0,0,0,0,0,null,0,"Absent","Present","Absent","Absent","Absent","Absent","Absent","Absent","Recorded","Little Volga River","Little Volga River",1,"","North Bear","Agency/University","070600040503","Little Volga River","Headwaters Volga River"]
["Dev: DBParsing_231030_v01.xlsm","9mUsSYLjPAIC4WPgbfYu","2023-06-13T14:58:25","2023-06-13T08:58:25","2023-06-13",2023,6,"ODZAZt42ngf0K8HRsQw4BSqkli42",null,-91.804622495632444,42.75598489683378,null,"2023-06-13 09:58:25.387709.jpg-02023-06-13 09:58:25.387709.jpg-1",1,null,1,240,180,null,null,7,1,100,1,60,1,0,5,"River/Stream","None",0,0,0,0,0,0,0,1,0,"Baseflow",1,"Murky",1,"None",0,0,0,0,0,null,0,"Absent","Absent","Absent","Absent","Absent","Absent","Absent","Present","Recorded","Little Volga River","Little Volga River","","","Iowa Driftless","Agency/University","070600040503","Little Volga River","Headwaters Volga River"]
["Dev: DBParsing_231030_v01.xlsm","4omCfjSgvT4eSRT3yaXT","2023-06-13T14:18:39","2023-06-13T08:18:39","2023-06-13",2023,6,"ODZAZt42ngf0K8HRsQw4BSqkli42",null,-91.843628352593484,42.738355700897742,null,"2023-06-13 09:18:39.259266.jpg-02023-06-13 09:18:39.259266.jpg-1",1,null,1,240,180,null,null,7.5,1,0,1,59,1,0.15,5,"River/Stream","Bank Erosion,Trash",0,1,1,0,0,0,0,0,0,"Baseflow",1,"Murky",1,"None",0,0,0,0,0,null,0,"Absent","Present","Present","Absent","Absent","Absent","Absent","Absent","Recorded",0,0,"","","North Bear","Agency/University","070600040503","Little Volga River","Headwaters Volga River"]
["Dev: DBParsing_231030_v01.xlsm","anz4b1N8msbcDkmmg647","2023-06-12T19:44:22","2023-06-12T13:44:22","2023-06-12",2023,6,"f7qMRlnlkOgrA1xpaxXrTTeRGWX2",null,-92.732189243955602,44.831183577327408,null,"",0,null,1,240,120,null,null,8,1,0,1,62,1,0,5,"River/Stream","Bank Erosion",0,1,0,0,0,0,0,0,0,"Baseflow",1,"Clear",1,"None",0,0,0,0,0,"Secchi Tube > 100 cm",1,"Absent","Present","Absent","Absent","Absent","Absent","Absent","Absent","Recorded","Kinnickinnic River","Kinnickinnic River",1,"","Kiap TU Wish","Kiap-TU-Wish","070300051105","Lower Kinnickinnic Pond-Kinnickinnic River","Kinnickinnic River"]
["Dev: DBParsing_231030_v01.xlsm","bVqHrKiZEgiTbxA73MH7","2023-06-12T16:50:59","2023-06-12T10:50:59","2023-06-12",2023,6,"jhGh651Hl7cRangRQ2zqYMCZHdv1",null,-90.705814043603937,43.286711695100443,null,"2023-06-12 11:50:59.583754.jpg-0",1,null,1,240,180,null,null,7.5,1,0,1,56,1,0,1,"River/Stream","None",0,0,0,0,0,0,0,1,0,"Baseflow",1,"Clear",1,"None",0,0,0,0,0,null,0,"Absent","Absent","Absent","Absent","Absent","Absent","Absent","Present","Recorded","West Fork Knapp Creek","West Fork Knapp Creek",1,1,"Coulee Region","TU Staff","070700051502","West Fork Knapp Creek","Knapp Creek"]
["Dev: DBParsing_231030_v01.xlsm","SleZLYjfrzVr43G89Smg","2023-06-12T15:23:31","2023-06-12T09:23:31","2023-06-12",2023,6,"VQ9bNtzttGcXOEuaXrEAEYLfT103",null,-92.342136699999998,43.603189299999997,null,"",0,null,1,240,180,null,null,7.5,1,0,1,53,1,0.15,5,"River/Stream","None",0,0,0,0,0,0,0,1,0,"Baseflow",1,"Clear",1,"None",0,0,0,0,0,null,0,"Absent","Absent","Absent","Absent","Absent","Absent","Absent","Present","Recorded","Etna Creek","Etna Creek",1,"","Hiawatha","Hiawatha","070400080402","Etna Creek-South Branch Root River","South Branch Root River"]
["Dev: DBParsing_231030_v01.xlsm","BDI9seZWIbbtii2wfDg6","2023-06-12T13:29:53","2023-06-12T07:29:53","2023-06-12",2023,6,"jhGh651Hl7cRangRQ2zqYMCZHdv1",null,-90.724108024257376,43.30325973608236,null,"2023-06-12 08:29:53.220180.jpg-0",1,null,1,240,180,null,null,7.5,1,0,1,50,1,0,2,"River/Stream","None",0,0,0,0,0,0,0,1,0,"Baseflow",1,"Clear",1,"None",0,0,0,0,0,null,0,"Absent","Absent","Absent","Absent","Absent","Absent","Absent","Present","Recorded","West Fork Knapp Creek","West Fork Knapp Creek",1,1,"Coulee Region","TU Staff","070700051502","West Fork Knapp Creek","Knapp Creek"]
["Dev: DBParsing_231030_v01.xlsm","Cm9mERORYpLvDIHZFZ7s","2023-06-10T14:35:09","2023-06-10T08:35:09","2023-06-10",2023,6,"MHFdkCj8zqhw6MGszjwZYx49QR22","",-93.009613056055798,44.656454491678552,null,"2023-06-10 09:35:09.070679.jpg-0",1,null,1,180,120,null,null,7,1,200,1,59,1,0,2,"River/Stream","None",0,0,0,0,0,0,0,1,0,"Mid-stage",1,"Clear",1,"None",0,0,0,0,0,null,0,"Absent","Absent","Absent","Absent","Absent","Absent","Absent","Present","Recorded","South Branch Vermillion River","South Branch Vermillion River","","","Twin Cities","TCTU","070400010205","South Branch Vermillion River","Vermillion River"]
["Dev: DBParsing_231030_v01.xlsm","NTTuGYhy5Esg8tOCdchD","2023-06-09T01:30:47","2023-06-08T19:30:47","2023-06-08",2023,6,"xGf42w3UBFa817jAA3vYGVMhqZo2","Vermillion River, South Branch",-93.009000476536343,44.657221483108266,null,"",0,null,1,240,180,null,null,8,1,0,1,64,1,0,5,"River/Stream","None",0,0,0,0,0,0,0,1,0,"Baseflow",1,"Clear",1,"None",0,0,0,0,0,null,0,"Absent","Absent","Absent","Absent","Absent","Absent","Absent","Present","Recorded","South Branch Vermillion River","South Branch Vermillion River",1,"","Twin Cities","TCTU","070400010205","South Branch Vermillion River","Vermillion River"]
["Dev: DBParsing_231030_v01.xlsm","FXdOD3Hux66Eec9nye9E","2023-06-08T20:27:52","2023-06-08T14:27:52","2023-06-08",2023,6,"ODZAZt42ngf0K8HRsQw4BSqkli42",null,-91.805631509136219,42.811795380006366,null,"2023-06-08 15:27:52.384964.jpg-02023-06-08 15:27:52.384964.jpg-1",1,null,1,240,180,null,null,8,1,0,1,66,1,0,5,"River/Stream","None",0,0,0,0,0,0,0,1,0,"Baseflow",1,"Clear",1,"",-1,-1,-1,-1,1,null,0,"Absent","Absent","Absent","Absent","Absent","Absent","Absent","Present","Recorded",0,0,"","","Iowa Driftless","Agency/University","070600040506","Grannis Creek-Volga River","Headwaters Volga River"]
["Dev: DBParsing_231030_v01.xlsm","WTDifZIcxy3odg9wdX4t","2023-06-08T20:04:17","2023-06-08T14:04:17","2023-06-08",2023,6,"1lKBGtvFeSbEVNlbIt9EhqtOO7u2",null,-91.802306811736244,42.847006007795926,null,"2023-06-08 15:04:17.548337.jpg-02023-06-08 15:04:17.548337.jpg-1",1,null,1,240,180,null,null,7,1,0,1,61,1,0.15,5,"River/Stream","None",0,0,0,0,0,0,0,1,0,"Baseflow",1,"Clear",1,"",-1,-1,-1,-1,1,null,0,"Absent","Absent","Absent","Absent","Absent","Absent","Absent","Present","Recorded","Volga River","Volga River",1,"","Iowa Driftless","Unknown","070600040506","Grannis Creek-Volga River","Headwaters Volga River"]
["Dev: DBParsing_231030_v01.xlsm","4m6ioK2z8SBG5fcEmLkz","2023-06-08T19:12:46","2023-06-08T13:12:46","2023-06-08",2023,6,"ODZAZt42ngf0K8HRsQw4BSqkli42",null,-91.870853528465958,42.846851809921532,null,"2023-06-08 14:12:45.823468.jpg-02023-06-08 14:12:45.823468.jpg-1",1,null,1,240,180,null,null,8,1,100,1,63,1,0,5,"River/Stream","Bank Erosion",0,1,0,0,0,0,0,0,0,"Baseflow",1,"Clear",1,"None",0,0,0,0,0,null,0,"Absent","Present","Absent","Absent","Absent","Absent","Absent","Absent","Recorded",0,0,"","","Spring Creeks","Agency/University","070600040504","Coulee Creek-Volga River","Headwaters Volga River"]
["Dev: DBParsing_231030_v01.xlsm","24dcyLXSD7NWhIwStvxX","2023-06-08T18:35:13","2023-06-08T12:35:13","2023-06-08",2023,6,"1lKBGtvFeSbEVNlbIt9EhqtOO7u2",null,-91.947715561218544,42.847439428834988,null,"2023-06-08 13:35:13.145635.jpg-02023-06-08 13:35:13.145635.jpg-1",1,null,1,240,180,null,null,8,1,100,1,71,1,0,5,"River/Stream","Bank Erosion,Livestock in Water",0,1,0,0,1,0,0,0,0,"Baseflow",1,"Murky",1,"",-1,-1,-1,-1,1,null,0,"Absent","Present","Absent","Absent","Present","Absent","Absent","Absent","Recorded","Volga River","Volga River",1,"","North Bear","Unknown","070600040502","Headwaters Volga River","Headwaters Volga River"]
["Dev: DBParsing_231030_v01.xlsm","xmhkuhJX5RlbZ1wVFftZ","2023-06-08T17:51:40","2023-06-08T11:51:40","2023-06-08",2023,6,"1lKBGtvFeSbEVNlbIt9EhqtOO7u2",null,-91.977329107439857,42.862109788522311,null,"2023-06-08 12:51:39.984461.jpg-02023-06-08 12:51:39.984461.jpg-1",1,null,1,240,180,null,null,8,1,0,1,72,1,0,0,"River/Stream","Bank Erosion",0,1,0,0,0,0,0,0,0,"Baseflow",1,"Murky",1,"",-1,-1,-1,-1,1,null,0,"Absent","Present","Absent","Absent","Absent","Absent","Absent","Absent","Recorded","Volga River","Volga River","","","North Bear","Unknown","070600040502","Headwaters Volga River","Headwaters Volga River"]
["Dev: DBParsing_231030_v01.xlsm","Ge68TwVGwx7WI5Cltv9g","2023-06-08T17:13:11","2023-06-08T11:13:11","2023-06-08",2023,6,"1lKBGtvFeSbEVNlbIt9EhqtOO7u2",null,-91.977235341941196,42.891013363971354,null,"2023-06-08 12:13:11.584797.jpg-02023-06-08 12:13:11.584797.jpg-1",1,null,1,240,180,null,null,8,1,0,1,66,1,0,2,"River/Stream","Bank Erosion",0,1,0,0,0,0,0,0,0,"Baseflow",1,"Murky",1,"",-1,-1,-1,-1,1,null,0,"Absent","Present","Absent","Absent","Absent","Absent","Absent","Absent","Recorded",0,0,"","","North Bear","Unknown","070600040502","Headwaters Volga River","Headwaters Volga River"]
["Dev: DBParsing_231030_v01.xlsm","E6vtGjjTNgn6PiIMcdWG","2023-06-08T16:34:18","2023-06-08T10:34:18","2023-06-08",2023,6,"1lKBGtvFeSbEVNlbIt9EhqtOO7u2",null,-91.94144235362964,42.89082816534988,null,"2023-06-08 11:34:18.507288.jpg-02023-06-08 11:34:18.507288.jpg-1",1,null,1,180,180,null,null,8,1,100,1,65,1,0,5,"River/Stream","Bank Erosion",0,1,0,0,0,0,0,0,0,"Baseflow",1,"Murky",1,"",-1,-1,-1,-1,1,null,0,"Absent","Present","Absent","Absent","Absent","Absent","Absent","Absent","Recorded","North Branch Volga River","North Branch Volga River","","","Iowa Driftless","Unknown","070600040501","North Branch Volga River","Headwaters Volga River"]
["Dev: DBParsing_231030_v01.xlsm","oynkVn85A8RUUCvR9lT2","2023-06-08T16:22:13","2023-06-08T10:22:13","2023-06-08",2023,6,"1lKBGtvFeSbEVNlbIt9EhqtOO7u2",null,-91.926213429935117,42.890856080011758,null,"2023-06-08 11:22:13.466057.jpg-02023-06-08 11:22:13.466057.jpg-1",1,null,1,240,180,null,null,7.5,1,100,1,66,1,0,0,"River/Stream","Bank Erosion,Livestock in Water",0,1,0,0,1,0,0,0,0,"Baseflow",1,"Murky",1,"",-1,-1,-1,-1,1,null,0,"Absent","Present","Absent","Absent","Present","Absent","Absent","Absent","Recorded",0,0,"","","Iowa Driftless","Unknown","070600040501","North Branch Volga River","Headwaters Volga River"]
["Dev: DBParsing_231030_v01.xlsm","4TCjVzqDge1oFjGh0wYJ","2023-06-08T15:41:08","2023-06-08T09:41:08","2023-06-08",2023,6,"1lKBGtvFeSbEVNlbIt9EhqtOO7u2",null,-91.877205792906324,42.906068002087999,null,"2023-06-08 10:41:08.758751.jpg-02023-06-08 10:41:08.758751.jpg-1",1,null,1,240,180,null,null,7.5,1,0,1,63,1,0,5,"River/Stream","Fish Barrier",1,0,0,0,0,0,0,0,0,"Baseflow",1,"Clear",1,"",-1,-1,-1,-1,1,null,0,"Present","Absent","Absent","Absent","Absent","Absent","Absent","Absent","Recorded","Coulee Creek","Coulee Creek","","","Iowa Driftless","Unknown","070600040504","Coulee Creek-Volga River","Headwaters Volga River"]
["Dev: DBParsing_231030_v01.xlsm","7HyKpuBbEK897wbRXpPu","2023-06-08T15:35:53","2023-06-08T09:35:53","2023-06-08",2023,6,"S4lPzDead3OY4NkJwamlcyYtyN62",null,-90.996553399999996,44.126626100000003,null,"2023-06-08 10:35:53.828694.jpg-02023-06-08 10:35:53.828694.jpg-1",1,null,1,240,120,null,null,7,1,500,1,57,1,0,5,"River/Stream","None",0,0,0,0,0,0,0,1,0,"Baseflow",1,"Clear",1,"None",0,0,0,0,0,null,0,"Absent","Absent","Absent","Absent","Absent","Absent","Absent","Present","Recorded","Douglas Creek","Douglas Creek","","","Coulee Region","TU Staff","070400071203","Douglas Creek","Fleming Creek-Black River"]
["Dev: DBParsing_231030_v01.xlsm","dQCjLCV2j6ris0pNJPQn","2023-06-07T22:16:19","2023-06-07T16:16:19","2023-06-07",2023,6,"S4lPzDead3OY4NkJwamlcyYtyN62",null,-91.065390399999998,44.295400200000003,null,"2023-06-07 17:16:19.204062.jpg-02023-06-07 17:16:19.204062.jpg-12023-06-07 17:16:19.204062.jpg-2",1,null,1,180,60,null,null,6,1,200,1,57,1,0,2,"River/Stream","Fish Barrier",1,0,0,0,0,0,0,0,0,"Baseflow",1,"Clear",1,"None",0,0,0,0,0,"below 2 pipe culvert at county rd X.",1,"Present","Absent","Absent","Absent","Absent","Absent","Absent","Absent","Recorded","","","",1,"Wisconsin Clear Water","TU Staff","070400050204","French Creek","Upper Trempealeau River"]
["Dev: DBParsing_231030_v01.xlsm","wrNjzhzWJX1I8MfFEN2D","2023-06-07T22:00:10","2023-06-07T16:00:10","2023-06-07",2023,6,"S4lPzDead3OY4NkJwamlcyYtyN62",null,-91.065575300000006,44.290666799999997,null,"2023-06-07 17:00:10.354903.jpg-02023-06-07 17:00:10.354903.jpg-1",1,null,1,240,30,null,null,6.5,1,100,1,68,1,0,0,"River/Stream","None",0,0,0,0,0,0,0,1,0,"Baseflow",1,"Clear",1,"None",0,0,0,0,0,"under bridge at Post Rd.",1,"Absent","Absent","Absent","Absent","Absent","Absent","Absent","Present","Recorded","French Creek","French Creek",1,1,"Wisconsin Clear Water","TU Staff","070400050204","French Creek","Upper Trempealeau River"]
["Dev: DBParsing_231030_v01.xlsm","PeFEPnk8TQQBcv7xhN6A","2023-06-07T18:26:07","2023-06-07T12:26:07","2023-06-07",2023,6,"jhGh651Hl7cRangRQ2zqYMCZHdv1",null,-91.071249211513177,44.183150810997255,null,"2023-06-07 13:26:07.469913.jpg-0",1,null,1,180,180,null,null,7,1,100,1,60,1,0,0,"River/Stream","Fish Barrier",1,0,0,0,0,0,0,0,0,"Baseflow",1,"Clear",1,"None",0,0,0,0,0,null,0,"Present","Absent","Absent","Absent","Absent","Absent","Absent","Absent","Recorded",0,0,1,1,"Coulee Region","TU Staff","070400071203","Douglas Creek","Fleming Creek-Black River"]
["Dev: DBParsing_231030_v01.xlsm","sBrbhdXjLsQzM5J2XBkb","2023-06-07T17:40:47","2023-06-07T11:40:47","2023-06-07",2023,6,"wOnBJTAV2CZK06CRnr5oUK45EDv1",null,-89.875339464743973,42.962583886251778,null,"2023-06-07 12:40:47.091420.jpg-0",1,null,0,"",null,null,null,null,1,100,1,62,0,"","","River/Stream","None",0,0,0,0,0,0,0,1,0,"Mid-stage",1,"Murky",1,"None",0,0,0,0,0,null,0,"Absent","Absent","Absent","Absent","Absent","Absent","Absent","Present","Recorded","Williams-Barneveld Creek","Williams-Barneveld Creek",1,"","Harry & Laura Nohr","US FWS","070900030602","Williams Creek-East Branch Pecatonica River","Ridgeway Branch-East Branch Pecatonica River"]
["Dev: DBParsing_231030_v01.xlsm","bVloivOdiGCFwSsLwH14","2023-06-07T15:49:52","2023-06-07T09:49:52","2023-06-07",2023,6,"S4lPzDead3OY4NkJwamlcyYtyN62",null,-91.008654500000006,44.295032800000001,null,"2023-06-07 10:49:52.656125.jpg-02023-06-07 10:49:52.656125.jpg-1",1,null,1,180,60,null,null,7,1,0,1,59,1,0,1,"River/Stream","None",0,0,0,0,0,0,0,1,0,"Baseflow",1,"Clear",1,"None",0,0,0,0,0,"small stream feeding into French Creek observation taken below CO Rd P",1,"Absent","Absent","Absent","Absent","Absent","Absent","Absent","Present","Recorded",0,0,1,1,"Wisconsin Clear Water","TU Staff","070400050204","French Creek","Upper Trempealeau River"]
["Dev: DBParsing_231030_v01.xlsm","4v3Cy772tC0khD4lm4HP","2023-06-07T15:07:46","2023-06-07T09:07:46","2023-06-07",2023,6,"S4lPzDead3OY4NkJwamlcyYtyN62",null,-91.003869100000003,44.295311900000002,null,"2023-06-07 10:07:46.471647.jpg-02023-06-07 10:07:46.471647.jpg-1",1,null,1,180,30,null,null,6.5,1,0,1,59,1,0,1,"River/Stream","None",0,0,0,0,0,0,0,1,0,"Baseflow",1,"Clear",1,"None",0,0,0,0,0,null,0,"Absent","Absent","Absent","Absent","Absent","Absent","Absent","Present","Recorded",0,0,1,1,"Wisconsin Clear Water","TU Staff","070400050204","French Creek","Upper Trempealeau River"]
["Dev: DBParsing_231030_v01.xlsm","gXDm2jjy3T4r5lqJXGIm","2023-06-07T14:16:13","2023-06-07T08:16:13","2023-06-07",2023,6,"S4lPzDead3OY4NkJwamlcyYtyN62",null,-90.963678599999994,44.284213200000003,null,"2023-06-07 09:16:13.242703.jpg-02023-06-07 09:16:13.242703.jpg-1",1,null,1,180,30,null,null,6,1,200,1,54,1,0,2,"River/Stream","Fish Barrier",1,0,0,0,0,0,0,0,0,"Baseflow",1,"Clear",1,"None",0,0,0,0,0,"above perched culvert ",1,"Present","Absent","Absent","Absent","Absent","Absent","Absent","Absent","Recorded",0,0,"","","Wisconsin Clear Water","TU Staff","070400071003","Squaw Creek","Robinson Creek-Black River"]
["Dev: DBParsing_231030_v01.xlsm","TkwcREYjEllKoYQUezj2","2023-06-06T18:48:33","2023-06-06T12:48:33","2023-06-06",2023,6,"S4lPzDead3OY4NkJwamlcyYtyN62",null,-90.930220399999996,44.322172000000002,null,"2023-06-06 13:48:33.053732.jpg-02023-06-06 13:48:33.053732.jpg-1",1,null,1,240,60,null,null,6,1,300,1,62,1,0,2,"River/Stream","Fish Barrier",1,0,0,0,0,0,0,0,0,"Baseflow",1,"Clear",1,"None",0,0,0,0,0,"upstream of perched culvert.",1,"Present","Absent","Absent","Absent","Absent","Absent","Absent","Absent","Recorded","Kenyon Creek","Kenyon Creek",1,"","Wisconsin Clear Water","TU Staff","070400071003","Squaw Creek","Robinson Creek-Black River"]
["Dev: DBParsing_231030_v01.xlsm","s3SwCoYRGJRWq1DlOtAv","2023-06-06T14:09:58","2023-06-06T08:09:58","2023-06-06",2023,6,"S4lPzDead3OY4NkJwamlcyYtyN62",null,-90.897474000000003,44.314135299999997,null,"2023-06-06 09:09:58.308297.jpg-0",1,null,1,240,60,null,null,6,1,100,0,null,1,0,0,"River/Stream","Fish Barrier",1,0,0,0,0,0,0,0,0,"Baseflow",1,"Clear",1,"None",0,0,0,0,0,"culvert with perched outlet",1,"Present","Absent","Absent","Absent","Absent","Absent","Absent","Absent","Recorded",0,0,1,"","Wisconsin Clear Water","TU Staff","070400071003","Squaw Creek","Robinson Creek-Black River"]
["Dev: DBParsing_231030_v01.xlsm","k61uf9OmQ51Tf8ICNHf9","2023-06-05T19:11:17","2023-06-05T13:11:17","2023-06-05",2023,6,"jhGh651Hl7cRangRQ2zqYMCZHdv1","",-90.829057088439797,44.286397539913054,null,"",0,null,1,80,30,null,null,6,1,0,1,63,1,0,0,"River/Stream","Fish Barrier",1,0,0,0,0,0,0,0,0,"Baseflow",1,"Murky",1,"None",0,0,0,0,0,"fish barrier is low flow, sediment build up",1,"Present","Absent","Absent","Absent","Absent","Absent","Absent","Absent","Recorded","Coffee Creek","Coffee Creek",1,"","Wisconsin Clear Water","TU Staff","070400071004","Town Creek-Black River","Robinson Creek-Black River"]
["Dev: DBParsing_231030_v01.xlsm","mXbolbYF11z7Alk9cZZA","2023-06-04T16:33:34","2023-06-04T10:33:34","2023-06-04",2023,6,"wOnBJTAV2CZK06CRnr5oUK45EDv1","Other Locations",-89.280350619866297,43.206270198858803,null,"2023-06-04 11:33:34.367991.jpg-0",1,null,1,240,180,null,null,7.5,1,0,1,49,1,0,0,"Springs","None",0,0,0,0,0,0,0,1,0,"Baseflow",1,"Clear",1,"None",0,0,0,0,0,"nitrite and nitrate were done wrong. nitrate is 25. nitrite .15 from test strip bottle scale ",1,"Absent","Absent","Absent","Absent","Absent","Absent","Absent","Present","Recorded","Token Creek","Token Creek","","","S. Wisconsin","US FWS","070900020503","Token Creek","Headwaters Yahara River"]
["Dev: DBParsing_231030_v01.xlsm","zAcmr3rMC44FftrZq55k","2023-06-04T16:02:35","2023-06-04T10:02:35","2023-06-04",2023,6,"wOnBJTAV2CZK06CRnr5oUK45EDv1",null,-89.320366636766323,43.186177210494755,null,"2023-06-04 11:02:35.671241.jpg-0",1,null,1,240,120,null,null,7,1,0,1,56,1,0,0,"River/Stream","None",0,0,0,0,0,0,0,1,0,"Baseflow",1,"Clear",1,"None",0,0,0,0,0,"low water",1,"Absent","Absent","Absent","Absent","Absent","Absent","Absent","Present","Recorded","Token Creek","Token Creek",1,"","S. Wisconsin","US FWS","070900020503","Token Creek","Headwaters Yahara River"]
["Dev: DBParsing_231030_v01.xlsm","ewJzvHUr5xyCp8fbOH2V","2023-06-03T16:30:39","2023-06-03T10:30:39","2023-06-03",2023,6,"jAZtjti59oWDTa7NaxeDt9luw853",null,-92.621333031760514,44.875115084403589,null,"",0,null,1,240,180,null,null,7.5,1,0,1,58,0,"","","River/Stream","",-1,-1,-1,-1,-1,-1,-1,-1,1,null,0,null,0,"",-1,-1,-1,-1,1,"ALDIs site after 1” rain. app is feisty won’t take photo of NO3",1,"No Data","No Data","No Data","No Data","No Data","No Data","No Data","No Data","No Data","Kinnickinnic River","Kinnickinnic River",1,"","Kiap TU Wish","Kinni Corridor Collaborative","070300051104","Parker Creek-Kinnickinnic River","Kinnickinnic River"]
["Dev: DBParsing_231030_v01.xlsm","PHSMCstBQlUWVRQ9EAQl","2023-06-03T15:12:26","2023-06-03T09:12:26","2023-06-03",2023,6,"cJZVjbWzjsRfePMeXT5aflRnGhh1","Trout Brook",-92.802122999999995,44.543073900000003,null,"2023-06-03 10:12:26.078610.jpg-02023-06-03 10:12:26.078610.jpg-1",1,null,1,240,120,null,null,7.5,1,100,1,55,1,0,10,"River/Stream","",-1,-1,-1,-1,-1,-1,-1,-1,1,"Baseflow",1,"Clear",1,"None",0,0,0,0,0,null,0,"No Data","No Data","No Data","No Data","No Data","No Data","No Data","No Data","No Data","Cannon River","Cannon River",1,1,"Twin Cities","TCTU","070400020902","Trout Brook","Lower Cannon River"]
["Dev: DBParsing_231030_v01.xlsm","SOLpSRxVoBl6d4nXetTr","2023-06-02T20:51:43","2023-06-02T14:51:43","2023-06-02",2023,6,"1lKBGtvFeSbEVNlbIt9EhqtOO7u2",null,-91.694778186137199,42.890033171613879,null,"2023-06-02 15:51:43.839513.jpg-02023-06-02 15:51:43.839513.jpg-1",1,null,1,240,180,null,null,8,1,200,1,81,1,0.15,5,"River/Stream","Fish Barrier",1,0,0,0,0,0,0,0,0,"Baseflow",1,"Murky",1,"",-1,-1,-1,-1,1,null,0,"Present","Absent","Absent","Absent","Absent","Absent","Absent","Absent","Recorded","Mink Creek","Mink Creek","","","Spring Creeks","Unknown","070600040602","Mink Creek","Volga River"]
["Dev: DBParsing_231030_v01.xlsm","G5VIMtlJKKIhUrHdXmbq","2023-06-02T20:14:33","2023-06-02T14:14:33","2023-06-02",2023,6,"c2yLP2VgfvNBOWuOqq6XscGxbVi1",null,-92.641795942580956,44.849899669783134,null,"",0,null,1,240,180,null,null,7,1,0,1,68,1,0,2,"River/Stream","Bank Erosion",0,1,0,0,0,0,0,0,0,"Baseflow",1,"Clear",1,"None",0,0,0,0,0,"<100",1,"Absent","Present","Absent","Absent","Absent","Absent","Absent","Absent","Recorded","Kinnickinnic River","Kinnickinnic River",1,1,"Kiap TU Wish","Kinni Corridor Collaborative","070300051105","Lower Kinnickinnic Pond-Kinnickinnic River","Kinnickinnic River"]
["Dev: DBParsing_231030_v01.xlsm","EGIpITPkxQVed7LV3ULd","2023-06-02T19:42:47","2023-06-02T13:42:47","2023-06-02",2023,6,"qg0Gw2Z5bFP7xIvHpN2bfZB65d62","",-93.384250267559835,44.779418294157772,null,"",0,null,1,240,120,null,null,7,0,null,1,58,0,"","","River/Stream","",-1,-1,-1,-1,-1,-1,-1,-1,1,"Mid-stage",1,"Clear",1,"None",0,0,0,0,0,null,0,"No Data","No Data","No Data","No Data","No Data","No Data","No Data","No Data","No Data","Eagle Creek","Eagle Creek",1,"","Twin Cities","TCTU","070200121106","Eagle Creek-Minnesota River","Minnesota River"]
["Dev: DBParsing_231030_v01.xlsm","LGzWUL0OIrBJLDVixpPH","2023-06-02T17:31:49","2023-06-02T11:31:49","2023-06-02",2023,6,"k6imGQxkdoYmMVg7pAz2w40EZAb2",null,-92.631911799999997,44.855443999999999,null,"",0,null,1,240,180,null,null,7.5,1,0,1,68,1,0,5,"Lake/Pond","Trash",0,0,1,0,0,0,0,0,0,"Baseflow",1,"Murky",1,"None",0,0,0,0,0,"secchi tube greater than 100 cm",1,"Absent","Absent","Present","Absent","Absent","Absent","Absent","Absent","Recorded","Kinnickinnic River","Kinnickinnic River",1,1,"Kiap TU Wish","Kinni Corridor Collaborative","070300051104","Parker Creek-Kinnickinnic River","Kinnickinnic River"]
["Dev: DBParsing_231030_v01.xlsm","4XryoC5t4M2820OVuqBY","2023-06-01T19:32:45","2023-06-01T13:32:45","2023-06-01",2023,6,"UlOTIjO5fRXyX2NgghYvxYXOF0j2",null,-91.998607343618843,44.090023302610696,null,"",0,null,0,"",null,null,null,null,1,0,0,null,0,"","","River/Stream","",-1,-1,-1,-1,-1,-1,-1,-1,1,null,0,null,0,"",-1,-1,-1,-1,1,null,0,"No Data","No Data","No Data","No Data","No Data","No Data","No Data","No Data","No Data","South Fork Whitewater River","South Fork Whitewater River",1,"","Hiawatha","Unknown","070400030307","Lower South Fork Whitewater River","Whitewater River"]
["Dev: DBParsing_231030_v01.xlsm","7UZhIt4ivw80DqxiQeS6","2023-06-01T16:41:17","2023-06-01T10:41:17","2023-06-01",2023,6,"K0EjhOrGL4NGhPVbB1pKi320lLr2","Hay Creek @ 320th St",-92.575601700000007,44.488363300000003,null,"2023-06-01 11:41:17.706007.jpg-02023-06-01 11:41:17.706007.jpg-1",1,null,1,240,180,null,null,8.5,1,100,1,62,1,0.15,2,"River/Stream","None",0,0,0,0,0,0,0,1,0,"Mid-stage",1,"Clear",1,"None",0,0,0,0,0,"stream work",1,"Absent","Absent","Absent","Absent","Absent","Absent","Absent","Present","Recorded","Hay Creek","Hay Creek",1,"","Twin Cities","TCTU","070400010401","Hay Creek","Hay Creek-Mississippi River"]
["Dev: DBParsing_231030_v01.xlsm","T33j8cZNLvYqwF5y6BeK","2023-06-01T15:55:39","2023-06-01T09:55:39","2023-06-01",2023,6,"3XObfMb7QSfrAYng16E97lQdZ3k1",null,-91.162086000000002,43.9738045,null,"2023-06-01 10:55:39.374166.jpg-0",1,null,1,240,120,null,null,8,1,0,1,55,1,0,1,"River/Stream","None",0,0,0,0,0,0,0,1,0,"Baseflow",1,"Clear",1,"None",0,0,0,0,0,null,0,"Absent","Absent","Absent","Absent","Absent","Absent","Absent","Present","Recorded","Halfway Creek","Halfway Creek",1,1,"Coulee Region","TU Staff","070400060102","Halfway Creek","Halfway Creek-Mississippi River"]
["Dev: DBParsing_231030_v01.xlsm","HyUT9YJM5omh55hjPpvY","2023-06-01T15:07:51","2023-06-01T09:07:51","2023-06-01",2023,6,"3XObfMb7QSfrAYng16E97lQdZ3k1",null,-91.150756999999999,43.9781215,null,"2023-06-01 10:07:51.532781.jpg-0",1,null,1,240,120,null,null,7.5,0,null,1,55,1,0,1,"River/Stream","None",0,0,0,0,0,0,0,1,0,"Baseflow",1,"Clear",1,"None",0,0,0,0,0,null,0,"Absent","Absent","Absent","Absent","Absent","Absent","Absent","Present","Recorded","Halfway Creek","Halfway Creek",1,1,"Coulee Region","TU Staff","070400060102","Halfway Creek","Halfway Creek-Mississippi River"]
["Dev: DBParsing_231030_v01.xlsm","cWOcqtzvDXOv3erHAts8","2023-05-31T21:05:41","2023-05-31T15:05:41","2023-05-31",2023,5,"1lKBGtvFeSbEVNlbIt9EhqtOO7u2",null,-91.462128284932518,42.766862076241182,null,"2023-05-31 16:05:40.981364.jpg-02023-05-31 16:05:40.981364.jpg-1",1,null,1,240,120,null,null,7,1,0,1,80,1,0,2,"River/Stream","Bank Erosion",0,1,0,0,0,0,0,0,0,"Baseflow",1,"Murky",1,"None",0,0,0,0,0,null,0,"Absent","Present","Absent","Absent","Absent","Absent","Absent","Absent","Recorded","Cox Creek","Cox Creek",1,"","Spring Creeks","Unknown","070600040605","Cox Creek","Volga River"]
["Dev: DBParsing_231030_v01.xlsm","EMe41UUJfzTFJI5Z4eSj","2023-05-31T20:20:07","2023-05-31T14:20:07","2023-05-31",2023,5,"1lKBGtvFeSbEVNlbIt9EhqtOO7u2",null,-91.418843477379241,42.675939506422971,null,"2023-05-31 15:20:07.773764.jpg-02023-05-31 15:20:07.773764.jpg-1",1,null,1,180,180,null,null,7.5,1,0,1,72,1,0.15,1,null,"",-1,-1,-1,-1,-1,-1,-1,-1,1,"Baseflow",1,"Murky",1,"",-1,-1,-1,-1,1,null,0,"No Data","No Data","No Data","No Data","No Data","No Data","No Data","No Data","No Data","Bear Creek","Bear Creek","","","Spring Creeks","Unknown","070600040607","Bear Creek","Volga River"]
["Dev: DBParsing_231030_v01.xlsm","Xd51yLUbsDqDx1FF4FAe","2023-05-31T17:34:29","2023-05-31T11:34:29","2023-05-31",2023,5,"1lKBGtvFeSbEVNlbIt9EhqtOO7u2",null,-91.432016291368058,42.747889012670733,null,"2023-05-31 12:34:28.996797.jpg-02023-05-31 12:34:28.996797.jpg-1",1,null,1,240,180,null,null,8,1,100,1,66,1,0,1,"River/Stream","Bank Erosion",0,1,0,0,0,0,0,0,0,"Mid-stage",1,"Murky",1,"",-1,-1,-1,-1,1,null,0,"Absent","Present","Absent","Absent","Absent","Absent","Absent","Absent","Recorded",0,0,"","","Spring Creeks","Unknown","070600040606","Honey Creek-Volga River","Volga River"]
["Dev: DBParsing_231030_v01.xlsm","9amLqrKNrmlwSQOF5AaP","2023-05-31T16:57:52","2023-05-31T10:57:52","2023-05-31",2023,5,"1lKBGtvFeSbEVNlbIt9EhqtOO7u2","",-91.428060073613395,42.729470414245753,null,"2023-05-31 11:57:51.948110.jpg-02023-05-31 11:57:51.948110.jpg-1",1,null,1,240,180,null,null,8,1,100,1,69,1,0,2,"River/Stream","Bank Erosion",0,1,0,0,0,0,0,0,0,"Mid-stage",1,"Muddy",1,"",-1,-1,-1,-1,1,null,0,"Absent","Present","Absent","Absent","Absent","Absent","Absent","Absent","Recorded","Honey Creek","Honey Creek",1,"","Spring Creeks","Unknown","070600040606","Honey Creek-Volga River","Volga River"]
["Dev: DBParsing_231030_v01.xlsm","9JbkWqknhhcP7oQCmDEP","2023-05-31T14:54:45","2023-05-31T08:54:45","2023-05-31",2023,5,"jhGh651Hl7cRangRQ2zqYMCZHdv1","",-91.219620301276763,43.97102051598759,null,"2023-05-31 09:54:45.001654.jpg-0",1,null,1,240,180,null,null,8,1,100,1,57,1,0,1,"River/Stream","None",0,0,0,0,0,0,0,1,0,"Baseflow",1,"Muddy",1,"None",0,0,0,0,0,null,0,"Absent","Absent","Absent","Absent","Absent","Absent","Absent","Present","Recorded","Halfway Creek","Halfway Creek",1,1,"Coulee Region","TU Staff","070400060102","Halfway Creek","Halfway Creek-Mississippi River"]
["Dev: DBParsing_231030_v01.xlsm","wnAONtF6KmOoVTkHbKql","2023-05-30T22:42:31","2023-05-30T16:42:31","2023-05-30",2023,5,"MZ8CvOB6bBeEPjwpBrk2zCVH7bk2","MOA Creek",-93.231235962891944,44.846809492272477,null,"2023-05-30 17:42:31.186052.jpg-02023-05-30 17:42:31.186052.jpg-12023-05-30 17:42:31.186052.jpg-22023-05-30 17:42:31.186052.jpg-32023-05-30 17:42:31.186052.jpg-4",1,null,1,240,30,null,null,7,1,100,1,60,1,0,0,"River/Stream","None",0,0,0,0,0,0,0,1,0,"Mid-stage",1,"Clear",1,"Regional Rainfall",1,0,0,0,0,"photos are not capturing correctly: the strip shows Nitrate at 2 ppm and Nitrite at 0 ppm",1,"Absent","Absent","Absent","Absent","Absent","Absent","Absent","Present","Recorded","","","","","Twin Cities","TCTU","070200121110","Minnesota River","Minnesota River"]
["Dev: DBParsing_231030_v01.xlsm","sRR3Mpl8XczzKRHCFbzj","2023-05-30T19:50:52","2023-05-30T13:50:52","2023-05-30",2023,5,"1lKBGtvFeSbEVNlbIt9EhqtOO7u2",null,-91.368999397467235,42.751224478746742,null,"2023-05-30 14:50:52.606447.jpg-02023-05-30 14:50:52.606447.jpg-1",1,null,1,240,180,null,null,7.5,1,100,1,63,1,0,0,"River/Stream","Bank Erosion",0,1,0,0,0,0,0,0,0,"Mid-stage",1,"Clear",1,"None",0,0,0,0,0,null,0,"Absent","Present","Absent","Absent","Absent","Absent","Absent","Absent","Recorded","Honey Creek","Honey Creek",1,"","Spring Creeks","Unknown","070600040606","Honey Creek-Volga River","Volga River"]
["Dev: DBParsing_231030_v01.xlsm","rECWqtK3aPQpVtMdmjmG","2023-05-30T19:35:53","2023-05-30T13:35:53","2023-05-30",2023,5,"5IkyPqBWi8SVMZuJTeydN0EYnTu1","",-91.259177585594443,43.964106022579941,null,"",0,null,1,240,180,null,null,8,1,200,1,65,1,0,0,"River/Stream","None",0,0,0,0,0,0,0,1,0,"Mid-stage",1,"Murky",1,"None",0,0,0,0,0,"27.7 centimeters of visibility in the tube\n",1,"Absent","Absent","Absent","Absent","Absent","Absent","Absent","Present","Recorded","Halfway Creek","Halfway Creek",1,"","Coulee Region","Agency/University","070400060102","Halfway Creek","Halfway Creek-Mississippi River"]
["Dev: DBParsing_231030_v01.xlsm","G2xKFJjMEGBvozf0dqjw","2023-05-30T18:36:37","2023-05-30T12:36:37","2023-05-30",2023,5,"1lKBGtvFeSbEVNlbIt9EhqtOO7u2",null,-91.372522805179003,42.717741232345432,null,"2023-05-30 13:36:37.143376.jpg-02023-05-30 13:36:37.143376.jpg-1",1,null,1,240,180,null,null,8,1,200,1,69,1,0.15,1,"River/Stream","Bank Erosion",0,1,0,0,0,0,0,0,0,"Mid-stage",1,"Murky",1,"",-1,-1,-1,-1,1,null,0,"Absent","Present","Absent","Absent","Absent","Absent","Absent","Absent","Recorded","Doe Creek","Doe Creek",1,"","Spring Creeks","Unknown","070600040608","Doe Creek-Volga River","Volga River"]
["Dev: DBParsing_231030_v01.xlsm","wwqPqt9MXzg6gijDo5an","2023-05-30T17:28:23","2023-05-30T11:28:23","2023-05-30",2023,5,"1lKBGtvFeSbEVNlbIt9EhqtOO7u2",null,-91.382133576550459,42.696384120723629,null,"2023-05-30 12:28:23.122903.jpg-02023-05-30 12:28:23.122903.jpg-1",1,null,1,240,180,null,null,8,1,0,1,67,1,0,0,"River/Stream","Bank Erosion",0,1,0,0,0,0,0,0,0,"Mid-stage",1,"Clear",1,"",-1,-1,-1,-1,1,null,0,"Absent","Present","Absent","Absent","Absent","Absent","Absent","Absent","Recorded","Doe Creek","Doe Creek","","","Spring Creeks","Unknown","070600040608","Doe Creek-Volga River","Volga River"]
["Dev: DBParsing_231030_v01.xlsm","vrzMfiCdF5XK8wVvvLuj","2023-05-30T16:21:27","2023-05-30T10:21:27","2023-05-30",2023,5,"ODZAZt42ngf0K8HRsQw4BSqkli42",null,-91.343389665792998,42.694103568832105,null,"",0,null,1,240,180,null,null,9,1,100,1,70,1,0,0,"River/Stream","Bank Erosion,Livestock in Water",0,1,0,0,1,0,0,0,0,"Mid-stage",1,"Murky",1,"",-1,-1,-1,-1,1,null,0,"Absent","Present","Absent","Absent","Present","Absent","Absent","Absent","Recorded","Bear Creek","Bear Creek",1,"","Spring Creeks","Agency/University","070600040607","Bear Creek","Volga River"]
["Dev: DBParsing_231030_v01.xlsm","ZHV1TNrFdnF5JpshPYDf","2023-05-30T15:44:10","2023-05-30T09:44:10","2023-05-30",2023,5,"ODZAZt42ngf0K8HRsQw4BSqkli42",null,-91.378808654929855,42.647676961536192,null,"2023-05-30 10:44:10.464518.jpg-02023-05-30 10:44:10.464518.jpg-1",1,null,1,240,180,null,null,8,1,0,0,null,1,0,10,"River/Stream","None",0,0,0,0,0,0,0,1,0,"Mid-stage",1,"Murky",1,"None",0,0,0,0,0,null,0,"Absent","Absent","Absent","Absent","Absent","Absent","Absent","Present","Recorded","Rabbit Creek","Rabbit Creek","","","Spring Creeks","Agency/University","070600040607","Bear Creek","Volga River"]
["Dev: DBParsing_231030_v01.xlsm","YzoIEQu1t4huPhy7uhwT","2023-05-26T15:23:43","2023-05-26T09:23:43","2023-05-26",2023,5,"oN50knyfHlSRv38FF1MSKXBSQ6v1","",-92.381513517324279,43.68814466281615,null,"",0,null,1,240,0,null,null,7,0,null,1,52,0,"","","River/Stream","None",0,0,0,0,0,0,0,1,0,"Baseflow",1,"Clear",1,"None",0,0,0,0,0,"spring valley creek",1,"Absent","Absent","Absent","Absent","Absent","Absent","Absent","Present","Recorded","Spring Valley Creek","Spring Valley Creek",1,"","Hiawatha","TCTU","070400080205","Spring Valley Creek","Middle Branch Root River"]
["Dev: DBParsing_231030_v01.xlsm","OxmSkM5XmXuJ7zaPrdmH","2023-05-24T16:15:26","2023-05-24T10:15:26","2023-05-24",2023,5,"80reiKTTqGYqqpgYAhPwqypFwak1",null,-92.224465309441385,43.622239254102105,null,"2023-05-24 11:15:26.345088.jpg-0",1,null,1,240,180,null,null,8,1,0,1,53,1,0,5,"River/Stream","None",0,0,0,0,0,0,0,1,0,"Baseflow",1,"Clear",1,"None",0,0,0,0,0,"looking great",1,"Absent","Absent","Absent","Absent","Absent","Absent","Absent","Present","Recorded","Canfield Creek","Canfield Creek",1,"","Hiawatha","Hiawatha","070400080405","Town of Forestville-South Branch Root River","South Branch Root River"]
["Dev: DBParsing_231030_v01.xlsm","kF4vMulcBgOiNhzSyslf","2023-05-23T19:20:15","2023-05-23T13:20:15","2023-05-23",2023,5,"f7qMRlnlkOgrA1xpaxXrTTeRGWX2",null,-92.732132021072005,44.831218923450791,null,"",0,null,1,240,180,null,null,9,1,0,1,65,1,0,5,"River/Stream","Bank Erosion,Trash",0,1,1,0,0,0,0,0,0,"Baseflow",1,"Clear",1,"None",0,0,0,0,0,"Secchi Tube > 100 cm",1,"Absent","Present","Present","Absent","Absent","Absent","Absent","Absent","Recorded","Kinnickinnic River","Kinnickinnic River",1,"","Kiap TU Wish","Kiap-TU-Wish","070300051105","Lower Kinnickinnic Pond-Kinnickinnic River","Kinnickinnic River"]
["Dev: DBParsing_231030_v01.xlsm","d9b1koYgWa9CiTvc4Wod","2023-05-23T18:36:11","2023-05-23T12:36:11","2023-05-23",2023,5,"6oemLSFIHIXnYk5OuejKZ9Uhljr1","",-91.850002306578318,43.657447010687235,null,"2023-05-23 13:36:11.642848.jpg-0",1,null,1,240,180,null,null,7.5,1,100,1,59,1,0,2,"River/Stream","None",0,0,0,0,0,0,0,1,0,"Mid-stage",1,"Clear",1,"None",0,0,0,0,0,"clear",1,"Absent","Absent","Absent","Absent","Absent","Absent","Absent","Present","Recorded","Shattuck Creek","Shattuck Creek",1,"","Hiawatha","Hiawatha","070400080803","Middle South Fork Root River","South Fork Root River"]
["Dev: DBParsing_231030_v01.xlsm","vwJKLiaxh3P3Q4s5rSzK","2023-05-23T17:26:58","2023-05-23T11:26:58","2023-05-23",2023,5,"ODZAZt42ngf0K8HRsQw4BSqkli42",null,-92.368023432877237,42.49119546268367,null,"2023-05-23 12:26:58.103752.jpg-02023-05-23 12:26:58.103752.jpg-1",1,null,1,240,120,null,null,9,0,null,1,68,1,0,0,"River/Stream","None",0,0,0,0,0,0,0,1,0,"Mid-stage",1,"Muddy",1,"None",0,0,0,0,0,null,0,"Absent","Absent","Absent","Absent","Absent","Absent","Absent","Present","Recorded",0,0,1,"","North Bear","Agency/University","070802050602","Prescotts Creek-Black Hawk Creek","Black Hawk Creek"]
["Dev: DBParsing_231030_v01.xlsm","0wo33TJVKzumugdJ00TI","2023-05-23T16:15:26","2023-05-23T10:15:26","2023-05-23",2023,5,"ODZAZt42ngf0K8HRsQw4BSqkli42",null,-92.793291876141396,42.577501075660422,null,"2023-05-23 11:15:24.874933.jpg-02023-05-23 11:15:24.874933.jpg-1",1,null,1,240,180,null,null,8,1,100,1,62,1,0.15,5,"River/Stream","None",0,0,0,0,0,0,0,1,0,"Mid-stage",1,"Murky",1,"None",0,0,0,0,0,null,0,"Absent","Absent","Absent","Absent","Absent","Absent","Absent","Present","Recorded","","",1,"","North Bear","Agency/University","070802050103","South Beaver Creek","South Beaver Creek"]
["Dev: DBParsing_231030_v01.xlsm","QUEcuLxEmF1JeMYQvRO9","2023-05-23T15:40:06","2023-05-23T09:40:06","2023-05-23",2023,5,"3XObfMb7QSfrAYng16E97lQdZ3k1",null,-91.408470600000001,44.450797299999998,null,"",0,null,1,240,0,null,null,7,0,null,1,52,1,0,1,null,"",-1,-1,-1,-1,-1,-1,-1,-1,1,null,0,null,0,"",-1,-1,-1,-1,1,null,0,"No Data","No Data","No Data","No Data","No Data","No Data","No Data","No Data","No Data","Chimney Rock Creek","Chimney Rock Creek",1,1,"Wisconsin Clear Water","TU Staff","070400050302","Chimney Rock Creek","Elk Creek"]
["Dev: DBParsing_231030_v01.xlsm","0uCsrVwzUV0S8SHYF7Hd","2023-05-22T22:47:07","2023-05-22T16:47:07","2023-05-22",2023,5,"jhGh651Hl7cRangRQ2zqYMCZHdv1",null,-90.739790667866799,43.186656942350389,null,"2023-05-22 17:47:07.236832.jpg-0",1,null,1,240,120,null,null,8,0,null,1,65,1,0,1,"River/Stream","",-1,-1,-1,-1,-1,-1,-1,-1,1,"Baseflow",1,"Murky",1,"None",0,0,0,0,0,null,0,"No Data","No Data","No Data","No Data","No Data","No Data","No Data","No Data","No Data","Richland Creek","Richland Creek",1,"","Harry & Laura Nohr","TU Staff","070700051703","Richland Creek","City of Boscobel-Wisconsin River"]
["Dev: DBParsing_231030_v01.xlsm","mY1sAgQsm3Uuikmc4r7Q","2023-05-22T19:41:12","2023-05-22T13:41:12","2023-05-22",2023,5,"VQ9bNtzttGcXOEuaXrEAEYLfT103",null,-91.413082200000005,43.540504900000002,null,"2023-05-22 14:41:12.672607.jpg-0",1,null,1,240,120,null,null,7.5,1,0,1,61,1,0,0,"River/Stream","None",0,0,0,0,0,0,0,1,0,"Baseflow",1,"Clear",1,"None",0,0,0,0,0,null,0,"Absent","Absent","Absent","Absent","Absent","Absent","Absent","Present","Recorded","Winnebago Creek","Winnebago Creek",1,1,"Win Cres","Hiawatha","070600010401","Upper Winnebago Creek","Winnebago Creek"]
["Dev: DBParsing_231030_v01.xlsm","ftUcrBs21LiL05OP97V2","2023-05-22T17:49:25","2023-05-22T11:49:25","2023-05-22",2023,5,"jhGh651Hl7cRangRQ2zqYMCZHdv1",null,-90.874301579533366,43.394489123413763,null,"2023-05-22 12:49:25.229092.jpg-0",1,null,1,240,120,null,null,7,0,null,1,61,1,0,1,"River/Stream","None",0,0,0,0,0,0,0,1,0,"Baseflow",1,"Clear",1,"None",0,0,0,0,0,null,0,"Absent","Absent","Absent","Absent","Absent","Absent","Absent","Present","Recorded","Jones Valley","Jones Valley",1,1,"Coulee Region","TU Staff","070700060403","Tainter Creek","Tainter Creek-Kickapoo River"]
["Dev: DBParsing_231030_v01.xlsm","icOIY0POHns3VKsdC0KN","2023-05-22T17:19:13","2023-05-22T11:19:13","2023-05-22",2023,5,"jhGh651Hl7cRangRQ2zqYMCZHdv1",null,-90.863378550587754,43.394311716711826,null,"2023-05-22 12:19:13.544078.jpg-0",1,null,1,180,180,null,null,7,0,null,1,56,1,0,2,"River/Stream","None",0,0,0,0,0,0,0,1,0,"Baseflow",1,"Clear",1,"None",0,0,0,0,0,null,0,"Absent","Absent","Absent","Absent","Absent","Absent","Absent","Present","Recorded",0,0,"","","Coulee Region","TU Staff","070700060403","Tainter Creek","Tainter Creek-Kickapoo River"]
["Dev: DBParsing_231030_v01.xlsm","pp8zCnEcqtaS0gfExdXd","2023-05-22T16:57:38","2023-05-22T10:57:38","2023-05-22",2023,5,"VQ9bNtzttGcXOEuaXrEAEYLfT103",null,-91.569807499999996,43.502267699999997,null,"2023-05-22 11:57:38.216808.jpg-0",1,null,1,240,180,null,null,7.5,1,0,1,55,1,0,0,"River/Stream","None",0,0,0,0,0,0,0,1,0,"Baseflow",1,"Clear",1,"None",0,0,0,0,0,null,0,"Absent","Absent","Absent","Absent","Absent","Absent","Absent","Present","Recorded","Bee Creek","Bee Creek",1,1,"Win Cres","Hiawatha","070600020502","Waterloo Creek","Bear Creek"]
["Dev: DBParsing_231030_v01.xlsm","7lpoSLgZUNRaiPuWUZoY","2023-05-22T14:35:48","2023-05-22T08:35:48","2023-05-22",2023,5,"jhGh651Hl7cRangRQ2zqYMCZHdv1","",-90.861305868104395,43.697572124895409,null,"2023-05-22 09:35:48.144901.jpg-0",1,null,1,240,120,null,null,8,0,null,1,52,1,0,2,"River/Stream","",-1,-1,-1,-1,-1,-1,-1,-1,1,null,0,null,0,"",-1,-1,-1,-1,1,null,0,"No Data","No Data","No Data","No Data","No Data","No Data","No Data","No Data","No Data","Timber Coulee Creek","Timber Coulee Creek",1,"","Coulee Region","TU Staff","070600010101","Timber Coulee Creek","Coon Creek"]
["Dev: DBParsing_231030_v01.xlsm","xF63xcZHKRLdZAByx1ef","2023-05-21T19:33:57","2023-05-21T13:33:57","2023-05-21",2023,5,"yKUjBvRdnpNbmzga6VHBVkJbTgH2","",-91.227608730484263,43.969225171704409,null,"2023-05-21 14:33:57.406199.jpg-0",1,null,1,180,180,null,null,7,1,100,1,56,1,0,0,"River/Stream","None",0,0,0,0,0,0,0,1,0,"Mid-stage",1,"Murky",1,"None",0,0,0,0,0,"Halfway Creek on near\n Hossfeld Rd ",1,"Absent","Absent","Absent","Absent","Absent","Absent","Absent","Present","Recorded","Halfway Creek","Halfway Creek",1,1,"Coulee Region","Hiawatha","070400060102","Halfway Creek","Halfway Creek-Mississippi River"]
["Dev: DBParsing_231030_v01.xlsm","Wj43635nRB8W137QFGsj","2023-05-19T20:45:25","2023-05-19T14:45:25","2023-05-19",2023,5,"c5waYRQXJYhaoCKyGDL6aix41dp1","",-91.234699634222082,43.967295122428688,null,"2023-05-19 15:45:25.044544.jpg-0",1,null,1,180,180,null,null,7,1,0,1,57,1,0,1,"River/Stream","Bank Erosion",0,1,0,0,0,0,0,0,0,"Mid-stage",1,"Murky",1,"None",0,0,0,0,0,"",0,"Absent","Present","Absent","Absent","Absent","Absent","Absent","Absent","Recorded","Halfway Creek","Halfway Creek",1,1,"Coulee Region","Unknown","070400060102","Halfway Creek","Halfway Creek-Mississippi River"]
["Dev: DBParsing_231030_v01.xlsm","MhogyGXiYXBeIos2E8TV","2023-05-19T19:36:30","2023-05-19T13:36:30","2023-05-19",2023,5,"SHHjnfPS38YP3LyXaRKatoLEFsB3",null,-91.2605054,43.966998400000001,null,"2023-05-19 14:36:30.633802.jpg-02023-05-19 14:36:30.633802.jpg-1",1,null,1,240,30,null,null,7.5,1,0,1,53,1,0,2,"River/Stream","None",0,0,0,0,0,0,0,1,0,"Mid-stage",1,"Murky",1,"Regional Rainfall",1,0,0,0,0,"43.97103, -91.21967 coordinates",1,"Absent","Absent","Absent","Absent","Absent","Absent","Absent","Present","Recorded","","","","","Coulee Region","Unknown","070400060102","Halfway Creek","Halfway Creek-Mississippi River"]
["Dev: DBParsing_231030_v01.xlsm","kRev9m4ARTdNQfR9qSnk","2023-05-19T19:31:28","2023-05-19T13:31:28","2023-05-19",2023,5,"bszDaPplS3bm6HaEx9cotZrHB372","",-91.260535646295281,43.967032668404407,null,"2023-05-19 14:31:27.923250.jpg-02023-05-19 14:31:27.923250.jpg-1",1,null,1,240,180,null,null,8,1,0,1,52,1,0,2,"River/Stream","None",0,0,0,0,0,0,0,1,0,"Mid-stage",1,"Murky",1,"None",0,0,0,0,0,"coordinates 43.97272, -91.17033",1,"Absent","Absent","Absent","Absent","Absent","Absent","Absent","Present","Recorded","","","","","Coulee Region","Unknown","070400060102","Halfway Creek","Halfway Creek-Mississippi River"]
["Dev: DBParsing_231030_v01.xlsm","li9YpUt0AeCd0SDC8XW3","2023-05-18T21:58:10","2023-05-18T15:58:10","2023-05-18",2023,5,"7a7IFD1YT3aDXB8CbnSJjn1oLRC2","Isabelle Creek @ County Rd. EE",-92.442885238503663,44.621440103192342,null,"",0,null,1,240,120,null,null,8,1,0,1,58,1,0,0,"River/Stream","None",0,0,0,0,0,0,0,1,0,"Baseflow",1,"Clear",1,"Regional Rainfall",1,0,0,0,0,null,0,"Absent","Absent","Absent","Absent","Absent","Absent","Absent","Present","Recorded","Isabelle Creek","Isabelle Creek",1,"","Kiap TU Wish","Unknown","070400010701","Isabelle Creek","Lake Pepin"]
["Dev: DBParsing_231030_v01.xlsm","vWg7NEgYwM0W5xWVOlDC","2023-05-17T19:40:25","2023-05-17T13:40:25","2023-05-17",2023,5,"bbfim7Ms9YcQMUCkHsws7eRZSPc2","",-91.260189807988283,43.965352943807339,null,"",0,null,1,180,180,null,null,8,1,0,1,61,1,0,0,"River/Stream","",-1,-1,-1,-1,-1,-1,-1,-1,1,"Mid-stage",1,"Murky",1,"None",0,0,0,0,0,null,0,"No Data","No Data","No Data","No Data","No Data","No Data","No Data","No Data","No Data","Halfway Creek","Halfway Creek","","","Coulee Region","Unknown","070400060102","Halfway Creek","Halfway Creek-Mississippi River"]
["Dev: DBParsing_231030_v01.xlsm","yv74A275y9h9cjcAkxch","2023-05-17T19:36:58","2023-05-17T13:36:58","2023-05-17",2023,5,"c5waYRQXJYhaoCKyGDL6aix41dp1",null,-91.259165729185298,43.964188022201753,null,"2023-05-17 14:36:57.773840.jpg-0",1,null,1,240,0,null,null,7,1,100,1,59,1,0,0,"River/Stream","Bank Erosion",0,1,0,0,0,0,0,0,0,"Mid-stage",1,"Murky",1,"None",0,0,0,0,0,"tested at halfway creek by the baseball frail at 2:33 pm",1,"Absent","Present","Absent","Absent","Absent","Absent","Absent","Absent","Recorded","Halfway Creek","Halfway Creek",1,"","Coulee Region","Unknown","070400060102","Halfway Creek","Halfway Creek-Mississippi River"]
["Dev: DBParsing_231030_v01.xlsm","dUyEKhOUNrF5z2svDJ6J","2023-05-17T19:35:01","2023-05-17T13:35:01","2023-05-17",2023,5,"SHHjnfPS38YP3LyXaRKatoLEFsB3","",-91.259118799999996,43.964152400000003,null,"2023-05-17 14:35:01.434538.jpg-0",1,null,1,180,180,null,null,8,0,null,1,64,1,0,2,"River/Stream","",-1,-1,-1,-1,-1,-1,-1,-1,1,"Mid-stage",1,"Murky",1,"None",0,0,0,0,0,"2:30 behind the baseball field.",1,"No Data","No Data","No Data","No Data","No Data","No Data","No Data","No Data","No Data","Halfway Creek","Halfway Creek",1,"","Coulee Region","Unknown","070400060102","Halfway Creek","Halfway Creek-Mississippi River"]
["Dev: DBParsing_231030_v01.xlsm","JEqGsGwXIOx12GePghOE","2023-05-15T20:41:54","2023-05-15T14:41:54","2023-05-15",2023,5,"mMKogvdinjOuckB5tkMQrxnYO852","Eau Galle River @ WI Hwy 29",-92.236521199999999,44.840247300000001,null,"2023-05-15 15:41:54.757574.jpg-0",1,null,1,240,60,null,null,7.5,1,0,1,62,1,0,0,"River/Stream","None",0,0,0,0,0,0,0,1,0,"Baseflow",1,"Clear",1,"None",0,0,0,0,0,null,0,"Absent","Absent","Absent","Absent","Absent","Absent","Absent","Present","Recorded","Burkhart Creek","Burkhart Creek",1,1,"Kiap TU Wish","Kiap-TU-Wish","070500051004","Burkhart Creek-Eau Galle Creek","Eau Galle River"]
["Dev: DBParsing_231030_v01.xlsm","2H65onSCgrCXoyG4yf9W","2023-05-15T16:05:11","2023-05-15T10:05:11","2023-05-15",2023,5,"f7qMRlnlkOgrA1xpaxXrTTeRGWX2",null,-92.732043933268017,44.831078204347151,null,"",0,null,1,240,180,null,null,7.5,1,0,1,54,1,0,5,"River/Stream","Bank Erosion",0,1,0,0,0,0,0,0,0,"Baseflow",1,"Clear",1,"Regional Rainfall",1,0,0,0,0,"Secchi Tube > 100 cm",1,"Absent","Present","Absent","Absent","Absent","Absent","Absent","Absent","Recorded","Kinnickinnic River","Kinnickinnic River",1,"","Kiap TU Wish","Kiap-TU-Wish","070300051105","Lower Kinnickinnic Pond-Kinnickinnic River","Kinnickinnic River"]
["Dev: DBParsing_231030_v01.xlsm","gAGnt49Sd6Pn292xlkMU","2023-05-13T00:57:07","2023-05-12T18:57:07","2023-05-12",2023,5,"zcVm3Fu58OZRbxXQz0rpPUWcwAr2","",-91.759098399999999,43.290817500000003,null,"",0,null,1,240,60,null,null,7.5,0,null,0,null,0,"","","River/Stream","",-1,-1,-1,-1,-1,-1,-1,-1,1,"Mid-stage",1,"Muddy",1,"Regional Rainfall",1,0,0,0,0,null,0,"No Data","No Data","No Data","No Data","No Data","No Data","No Data","No Data","No Data","Trout Run","Trout Run",1,"","Iowa Driftless","Iowa Driftless","070600020404","City of Decorah-Upper Iowa River","Trout Creek-Upper Iowa River"]
["Dev: DBParsing_231030_v01.xlsm","GOxA4ncF2NaBt1vnX8jS","2023-05-11T21:18:35","2023-05-11T15:18:35","2023-05-11",2023,5,"oN50knyfHlSRv38FF1MSKXBSQ6v1",null,-93.097679383624794,44.756549415991891,null,"",0,null,0,"",null,null,null,null,0,null,0,null,0,"","",null,"",-1,-1,-1,-1,-1,-1,-1,-1,1,null,0,null,0,"",-1,-1,-1,-1,1,null,0,"No Data","No Data","No Data","No Data","No Data","No Data","No Data","No Data","No Data","","","","","Twin Cities","TCTU","070400010206","Rich Valley","Vermillion River"]
["Dev: DBParsing_231030_v01.xlsm","pztnqIW2LZsb0eSDgzDw","2023-05-11T16:00:38","2023-05-11T10:00:38","2023-05-11",2023,5,"oN50knyfHlSRv38FF1MSKXBSQ6v1","",-92.935819051612825,44.557714844091024,null,"",0,null,0,"",null,null,null,null,0,null,1,60,0,"","","River/Stream","None",0,0,0,0,0,0,0,1,0,"Baseflow",1,"Clear",1,"Regional Rainfall",1,0,0,0,0,null,0,"Absent","Absent","Absent","Absent","Absent","Absent","Absent","Present","Recorded","Pine Creek","Pine Creek",1,1,"Twin Cities","TCTU","070400020901","Pine Creek","Lower Cannon River"]
["Dev: DBParsing_231030_v01.xlsm","a8csHl3NWiDXUIvO2bgs","2023-05-10T11:18:22","2023-05-10T05:18:22","2023-05-10",2023,5,"K0EjhOrGL4NGhPVbB1pKi320lLr2","Hay Creek @ 325th St",-92.597040699999994,44.472630000000002,null,"2023-05-10 06:18:22.030627.jpg-02023-05-10 06:18:22.030627.jpg-1",1,null,1,240,120,null,null,7,1,100,1,51,1,0,2,"River/Stream","None",0,0,0,0,0,0,0,1,0,"Mid-stage",1,"Muddy",1,"Local Thunderstorm",0,1,0,0,0,null,0,"Absent","Absent","Absent","Absent","Absent","Absent","Absent","Present","Recorded","Hay Creek","Hay Creek",1,"","Twin Cities","TCTU","070400010401","Hay Creek","Hay Creek-Mississippi River"]
["Dev: DBParsing_231030_v01.xlsm","flYCeO5q48DTOl5szvjP","2023-05-06T15:17:58","2023-05-06T09:17:58","2023-05-06",2023,5,"7Uv8dHdQAQYzTjnyzkfhfjubWHA3",null,-93.009007531160918,44.657264134556748,null,"",0,null,0,"",null,null,null,null,0,null,0,null,0,"","","River/Stream","",-1,-1,-1,-1,-1,-1,-1,-1,1,null,0,null,0,"",-1,-1,-1,-1,1,null,0,"No Data","No Data","No Data","No Data","No Data","No Data","No Data","No Data","No Data","South Branch Vermillion River","South Branch Vermillion River",1,"","Twin Cities","TCTU","070400010205","South Branch Vermillion River","Vermillion River"]
["Dev: DBParsing_231030_v01.xlsm","rLhFmk6ix8sBxoRY4rdP","2023-05-05T16:08:40","2023-05-05T10:08:40","2023-05-05",2023,5,"k6imGQxkdoYmMVg7pAz2w40EZAb2",null,-92.641714899999997,44.849834199999997,null,"",0,null,1,240,180,null,null,7,1,0,1,53,1,0,0,"River/Stream","Bank Erosion,Trash",0,1,1,0,0,0,0,0,0,"Baseflow",1,"Clear",1,"None",0,0,0,0,0,null,0,"Absent","Present","Present","Absent","Absent","Absent","Absent","Absent","Recorded","Kinnickinnic River","Kinnickinnic River",1,1,"Kiap TU Wish","Kinni Corridor Collaborative","070300051105","Lower Kinnickinnic Pond-Kinnickinnic River","Kinnickinnic River"]
["Dev: DBParsing_231030_v01.xlsm","Va3V7SDV4MfpgV8fbfcE","2023-05-04T22:26:07","2023-05-04T16:26:07","2023-05-04",2023,5,"sPbTkTzcbybDduQDEAb0F4hUDHf2","MOA Creek",-93.231349075827353,44.846788650120374,null,"2023-05-04 17:26:07.557898.jpg-0",1,null,1,240,180,null,null,8,1,0,1,62,1,0,1,"River/Stream","None",0,0,0,0,0,0,0,1,0,"Bankfull Stage",1,"Clear",1,"None",0,0,0,0,0,"Big jump in water temperature from initial reading two weeks ago.",1,"Absent","Absent","Absent","Absent","Absent","Absent","Absent","Present","Recorded","","","","","Twin Cities","TCTU","070200121110","Minnesota River","Minnesota River"]
["Dev: DBParsing_231030_v01.xlsm","Zlp13hLDLAzAQ9dZB3zW","2023-05-04T18:14:13","2023-05-04T12:14:13","2023-05-04",2023,5,"k6imGQxkdoYmMVg7pAz2w40EZAb2","",-92.624263999999997,44.864227999999997,null,"",0,null,1,180,180,null,null,7.5,1,0,1,56,1,0,2,"River/Stream","Bank Erosion,Trash,Pipe/Drain Outflow",0,1,1,1,0,0,0,0,0,"Baseflow",1,"Clear",1,"None",0,0,0,0,0," secchi tube: greater than 100 cm\n\nwater temp:13.9 degrees Celsius \n\nair temp: 71 degrees Celsius ",1,"Absent","Present","Present","Present","Absent","Absent","Absent","Absent","Recorded","Kinnickinnic River","Kinnickinnic River",1,"","Kiap TU Wish","Kinni Corridor Collaborative","070300051104","Parker Creek-Kinnickinnic River","Kinnickinnic River"]
["Dev: DBParsing_231030_v01.xlsm","koJZw0MS4D5aXKkgbhpD","2023-05-04T17:37:40","2023-05-04T11:37:40","2023-05-04",2023,5,"OfALN4YJetON0fTYytkHWJCziIw2",null,-91.228773055760897,43.825164774775708,null,"",0,null,1,240,120,null,null,7,1,0,0,null,1,0,2,"Lake/Pond","",-1,-1,-1,-1,-1,-1,-1,-1,1,null,0,null,0,"",-1,-1,-1,-1,1,null,0,"No Data","No Data","No Data","No Data","No Data","No Data","No Data","No Data","No Data","","","","","Coulee Region","Agency/University","070400060403","Smith Valley Creek-La Crosse River","Lower La Crosse River"]
["Dev: DBParsing_231030_v01.xlsm","ZMhvM4trR86K6kUMlsh4","2023-05-04T16:24:17","2023-05-04T10:24:17","2023-05-04",2023,5,"k6imGQxkdoYmMVg7pAz2w40EZAb2","",-92.621369700000002,44.875029099999999,null,"2023-05-04 11:24:17.626852.jpg-0",1,null,1,240,180,null,null,7.5,1,0,1,53,1,0,2,"River/Stream","Trash",0,0,1,0,0,0,0,0,0,"Baseflow",1,"Clear",1,"None",0,0,0,0,0," air temp: 74\n\nsecchi tube: greater than 100 cm \n\n\n",1,"Absent","Absent","Present","Absent","Absent","Absent","Absent","Absent","Recorded","Kinnickinnic River","Kinnickinnic River",1,"","Kiap TU Wish","Kinni Corridor Collaborative","070300051104","Parker Creek-Kinnickinnic River","Kinnickinnic River"]
["Dev: DBParsing_231030_v01.xlsm","AAxDTmjKpJNVaMbZrxrK","2023-05-02T23:06:11","2023-05-02T17:06:11","2023-05-02",2023,5,"XLsE0jeCBabIhsFYi4ZuVSWCKI33",null,-92.268087677743537,44.428671919782111,null,"",0,null,0,"",null,null,null,null,1,0,1,50,0,"","","River/Stream","",-1,-1,-1,-1,-1,-1,-1,-1,1,null,0,null,0,"",-1,-1,-1,-1,1,null,0,"No Data","No Data","No Data","No Data","No Data","No Data","No Data","No Data","No Data","Miller Creek","Miller Creek","","","Hiawatha","Hiawatha","070400010704","Miller Creek","Lake Pepin"]
["Dev: DBParsing_231030_v01.xlsm","zes6Bj6HC6I6ZcbGVT5o","2023-05-02T21:08:11","2023-05-02T15:08:11","2023-05-02",2023,5,"VHRlmHCbVSYpoT7Xubj2OGSvIFl1","SF Kinnickinnic River @ 900th St",-92.645139933533287,44.843542815129418,null,"2023-05-02 16:08:11.585846.jpg-0",1,null,1,180,120,null,null,8,1,0,1,53,1,0,0,"River/Stream","None",0,0,0,0,0,0,0,1,0,"Baseflow",1,"Clear",1,"None",0,0,0,0,0,"bright, breezy, 59 and sunny at 4:00 pm",1,"Absent","Absent","Absent","Absent","Absent","Absent","Absent","Present","Recorded","Kinnickinnic River","Kinnickinnic River",1,"","Kiap TU Wish","Kiap-TU-Wish","070300051105","Lower Kinnickinnic Pond-Kinnickinnic River","Kinnickinnic River"]
["Dev: DBParsing_231030_v01.xlsm","hbEuZtLPntyyqlnK8q7G","2023-05-02T21:00:52","2023-05-02T15:00:52","2023-05-02",2023,5,"nyqdkfDdslRNDqAR2Ieel5debpE2",null,-91.419814383951845,44.77098222956328,null,"",0,null,1,180,30,null,null,6.5,1,300,1,54,0,"","","River/Stream","",-1,-1,-1,-1,-1,-1,-1,-1,1,"Mid-stage",1,"Murky",1,"None",0,0,0,0,0,null,0,"No Data","No Data","No Data","No Data","No Data","No Data","No Data","No Data","No Data","Otter Creek","Otter Creek",1,"","Wisconsin Clear Water","Wisconsin Clear Waters","070500060402","Otter Creek","Otter Creek"]
["Dev: DBParsing_231030_v01.xlsm","OIBePW6ALy0HH9abxCo3","2023-05-02T16:32:41","2023-05-02T10:32:41","2023-05-02",2023,5,"80reiKTTqGYqqpgYAhPwqypFwak1",null,-91.804368927413719,43.853096694061492,null,"2023-05-02 11:32:41.491689.jpg-0",1,null,1,240,180,null,null,7,1,0,1,50,1,0,5,"River/Stream","Bank Erosion",0,1,0,0,0,0,0,0,0,"Baseflow",1,"Clear",1,"None",0,0,0,0,0,"Pine is clear but erosion really bad downstream of bridge.  see picture ",1,"Absent","Present","Absent","Absent","Absent","Absent","Absent","Absent","Recorded","Pine Creek","Pine Creek",1,"","Win Cres","Hiawatha","070400080503","Pine Creek","Rush Creek"]
["Dev: DBParsing_231030_v01.xlsm","o7ljtLwbccaMx4688XJT","2023-05-02T15:48:16","2023-05-02T09:48:16","2023-05-02",2023,5,"80reiKTTqGYqqpgYAhPwqypFwak1",null,-91.800734271141195,43.862230739848769,null,"2023-05-02 10:48:16.036647.jpg-0",1,null,1,240,180,null,null,7.5,1,0,1,53,1,0,0,"River/Stream","Bank Erosion",0,1,0,0,0,0,0,0,0,"Baseflow",1,"Clear",1,"None",0,0,0,0,0,"Borson Spring looks good but oddly warmer than other streams today. it’s a cold day",1,"Absent","Present","Absent","Absent","Absent","Absent","Absent","Absent","Recorded",0,0,1,1,"Win Cres","Hiawatha","070400080502","Middle Rush Creek","Rush Creek"]
["Dev: DBParsing_231030_v01.xlsm","FVBhmiJrNumfAHvtJ1We","2023-05-02T13:34:19","2023-05-02T07:34:19","2023-05-02",2023,5,"80reiKTTqGYqqpgYAhPwqypFwak1",null,-91.982529109320978,43.774244387974413,null,"2023-05-02 08:34:19.372287.jpg-0",1,null,1,240,180,null,null,7.5,1,0,1,47,1,0,2,"River/Stream","None",0,0,0,0,0,0,0,1,0,"Baseflow",1,"Clear",1,"None",0,0,0,0,0,"Torkelson looks great. clear and cold.  ",1,"Absent","Absent","Absent","Absent","Absent","Absent","Absent","Present","Recorded","Torkelson Creek","Torkelson Creek",1,"","Hiawatha","Hiawatha","070400080305","Torkelson Creek-Root River","Trout Run-Root River"]
["Dev: DBParsing_231030_v01.xlsm","wFPg2Rpprry3Mo2nZnUF","2023-04-28T00:22:43","2023-04-27T18:22:43","2023-04-27",2023,4,"k6imGQxkdoYmMVg7pAz2w40EZAb2",null,-92.624741299999997,44.861592000000002,null,"",0,null,1,240,180,null,null,7.5,1,0,1,51,1,0,0,"River/Stream","Bank Erosion,Trash",0,1,1,0,0,0,0,0,0,"Bankfull Stage",1,"Clear",1,"Local Thunderstorm",0,1,0,0,0,null,0,"Absent","Present","Present","Absent","Absent","Absent","Absent","Absent","Recorded","Kinnickinnic River","Kinnickinnic River",1,"","Kiap TU Wish","Kinni Corridor Collaborative","070300051104","Parker Creek-Kinnickinnic River","Kinnickinnic River"]
["Dev: DBParsing_231030_v01.xlsm","ejpj8x94MBupbT0d7cBw","2023-04-27T18:43:05","2023-04-27T12:43:05","2023-04-27",2023,4,"VQ9bNtzttGcXOEuaXrEAEYLfT103",null,-91.373392499999994,43.6035258,null,"2023-04-27 13:43:04.990651.jpg-0",1,null,1,240,180,null,null,8.5,1,0,0,null,1,0,2,"River/Stream","None",0,0,0,0,0,0,0,1,0,"Baseflow",1,"Clear",1,"None",0,0,0,0,0,null,0,"Absent","Absent","Absent","Absent","Absent","Absent","Absent","Present","Recorded","Crooked Creek","Crooked Creek",1,"","Win Cres","Hiawatha","070600010203","Clear Creek-Crooked Creek","Crooked Creek"]
["Dev: DBParsing_231030_v01.xlsm","7fGuTwnh0epWS80h4LFh","2023-04-27T16:19:42","2023-04-27T10:19:42","2023-04-27",2023,4,"xYjaaWkJX4fiKpH7uMmSdC5YE0h2","",-88.007526761156811,41.526100210343735,null,"2023-04-27 11:19:42.243587.jpg-0",1,null,1,240,180,null,null,7.5,1,200,1,55,1,0.15,2,"River/Stream","None",0,0,0,0,0,0,0,1,0,"Baseflow",1,"Clear",1,"None",0,0,0,0,0,"This was a rest",1,"Absent","Absent","Absent","Absent","Absent","Absent","Absent","Present","Recorded","Hickory Creek","Hickory Creek","","",0,"Oak Brook","071200040603","Hickory Creek","Hickory Creek"]
["Dev: DBParsing_231030_v01.xlsm","kDrkowY17Cxcyzx9ripg","2023-04-21T22:34:55","2023-04-21T16:34:55","2023-04-21",2023,4,"MZ8CvOB6bBeEPjwpBrk2zCVH7bk2","",-93.231380712403578,44.846840565365213,null,"2023-04-21 17:34:55.461281.jpg-02023-04-21 17:34:55.461281.jpg-1",1,null,1,240,180,null,null,7.5,1,0,1,52,1,0,1,"River/Stream","None",0,0,0,0,0,0,0,1,0,"Bankfull Stage",1,"Clear",1,"Regional Rainfall",1,0,0,0,0,"recent melt and precipitation, air temp 43 degrees F, monitoring site: MOA Creek",1,"Absent","Absent","Absent","Absent","Absent","Absent","Absent","Present","Recorded","","","","","Twin Cities","TCTU","070200121110","Minnesota River","Minnesota River"]
["Dev: DBParsing_231030_v01.xlsm","WlSsA522JYdHN7tE9Twb","2023-04-19T20:54:17","2023-04-19T14:54:17","2023-04-19",2023,4,"6oemLSFIHIXnYk5OuejKZ9Uhljr1","",-91.823684688710316,43.642544397769008,null,"2023-04-19 15:54:17.842346.jpg-0",1,null,1,0,30,null,null,7,1,0,1,42,1,0,2,"River/Stream","None",0,0,0,0,0,0,0,1,0,"Bankfull Stage",1,"Murky",1,"Regional Rainfall",1,0,0,0,0,"murky water after last night rain",1,"Absent","Absent","Absent","Absent","Absent","Absent","Absent","Present","Recorded","South Fork Root River","South Fork Root River",1,1,"Win Cres","Hiawatha","070400080803","Middle South Fork Root River","South Fork Root River"]
["Dev: DBParsing_231030_v01.xlsm","urpi1XyTvHIC5Yghjqll","2023-04-18T23:17:59","2023-04-18T17:17:59","2023-04-18",2023,4,"aPffmw8BEWfof4TYloC3SpL9sQk1",null,-91.987383300000005,44.0768767,null,"2023-04-18 18:17:59.093047.jpg-0",1,null,1,240,120,null,null,7,1,200,1,54,1,0,0,"River/Stream","None",0,0,0,0,0,0,0,1,0,"Mid-stage",1,"Murky",1,"Warmth Causing Snowmelt",0,0,1,0,0,null,0,"Absent","Absent","Absent","Absent","Absent","Absent","Absent","Present","Recorded","South Fork Whitewater River","South Fork Whitewater River",1,"","Win Cres","Hiawatha","070400030307","Lower South Fork Whitewater River","Whitewater River"]
["Dev: DBParsing_231030_v01.xlsm","CYzwAyL65zXRXVixlnnL","2023-04-15T16:07:38","2023-04-15T10:07:38","2023-04-15",2023,4,"nyqdkfDdslRNDqAR2Ieel5debpE2",null,-91.408014768458756,44.759587501041416,null,"",0,null,1,80,60,null,null,7,1,100,1,56,1,0,1,"River/Stream","Bank Erosion",0,1,0,0,0,0,0,0,0,"Mid-stage",1,"Murky",1,"Warmth Causing Snowmelt",0,0,1,0,0,"",0,"Absent","Present","Absent","Absent","Absent","Absent","Absent","Absent","Recorded","Otter Creek","Otter Creek",1,"","Wisconsin Clear Water","Wisconsin Clear Waters","070500060402","Otter Creek","Otter Creek"]
["Dev: DBParsing_231030_v01.xlsm","AOhrISC8ZewwJUp4gHsb","2023-04-14T17:21:20","2023-04-14T11:21:20","2023-04-14",2023,4,"VQ9bNtzttGcXOEuaXrEAEYLfT103",null,-92.294288399999999,43.728038300000001,null,"2023-04-14 12:21:20.839863.jpg-0",1,null,1,240,0,null,null,7.5,1,100,1,56,1,0,5,"River/Stream","None",0,0,0,0,0,0,0,1,0,"Baseflow",1,"Clear",1,"None",0,0,0,0,0,null,0,"Absent","Absent","Absent","Absent","Absent","Absent","Absent","Present","Recorded","Spring Valley Creek","Spring Valley Creek",1,"","Hiawatha","Hiawatha","070400080205","Spring Valley Creek","Middle Branch Root River"]
["Dev: DBParsing_231030_v01.xlsm","9LJp7BxMSgCIGm4Yz1K0","2023-04-14T15:54:10","2023-04-14T09:54:10","2023-04-14",2023,4,"AFSRTEftiTe1HDjxTst1HuMIU1l1","Plum Creek @ Plum CIty Park",-92.189674075621582,44.632753292743878,null,"",0,null,1,240,120,null,null,7.5,1,0,1,45,1,0.15,2,"River/Stream","None",0,0,0,0,0,0,0,1,0,"Mid-stage",1,"Murky",1,"Warmth Causing Snowmelt",0,0,1,0,0,"",0,"Absent","Absent","Absent","Absent","Absent","Absent","Absent","Present","Recorded","Plum Creek","Plum Creek",1,1,"Kiap TU Wish","Kiap-TU-Wish","070500051101","Nugget Lake-Plum Creek","Plum Creek"]
["Dev: DBParsing_231030_v01.xlsm","6BQroqoBlNghMHT1JpZR","2023-04-12T18:48:54","2023-04-12T12:48:54","2023-04-12",2023,4,"7a7IFD1YT3aDXB8CbnSJjn1oLRC2","Isabelle Creek @ County Rd. EE",-92.44291112824726,44.621396154379262,null,"",0,null,1,240,120,null,null,8,1,100,1,58,1,0.15,1,"River/Stream","None",0,0,0,0,0,0,0,1,0,"Baseflow",1,"Clear",1,"None",0,0,0,0,0,null,0,"Absent","Absent","Absent","Absent","Absent","Absent","Absent","Present","Recorded","Isabelle Creek","Isabelle Creek",1,"","Kiap TU Wish","Unknown","070400010701","Isabelle Creek","Lake Pepin"]
["Dev: DBParsing_231030_v01.xlsm","TYj3Gb6UF9PVtD6K7QCC","2023-04-11T20:21:20","2023-04-11T14:21:20","2023-04-11",2023,4,"80reiKTTqGYqqpgYAhPwqypFwak1",null,-92.169425389332559,44.113603901286695,null,"",0,null,1,240,180,null,null,7.5,1,0,1,58,1,0,5,"River/Stream","None",0,0,0,0,0,0,0,1,0,"Mid-stage",1,"Murky",1,"None",0,0,0,0,0,"Whitewater coming out of Carley State Park.  can’t get to river there because road is closed.  snow or something. ",1,"Absent","Absent","Absent","Absent","Absent","Absent","Absent","Present","Recorded","North Fork Whitewater River","North Fork Whitewater River",1,"","Hiawatha","Hiawatha","070400030304","Lower North Fork Whitewater River","Whitewater River"]
["Dev: DBParsing_231030_v01.xlsm","q84SVgP5ZFrcboj1wupO","2023-04-11T19:09:19","2023-04-11T13:09:19","2023-04-11",2023,4,"80reiKTTqGYqqpgYAhPwqypFwak1",null,-92.048057138161681,44.046800153625895,null,"2023-04-11 14:09:18.951295.jpg-0",1,null,1,240,180,null,null,7.5,1,0,1,53,1,0,0,"River/Stream","Fish Barrier",1,0,0,0,0,0,0,0,0,"Baseflow",1,"Clear",1,"None",0,0,0,0,0,"Trout Run in WW State Park is looking great. beaver dam right below",1,"Present","Absent","Absent","Absent","Absent","Absent","Absent","Absent","Recorded","Trout Run","Trout Run",1,1,"Hiawatha","Hiawatha","070400030305","Middle Fork Whitewater River","Whitewater River"]
["Dev: DBParsing_231030_v01.xlsm","6C0Jk7KGNEtamgILli1O","2023-04-10T20:48:27","2023-04-10T14:48:27","2023-04-10",2023,4,"80reiKTTqGYqqpgYAhPwqypFwak1",null,-92.227829702847984,44.265841033880235,null,"2023-04-10 15:48:27.347082.jpg-0",1,null,1,240,180,null,null,9,1,0,1,59,1,0,2,"River/Stream","Bank Erosion",0,1,0,0,0,0,0,0,0,"Mid-stage",1,"Clear",1,"None",0,0,0,0,0,"stream also flooded recently. clear now.  very sandy.  flood didn’t wash out sand it would seem. ",1,"Absent","Present","Absent","Absent","Absent","Absent","Absent","Absent","Recorded","Middle Creek","Middle Creek",1,1,"Hiawatha","Hiawatha","070400040506","Middle Creek","Zumbro River"]
["Dev: DBParsing_231030_v01.xlsm","MnzDrpeDKMj26KWvpaRJ","2023-04-10T18:00:00","2023-04-10T12:00:00","2023-04-10",2023,4,"b5Q5MWoIy9OOBrhn8HbZMPPsGST2",null,-92.064189446522462,43.667133077193235,null,"",0,null,1,240,180,null,null,8,1,0,0,null,1,0,2,"River/Stream","Bank Erosion,Livestock in Water",0,1,0,0,1,0,0,0,0,"Baseflow",1,"Clear",1,"None",0,0,0,0,0,"Camp Creek",1,"Absent","Present","Absent","Absent","Present","Absent","Absent","Absent","Recorded","Camp Creek","Camp Creek",1,"","Hiawatha","Agency/University","070400080407","Camp Creek","South Branch Root River"]
["Dev: DBParsing_231030_v01.xlsm","Z4Zw24WzQV969lczxmuO","2023-04-08T18:27:21","2023-04-08T12:27:21","2023-04-08",2023,4,"JXs3JH9frrZM0ZdjV8qFZY0NE3P2","SF Kinnickinnic River @ 900th St",-92.583487378519564,44.848865023855907,null,"",0,null,1,240,60,null,null,7,1,100,1,41,1,0,2,"River/Stream","",-1,-1,-1,-1,-1,-1,-1,-1,1,"Mid-stage",1,"Muddy",1,"Warmth Causing Snowmelt",0,0,1,0,0,null,0,"No Data","No Data","No Data","No Data","No Data","No Data","No Data","No Data","No Data","South Fork Kinnickinnic River","South Fork Kinnickinnic River",1,1,"Kiap TU Wish","Kiap-TU-Wish","070300051103","South Fork Kinnickinnic River","Kinnickinnic River"]
["Dev: DBParsing_231030_v01.xlsm","AYAtqbaEYHNaposb3nT3","2023-04-07T17:47:10","2023-04-07T11:47:10","2023-04-07",2023,4,"VHRlmHCbVSYpoT7Xubj2OGSvIFl1","SF Kinnickinnic River @ 900th St",-92.644970481267677,44.843613507489927,null,"",0,null,0,"",null,null,null,null,0,null,0,null,1,0,2,"River/Stream","None",0,0,0,0,0,0,0,1,0,"Bankfull Stage",1,"Murky",1,"Warmth Causing Snowmelt",0,0,1,0,0,"trying again with fresh 2–1 strip",1,"Absent","Absent","Absent","Absent","Absent","Absent","Absent","Present","Recorded","Kinnickinnic River","Kinnickinnic River",1,"","Kiap TU Wish","Kiap-TU-Wish","070300051105","Lower Kinnickinnic Pond-Kinnickinnic River","Kinnickinnic River"]
["Dev: DBParsing_231030_v01.xlsm","eJrHaQ4KZ4m7FykYZjDA","2023-04-03T18:18:20","2023-04-03T12:18:20","2023-04-03",2023,4,"b5Q5MWoIy9OOBrhn8HbZMPPsGST2",null,-91.570184648269915,43.502599123576509,null,"",0,null,1,240,180,null,null,7,1,0,1,50,1,0.15,1,"River/Stream","Bank Erosion",0,1,0,0,0,0,0,0,0,"Baseflow",1,"Clear",1,"None",0,0,0,0,0,"Bee Creek",1,"Absent","Present","Absent","Absent","Absent","Absent","Absent","Absent","Recorded","Bee Creek","Bee Creek",1,1,"Win Cres","Agency/University","070600020502","Waterloo Creek","Bear Creek"]
["Dev: DBParsing_231030_v01.xlsm","6UlFgkyvfkjC8VtTsenN","2023-03-21T23:46:59","2023-03-21T17:46:59","2023-03-21",2023,3,"b5Q5MWoIy9OOBrhn8HbZMPPsGST2",null,-91.984841430213976,44.254501878425351,null,"2023-03-21 18:46:59.355002.jpg-0",1,null,1,240,180,null,null,7,1,0,0,null,1,0,2,"River/Stream","Bank Erosion",0,1,0,0,0,0,0,0,0,"Baseflow",1,"Clear",1,"None",0,0,0,0,0,"clear tributary on left side of picture",1,"Absent","Present","Absent","Absent","Absent","Absent","Absent","Absent","Recorded","Snake Creek","Snake Creek",1,1,"Win Cres","Agency/University","070400030602","Snake Creek","City of Winona-Mississippi River"]
["Dev: DBParsing_231030_v01.xlsm","eoCN6mMykXomviqMqMOx","2023-02-28T20:12:58","2023-02-28T14:12:58","2023-02-28",2023,2,"7fp9eoNK1RTW0XUKFpn9oieJe1W2",null,-90.765040600000006,43.575744399999998,null,"2023-02-28 14:12:58.231699.jpg-02023-02-28 14:12:58.231699.jpg-1",1,null,1,240,120,null,null,8,1,0,1,39,1,0,1,"River/Stream","",-1,-1,-1,-1,-1,-1,-1,-1,1,"Baseflow",1,"Murky",1,"Warmth Causing Snowmelt",0,0,1,0,0,"slight runoff event from snow melting. River up 2 to 3 inches. Nitrate and nitrate strip expired 04/2022, ignore these test results",1,"No Data","No Data","No Data","No Data","No Data","No Data","No Data","No Data","No Data","West Fork Kickapoo River","West Fork Kickapoo River",1,1,"Coulee Region","TU Staff","070700060205","West Fork Kickapoo River","West Fork Kickapoo River"]
["Dev: DBParsing_231030_v01.xlsm","nl28tzvBB3p3AV7Zil3H","2022-11-13T17:12:51","2022-11-13T11:12:51","2022-11-13",2022,11,"80reiKTTqGYqqpgYAhPwqypFwak1",null,-91.580516088431153,43.641510447906931,null,"2022-11-13 11:12:51.227451.jpg-0",1,null,1,240,180,null,null,7,1,0,1,47,1,0,0,"River/Stream","None",0,0,0,0,0,0,0,1,0,"Baseflow",1,"Clear",1,"None",0,0,0,0,0,"looks great. ",1,"Absent","Absent","Absent","Absent","Absent","Absent","Absent","Present","Recorded","Beaver Creek East","Beaver Creek East",1,"","Win Cres","Hiawatha","070400080805","Beaver Creek","South Fork Root River"]
["Dev: DBParsing_231030_v01.xlsm","hbbWLs9b3nMxxD0djprv","2022-11-13T16:45:30","2022-11-13T10:45:30","2022-11-13",2022,11,"80reiKTTqGYqqpgYAhPwqypFwak1",null,-91.610694835241759,43.633648692900152,null,"2022-11-13 10:45:30.342428.jpg-0",1,null,1,240,180,null,null,7,1,0,1,41,1,0,2,"River/Stream","None",0,0,0,0,0,0,0,1,0,"Baseflow",1,"Clear",1,"None",0,0,0,0,0,"not sure what that is in stream downstream. beaver??",1,"Absent","Absent","Absent","Absent","Absent","Absent","Absent","Present","Recorded","Beaver Creek West","Beaver Creek West",1,1,"Win Cres","Hiawatha","070400080805","Beaver Creek","South Fork Root River"]
["Dev: DBParsing_231030_v01.xlsm","rWwcpD4FZRBBpIINvuCm","2022-10-30T19:12:06","2022-10-30T13:12:06","2022-10-30",2022,10,"bc0T8Yfie5YQFmysZHxLsNJDJnT2",null,-92.641685600000002,44.849836799999999,null,"",0,null,1,240,0,null,null,7.5,1,100,1,49,1,0,0,"River/Stream","Trash",0,0,1,0,0,0,0,0,0,"Baseflow",1,"Clear",1,"None",0,0,0,0,0,"hach test 4\ntds 298\nconductivity 436\nph 8.5\nselinity 206",1,"Absent","Absent","Present","Absent","Absent","Absent","Absent","Absent","Recorded","Kinnickinnic River","Kinnickinnic River",1,1,"Kiap TU Wish","Kinni Corridor Collaborative","070300051105","Lower Kinnickinnic Pond-Kinnickinnic River","Kinnickinnic River"]
["Dev: DBParsing_231030_v01.xlsm","ja8JqFCQv3SxuEkKkBrp","2022-10-30T18:00:20","2022-10-30T12:00:20","2022-10-30",2022,10,"bc0T8Yfie5YQFmysZHxLsNJDJnT2",null,-92.636524100000003,44.854660699999997,null,"",0,null,1,240,120,null,null,6.5,1,100,1,48,1,0,2,"River/Stream","Bank Erosion,Trash,Pipe/Drain Outflow",0,1,1,1,0,0,0,0,0,"Baseflow",1,"Clear",1,"None",0,0,0,0,0,"287 tds\n420 conductivity\n8.4 pH\n206 salinity\nhach 6",1,"Absent","Present","Present","Present","Absent","Absent","Absent","Absent","Recorded","Kinnickinnic River","Kinnickinnic River",1,1,"Kiap TU Wish","Kinni Corridor Collaborative","070300051105","Lower Kinnickinnic Pond-Kinnickinnic River","Kinnickinnic River"]
["Dev: DBParsing_231030_v01.xlsm","uWBuQcCoEkOaBd9ewV6H","2022-10-26T20:06:50","2022-10-26T14:06:50","2022-10-26",2022,10,"jAZtjti59oWDTa7NaxeDt9luw853","",-92.621327899482679,44.875119617250633,null,"",0,null,1,240,120,null,null,7.5,1,0,0,null,1,0,0,"River/Stream","None",0,0,0,0,0,0,0,1,0,"Baseflow",1,"Clear",1,"None",0,0,0,0,0,"HACH test NO3 at 8 ppm",1,"Absent","Absent","Absent","Absent","Absent","Absent","Absent","Present","Recorded","Kinnickinnic River","Kinnickinnic River",1,"","Kiap TU Wish","Kinni Corridor Collaborative","070300051104","Parker Creek-Kinnickinnic River","Kinnickinnic River"]
["Dev: DBParsing_231030_v01.xlsm","UAceqWNmxaFn98hSIU89","2022-10-24T17:31:53","2022-10-24T11:31:53","2022-10-24",2022,10,"80reiKTTqGYqqpgYAhPwqypFwak1","",-92.278052645088707,43.793119860234448,null,"2022-10-24 12:31:53.592158.jpg-0",1,null,1,240,180,null,null,7,1,0,1,52,1,0,2,"River/Stream","None",0,0,0,0,0,0,0,1,0,"Baseflow",1,"Clear",1,"None",0,0,0,0,0,"thunder storm last night.  ",1,"Absent","Absent","Absent","Absent","Absent","Absent","Absent","Present","Recorded","Carson Creek","Carson Creek",1,1,"Hiawatha","Hiawatha","070400080208","Middle Branch Root River","Middle Branch Root River"]
["Dev: DBParsing_231030_v01.xlsm","es6u6dwkaHdbAASZFT5u","2022-10-23T17:19:58","2022-10-23T11:19:58","2022-10-23",2022,10,"ODZAZt42ngf0K8HRsQw4BSqkli42","",-91.682659015144836,42.882295106577573,null,"2022-10-23 12:19:57.657617.jpg-02022-10-23 12:19:57.657617.jpg-1",1,null,1,240,180,null,null,8,1,100,1,56,1,0,5,"River/Stream","None",0,0,0,0,0,0,0,1,0,"Baseflow",1,"Clear",1,"None",0,0,0,0,0,null,0,"Absent","Absent","Absent","Absent","Absent","Absent","Absent","Present","Recorded","Mink Creek","Mink Creek",1,"","Spring Creeks","Agency/University","070600040602","Mink Creek","Volga River"]
["Dev: DBParsing_231030_v01.xlsm","IOlsCFvhM0cd319PSoXt","2022-10-13T18:20:35","2022-10-13T12:20:35","2022-10-13",2022,10,"OfALN4YJetON0fTYytkHWJCziIw2",null,-90.990907016809402,43.736567085336304,null,"",0,null,1,240,120,null,null,7,0,null,0,null,1,0,2,"River/Stream","",-1,-1,-1,-1,-1,-1,-1,-1,1,"",0,"Clear",1,"Regional Rainfall",1,0,0,0,0,null,0,"No Data","No Data","No Data","No Data","No Data","No Data","No Data","No Data","No Data",0,0,1,"","Coulee Region","Agency/University","070600010103","Middle Coon Creek","Coon Creek"]
["Dev: DBParsing_231030_v01.xlsm","Y7fumJF6umcqwvgDyESS","2022-10-13T16:17:01","2022-10-13T10:17:01","2022-10-13",2022,10,"AFSRTEftiTe1HDjxTst1HuMIU1l1","Rush River @ 570th Ave",-92.331583748144283,44.746084692391726,null,"",0,null,1,240,120,null,null,7,1,0,1,48,1,0.15,2,"River/Stream","None",0,0,0,0,0,0,0,1,0,"Baseflow",1,"Clear",1,"None",0,0,0,0,0,"",0,"Absent","Absent","Absent","Absent","Absent","Absent","Absent","Present","Recorded","Rush River","Rush River",1,1,"Kiap TU Wish","Kiap-TU-Wish","070400010505","Brush Creek-Rush River","Rush River"]
["Dev: DBParsing_231030_v01.xlsm","6q9X1QwpMZOWiuCbadAA","2022-10-11T16:21:54","2022-10-11T10:21:54","2022-10-11",2022,10,"nyqdkfDdslRNDqAR2Ieel5debpE2",null,-91.355787463222924,44.721845022175458,null,"",0,null,0,"",null,null,null,null,0,null,1,54,0,"","","River/Stream","Bank Erosion,Livestock in Water",0,1,0,0,1,0,0,0,0,"Baseflow",1,"Murky",1,"None",0,0,0,0,0," Many areas of bank access with heavy bovine traffic including hoof prints on this island, indicating significant livestock access to the water. Mainly from here upstream short distance. The water here and down the street is cloudy here and saltier than anywhere else I have been fishing on water",1,"Absent","Present","Absent","Absent","Present","Absent","Absent","Absent","Recorded","Otter Creek","Otter Creek",1,"","Wisconsin Clear Water","Wisconsin Clear Waters","070500060402","Otter Creek","Otter Creek"]
["Dev: DBParsing_231030_v01.xlsm","Q39SJCjVg2gfSKGAZBhE","2022-10-08T15:58:23","2022-10-08T09:58:23","2022-10-08",2022,10,"K0EjhOrGL4NGhPVbB1pKi320lLr2","Hay Creek @ 320th St",-92.575481699999997,44.488376700000003,null,"2022-10-08 10:58:22.862294.jpg-0",1,null,1,240,0,null,null,7,1,100,1,45,1,0,2,"River/Stream","None",0,0,0,0,0,0,0,1,0,"Baseflow",1,"Clear",1,"None",0,0,0,0,0,"good shape. 24 fish in 3hrs fishing. 6- 13\"",1,"Absent","Absent","Absent","Absent","Absent","Absent","Absent","Present","Recorded","Hay Creek","Hay Creek",1,"","Twin Cities","TCTU","070400010401","Hay Creek","Hay Creek-Mississippi River"]
["Dev: DBParsing_231030_v01.xlsm","jknHaddJR8ltCjQGj05i","2022-10-04T16:23:49","2022-10-04T10:23:49","2022-10-04",2022,10,"nyqdkfDdslRNDqAR2Ieel5debpE2",null,-91.457519280608665,44.800794228038733,null,"",0,null,1,240,60,null,null,6,0,null,1,58,0,"","","River/Stream","Bank Erosion,Trash",0,1,1,0,0,0,0,0,0,"Baseflow",1,"Clear",1,"None",0,0,0,0,0,null,0,"Absent","Present","Present","Absent","Absent","Absent","Absent","Absent","Recorded","Otter Creek","Otter Creek",1,"","Wisconsin Clear Water","Wisconsin Clear Waters","070500060402","Otter Creek","Otter Creek"]
["Dev: DBParsing_231030_v01.xlsm","QQ9sGgqCCmDzkvCnb7de","2022-10-02T16:53:07","2022-10-02T10:53:07","2022-10-02",2022,10,"xGf42w3UBFa817jAA3vYGVMhqZo2","Vermillion River, South Branch",-93.008997626689265,44.657260207500919,null,"2022-10-02 11:53:07.405043.jpg-0",1,null,1,240,180,null,null,8,1,0,1,56,1,0,2,"River/Stream","None",0,0,0,0,0,0,0,1,0,"Mid-stage",1,"Clear",1,"None",0,0,0,0,0,null,0,"Absent","Absent","Absent","Absent","Absent","Absent","Absent","Present","Recorded","South Branch Vermillion River","South Branch Vermillion River",1,"","Twin Cities","TCTU","070400010205","South Branch Vermillion River","Vermillion River"]
["Dev: DBParsing_231030_v01.xlsm","0vVo5veBMRZ1wEUSBLBe","2022-10-01T17:26:36","2022-10-01T11:26:36","2022-10-01",2022,10,"80reiKTTqGYqqpgYAhPwqypFwak1",null,-91.984996190380286,44.254289316054667,null,"2022-10-01 12:26:36.139175.jpg-0",1,null,1,240,180,null,null,7.5,1,0,0,null,1,0,2,"River/Stream","None",0,0,0,0,0,0,0,1,0,"Mid-stage",1,"Murky",1,"None",0,0,0,0,0,"53 degrees.  snake creek.  brookies ",1,"Absent","Absent","Absent","Absent","Absent","Absent","Absent","Present","Recorded","Snake Creek","Snake Creek",1,1,"Win Cres","Hiawatha","070400030602","Snake Creek","City of Winona-Mississippi River"]
["Dev: DBParsing_231030_v01.xlsm","HIYeFxnPuMUboUL1hFKf","2022-10-01T16:09:36","2022-10-01T10:09:36","2022-10-01",2022,10,"80reiKTTqGYqqpgYAhPwqypFwak1",null,-91.841229871000962,44.172375868115736,null,"2022-10-01 11:09:35.012300.jpg-0",1,null,1,240,120,null,null,7,1,0,0,null,1,0,2,"River/Stream","",-1,-1,-1,-1,-1,-1,-1,-1,1,"Baseflow",1,"Clear",1,"None",0,0,0,0,0,"Latsch is very small but I’ve heard it’s very good for brookies.   51 degrees\n",1,"No Data","No Data","No Data","No Data","No Data","No Data","No Data","No Data","No Data",0,0,"","","Win Cres","Hiawatha","070400030604","Buffalo City-Mississippi River","City of Winona-Mississippi River"]
["Dev: DBParsing_231030_v01.xlsm","6k9K8Kct0oUbaqpk9b0y","2022-10-01T14:49:53","2022-10-01T08:49:53","2022-10-01",2022,10,"dzm5kGoaEqWZ3aoqMW65dlUm5g92","Vermillion River, South Branch",-93.008986562577078,44.657236989629133,null,"2022-10-01 09:49:52.861953.jpg-0",1,null,1,240,180,null,null,8,1,200,1,55,1,0,1,"","None",0,0,0,0,0,0,0,1,0,"Mid-stage",1,"Clear",1,"",-1,-1,-1,-1,1,null,0,"Absent","Absent","Absent","Absent","Absent","Absent","Absent","Present","Recorded","South Branch Vermillion River","South Branch Vermillion River",1,"","Twin Cities","TCTU","070400010205","South Branch Vermillion River","Vermillion River"]
["Dev: DBParsing_231030_v01.xlsm","NqmiT5jA77Ej3edyadEv","2022-09-30T23:17:01","2022-09-30T17:17:01","2022-09-30",2022,9,"jAZtjti59oWDTa7NaxeDt9luw853",null,-92.641697181474996,44.849806940224809,null,"",0,null,1,240,120,null,null,8,1,100,1,56,1,0,2,"River/Stream","None",0,0,0,0,0,0,0,1,0,"Baseflow",1,"Clear",1,"None",0,0,0,0,0,"below lower dam \nsecchi clear past 100cm\nHACH nitrate test 8ppm\nExtech digital:\nconductivity 245\npH 8.5\nsalinity 208\ntds 309 ppm\n",1,"Absent","Absent","Absent","Absent","Absent","Absent","Absent","Present","Recorded","Kinnickinnic River","Kinnickinnic River",1,1,"Kiap TU Wish","Kinni Corridor Collaborative","070300051105","Lower Kinnickinnic Pond-Kinnickinnic River","Kinnickinnic River"]
["Dev: DBParsing_231030_v01.xlsm","raaL3qauOxcvhDKBtGVU","2022-09-30T21:16:20","2022-09-30T15:16:20","2022-09-30",2022,9,"bc0T8Yfie5YQFmysZHxLsNJDJnT2",null,-92.624045800000005,44.8640683,null,"",0,null,1,240,120,null,null,7,1,100,1,53,1,0,0,"River/Stream","Bank Erosion,Trash,Pipe/Drain Outflow",0,1,1,1,0,0,0,0,0,"Baseflow",1,"Clear",1,"None",0,0,0,0,0,null,0,"Absent","Present","Present","Present","Absent","Absent","Absent","Absent","Recorded","Kinnickinnic River","Kinnickinnic River",1,"","Kiap TU Wish","Kinni Corridor Collaborative","070300051104","Parker Creek-Kinnickinnic River","Kinnickinnic River"]
["Dev: DBParsing_231030_v01.xlsm","0elN8KavW0UcwfuEgg2M","2022-09-30T20:17:12","2022-09-30T14:17:12","2022-09-30",2022,9,"bc0T8Yfie5YQFmysZHxLsNJDJnT2",null,-92.636198800000003,44.854683100000003,null,"2022-09-30 15:17:12.861749.jpg-0",1,null,1,240,180,null,null,7.5,1,0,1,55,1,0,2,"River/Stream","Bank Erosion,Trash,Pipe/Drain Outflow",0,1,1,1,0,0,0,0,0,"Baseflow",1,"Clear",1,"None",0,0,0,0,0,"HACH test\n\nsecchi tube",1,"Absent","Present","Present","Present","Absent","Absent","Absent","Absent","Recorded","Kinnickinnic River","Kinnickinnic River",1,1,"Kiap TU Wish","Kinni Corridor Collaborative","070300051105","Lower Kinnickinnic Pond-Kinnickinnic River","Kinnickinnic River"]
["Dev: DBParsing_231030_v01.xlsm","IHOf8hPbnxr2Sor2CVUE","2022-09-29T17:27:34","2022-09-29T11:27:34","2022-09-29",2022,9,"GFBS1bSIACUVgSmsBlw0BYkB9i72",null,-92.517032374554361,44.822584423382146,null,"2022-09-29 12:27:34.101011.jpg-0",1,null,1,240,0,null,null,6.5,0,null,0,null,0,"","","River/Stream","Bank Erosion",0,1,0,0,0,0,0,0,0,"Baseflow",1,"Clear",1,"None",0,0,0,0,0,null,0,"Absent","Present","Absent","Absent","Absent","Absent","Absent","Absent","Recorded","Trimbelle River","Trimbelle River",1,"","Kiap TU Wish","TU Staff","070400010301","Goose Creek-Trimbelle River","Trimbelle River"]
["Dev: DBParsing_231030_v01.xlsm","hu5nRc00maHrlnbiaOLE","2022-09-26T19:49:35","2022-09-26T13:49:35","2022-09-26",2022,9,"80reiKTTqGYqqpgYAhPwqypFwak1",null,-91.979578211989235,44.070339775685277,null,"",0,null,0,"",null,null,null,null,1,0,0,null,1,0,2,"River/Stream","None",0,0,0,0,0,0,0,1,0,"Baseflow",1,"Clear",1,"None",0,0,0,0,0,"57 degrees.  \nI used two 5-1 strips and made 10-12 tests and all were rejected. something is wrong.  ",1,"Absent","Absent","Absent","Absent","Absent","Absent","Absent","Present","Recorded","South Fork Whitewater River","South Fork Whitewater River",1,"","Win Cres","Hiawatha","070400030307","Lower South Fork Whitewater River","Whitewater River"]
["Dev: DBParsing_231030_v01.xlsm","APGzzjrfz5bdAHYGYNBp","2022-09-26T18:48:35","2022-09-26T12:48:35","2022-09-26",2022,9,"HYL1EgVC5kT09iksqoYLhWO3nNa2",null,-91.691425028926602,44.043549801110338,null,"2022-09-26 13:48:35.900148.jpg-0",1,null,0,"",null,null,null,null,0,null,0,null,0,"","",null,"",-1,-1,-1,-1,-1,-1,-1,-1,1,null,0,null,0,"",-1,-1,-1,-1,1,null,0,"No Data","No Data","No Data","No Data","No Data","No Data","No Data","No Data","No Data","Gilmore Creek","Gilmore Creek",1,"","Win Cres","Agency/University","070400030607","Pleasant Valley Creek","City of Winona-Mississippi River"]
["Dev: DBParsing_231030_v01.xlsm","Taiwtsncm5ePmkECFsmW","2022-09-26T18:30:48","2022-09-26T12:30:48","2022-09-26",2022,9,"GFBS1bSIACUVgSmsBlw0BYkB9i72",null,-91.629775023861825,43.138589766887755,null,"2022-09-26 13:30:48.573794.jpg-0",1,null,0,"",null,null,null,null,0,null,0,null,1,0,5,"River/Stream","Bank Erosion",0,1,0,0,0,0,0,0,0,null,0,null,0,"",-1,-1,-1,-1,1,null,0,"Absent","Present","Absent","Absent","Absent","Absent","Absent","Absent","Recorded","Yellow River","Yellow River",1,"","Iowa Driftless","TU Staff","070600010901","Headwaters Yellow River","Yellow River"]
["Dev: DBParsing_231030_v01.xlsm","Qjn1qupHXlwid5FRWP2z","2022-09-26T18:15:08","2022-09-26T12:15:08","2022-09-26",2022,9,"GFBS1bSIACUVgSmsBlw0BYkB9i72",null,-91.62793694661184,43.139013418083202,null,"",0,null,1,240,180,null,null,8,1,100,0,null,1,0,1,"Pipe/Drain Outflow","Pipe/Drain Outflow",0,0,0,1,0,0,0,0,0,"",0,null,0,"None",0,0,0,0,0,"drain outlet ",1,"Absent","Absent","Absent","Present","Absent","Absent","Absent","Absent","Recorded","Yellow River","Yellow River",1,"","Iowa Driftless","TU Staff","070600010901","Headwaters Yellow River","Yellow River"]
["Dev: DBParsing_231030_v01.xlsm","wq2zGko1TGFVfFaQA7mV","2022-09-21T21:28:34","2022-09-21T15:28:34","2022-09-21",2022,9,"XLsE0jeCBabIhsFYi4ZuVSWCKI33",null,-92.276551975023239,44.431260922033736,null,"",0,null,1,240,30,null,null,7.5,0,null,0,null,0,"","","River/Stream","",-1,-1,-1,-1,-1,-1,-1,-1,1,null,0,null,0,"",-1,-1,-1,-1,1,null,0,"No Data","No Data","No Data","No Data","No Data","No Data","No Data","No Data","No Data","Miller Creek","Miller Creek",1,"","Hiawatha","Hiawatha","070400010704","Miller Creek","Lake Pepin"]
["Dev: DBParsing_231030_v01.xlsm","4RdF4ursjGfyROZt4sOr","2022-09-20T18:08:20","2022-09-20T12:08:20","2022-09-20",2022,9,"7fp9eoNK1RTW0XUKFpn9oieJe1W2","",-91.650631300000001,43.496033300000001,null,"2022-09-20 13:08:20.559560.jpg-0",1,null,1,240,120,null,null,7.5,0,null,1,55,1,0.15,2,"River/Stream","None",0,0,0,0,0,0,0,1,0,"Baseflow",1,"Clear",1,"None",0,0,0,0,0,null,0,"Absent","Absent","Absent","Absent","Absent","Absent","Absent","Present","Recorded",0,0,"","","Iowa Driftless","TU Staff","070600020501","North Bear Creek","Bear Creek"]
["Dev: DBParsing_231030_v01.xlsm","FwnHpswOsYNcRV71x3C4","2022-09-17T17:19:46","2022-09-17T11:19:46","2022-09-17",2022,9,"ODZAZt42ngf0K8HRsQw4BSqkli42",null,-91.687978841449777,42.803196259814129,null,"2022-09-17 12:19:46.504041.jpg-02022-09-17 12:19:46.504041.jpg-1",1,null,1,240,180,null,null,8,1,0,1,0,1,0,1,"River/Stream","None",0,0,0,0,0,0,0,1,0,"Baseflow",1,"Clear",1,"Regional Rainfall",1,0,0,0,0,null,0,"Absent","Absent","Absent","Absent","Absent","Absent","Absent","Present","Recorded","Bear Creek","Bear Creek",1,"","North Bear","Agency/University","070600040601","Brush Creek","Volga River"]
["Dev: DBParsing_231030_v01.xlsm","vzFK8iyLsbnjMGCeNAtT","2022-09-17T16:35:18","2022-09-17T10:35:18","2022-09-17",2022,9,"K0EjhOrGL4NGhPVbB1pKi320lLr2","Hay Creek @ 320th St",-92.575618300000002,44.488410000000002,null,"",0,null,1,240,0,null,null,7,1,100,1,54,1,0,0,"River/Stream","None",0,0,0,0,0,0,0,1,0,"Mid-stage",1,"Clear",1,"None",0,0,0,0,0,null,0,"Absent","Absent","Absent","Absent","Absent","Absent","Absent","Present","Recorded","Hay Creek","Hay Creek",1,"","Twin Cities","TCTU","070400010401","Hay Creek","Hay Creek-Mississippi River"]
["Dev: DBParsing_231030_v01.xlsm","fxoafW5DBYxEYyvkDIUx","2022-09-15T21:04:01","2022-09-15T15:04:01","2022-09-15",2022,9,"7fp9eoNK1RTW0XUKFpn9oieJe1W2",null,-90.765048899999996,43.575756900000002,null,"2022-09-15 16:04:00.842368.jpg-0",1,null,1,240,120,null,null,8,0,null,0,null,1,0.15,1,"River/Stream","None",0,0,0,0,0,0,0,1,0,"Baseflow",1,"Clear",1,"None",0,0,0,0,0,"No rain for 4 days.  Water is clear.",1,"Absent","Absent","Absent","Absent","Absent","Absent","Absent","Present","Recorded","West Fork Kickapoo River","West Fork Kickapoo River",1,1,"Coulee Region","TU Staff","070700060205","West Fork Kickapoo River","West Fork Kickapoo River"]
["Dev: DBParsing_231030_v01.xlsm","RkhpUIZ5Jp9xyCLJVe0b","2022-09-15T18:22:23","2022-09-15T12:22:23","2022-09-15",2022,9,"C0lzNzqTroQvfx3Fn4dxIpHed982",null,-91.079890599999999,43.749512000000003,null,"",0,null,0,"",null,null,null,null,0,null,0,null,0,"","","River/Stream","",-1,-1,-1,-1,-1,-1,-1,-1,1,null,0,null,0,"",-1,-1,-1,-1,1,null,0,"No Data","No Data","No Data","No Data","No Data","No Data","No Data","No Data","No Data","Mormon Creek","Mormon Creek",1,1,"Coulee Region","Agency/University","070600010501","Mormon Creek","Mormon Creek-Mississippi River"]
["Dev: DBParsing_231030_v01.xlsm","33A8r9Und2V7jENflgwl","2022-09-14T23:13:04","2022-09-14T17:13:04","2022-09-14",2022,9,"GFBS1bSIACUVgSmsBlw0BYkB9i72","",-91.237867101969115,43.35935409842223,null,"2022-09-14 18:13:03.974723.jpg-02022-09-14 18:13:03.974723.jpg-1",1,null,1,240,180,null,null,9,0,null,0,null,1,0,2,"River/Stream","None",0,0,0,0,0,0,0,1,0,"Baseflow",1,"Clear",1,"None",0,0,0,0,0,null,0,"Absent","Absent","Absent","Absent","Absent","Absent","Absent","Present","Recorded","Clear Creek","Clear Creek",1,"","Iowa Driftless","TU Staff","070600010702","Clear Creek-Mississippi River","Rush Creek-Mississippi River"]
["Dev: DBParsing_231030_v01.xlsm","b2IfKh0tXm8QSW6gQD35","2022-09-14T20:40:25","2022-09-14T14:40:25","2022-09-14",2022,9,"GFBS1bSIACUVgSmsBlw0BYkB9i72",null,-91.623468536518203,43.138951200066003,null,"",0,null,1,240,180,null,null,8,0,null,0,null,1,0,1,null,"",-1,-1,-1,-1,-1,-1,-1,-1,1,null,0,null,0,"",-1,-1,-1,-1,1,null,0,"No Data","No Data","No Data","No Data","No Data","No Data","No Data","No Data","No Data","Yellow River","Yellow River",1,"","Iowa Driftless","TU Staff","070600010901","Headwaters Yellow River","Yellow River"]
["Dev: DBParsing_231030_v01.xlsm","20mCxuQeGxc43Uzfr9ZN","2022-09-09T17:58:15","2022-09-09T11:58:15","2022-09-09",2022,9,"dzm5kGoaEqWZ3aoqMW65dlUm5g92","Vermillion River, South Branch",-93.008981114340017,44.657249311026803,null,"",0,null,1,240,0,null,null,7,1,100,1,64,1,0.15,5,"River/Stream","None",0,0,0,0,0,0,0,1,0,"Baseflow",1,"Clear",1,"Regional Rainfall",1,0,0,0,0,null,0,"Absent","Absent","Absent","Absent","Absent","Absent","Absent","Present","Recorded","South Branch Vermillion River","South Branch Vermillion River",1,"","Twin Cities","TCTU","070400010205","South Branch Vermillion River","Vermillion River"]
["Dev: DBParsing_231030_v01.xlsm","nHBs1jVsFJKVO61zzS50","2022-09-09T16:58:26","2022-09-09T10:58:26","2022-09-09",2022,9,"VHRlmHCbVSYpoT7Xubj2OGSvIFl1","SF Kinnickinnic River @ 900th St",-92.645049856183647,44.843561543946109,null,"2022-09-09 11:58:26.772279.jpg-0",1,null,1,240,30,null,null,7,1,100,1,59,1,0,0,"River/Stream","None",0,0,0,0,0,0,0,1,0,"Baseflow",1,"Clear",1,"None",0,0,0,0,0,"63 degrees air temp, cloudy. ",1,"Absent","Absent","Absent","Absent","Absent","Absent","Absent","Present","Recorded","Kinnickinnic River","Kinnickinnic River",1,"","Kiap TU Wish","Kiap-TU-Wish","070300051105","Lower Kinnickinnic Pond-Kinnickinnic River","Kinnickinnic River"]
["Dev: DBParsing_231030_v01.xlsm","LaWtttBV6c1s4O1EDg1v","2022-09-08T19:31:07","2022-09-08T13:31:07","2022-09-08",2022,9,"sV8r8QoTpTQ81023RxB7QRB9qBu1","Belle Creek",-92.725448,44.547115400000003,null,"",0,null,1,240,60,null,null,7.5,1,100,1,66,1,"","","River/Stream","None",0,0,0,0,0,0,0,1,0,"Baseflow",1,"Clear",1,"None",0,0,0,0,0,null,0,"Absent","Absent","Absent","Absent","Absent","Absent","Absent","Present","Recorded","Belle Creek","Belle Creek","","","Twin Cities","TCTU","070400020803","Lower Belle Creek","Belle Creek"]
["Dev: DBParsing_231030_v01.xlsm","ezRVhMwIfppyhSpXrBO8","2022-09-07T18:58:23","2022-09-07T12:58:23","2022-09-07",2022,9,"ODZAZt42ngf0K8HRsQw4BSqkli42","",-91.763053787957659,42.861704626160545,null,"2022-09-07 13:58:23.400910.jpg-02022-09-07 13:58:23.400910.jpg-1",1,null,1,240,180,null,null,8,1,100,1,74,1,0,2,"River/Stream","Trash",0,0,1,0,0,0,0,0,0,"Baseflow",1,"Clear",1,"None",0,0,0,0,0,null,0,"Absent","Absent","Present","Absent","Absent","Absent","Absent","Absent","Recorded","Volga River","Volga River",1,"","Iowa Driftless","Agency/University","070600040506","Grannis Creek-Volga River","Headwaters Volga River"]
["Dev: DBParsing_231030_v01.xlsm","vH3cYIOs8a8X0dJePyJq","2022-09-07T15:36:29","2022-09-07T09:36:29","2022-09-07",2022,9,"80reiKTTqGYqqpgYAhPwqypFwak1",null,-92.3425706104304,43.773809080052906,null,"",0,null,1,240,180,null,null,7,0,null,1,0,1,0,0,"River/Stream","None",0,0,0,0,0,0,0,1,0,"Baseflow",1,"Clear",1,"None",0,0,0,0,0,"57 degrees.  looks great",1,"Absent","Absent","Absent","Absent","Absent","Absent","Absent","Present","Recorded","Kedron Creek","Kedron Creek",1,"","Hiawatha","Hiawatha","070400080203","Kedron Creek","Middle Branch Root River"]
["Dev: DBParsing_231030_v01.xlsm","2DklIgLMzr2Aycy8LqBf","2022-09-07T14:34:47","2022-09-07T08:34:47","2022-09-07",2022,9,"80reiKTTqGYqqpgYAhPwqypFwak1","",-92.269179755907757,43.889293558936458,null,"",0,null,1,240,180,null,null,8,1,0,1,0,1,0,5,"Springs","None",0,0,0,0,0,0,0,1,0,"Baseflow",1,"Clear",1,"None",0,0,0,0,0,null,0,"Absent","Absent","Absent","Absent","Absent","Absent","Absent","Present","Recorded","","","","","Hiawatha","Hiawatha","070400080108","North Branch Root River","North Branch Root River"]
["Dev: DBParsing_231030_v01.xlsm","XzYfiXje23XGJ9P7n9lw","2022-09-02T16:21:52","2022-09-02T10:21:52","2022-09-02",2022,9,"MHFdkCj8zqhw6MGszjwZYx49QR22","",-93.009014444699716,44.657239935653259,null,"",0,null,1,240,120,null,null,7,1,200,1,65,1,0,2,"River/Stream","None",0,0,0,0,0,0,0,1,0,"Baseflow",1,"Clear",1,"None",0,0,0,0,0,"low steam but stable",1,"Absent","Absent","Absent","Absent","Absent","Absent","Absent","Present","Recorded","South Branch Vermillion River","South Branch Vermillion River",1,"","Twin Cities","TCTU","070400010205","South Branch Vermillion River","Vermillion River"]
["Dev: DBParsing_231030_v01.xlsm","cgRMX44CLMrcV15jaRpi","2022-09-02T14:38:29","2022-09-02T08:38:29","2022-09-02",2022,9,"VCf2q8JFBSOaJbmxiMqirI5xKFn2","Pine Creek @ County Rd. AA",-92.733008393010635,45.059591647138078,null,"",0,null,0,"",null,null,null,null,0,null,0,null,0,"","",null,"",-1,-1,-1,-1,-1,-1,-1,-1,1,"Baseflow",1,null,0,"",-1,-1,-1,-1,1,null,0,"No Data","No Data","No Data","No Data","No Data","No Data","No Data","No Data","No Data","","","","","Kiap TU Wish","Kiap-TU-Wish","070300051201","City of Stillwater-Lake Saint Croix","Lake Saint Croix"]
["Dev: DBParsing_231030_v01.xlsm","SYvaOLznGWUR0RLhaWmi","2022-09-01T15:45:04","2022-09-01T09:45:04","2022-09-01",2022,9,"VCf2q8JFBSOaJbmxiMqirI5xKFn2",null,-92.284224264745006,44.542276320219031,null,"",0,null,0,"",null,null,null,null,1,0,1,54,0,"","","River/Stream","",-1,-1,-1,-1,-1,-1,-1,-1,1,"Baseflow",1,"Clear",1,"None",0,0,0,0,0,null,0,"No Data","No Data","No Data","No Data","No Data","No Data","No Data","No Data","No Data","Pine Creek","Pine Creek",1,1,"Wisconsin Clear Water","Kiap-TU-Wish","070400010702","Pine Creek","Lake Pepin"]
["Dev: DBParsing_231030_v01.xlsm","pQ8Bm51yle9TXKEEvCuK","2022-08-31T19:46:16","2022-08-31T13:46:16","2022-08-31",2022,8,"IEVOLNEKvbTjBFFIUAn398Du5gu2",null,-92.640026923481116,44.850201280967056,null,"2022-08-31 14:46:16.163555.jpg-0",1,null,1,180,180,null,null,8,1,0,1,65,1,0,0,"River/Stream","Trash",0,0,1,0,0,0,0,0,0,"Baseflow",1,"Clear",1,"None",0,0,0,0,0,null,0,"Absent","Absent","Present","Absent","Absent","Absent","Absent","Absent","Recorded","Kinnickinnic River","Kinnickinnic River",1,1,"Kiap TU Wish","Kinni Corridor Collaborative","070300051105","Lower Kinnickinnic Pond-Kinnickinnic River","Kinnickinnic River"]
["Dev: DBParsing_231030_v01.xlsm","OS2uSfzAZ4tZEIOvaKBD","2022-08-28T23:58:29","2022-08-28T17:58:29","2022-08-28",2022,8,"JXs3JH9frrZM0ZdjV8qFZY0NE3P2","SF Kinnickinnic River @ 900th St",-92.583502717402354,44.848872609478278,null,"",0,null,1,240,120,null,null,7.5,1,0,1,58,1,0,2,"River/Stream","",-1,-1,-1,-1,-1,-1,-1,-1,1,"Bankfull Stage",1,"Muddy",1,"Regional Rainfall",1,0,0,0,0,null,0,"No Data","No Data","No Data","No Data","No Data","No Data","No Data","No Data","No Data","South Fork Kinnickinnic River","South Fork Kinnickinnic River",1,1,"Kiap TU Wish","Kiap-TU-Wish","070300051103","South Fork Kinnickinnic River","Kinnickinnic River"]
["Dev: DBParsing_231030_v01.xlsm","GBW9pBza13iUzqEafIqN","2022-08-28T20:21:49","2022-08-28T14:21:49","2022-08-28",2022,8,"f7qMRlnlkOgrA1xpaxXrTTeRGWX2","Rocky Branch Creek, Lower Glen Park",-92.643879217422239,44.843066808737227,null,"",0,null,1,240,180,null,null,7,1,0,1,57,1,0,2,"River/Stream","Bank Erosion",0,1,0,0,0,0,0,0,0,"Baseflow",1,"Clear",1,"Regional Rainfall",1,0,0,0,0,"Secchi Tube = > 100 cm",1,"Absent","Present","Absent","Absent","Absent","Absent","Absent","Absent","Recorded","Kinnickinnic River","Kinnickinnic River",1,"","Kiap TU Wish","Kiap-TU-Wish","070300051105","Lower Kinnickinnic Pond-Kinnickinnic River","Kinnickinnic River"]
["Dev: DBParsing_231030_v01.xlsm","8RxTt38VdAFmgfzT1WdB","2022-08-28T19:13:40","2022-08-28T13:13:40","2022-08-28",2022,8,"jAZtjti59oWDTa7NaxeDt9luw853","Other Locations",-92.631907956760955,44.855548711535384,null,"",0,null,0,"",null,null,null,null,1,100,1,62,0,"","","River/Stream","Algal Bloom",0,0,0,0,0,1,0,0,0,"Baseflow",1,"Murky",1,"None",0,0,0,0,0,"where did my comment go? HACH TEST 6; Extech tds 247; pH 8; cannot recall other data. will photograph each reading here on",1,"Absent","Absent","Absent","Absent","Absent","Present","Absent","Absent","Recorded","Kinnickinnic River","Kinnickinnic River",1,1,"Kiap TU Wish","Kinni Corridor Collaborative","070300051104","Parker Creek-Kinnickinnic River","Kinnickinnic River"]
["Dev: DBParsing_231030_v01.xlsm","4h0YD9LTlGQoLot9NoJV","2022-08-28T19:01:19","2022-08-28T13:01:19","2022-08-28",2022,8,"f7qMRlnlkOgrA1xpaxXrTTeRGWX2",null,-92.732164455093525,44.831122643998675,null,"",0,null,1,240,120,null,null,7,1,100,1,64,1,0,2,"River/Stream","Bank Erosion",0,1,0,0,0,0,0,0,0,"Mid-stage",1,"Murky",1,"Regional Rainfall",1,0,0,0,0,"Secchi Tube = 18 cm",1,"Absent","Present","Absent","Absent","Absent","Absent","Absent","Absent","Recorded","Kinnickinnic River","Kinnickinnic River",1,"","Kiap TU Wish","Kiap-TU-Wish","070300051105","Lower Kinnickinnic Pond-Kinnickinnic River","Kinnickinnic River"]
["Dev: DBParsing_231030_v01.xlsm","Jla0At1DJAT6q1yeTj4X","2022-08-22T20:14:28","2022-08-22T14:14:28","2022-08-22",2022,8,"ZMmGOOwucYXE3nEMRlAJSj4Cg8c2","Little Cannon River",-92.929857232388514,44.370050513748602,null,"",0,null,1,240,180,null,null,8,1,100,1,76,0,"","","River/Stream","None",0,0,0,0,0,0,0,1,0,"Baseflow",1,"Murky",1,"None",0,0,0,0,0,null,0,"Absent","Absent","Absent","Absent","Absent","Absent","Absent","Present","Recorded","Little Cannon River","Little Cannon River",1,"","Hiawatha","TCTU","070400020702","Middle Little Cannon River","Little Cannon River"]
["Dev: DBParsing_231030_v01.xlsm","wmt3nLEjO7c4L1zm7AS1","2022-08-21T20:52:06","2022-08-21T14:52:06","2022-08-21",2022,8,"K0EjhOrGL4NGhPVbB1pKi320lLr2","Hay Creek @ 325th St",-92.597481700000003,44.472241699999998,null,"2022-08-21 15:52:06.683432.jpg-0",1,null,1,240,0,null,null,7.5,1,0,1,61,1,0,0,"River/Stream","",-1,-1,-1,-1,-1,-1,-1,-1,1,"Mid-stage",1,"Clear",1,"None",0,0,0,0,0,null,0,"No Data","No Data","No Data","No Data","No Data","No Data","No Data","No Data","No Data","Hay Creek","Hay Creek",1,"","Twin Cities","TCTU","070400010401","Hay Creek","Hay Creek-Mississippi River"]
["Dev: DBParsing_231030_v01.xlsm","pfWjHPtb4lnErYphQwxK","2022-08-19T20:11:54","2022-08-19T14:11:54","2022-08-19",2022,8,"UFn0tvcbhgPvJSgEiNtnlwyA9Ch2","",-92.829381097803576,45.050626969676195,null,"",0,null,1,240,60,null,null,7,0,null,0,null,0,"","","River/Stream","",-1,-1,-1,-1,-1,-1,-1,-1,1,"Baseflow",1,"Murky",1,"Regional Rainfall",1,0,0,0,0,"52F",1,"No Data","No Data","No Data","No Data","No Data","No Data","No Data","No Data","No Data","","","","","Twin Cities","Kiap-TU-Wish","070300051201","City of Stillwater-Lake Saint Croix","Lake Saint Croix"]
["Dev: DBParsing_231030_v01.xlsm","NJPUCUqlrOaWQSs05bHw","2022-08-19T17:27:45","2022-08-19T11:27:45","2022-08-19",2022,8,"jAZtjti59oWDTa7NaxeDt9luw853",null,-92.643796177667241,44.844337622676832,null,"",0,null,1,240,180,null,null,8,1,100,1,63,1,0,2,"River/Stream","None",0,0,0,0,0,0,0,1,0,"Baseflow",1,"Clear",1,"None",0,0,0,0,0,null,0,"Absent","Absent","Absent","Absent","Absent","Absent","Absent","Present","Recorded","Kinnickinnic River","Kinnickinnic River",1,"","Kiap TU Wish","Kinni Corridor Collaborative","070300051105","Lower Kinnickinnic Pond-Kinnickinnic River","Kinnickinnic River"]
["Dev: DBParsing_231030_v01.xlsm","LNtGcVG3qWcwLRpOpJvy","2022-08-18T19:11:09","2022-08-18T13:11:09","2022-08-18",2022,8,"k4Pe0JRs4tfWvDzxrT35e1UE1ce2",null,-93.193539138970138,44.944509076927737,null,"",0,null,1,240,30,null,null,7,1,0,1,74,1,0.15,1,"Tap Water","",-1,-1,-1,-1,-1,-1,-1,-1,1,null,0,null,0,"",-1,-1,-1,-1,1,null,0,"No Data","No Data","No Data","No Data","No Data","No Data","No Data","No Data","No Data","","","","","Twin Cities","Unknown","070102060703","Saint Anthony Falls-Mississippi River","City of Minneapolis-Mississippi River"]
["Dev: DBParsing_231030_v01.xlsm","2dMlC9ZWNqxCISeJtdoM","2022-08-17T20:11:04","2022-08-17T14:11:04","2022-08-17",2022,8,"IEVOLNEKvbTjBFFIUAn398Du5gu2",null,-92.559817475011116,44.849467465085034,null,"2022-08-17 15:11:04.314543.jpg-0",1,null,1,240,180,null,null,8,1,0,1,62,1,0,2,"River/Stream","Bank Erosion",0,1,0,0,0,0,0,0,0,"Baseflow",1,"Clear",1,"None",0,0,0,0,0,"secchi tube greater than 100cm\nHach test = 2 mg/L\nConductivity = 653 uS\nExtech pH = 8.17\nSalinity = 317\nTDS = 464 ppm",1,"Absent","Present","Absent","Absent","Absent","Absent","Absent","Absent","Recorded","South Fork Kinnickinnic River","South Fork Kinnickinnic River",1,1,"Kiap TU Wish","Kinni Corridor Collaborative","070300051103","South Fork Kinnickinnic River","Kinnickinnic River"]
["Dev: DBParsing_231030_v01.xlsm","N73fasMfxmNnDNjx91Oe","2022-08-17T18:48:12","2022-08-17T12:48:12","2022-08-17",2022,8,"IEVOLNEKvbTjBFFIUAn398Du5gu2",null,-92.622468428708999,44.850359291946567,null,"2022-08-17 13:48:12.566270.jpg-0",1,null,1,240,180,null,null,8,1,0,1,60,1,0,2,null,"Bank Erosion",0,1,0,0,0,0,0,0,0,"Baseflow",1,"Clear",1,"None",0,0,0,0,0,"secchi tube greater than 100cm\nHach test = 4 mg/L\nTDS = 392\nconductivity = 550 uS\nExtech pH = 8.62\nSalinity = 303 ppm",1,"Absent","Present","Absent","Absent","Absent","Absent","Absent","Absent","Recorded","South Fork Kinnickinnic River","South Fork Kinnickinnic River",1,1,"Kiap TU Wish","Kinni Corridor Collaborative","070300051103","South Fork Kinnickinnic River","Kinnickinnic River"]
["Dev: DBParsing_231030_v01.xlsm","MwjtjRCiPRdaSHbEJd44","2022-08-17T14:29:11","2022-08-17T08:29:11","2022-08-17",2022,8,"XLsE0jeCBabIhsFYi4ZuVSWCKI33",null,-92.276453403841955,44.430818944279501,null,"",0,null,1,240,30,null,null,7,1,0,0,null,0,"","","River/Stream","",-1,-1,-1,-1,-1,-1,-1,-1,1,null,0,null,0,"",-1,-1,-1,-1,1,null,0,"No Data","No Data","No Data","No Data","No Data","No Data","No Data","No Data","No Data","Miller Creek","Miller Creek",1,"","Hiawatha","Hiawatha","070400010704","Miller Creek","Lake Pepin"]
["Dev: DBParsing_231030_v01.xlsm","4LSjsDGexrpdq6IPd65i","2022-08-15T18:15:48","2022-08-15T12:15:48","2022-08-15",2022,8,"bc0T8Yfie5YQFmysZHxLsNJDJnT2",null,-92.638147799999999,44.851706800000002,null,"",0,null,1,240,180,null,null,7.5,1,100,1,59,1,0,5,"River/Stream","Bank Erosion,Trash",0,1,1,0,0,0,0,0,0,"Baseflow",1,"Clear",1,"None",0,0,0,0,0,"greater than 100 cm\n\nHach test 8\n\nselinity 272\n\ntotal dissolved solids tds 384\n\nconductivity 556\n\nph 8.56\n\n",1,"Absent","Present","Present","Absent","Absent","Absent","Absent","Absent","Recorded","Kinnickinnic River","Kinnickinnic River",1,1,"Kiap TU Wish","Kinni Corridor Collaborative","070300051105","Lower Kinnickinnic Pond-Kinnickinnic River","Kinnickinnic River"]
["Dev: DBParsing_231030_v01.xlsm","3Efhs1DDBLa19U7hHGVs","2022-08-15T17:26:29","2022-08-15T11:26:29","2022-08-15",2022,8,"jAZtjti59oWDTa7NaxeDt9luw853","",-92.631909381684494,44.855621256907334,null,"",0,null,1,240,180,null,null,8,1,0,1,59,1,0,5,"River/Stream","Algal Bloom",0,0,0,0,0,1,0,0,0,"Baseflow",1,"Clear",1,"None",0,0,0,0,0,"at lake George by buoys. HACH TEST: 8\nExtech Digital: 366 tds; 534 conductivity; pH 8.61; salinity 263\nsecchi: clear past 100cm",1,"Absent","Absent","Absent","Absent","Absent","Present","Absent","Absent","Recorded","Kinnickinnic River","Kinnickinnic River",1,1,"Kiap TU Wish","Kinni Corridor Collaborative","070300051104","Parker Creek-Kinnickinnic River","Kinnickinnic River"]
["Dev: DBParsing_231030_v01.xlsm","HeTyFAuBvhl8Io3Cw9qn","2022-08-15T15:02:07","2022-08-15T09:02:07","2022-08-15",2022,8,"bc0T8Yfie5YQFmysZHxLsNJDJnT2","",-92.732112200000003,44.831164000000001,null,"",0,null,1,240,180,null,null,7.5,0,null,1,59,1,0,5,"River/Stream","Bank Erosion,Trash",0,1,1,0,0,0,0,0,0,"Baseflow",1,"Clear",1,"None",0,0,0,0,0," hach test 6\n\nsecchi tube greater than 100 cm\n\nconductivity 645\n\nselinity 302 ppm\n\nph 8.52\n\ntotal dissolved solids 441 ppm",1,"Absent","Present","Present","Absent","Absent","Absent","Absent","Absent","Recorded","Kinnickinnic River","Kinnickinnic River",1,"","Kiap TU Wish","Kinni Corridor Collaborative","070300051105","Lower Kinnickinnic Pond-Kinnickinnic River","Kinnickinnic River"]
["Dev: DBParsing_231030_v01.xlsm","wf0XfUFA3sxfIw7ONMbI","2022-08-15T13:52:43","2022-08-15T07:52:43","2022-08-15",2022,8,"jAZtjti59oWDTa7NaxeDt9luw853",null,-92.621322618883681,44.875098872040283,null,"",0,null,1,180,180,null,null,7.5,1,0,1,54,1,0,0,"River/Stream","Trash",0,0,1,0,0,0,0,0,0,"Baseflow",1,"Clear",1,"None",0,0,0,0,0,"Extech digital readings:\n8.3 ph; salinity 275 ppm; tds 415; conductivity 602. \nreadingHACH test 6ppm. secchi clear over 100",1,"Absent","Absent","Present","Absent","Absent","Absent","Absent","Absent","Recorded","Kinnickinnic River","Kinnickinnic River",1,"","Kiap TU Wish","Kinni Corridor Collaborative","070300051104","Parker Creek-Kinnickinnic River","Kinnickinnic River"]
["Dev: DBParsing_231030_v01.xlsm","1Xy3uZqTXqjRsZUc7PP2","2022-08-10T15:21:07","2022-08-10T09:21:07","2022-08-10",2022,8,"VqZRaTUPgjWCYY8wjw5nHFqlP4V2","Trout Brook",-92.802082368648485,44.54305439717772,null,"2022-08-10 10:21:07.645669.jpg-02022-08-10 10:21:07.645669.jpg-1",1,null,1,240,0,null,null,7.5,1,100,1,55,1,0,10,"River/Stream","None",0,0,0,0,0,0,0,1,0,"Baseflow",1,"Clear",1,"None",0,0,0,0,0,null,0,"Absent","Absent","Absent","Absent","Absent","Absent","Absent","Present","Recorded","Cannon River","Cannon River",1,1,"Twin Cities","TCTU","070400020902","Trout Brook","Lower Cannon River"]
["Dev: DBParsing_231030_v01.xlsm","j04OikKsytxmlOUu06cN","2022-08-09T16:49:40","2022-08-09T10:49:40","2022-08-09",2022,8,"AFSRTEftiTe1HDjxTst1HuMIU1l1",null,-92.189590386491247,44.632770618560428,null,"",0,null,1,240,120,null,null,7.5,1,0,1,57,1,0.15,2,"River/Stream","",-1,-1,-1,-1,-1,-1,-1,-1,1,"Mid-stage",1,"Clear",1,"None",0,0,0,0,0,null,0,"No Data","No Data","No Data","No Data","No Data","No Data","No Data","No Data","No Data","Plum Creek","Plum Creek",1,1,"Kiap TU Wish","Kiap-TU-Wish","070500051101","Nugget Lake-Plum Creek","Plum Creek"]
["Dev: DBParsing_231030_v01.xlsm","EvMwyyOaJQLxFOKbIHZ9","2022-08-08T15:49:55","2022-08-08T09:49:55","2022-08-08",2022,8,"bc0T8Yfie5YQFmysZHxLsNJDJnT2",null,-92.641572100000005,44.849925200000001,null,"",0,null,1,240,120,null,null,7.5,1,0,1,60,1,0,2,"River/Stream","",-1,-1,-1,-1,-1,-1,-1,-1,1,null,0,null,0,"",-1,-1,-1,-1,1,"secchi tube greater than 100 cm",1,"No Data","No Data","No Data","No Data","No Data","No Data","No Data","No Data","No Data","Kinnickinnic River","Kinnickinnic River",1,1,"Kiap TU Wish","Kinni Corridor Collaborative","070300051105","Lower Kinnickinnic Pond-Kinnickinnic River","Kinnickinnic River"]
["Dev: DBParsing_231030_v01.xlsm","iHOPBR6Y5hsBc8h6TXV3","2022-08-08T15:44:46","2022-08-08T09:44:46","2022-08-08",2022,8,"VHRlmHCbVSYpoT7Xubj2OGSvIFl1","SF Kinnickinnic River @ 900th St",-92.644998786573723,44.843618056233254,null,"2022-08-08 10:44:46.025735.jpg-0",1,null,1,240,30,null,null,7,1,200,1,58,1,0,2,"River/Stream","None",0,0,0,0,0,0,0,1,0,"Baseflow",1,"Clear",1,"Local Thunderstorm",0,1,0,0,0,"70 degrees, ptly cloudy, rain last night, river still clear. ",1,"Absent","Absent","Absent","Absent","Absent","Absent","Absent","Present","Recorded","Kinnickinnic River","Kinnickinnic River",1,"","Kiap TU Wish","Kiap-TU-Wish","070300051105","Lower Kinnickinnic Pond-Kinnickinnic River","Kinnickinnic River"]
["Dev: DBParsing_231030_v01.xlsm","8o1P7iywZ9pyJEUeS8up","2022-08-07T17:29:03","2022-08-07T11:29:03","2022-08-07",2022,8,"sPbTkTzcbybDduQDEAb0F4hUDHf2","MOA Creek",-93.2313600471104,44.846904012914372,null,"",0,null,1,240,180,null,null,7.5,1,0,1,58,1,0,1,"River/Stream","None",0,0,0,0,0,0,0,1,0,"Bankfull Stage",1,"Clear",1,"Regional Rainfall",1,0,0,0,0,"1 inch of rain within 24 hours ago.",1,"Absent","Absent","Absent","Absent","Absent","Absent","Absent","Present","Recorded","","","","","Twin Cities","TCTU","070200121110","Minnesota River","Minnesota River"]
["Dev: DBParsing_231030_v01.xlsm","kfbaTRmHhf9lchsbxyam","2022-08-06T13:08:29","2022-08-06T07:08:29","2022-08-06",2022,8,"qQOofzMtn7QEFNkor41r51PeJ982",null,-93.217197864824755,44.639446589332834,null,"",0,null,1,240,120,null,null,7.5,1,100,1,61,1,0,0,"River/Stream","None",0,0,0,0,0,0,0,1,0,"Baseflow",1,"Clear",1,"None",0,0,0,0,0,null,0,"Absent","Absent","Absent","Absent","Absent","Absent","Absent","Present","Recorded",0,0,1,"","Twin Cities","TCTU","070400010202","South Creek","Vermillion River"]
["Dev: DBParsing_231030_v01.xlsm","7qI9Xe5v37rJi6cTJpBp","2022-08-05T16:57:59","2022-08-05T10:57:59","2022-08-05",2022,8,"f7qMRlnlkOgrA1xpaxXrTTeRGWX2",null,-92.732106406917381,44.83115545736964,null,"",0,null,1,240,120,null,null,7.5,1,0,1,66,1,0,5,"River/Stream","Bank Erosion",0,1,0,0,0,0,0,0,0,"Baseflow",1,"Clear",1,"None",0,0,0,0,0,"Secchi Tube > 100 cm",1,"Absent","Present","Absent","Absent","Absent","Absent","Absent","Absent","Recorded","Kinnickinnic River","Kinnickinnic River",1,"","Kiap TU Wish","Kiap-TU-Wish","070300051105","Lower Kinnickinnic Pond-Kinnickinnic River","Kinnickinnic River"]
["Dev: DBParsing_231030_v01.xlsm","v8CRelca0758OIrEeymL","2022-08-04T16:02:58","2022-08-04T10:02:58","2022-08-04",2022,8,"80reiKTTqGYqqpgYAhPwqypFwak1",null,-92.278186613779766,43.793118638027266,null,"",0,null,1,240,180,null,null,8,1,0,1,0,1,0,0,"River/Stream","None",0,0,0,0,0,0,0,1,0,"Mid-stage",1,null,0,"None",0,0,0,0,0,"looks great. 51 cool degrees",1,"Absent","Absent","Absent","Absent","Absent","Absent","Absent","Present","Recorded","Carson Creek","Carson Creek",1,1,"Hiawatha","Hiawatha","070400080208","Middle Branch Root River","Middle Branch Root River"]
["Dev: DBParsing_231030_v01.xlsm","LmAZiCe0Urva0FutaqEo","2022-08-03T19:23:32","2022-08-03T13:23:32","2022-08-03",2022,8,"XLsE0jeCBabIhsFYi4ZuVSWCKI33",null,-92.267617033880455,44.428620412987122,null,"",0,null,1,240,30,null,null,7,1,0,1,69,1,0,2,"River/Stream","",-1,-1,-1,-1,-1,-1,-1,-1,1,null,0,null,0,"",-1,-1,-1,-1,1,null,0,"No Data","No Data","No Data","No Data","No Data","No Data","No Data","No Data","No Data","","","","","Hiawatha","Hiawatha","070400010704","Miller Creek","Lake Pepin"]
["Dev: DBParsing_231030_v01.xlsm","ElVX9TuBJIgbJPmG5jkA","2022-07-31T21:53:33","2022-07-31T15:53:33","2022-07-31",2022,7,"jAZtjti59oWDTa7NaxeDt9luw853","Other Locations",-92.568179760214463,44.899795940187666,null,"",0,null,1,240,120,null,null,9,1,100,1,61,1,0,5,"River/Stream","None",0,0,0,0,0,0,0,1,0,"Baseflow",1,"Clear",1,"None",0,0,0,0,0,"HACH test nitrate between 8-10 mg/l",1,"Absent","Absent","Absent","Absent","Absent","Absent","Absent","Present","Recorded","Kinnickinnic River","Kinnickinnic River",1,"","Kiap TU Wish","Kinni Corridor Collaborative","070300051104","Parker Creek-Kinnickinnic River","Kinnickinnic River"]
["Dev: DBParsing_231030_v01.xlsm","U1ppTrsIIvUNggl6Fjd2","2022-07-29T13:11:33","2022-07-29T07:11:33","2022-07-29",2022,7,"3ewh0JhsqndewkOhEmNvJ9cb0n83","Cady Creek @ 50th St",-92.155737261012874,44.798082676188407,null,"2022-07-29 08:11:33.820354.jpg-0",1,null,1,240,30,null,null,7,1,0,1,55,1,0,2,"River/Stream","",-1,-1,-1,-1,-1,-1,-1,-1,1,"Baseflow",1,"Clear",1,"None",0,0,0,0,0,"moved sampling location to next  easement upstream. original site was unsafe due to steep banks, large rocks, deep water and wild parsnip\n",1,"No Data","No Data","No Data","No Data","No Data","No Data","No Data","No Data","No Data","Cady Creek","Cady Creek",1,1,"Kiap TU Wish","Kiap-TU-Wish","070500051003","Cady Creek","Eau Galle River"]
["Dev: DBParsing_231030_v01.xlsm","hsC0YwgSPwjaaAcLqgim","2022-07-28T22:28:07","2022-07-28T16:28:07","2022-07-28",2022,7,"K0EjhOrGL4NGhPVbB1pKi320lLr2","Hay Creek @ 320th St",-92.575557500000002,44.488374499999999,null,"2022-07-28 17:28:07.620468.jpg-0",1,null,1,240,120,null,null,7.5,1,100,0,null,1,0,2,"River/Stream","None",0,0,0,0,0,0,0,1,0,"Mid-stage",1,"Clear",1,"None",0,0,0,0,0,null,0,"Absent","Absent","Absent","Absent","Absent","Absent","Absent","Present","Recorded","Hay Creek","Hay Creek",1,"","Twin Cities","TCTU","070400010401","Hay Creek","Hay Creek-Mississippi River"]
["Dev: DBParsing_231030_v01.xlsm","fkAe4i375MRTP6CM64kg","2022-07-28T15:22:47","2022-07-28T09:22:47","2022-07-28",2022,7,"nyqdkfDdslRNDqAR2Ieel5debpE2",null,-91.489262504616875,44.771667657945613,null,"",0,null,1,180,120,null,null,6,0,null,1,61,0,"","","River/Stream","Trash",0,0,1,0,0,0,0,0,0,"Baseflow",1,"Clear",1,"None",0,0,0,0,0,null,0,"Absent","Absent","Present","Absent","Absent","Absent","Absent","Absent","Recorded","Lowes Creek","Lowes Creek",1,"","Wisconsin Clear Water","Wisconsin Clear Waters","070500050703","Pine Creek-Lowes Creek","Lowes Creek-Chippewa River"]
["Dev: DBParsing_231030_v01.xlsm","ec7CjPuwWHPAZR0tz5O4","2022-07-26T16:00:58","2022-07-26T10:00:58","2022-07-26",2022,7,"nyqdkfDdslRNDqAR2Ieel5debpE2","",-91.661774566039355,44.787322876630483,null,"",0,null,1,180,30,null,null,6,0,null,1,66,1,0.15,2,"River/Stream","None",0,0,0,0,0,0,0,1,0,"Baseflow",1,"Clear",1,"None",0,0,0,0,0,null,0,"Absent","Absent","Absent","Absent","Absent","Absent","Absent","Present","Recorded","Elk Creek","Elk Creek",1,"","Wisconsin Clear Water","Wisconsin Clear Waters","070500050602","Elk Creek Lake-Elk Creek","Elk Creek"]
["Dev: DBParsing_231030_v01.xlsm","6ZfI1sPCZkPMxC0TPNib","2022-07-24T16:38:40","2022-07-24T10:38:40","2022-07-24",2022,7,"IEVOLNEKvbTjBFFIUAn398Du5gu2",null,-92.641709110629762,44.849871894889894,null,"2022-07-24 11:38:40.535205.jpg-0",1,null,1,180,180,null,null,7.5,1,0,1,63,1,0,5,"River/Stream","None",0,0,0,0,0,0,0,1,0,"Baseflow",1,"Clear",1,"Regional Rainfall",1,0,0,0,0,"secchi tube greater than 100cm\nHach test = 8mg/L",1,"Absent","Absent","Absent","Absent","Absent","Absent","Absent","Present","Recorded","Kinnickinnic River","Kinnickinnic River",1,1,"Kiap TU Wish","Kinni Corridor Collaborative","070300051105","Lower Kinnickinnic Pond-Kinnickinnic River","Kinnickinnic River"]
["Dev: DBParsing_231030_v01.xlsm","iLXrfMaYyx2hy5KRwL2W","2022-07-24T15:29:15","2022-07-24T09:29:15","2022-07-24",2022,7,"IEVOLNEKvbTjBFFIUAn398Du5gu2",null,-92.732293746947875,44.831061301766795,null,"2022-07-24 10:29:15.217891.jpg-0",1,null,1,180,180,null,null,7.5,1,0,1,62,1,0,5,"River/Stream","None",0,0,0,0,0,0,0,1,0,"Baseflow",1,"Clear",1,"Regional Rainfall",1,0,0,0,0,"secchi tube greater than 100cm\nHach test = 4mg/L",1,"Absent","Absent","Absent","Absent","Absent","Absent","Absent","Present","Recorded","Kinnickinnic River","Kinnickinnic River",1,"","Kiap TU Wish","Kinni Corridor Collaborative","070300051105","Lower Kinnickinnic Pond-Kinnickinnic River","Kinnickinnic River"]
["Dev: DBParsing_231030_v01.xlsm","C3m3xnqpcJwt5zLVhTdb","2022-07-21T01:58:03","2022-07-20T19:58:03","2022-07-20",2022,7,"CUjiGQdfaVZfGM3lWBBjUCvnb322",null,-93.383428473112517,44.779574470636227,null,"2022-07-20 20:58:02.794386.jpg-0",1,null,1,240,30,null,null,7.5,1,0,1,59,1,0,1,"River/Stream","None",0,0,0,0,0,0,0,1,0,"Mid-stage",1,"Clear",1,"None",0,0,0,0,0,null,0,"Absent","Absent","Absent","Absent","Absent","Absent","Absent","Present","Recorded","Eagle Creek","Eagle Creek",1,"","Twin Cities","TCTU","070200121106","Eagle Creek-Minnesota River","Minnesota River"]
["Dev: DBParsing_231030_v01.xlsm","0fhU30HAk4ex1hSk2V9D","2022-07-19T00:31:53","2022-07-18T18:31:53","2022-07-18",2022,7,"ODZAZt42ngf0K8HRsQw4BSqkli42","",-92.447140049275419,42.540710214565081,null,"2022-07-18 19:31:53.084558.jpg-02022-07-18 19:31:53.084558.jpg-12022-07-18 19:31:53.084558.jpg-2",1,null,1,240,30,null,null,7,1,200,1,80,1,0,0,"River/Stream","Fish Barrier,Trash",1,0,1,0,0,0,0,0,0,"Mid-stage",1,"Muddy",1,"Regional Rainfall",1,0,0,0,0,"taken below Center Street and dam in Tourest Park. ",1,"Present","Absent","Present","Absent","Absent","Absent","Absent","Absent","Recorded","Snag Creek","Snag Creek",1,"","North Bear","Agency/University","070802050703","Black Hawk Park-Cedar River","Dry Run-Cedar River"]
["Dev: DBParsing_231030_v01.xlsm","FaUP4f1nVdldi6Mnbbgb","2022-07-18T20:50:28","2022-07-18T14:50:28","2022-07-18",2022,7,"uhi7fcC1CEM9Gzc26fagCyLA1662","Hay Creek @ 325th St",-92.597279599999993,44.472520500000002,null,"",0,null,1,240,180,null,null,8,1,0,1,64,1,0,5,"River/Stream","None",0,0,0,0,0,0,0,1,0,"Baseflow",1,"Clear",1,"None",0,0,0,0,0,null,0,"Absent","Absent","Absent","Absent","Absent","Absent","Absent","Present","Recorded","Hay Creek","Hay Creek",1,"","Twin Cities","TCTU","070400010401","Hay Creek","Hay Creek-Mississippi River"]
["Dev: DBParsing_231030_v01.xlsm","1NlXR9y7jcNoszwYUu1T","2022-07-18T15:58:45","2022-07-18T09:58:45","2022-07-18",2022,7,"bc0T8Yfie5YQFmysZHxLsNJDJnT2",null,-92.644000599999998,44.844363999999999,null,"2022-07-18 10:58:44.933889.jpg-0",1,null,1,240,120,null,null,8,1,0,1,65,1,0,2,"River/Stream","None",0,0,0,0,0,0,0,1,0,"Baseflow",1,"Clear",1,"None",0,0,0,0,0,"sechi tube greater than 100 cm\nHACH test4",1,"Absent","Absent","Absent","Absent","Absent","Absent","Absent","Present","Recorded","Kinnickinnic River","Kinnickinnic River",1,"","Kiap TU Wish","Kinni Corridor Collaborative","070300051105","Lower Kinnickinnic Pond-Kinnickinnic River","Kinnickinnic River"]
["Dev: DBParsing_231030_v01.xlsm","o9nHBINymqKpYrjFfR3w","2022-07-18T15:22:32","2022-07-18T09:22:32","2022-07-18",2022,7,"IEVOLNEKvbTjBFFIUAn398Du5gu2",null,-92.732116981157205,44.831035729477563,null,"2022-07-18 10:22:31.959339.jpg-0",1,null,1,180,180,null,null,7.5,1,0,1,63,1,0,0,"River/Stream","Trash",0,0,1,0,0,0,0,0,0,"Baseflow",1,"Clear",1,"None",0,0,0,0,0,"secchi tube greater than 100cm\nHach test = 6mg/L",1,"Absent","Absent","Present","Absent","Absent","Absent","Absent","Absent","Recorded","Kinnickinnic River","Kinnickinnic River",1,"","Kiap TU Wish","Kinni Corridor Collaborative","070300051105","Lower Kinnickinnic Pond-Kinnickinnic River","Kinnickinnic River"]
["Dev: DBParsing_231030_v01.xlsm","GRAenW6vmNlitHXRBEOa","2022-07-18T15:20:30","2022-07-18T09:20:30","2022-07-18",2022,7,"jAZtjti59oWDTa7NaxeDt9luw853","SF Kinnickinnic River @ 900th St",-92.638044180434804,44.851852795150926,null,"",0,null,1,240,120,null,null,8,1,0,1,63,1,0,5,"River/Stream","Bank Erosion,Trash",0,1,1,0,0,0,0,0,0,"Baseflow",1,"Clear",1,"None",0,0,0,0,0,"high nettles. overgrown. ",1,"Absent","Present","Present","Absent","Absent","Absent","Absent","Absent","Recorded","Kinnickinnic River","Kinnickinnic River",1,1,"Kiap TU Wish","Kinni Corridor Collaborative","070300051105","Lower Kinnickinnic Pond-Kinnickinnic River","Kinnickinnic River"]
["Dev: DBParsing_231030_v01.xlsm","6lPl7nu4ZWxWh2JsRLws","2022-07-17T00:38:48","2022-07-16T18:38:48","2022-07-16",2022,7,"MaWmkh46vpfB0NKdOC23krQrdH72","Little Cannon River",-92.929698502367117,44.37065754396788,null,"2022-07-16 19:38:48.341393.jpg-0",1,null,1,240,180,null,null,8,1,0,1,78,1,0,1,"River/Stream","Bank Erosion,Trash",0,1,1,0,0,0,0,0,0,"Baseflow",1,"Clear",1,"None",0,0,0,0,0,null,0,"Absent","Present","Present","Absent","Absent","Absent","Absent","Absent","Recorded","Little Cannon River","Little Cannon River",1,"","Twin Cities","TCTU","070400020702","Middle Little Cannon River","Little Cannon River"]
["Dev: DBParsing_231030_v01.xlsm","SP8d8afPK026w3P8JR1W","2022-07-14T18:55:50","2022-07-14T12:55:50","2022-07-14",2022,7,"ZMmGOOwucYXE3nEMRlAJSj4Cg8c2","",-92.340234590057875,44.75581178547786,null,"",0,null,1,240,180,null,null,8,0,null,0,null,1,0.15,5,"River/Stream","None",0,0,0,0,0,0,0,1,0,"Baseflow",1,"Clear",1,"None",0,0,0,0,0,null,0,"Absent","Absent","Absent","Absent","Absent","Absent","Absent","Present","Recorded","Rush River","Rush River",1,1,"Kiap TU Wish","TCTU","070400010505","Brush Creek-Rush River","Rush River"]
["Dev: DBParsing_231030_v01.xlsm","Ye47tg25JxoMuI2gKF8W","2022-07-14T17:52:31","2022-07-14T11:52:31","2022-07-14",2022,7,"IEVOLNEKvbTjBFFIUAn398Du5gu2",null,-92.624731112447293,44.850606020161202,null,"2022-07-14 12:52:31.578660.jpg-0",1,null,1,240,180,null,null,8,1,0,1,63,1,0,2,"River/Stream","Bank Erosion",0,1,0,0,0,0,0,0,0,"Baseflow",1,"Clear",1,"None",0,0,0,0,0,"secchi tube greater than 100cm\nHach test = 4mg/L",1,"Absent","Present","Absent","Absent","Absent","Absent","Absent","Absent","Recorded","South Fork Kinnickinnic River","South Fork Kinnickinnic River",1,1,"Kiap TU Wish","Kinni Corridor Collaborative","070300051103","South Fork Kinnickinnic River","Kinnickinnic River"]
["Dev: DBParsing_231030_v01.xlsm","cZfh6VjMyPK3aCwsqoxn","2022-07-14T16:38:43","2022-07-14T10:38:43","2022-07-14",2022,7,"IEVOLNEKvbTjBFFIUAn398Du5gu2",null,-92.559848747882,44.849465801118527,null,"2022-07-14 11:38:43.797207.jpg-0",1,null,1,240,180,null,null,7.5,1,100,1,64,1,0,2,"River/Stream","Bank Erosion,Trash",0,1,1,0,0,0,0,0,0,"Baseflow",1,"Clear",1,"None",0,0,0,0,0,"secchi tube greater than 100cm\nHach test = 2mg/L",1,"Absent","Present","Present","Absent","Absent","Absent","Absent","Absent","Recorded","South Fork Kinnickinnic River","South Fork Kinnickinnic River",1,1,"Kiap TU Wish","Kinni Corridor Collaborative","070300051103","South Fork Kinnickinnic River","Kinnickinnic River"]
["Dev: DBParsing_231030_v01.xlsm","wq5VJ991eu3MkwBHGahd","2022-07-13T20:16:19","2022-07-13T14:16:19","2022-07-13",2022,7,"7a7IFD1YT3aDXB8CbnSJjn1oLRC2","Isabelle Creek @ County Rd. EE",-92.442757061795007,44.621323477954206,null,"",0,null,1,240,60,null,null,7.5,1,100,1,63,1,0,0,"River/Stream","None",0,0,0,0,0,0,0,1,0,"Baseflow",1,"Clear",1,"None",0,0,0,0,0,null,0,"Absent","Absent","Absent","Absent","Absent","Absent","Absent","Present","Recorded","Isabelle Creek","Isabelle Creek",1,"","Kiap TU Wish","Unknown","070400010701","Isabelle Creek","Lake Pepin"]
["Dev: DBParsing_231030_v01.xlsm","eCNybsv5Sm49rPhlHWTX","2022-07-13T15:30:25","2022-07-13T09:30:25","2022-07-13",2022,7,"H4dZvxTdViejefqREn5k066JVZG3","",-92.145859465641024,44.238964058667001,null,"",0,null,1,240,180,null,null,7.5,1,100,1,58,1,0,5,"River/Stream","None",0,0,0,0,0,0,0,1,0,"Baseflow",1,"Clear",1,"None",0,0,0,0,0,"West Indian creek.  2/3 upstream up valley from OK parking lot ",1,"Absent","Absent","Absent","Absent","Absent","Absent","Absent","Present","Recorded","West Indian Creek","West Indian Creek",1,1,"Hiawatha","Hiawatha","070400040510","West Indian Creek","Zumbro River"]
["Dev: DBParsing_231030_v01.xlsm","Gm1D0QUcIjZmT78tbBr3","2022-07-11T16:45:13","2022-07-11T10:45:13","2022-07-11",2022,7,"IEVOLNEKvbTjBFFIUAn398Du5gu2",null,-92.63191039910312,44.855598785051491,null,"2022-07-11 11:45:13.106787.jpg-0",1,null,1,240,180,null,null,8,1,100,1,64,1,0,5,"Lake/Pond","Trash",0,0,1,0,0,0,0,0,0,"Baseflow",1,"Clear",1,"None",0,0,0,0,0,"secchi tube greater than 100cm\nHach test = 8mg/L",1,"Absent","Absent","Present","Absent","Absent","Absent","Absent","Absent","Recorded","Kinnickinnic River","Kinnickinnic River",1,1,"Kiap TU Wish","Kinni Corridor Collaborative","070300051104","Parker Creek-Kinnickinnic River","Kinnickinnic River"]
["Dev: DBParsing_231030_v01.xlsm","VHmnE29NJzxUaSMglNEg","2022-07-11T15:35:24","2022-07-11T09:35:24","2022-07-11",2022,7,"IEVOLNEKvbTjBFFIUAn398Du5gu2",null,-92.64405406148316,44.844562314386984,null,"2022-07-11 10:35:24.592219.jpg-0",1,null,1,240,180,null,null,8,1,0,1,63,1,0,5,"River/Stream","Trash",0,0,1,0,0,0,0,0,0,"Baseflow",1,"Clear",1,"None",0,0,0,0,0,"secchi tube greater than 100cm\nHach test = 4mg/L",1,"Absent","Absent","Present","Absent","Absent","Absent","Absent","Absent","Recorded","Kinnickinnic River","Kinnickinnic River",1,"","Kiap TU Wish","Kinni Corridor Collaborative","070300051105","Lower Kinnickinnic Pond-Kinnickinnic River","Kinnickinnic River"]
["Dev: DBParsing_231030_v01.xlsm","vb2RXhMS1AFmxgyQzaaa","2022-07-11T14:49:29","2022-07-11T08:49:29","2022-07-11",2022,7,"bc0T8Yfie5YQFmysZHxLsNJDJnT2",null,-92.732055900000006,44.8309572,null,"",0,null,1,240,120,null,null,7.5,1,0,1,62,1,0,0,"River/Stream","Pipe/Drain Outflow",0,0,0,1,0,0,0,0,0,"Baseflow",1,"Clear",1,"None",0,0,0,0,0,"HACH 4\nsekki tube greater than 100 cm",1,"Absent","Absent","Absent","Present","Absent","Absent","Absent","Absent","Recorded","Kinnickinnic River","Kinnickinnic River",1,"","Kiap TU Wish","Kinni Corridor Collaborative","070300051105","Lower Kinnickinnic Pond-Kinnickinnic River","Kinnickinnic River"]
["Dev: DBParsing_231030_v01.xlsm","JEhWvWWWzTL42Se3OGSV","2022-07-10T18:12:22","2022-07-10T12:12:22","2022-07-10",2022,7,"sPbTkTzcbybDduQDEAb0F4hUDHf2","MOA Creek",-93.231352566528315,44.846853383173467,null,"",0,null,1,240,180,null,null,8,1,0,1,62,1,0,1,"River/Stream","None",0,0,0,0,0,0,0,1,0,"Bankfull Stage",1,"Clear",1,"Local Thunderstorm",0,1,0,0,0,null,0,"Absent","Absent","Absent","Absent","Absent","Absent","Absent","Present","Recorded","","","","","Twin Cities","TCTU","070200121110","Minnesota River","Minnesota River"]
["Dev: DBParsing_231030_v01.xlsm","Em2px2qrcOsLgnUwYOS0","2022-07-07T16:36:18","2022-07-07T10:36:18","2022-07-07",2022,7,"sV8r8QoTpTQ81023RxB7QRB9qBu1","Belle Creek",-92.7255325,44.547135699999998,null,"",0,null,1,240,60,null,null,7,1,100,1,65,1,0.15,2,"River/Stream","Bank Erosion,None",0,1,0,0,0,0,0,1,0,"Baseflow",1,"Clear",1,"None",0,0,0,0,0,null,0,"Absent","Present","Absent","Absent","Absent","Absent","Absent","Present","Recorded","Belle Creek","Belle Creek","","","Twin Cities","TCTU","070400020803","Lower Belle Creek","Belle Creek"]
["Dev: DBParsing_231030_v01.xlsm","s094bBntvCG8L41lTeAE","2022-07-05T20:12:02","2022-07-05T14:12:02","2022-07-05",2022,7,"80reiKTTqGYqqpgYAhPwqypFwak1","",-92.342499699529583,43.773684273514682,null,"",0,null,1,240,180,null,null,7.5,1,0,0,null,1,0,0,"River/Stream","",-1,-1,-1,-1,-1,-1,-1,-1,1,"Baseflow",1,"Clear",1,"None",0,0,0,0,0,"water temp 60 degrees",1,"No Data","No Data","No Data","No Data","No Data","No Data","No Data","No Data","No Data","Kedron Creek","Kedron Creek",1,"","Hiawatha","Hiawatha","070400080203","Kedron Creek","Middle Branch Root River"]
["Dev: DBParsing_231030_v01.xlsm","qD9FcFUPcwT1HDq7IEj6","2022-07-05T15:34:03","2022-07-05T09:34:03","2022-07-05",2022,7,"80reiKTTqGYqqpgYAhPwqypFwak1",null,-92.224481497045815,43.622277011204154,null,"2022-07-05 10:34:02.407907.jpg-0",1,null,1,240,180,null,null,7.5,1,0,1,0,1,0,0,"River/Stream","None",0,0,0,0,0,0,0,1,0,"Baseflow",1,"Clear",1,"None",0,0,0,0,0,"Canfield looks way. about 8-10 degrees cooler than the Root at 58 degrees.  ",1,"Absent","Absent","Absent","Absent","Absent","Absent","Absent","Present","Recorded","Canfield Creek","Canfield Creek",1,"","Hiawatha","Hiawatha","070400080405","Town of Forestville-South Branch Root River","South Branch Root River"]
["Dev: DBParsing_231030_v01.xlsm","suxiY55T2uCmceS3K8Uy","2022-07-05T15:15:35","2022-07-05T09:15:35","2022-07-05",2022,7,"MHFdkCj8zqhw6MGszjwZYx49QR22","",-93.217179461705001,44.639391270225168,null,"2022-07-05 10:15:35.040663.jpg-0",1,null,1,240,120,null,null,7,1,100,1,57,1,0,0,"River/Stream","None",0,0,0,0,0,0,0,1,0,"Baseflow",1,"Clear",1,"None",0,0,0,0,0,"",0,"Absent","Absent","Absent","Absent","Absent","Absent","Absent","Present","Recorded",0,0,1,"","Twin Cities","TCTU","070400010202","South Creek","Vermillion River"]
["Dev: DBParsing_231030_v01.xlsm","Qk9rV1U98xAYNZg1pGW9","2022-07-05T04:14:03","2022-07-04T22:14:03","2022-07-04",2022,7,"bc0T8Yfie5YQFmysZHxLsNJDJnT2","",-88.268294999999995,43.839886399999997,null,"",0,null,1,240,60,null,null,8,1,0,1,74,1,0,1,"Tap Water","Bank Erosion,Trash,Livestock in Water",0,1,1,0,1,0,0,0,0,"Baseflow",1,"Clear",1,"Local Thunderstorm",0,1,0,0,0,"-filtered tap water\n- ag runoff",1,"Absent","Present","Present","Absent","Present","Absent","Absent","Absent","Recorded","","","","",0,"Kinni Corridor Collaborative","040301011101","Community of Mt. Calvary","Sheboygan River-Frontal Lake Michigan"]
["Dev: DBParsing_231030_v01.xlsm","PicoOlZUKUbpl8rFVqKd","2022-07-02T15:41:21","2022-07-02T09:41:21","2022-07-02",2022,7,"nyqdkfDdslRNDqAR2Ieel5debpE2",null,-91.360996046900894,44.724733482709006,null,"2022-07-02 10:41:21.735204.jpg-02022-07-02 10:41:21.735204.jpg-1",1,null,1,180,60,null,null,6.5,0,null,1,63,0,"","","River/Stream","Bank Erosion",0,1,0,0,0,0,0,0,0,"Baseflow",1,"Clear",1,"None",0,0,0,0,0," Oil slick on the bank.\nMany areas of bank erosion similar to this",1,"Absent","Present","Absent","Absent","Absent","Absent","Absent","Absent","Recorded","Otter Creek","Otter Creek",1,"","Wisconsin Clear Water","Wisconsin Clear Waters","070500060402","Otter Creek","Otter Creek"]
["Dev: DBParsing_231030_v01.xlsm","EGh4tlkuJXBZxGdMXYEa","2022-07-01T18:59:40","2022-07-01T12:59:40","2022-07-01",2022,7,"VQ9bNtzttGcXOEuaXrEAEYLfT103",null,-91.572876300000004,43.503598500000003,null,"2022-07-01 13:59:40.440665.jpg-0",1,null,1,180,60,null,null,7.5,1,100,1,56,1,0,2,"River/Stream","None",0,0,0,0,0,0,0,1,0,"Baseflow",1,"Clear",1,"None",0,0,0,0,0,null,0,"Absent","Absent","Absent","Absent","Absent","Absent","Absent","Present","Recorded","Bee Creek","Bee Creek",1,1,"Win Cres","Hiawatha","070600020502","Waterloo Creek","Bear Creek"]
["Dev: DBParsing_231030_v01.xlsm","KUw7IO7uGcF1EdJltY1H","2022-07-01T13:34:01","2022-07-01T07:34:01","2022-07-01",2022,7,"Tlazf0NRE2UoPEjeblvnepAUAAF3",null,-93.007794799999999,44.658691300000001,null,"",0,null,0,"",null,null,null,null,0,null,1,63,0,"","",null,"",-1,-1,-1,-1,-1,-1,-1,-1,1,null,0,null,0,"",-1,-1,-1,-1,1,null,0,"No Data","No Data","No Data","No Data","No Data","No Data","No Data","No Data","No Data","South Branch Vermillion River","South Branch Vermillion River",1,"","Twin Cities","TCTU","070400010205","South Branch Vermillion River","Vermillion River"]
["Dev: DBParsing_231030_v01.xlsm","Tv1SazyS3a1garNdjXoo","2022-06-30T19:23:43","2022-06-30T13:23:43","2022-06-30",2022,6,"IEVOLNEKvbTjBFFIUAn398Du5gu2",null,-92.624472354140366,44.850449319210483,null,"2022-06-30 14:23:43.346927.jpg-0",1,null,1,240,180,null,null,8,1,0,1,66,1,0,2,"River/Stream","Bank Erosion",0,1,0,0,0,0,0,0,0,"Baseflow",1,"Clear",1,"None",0,0,0,0,0,"secchi tube greater than 100cm\nHach test = 2mg/L\nminor rainfall in last 24 hours",1,"Absent","Present","Absent","Absent","Absent","Absent","Absent","Absent","Recorded","South Fork Kinnickinnic River","South Fork Kinnickinnic River",1,1,"Kiap TU Wish","Kinni Corridor Collaborative","070300051103","South Fork Kinnickinnic River","Kinnickinnic River"]
["Dev: DBParsing_231030_v01.xlsm","VGEN88Q8wPa2fDQbtqH1","2022-06-30T17:49:34","2022-06-30T11:49:34","2022-06-30",2022,6,"IEVOLNEKvbTjBFFIUAn398Du5gu2",null,-92.583404960863163,44.848803400005792,null,"2022-06-30 12:49:34.390349.jpg-0",1,null,1,240,180,null,null,8,1,0,1,57,1,0,2,"River/Stream","Trash",0,0,1,0,0,0,0,0,0,"Baseflow",1,"Clear",1,"None",0,0,0,0,0,"secchi tube greater than 100cm\nHach test = 2mg/L\nminor rain fall in last 24 hours ",1,"Absent","Absent","Present","Absent","Absent","Absent","Absent","Absent","Recorded","South Fork Kinnickinnic River","South Fork Kinnickinnic River",1,1,"Kiap TU Wish","Kinni Corridor Collaborative","070300051103","South Fork Kinnickinnic River","Kinnickinnic River"]
["Dev: DBParsing_231030_v01.xlsm","7bpFu2asKRPIhbH1RH5Y","2022-06-30T16:48:53","2022-06-30T10:48:53","2022-06-30",2022,6,"IEVOLNEKvbTjBFFIUAn398Du5gu2",null,-92.550731716689484,44.831136385735498,null,"2022-06-30 11:48:53.477124.jpg-0",1,null,1,180,120,null,null,7.5,1,0,1,62,1,0,1,"Lake/Pond","None",0,0,0,0,0,0,0,1,0,"Baseflow",1,"Murky",1,"None",0,0,0,0,0,"secchi tube = 69cm\nHach test = 2mg/L\nminor rainfall within 24 hours",1,"Absent","Absent","Absent","Absent","Absent","Absent","Absent","Present","Recorded","","","","","Kiap TU Wish","Kinni Corridor Collaborative","070300051103","South Fork Kinnickinnic River","Kinnickinnic River"]
["Dev: DBParsing_231030_v01.xlsm","GRbC1AA8s8JsSu6B53SU","2022-06-29T20:35:47","2022-06-29T14:35:47","2022-06-29",2022,6,"XLsE0jeCBabIhsFYi4ZuVSWCKI33",null,-92.267910903405635,44.428759217303643,null,"",0,null,1,240,30,null,null,7,1,200,1,69,0,"","","River/Stream","",-1,-1,-1,-1,-1,-1,-1,-1,1,null,0,null,0,"",-1,-1,-1,-1,1,null,0,"No Data","No Data","No Data","No Data","No Data","No Data","No Data","No Data","No Data","Miller Creek","Miller Creek","","","Hiawatha","Hiawatha","070400010704","Miller Creek","Lake Pepin"]
["Dev: DBParsing_231030_v01.xlsm","8TVXqfMTip1jplaZ61CN","2022-06-29T17:58:58","2022-06-29T11:58:58","2022-06-29",2022,6,"jAZtjti59oWDTa7NaxeDt9luw853",null,-92.641682345506396,44.849844239693923,null,"",0,null,1,240,120,null,null,7.5,1,100,1,63,1,0,5,"River/Stream","None",0,0,0,0,0,0,0,1,0,"Baseflow",1,"Clear",1,"None",0,0,0,0,0,"secchi read clear over a meter. Hach N03 test at 6 mg/l",1,"Absent","Absent","Absent","Absent","Absent","Absent","Absent","Present","Recorded","Kinnickinnic River","Kinnickinnic River",1,1,"Kiap TU Wish","Kinni Corridor Collaborative","070300051105","Lower Kinnickinnic Pond-Kinnickinnic River","Kinnickinnic River"]
["Dev: DBParsing_231030_v01.xlsm","wr8Z5LD6qu3QmrdM3g6T","2022-06-29T17:09:45","2022-06-29T11:09:45","2022-06-29",2022,6,"jAZtjti59oWDTa7NaxeDt9luw853",null,-92.644037492659535,44.84444084581439,null,"2022-06-29 12:09:45.219028.jpg-0",1,null,0,"",30,null,null,6,1,100,1,63,1,0,0,"River/Stream","None",0,0,0,0,0,0,0,1,0,"Baseflow",1,"Clear",1,"None",0,0,0,0,0,"took several tries to enter 5-in-1 test strip photo. N03 6 mg/l using Hach test. photo of foam. ",1,"Absent","Absent","Absent","Absent","Absent","Absent","Absent","Present","Recorded","Kinnickinnic River","Kinnickinnic River",1,"","Kiap TU Wish","Kinni Corridor Collaborative","070300051105","Lower Kinnickinnic Pond-Kinnickinnic River","Kinnickinnic River"]
["Dev: DBParsing_231030_v01.xlsm","boulbh7VvqHKj0eBsEXy","2022-06-29T15:34:44","2022-06-29T09:34:44","2022-06-29",2022,6,"jAZtjti59oWDTa7NaxeDt9luw853","",-92.631887421098185,44.855565517251243,null,"",0,null,1,240,120,null,null,8,1,100,1,63,1,0,5,"River/Stream","None",0,0,0,0,0,0,0,1,0,"Baseflow",1,"Murky",1,"None",0,0,0,0,0,"at lower buoys of impoundment lake George. many snails observed. lower water than prior observations this summer. ",1,"Absent","Absent","Absent","Absent","Absent","Absent","Absent","Present","Recorded","Kinnickinnic River","Kinnickinnic River",1,1,"Kiap TU Wish","Kinni Corridor Collaborative","070300051104","Parker Creek-Kinnickinnic River","Kinnickinnic River"]
["Dev: DBParsing_231030_v01.xlsm","gXZFfqNtXlP0TvZK2uzE","2022-06-29T13:58:35","2022-06-29T07:58:35","2022-06-29",2022,6,"bc0T8Yfie5YQFmysZHxLsNJDJnT2","",-92.621337199999999,44.875118299999997,null,"",0,null,1,240,120,null,null,7.5,1,100,1,56,1,0,2,"River/Stream","Trash",0,0,1,0,0,0,0,0,0,"Baseflow",1,"Clear",1,"None",0,0,0,0,0,"8 NO3 with Hach test kit\n>100 cm with seki tube",1,"Absent","Absent","Present","Absent","Absent","Absent","Absent","Absent","Recorded","Kinnickinnic River","Kinnickinnic River",1,"","Kiap TU Wish","Kinni Corridor Collaborative","070300051104","Parker Creek-Kinnickinnic River","Kinnickinnic River"]
["Dev: DBParsing_231030_v01.xlsm","4gPyB9deYSadavxq0oDh","2022-06-28T13:42:13","2022-06-28T07:42:13","2022-06-28",2022,6,"mOliWfJ8EcTqb0crRnvVrqCHyEi1","Hay Creek @ 320th St",-92.5753962,44.488337600000001,null,"2022-06-28 08:42:13.394846.jpg-0",1,null,1,240,0,null,null,7,1,0,1,58,1,0,2,"River/Stream","Bank Erosion",0,1,0,0,0,0,0,0,0,"Baseflow",1,"Murky",1,"Regional Rainfall",1,0,0,0,0,null,0,"Absent","Present","Absent","Absent","Absent","Absent","Absent","Absent","Recorded","Hay Creek","Hay Creek",1,"","Twin Cities","TCTU","070400010401","Hay Creek","Hay Creek-Mississippi River"]
["Dev: DBParsing_231030_v01.xlsm","LPCkXjOyeHesz1cd2rRy","2022-06-28T12:24:51","2022-06-28T06:24:51","2022-06-28",2022,6,"mOliWfJ8EcTqb0crRnvVrqCHyEi1","Hay Creek @ 320th St",-92.575207500000005,44.488508299999999,null,"2022-06-28 07:24:51.485739.jpg-0",1,null,1,240,180,null,null,7,1,0,1,51,1,0,2,"River/Stream","None",0,0,0,0,0,0,0,1,0,"Baseflow",1,"Murky",1,"Regional Rainfall",1,0,0,0,0,null,0,"Absent","Absent","Absent","Absent","Absent","Absent","Absent","Present","Recorded","Hay Creek","Hay Creek",1,"","Twin Cities","TCTU","070400010401","Hay Creek","Hay Creek-Mississippi River"]
["Dev: DBParsing_231030_v01.xlsm","4eqtXyaiXpLeTiploDJL","2022-06-28T11:04:09","2022-06-28T05:04:09","2022-06-28",2022,6,"80reiKTTqGYqqpgYAhPwqypFwak1",null,-91.580575816418602,43.641605973284349,null,"2022-06-28 06:04:08.524069.jpg-0",1,null,1,40,0,null,null,6,1,0,0,null,0,"","","River/Stream","",-1,-1,-1,-1,-1,-1,-1,-1,1,"Baseflow",1,"Clear",1,"None",0,0,0,0,0,"water temp 48 degrees.  neither 5-1 nor 2-1 worked correctly.  I tried 2-3 strips but all failed.  the one reading recorded is not right \n",1,"No Data","No Data","No Data","No Data","No Data","No Data","No Data","No Data","No Data","Beaver Creek East","Beaver Creek East",1,"","Win Cres","Hiawatha","070400080805","Beaver Creek","South Fork Root River"]
["Dev: DBParsing_231030_v01.xlsm","Z4EXBkqowsNUIQvBsnAy","2022-06-27T19:37:42","2022-06-27T13:37:42","2022-06-27",2022,6,"k4Pe0JRs4tfWvDzxrT35e1UE1ce2","",-92.802848490041498,44.543035277206954,null,"",0,null,1,240,180,null,null,7,1,100,1,63,1,0,5,null,"None",0,0,0,0,0,0,0,1,0,"Baseflow",1,"Clear",1,"None",0,0,0,0,0,null,0,"Absent","Absent","Absent","Absent","Absent","Absent","Absent","Present","Recorded","Cannon River","Cannon River",1,1,"Twin Cities","Unknown","070400020902","Trout Brook","Lower Cannon River"]
["Dev: DBParsing_231030_v01.xlsm","n5LPFI1d2mIxETknJisr","2022-06-26T23:00:24","2022-06-26T17:00:24","2022-06-26",2022,6,"mMKogvdinjOuckB5tkMQrxnYO852",null,-92.236476300000007,44.840147399999999,null,"2022-06-26 18:00:24.574647.jpg-0",1,null,0,"",null,null,null,null,0,null,0,null,0,"","","River/Stream","",-1,-1,-1,-1,-1,-1,-1,-1,1,null,0,null,0,"",-1,-1,-1,-1,1,null,0,"No Data","No Data","No Data","No Data","No Data","No Data","No Data","No Data","No Data","Burkhart Creek","Burkhart Creek",1,1,"Kiap TU Wish","Kiap-TU-Wish","070500051004","Burkhart Creek-Eau Galle Creek","Eau Galle River"]
["Dev: DBParsing_231030_v01.xlsm","o57PdRB0wE3mZGmEulJX","2022-06-24T16:37:42","2022-06-24T10:37:42","2022-06-24",2022,6,"VQ9bNtzttGcXOEuaXrEAEYLfT103","",-92.344028100000003,43.602170100000002,null,"",0,null,1,240,120,null,null,7.5,1,100,1,68,1,0,0,"River/Stream","None",0,0,0,0,0,0,0,1,0,"Baseflow",1,"Clear",1,"None",0,0,0,0,0,null,0,"Absent","Absent","Absent","Absent","Absent","Absent","Absent","Present","Recorded","Etna Creek","Etna Creek",1,"","Hiawatha","Hiawatha","070400080402","Etna Creek-South Branch Root River","South Branch Root River"]
["Dev: DBParsing_231030_v01.xlsm","E14pZT0JGxhEebebIOZW","2022-06-24T13:14:09","2022-06-24T07:14:09","2022-06-24",2022,6,"AFSRTEftiTe1HDjxTst1HuMIU1l1","Rush River @ 570th Ave",-92.331501746575753,44.746147238659368,null,"",0,null,1,180,120,null,null,7,1,0,1,65,1,0.15,2,"River/Stream","",-1,-1,-1,-1,-1,-1,-1,-1,1,"Mid-stage",1,null,0,"",-1,-1,-1,-1,1,null,0,"No Data","No Data","No Data","No Data","No Data","No Data","No Data","No Data","No Data","Rush River","Rush River",1,1,"Kiap TU Wish","Kiap-TU-Wish","070400010505","Brush Creek-Rush River","Rush River"]
["Dev: DBParsing_231030_v01.xlsm","OkWvQO29KE2pIYgyKcXW","2022-06-23T21:16:03","2022-06-23T15:16:03","2022-06-23",2022,6,"K0EjhOrGL4NGhPVbB1pKi320lLr2","Hay Creek @ 320th St",-92.575595000000007,44.488368299999998,null,"",0,null,1,240,0,null,null,7,1,200,1,70,1,0,1,"River/Stream","None",0,0,0,0,0,0,0,1,0,"Baseflow",1,"Clear",1,"None",0,0,0,0,0,null,0,"Absent","Absent","Absent","Absent","Absent","Absent","Absent","Present","Recorded","Hay Creek","Hay Creek",1,"","Twin Cities","TCTU","070400010401","Hay Creek","Hay Creek-Mississippi River"]
["Dev: DBParsing_231030_v01.xlsm","odIaGrcvcFlDfp1L970z","2022-06-19T16:10:36","2022-06-19T10:10:36","2022-06-19",2022,6,"nyqdkfDdslRNDqAR2Ieel5debpE2",null,-91.653141818977076,44.848820108084709,null,"",0,null,1,80,30,null,null,6,0,null,1,61,1,0,0,"River/Stream","Bank Erosion",0,1,0,0,0,0,0,0,0,"Baseflow",1,"Murky",1,"None",0,0,0,0,0,null,0,"Absent","Present","Absent","Absent","Absent","Absent","Absent","Absent","Recorded","Elk Creek","Elk Creek",1,1,"Wisconsin Clear Water","Wisconsin Clear Waters","070500050602","Elk Creek Lake-Elk Creek","Elk Creek"]
["Dev: DBParsing_231030_v01.xlsm","GmSWi3pAbqgmZJYT46Fq","2022-06-15T21:40:09","2022-06-15T15:40:09","2022-06-15",2022,6,"5RQuWak2yTbCLXixyDsqyBCU9CA2","Rocky Branch Creek, Lower Glen Park",-92.643510899999995,44.8427346,null,"",0,null,1,240,120,null,null,7.5,1,0,1,59,1,0.15,2,"River/Stream","None",0,0,0,0,0,0,0,1,0,"Baseflow",1,"Clear",1,"Regional Rainfall",1,0,0,0,0,null,0,"Absent","Absent","Absent","Absent","Absent","Absent","Absent","Present","Recorded","Kinnickinnic River","Kinnickinnic River",1,"","Kiap TU Wish","Kiap-TU-Wish","070300051105","Lower Kinnickinnic Pond-Kinnickinnic River","Kinnickinnic River"]
["Dev: DBParsing_231030_v01.xlsm","G2IjybVhAadWznlH5dri","2022-06-14T15:39:21","2022-06-14T09:39:21","2022-06-14",2022,6,"IEVOLNEKvbTjBFFIUAn398Du5gu2",null,-92.644111172990605,44.844261816926931,null,"2022-06-14 10:39:21.036235.jpg-0",1,null,1,240,120,null,null,8,1,0,1,63,1,0,5,"River/Stream","",-1,-1,-1,-1,-1,-1,-1,-1,1,"Baseflow",1,"Clear",1,"None",0,0,0,0,0,"secchi tube greater than 100 cm",1,"No Data","No Data","No Data","No Data","No Data","No Data","No Data","No Data","No Data","Kinnickinnic River","Kinnickinnic River",1,"","Kiap TU Wish","Kinni Corridor Collaborative","070300051105","Lower Kinnickinnic Pond-Kinnickinnic River","Kinnickinnic River"]
["Dev: DBParsing_231030_v01.xlsm","PiJasRVmGTdeqGjCeBp2","2022-06-14T15:26:21","2022-06-14T09:26:21","2022-06-14",2022,6,"bc0T8Yfie5YQFmysZHxLsNJDJnT2",null,-92.631910099999999,44.855534300000002,null,"",0,null,1,240,120,null,null,7.5,1,0,1,65,1,0,2,"Lake/Pond","Trash,Pipe/Drain Outflow",0,0,1,1,0,0,0,0,0,"Baseflow",1,"Murky",1,"None",0,0,0,0,0,null,0,"Absent","Absent","Present","Present","Absent","Absent","Absent","Absent","Recorded","Kinnickinnic River","Kinnickinnic River",1,1,"Kiap TU Wish","Kinni Corridor Collaborative","070300051104","Parker Creek-Kinnickinnic River","Kinnickinnic River"]
["Dev: DBParsing_231030_v01.xlsm","34NsoBeBFmfQ1Gn0GJV1","2022-06-14T14:49:37","2022-06-14T08:49:37","2022-06-14",2022,6,"bc0T8Yfie5YQFmysZHxLsNJDJnT2",null,-92.624051399999999,44.863977900000002,null,"2022-06-14 09:49:37.069131.jpg-0",1,null,1,240,180,null,null,7,1,100,1,59,1,0,2,"River/Stream","None",0,0,0,0,0,0,0,1,0,"Baseflow",1,"Clear",1,"None",0,0,0,0,0,"- rain event 2.5 inches\n-rainbow/oil spill look in nearby pool",1,"Absent","Absent","Absent","Absent","Absent","Absent","Absent","Present","Recorded","Kinnickinnic River","Kinnickinnic River",1,"","Kiap TU Wish","Kinni Corridor Collaborative","070300051104","Parker Creek-Kinnickinnic River","Kinnickinnic River"]
["Dev: DBParsing_231030_v01.xlsm","vJOVwXK8jCnjCeBnYMMr","2022-06-13T16:21:15","2022-06-13T10:21:15","2022-06-13",2022,6,"VqZRaTUPgjWCYY8wjw5nHFqlP4V2","Trout Brook",-92.802105249032763,44.543020895462369,null,"",0,null,1,240,180,null,null,8,1,100,1,55,1,0,0,"River/Stream","None",0,0,0,0,0,0,0,1,0,"Baseflow",1,"Clear",1,"Regional Rainfall",1,0,0,0,0,null,0,"Absent","Absent","Absent","Absent","Absent","Absent","Absent","Present","Recorded","Cannon River","Cannon River",1,1,"Twin Cities","TCTU","070400020902","Trout Brook","Lower Cannon River"]
["Dev: DBParsing_231030_v01.xlsm","8n8jkR6eTQtMlW6MCA4R","2022-06-11T19:39:03","2022-06-11T13:39:03","2022-06-11",2022,6,"dzm5kGoaEqWZ3aoqMW65dlUm5g92","Vermillion River, South Branch",-93.008973319170082,44.657278354321285,null,"",0,null,1,240,120,null,null,7,1,200,1,64,1,0,2,"River/Stream","",-1,-1,-1,-1,-1,-1,-1,-1,1,null,0,null,0,"",-1,-1,-1,-1,1,null,0,"No Data","No Data","No Data","No Data","No Data","No Data","No Data","No Data","No Data","South Branch Vermillion River","South Branch Vermillion River",1,"","Twin Cities","TCTU","070400010205","South Branch Vermillion River","Vermillion River"]
["Dev: DBParsing_231030_v01.xlsm","U11Wd8vpRoKeh0roddQS","2022-06-10T16:44:01","2022-06-10T10:44:01","2022-06-10",2022,6,"nyqdkfDdslRNDqAR2Ieel5debpE2",null,-91.662014068496362,44.786707357789666,null,"",0,null,1,240,60,null,null,6,0,null,1,62,0,"","","River/Stream","None",0,0,0,0,0,0,0,1,0,"Baseflow",1,"Murky",1,"None",0,0,0,0,0,null,0,"Absent","Absent","Absent","Absent","Absent","Absent","Absent","Present","Recorded","Elk Creek","Elk Creek",1,"","Wisconsin Clear Water","Wisconsin Clear Waters","070500050602","Elk Creek Lake-Elk Creek","Elk Creek"]
["Dev: DBParsing_231030_v01.xlsm","vcWFyqKVYKjyb1xJz0dq","2022-06-09T12:56:58","2022-06-09T06:56:58","2022-06-09",2022,6,"80reiKTTqGYqqpgYAhPwqypFwak1",null,-92.224485604178355,43.622284052002819,null,"2022-06-09 07:56:56.929526.jpg-0",1,null,1,240,120,null,null,7.5,1,0,0,null,1,0,0,"River/Stream","None",0,0,0,0,0,0,0,1,0,"Baseflow",1,"Clear",1,"None",0,0,0,0,0,"49 degrees and running a bit high as is nearby Root River.  ",1,"Absent","Absent","Absent","Absent","Absent","Absent","Absent","Present","Recorded","Canfield Creek","Canfield Creek",1,"","Hiawatha","Hiawatha","070400080405","Town of Forestville-South Branch Root River","South Branch Root River"]
["Dev: DBParsing_231030_v01.xlsm","Bd9chA1ysX8Xk5CWSg8A","2022-06-08T17:13:33","2022-06-08T11:13:33","2022-06-08",2022,6,"bc0T8Yfie5YQFmysZHxLsNJDJnT2",null,-92.624886700000005,44.861567399999998,null,"2022-06-08 12:13:33.106375.jpg-0",1,null,1,240,120,null,null,7.5,1,0,1,58,1,0,5,"River/Stream","Trash",0,0,1,0,0,0,0,0,0,"Baseflow",1,"Clear",1,"None",0,0,0,0,0,null,0,"Absent","Absent","Present","Absent","Absent","Absent","Absent","Absent","Recorded","Kinnickinnic River","Kinnickinnic River",1,"","Kiap TU Wish","Kinni Corridor Collaborative","070300051104","Parker Creek-Kinnickinnic River","Kinnickinnic River"]
["Dev: DBParsing_231030_v01.xlsm","jpizU6j3wN3pfoxC7G8S","2022-06-07T20:50:04","2022-06-07T14:50:04","2022-06-07",2022,6,"VQ9bNtzttGcXOEuaXrEAEYLfT103",null,-91.869533799999999,43.8640556,null,"2022-06-07 15:50:04.606509.jpg-0",1,null,1,240,180,null,null,8,1,0,1,61,1,0,2,"River/Stream","None",0,0,0,0,0,0,0,1,0,"Baseflow",1,"Clear",1,"None",0,0,0,0,0,null,0,"Absent","Absent","Absent","Absent","Absent","Absent","Absent","Present","Recorded","Hemingway Creek","Hemingway Creek",1,1,"Win Cres","Hiawatha","070400080503","Pine Creek","Rush Creek"]
["Dev: DBParsing_231030_v01.xlsm","LSs1Tk9CCbbbWil1ctRT","2022-06-07T19:29:31","2022-06-07T13:29:31","2022-06-07",2022,6,"VQ9bNtzttGcXOEuaXrEAEYLfT103",null,-91.867770199999995,43.8679524,null,"2022-06-07 14:29:31.877570.jpg-0",1,null,1,240,180,null,null,9,1,0,1,60,1,0.15,2,"River/Stream","",-1,-1,-1,-1,-1,-1,-1,-1,1,"Baseflow",1,"Clear",1,"None",0,0,0,0,0,null,0,"No Data","No Data","No Data","No Data","No Data","No Data","No Data","No Data","No Data","Pine Creek","Pine Creek",1,1,"Win Cres","Hiawatha","070400080503","Pine Creek","Rush Creek"]
["Dev: DBParsing_231030_v01.xlsm","bfnIaSWvkcRQ5WeeYRHy","2022-06-06T21:40:21","2022-06-06T15:40:21","2022-06-06",2022,6,"b5Q5MWoIy9OOBrhn8HbZMPPsGST2",null,-92.025811096644404,44.21568827394335,null,"",0,null,1,180,180,null,null,7.5,1,0,0,null,1,0,2,"River/Stream","Bank Erosion",0,1,0,0,0,0,0,0,0,"Baseflow",1,"Clear",1,"None",0,0,0,0,0,"East Indian light rain two previous days but stream was clear and at baseflow at time of sample.",1,"Absent","Present","Absent","Absent","Absent","Absent","Absent","Absent","Recorded","East Indian Creek","East Indian Creek",1,1,"Win Cres","Agency/University","070400030603","East Indian Creek","City of Winona-Mississippi River"]
["Dev: DBParsing_231030_v01.xlsm","X48NsuXfn1vLW1y9KQLB","2022-06-06T20:45:01","2022-06-06T14:45:01","2022-06-06",2022,6,"b5Q5MWoIy9OOBrhn8HbZMPPsGST2",null,-92.053152666582164,44.145397738880206,null,"2022-06-06 15:45:01.206765.jpg-0",1,null,1,240,180,null,null,8,1,200,0,null,1,0,2,"River/Stream","Bank Erosion",0,1,0,0,0,0,0,0,0,"Baseflow",1,"Clear",1,"None",0,0,0,0,0,"Beaver Creek Whitewater-light rain past two days but stream is low and clear",1,"Absent","Present","Absent","Absent","Absent","Absent","Absent","Absent","Recorded","Beaver Creek","Beaver Creek",1,"","Hiawatha","Agency/University","070400030308","Beaver Creek","Whitewater River"]
["Dev: DBParsing_231030_v01.xlsm","3vMppvMpjlRbUFTPcBP2","2022-06-06T20:03:42","2022-06-06T14:03:42","2022-06-06",2022,6,"XTciY3yPfYVTb535QHNfPsAPFsu1","",-91.81434382825816,43.879439469540252,null,"",0,null,0,"",null,null,null,null,1,0,0,null,1,0.15,1,"River/Stream","None",0,0,0,0,0,0,0,1,0,null,0,null,0,"",-1,-1,-1,-1,1,null,0,"Absent","Absent","Absent","Absent","Absent","Absent","Absent","Present","Recorded","Rush Creek","Rush Creek",1,"","Win Cres","Hiawatha","070400080502","Middle Rush Creek","Rush Creek"]
["Dev: DBParsing_231030_v01.xlsm","Kz4FMgUqVL2jjtloVINj","2022-06-06T19:05:29","2022-06-06T13:05:29","2022-06-06",2022,6,"wQCfNJcgkMPI4m2bsIm33lNVmqH2",null,-92.587479702177021,44.477927070741266,null,"2022-06-06 14:05:29.271126.jpg-0",1,null,1,240,180,null,null,9,1,0,1,59,1,0.15,5,"River/Stream","Pipe/Drain Outflow",0,0,0,1,0,0,0,0,0,"Bankfull Stage",1,"Clear",1,"None",0,0,0,0,0,null,0,"Absent","Absent","Absent","Present","Absent","Absent","Absent","Absent","Recorded","Hay Creek","Hay Creek",1,"","Twin Cities","TCTU","070400010401","Hay Creek","Hay Creek-Mississippi River"]
["Dev: DBParsing_231030_v01.xlsm","PVBvHzcEIvnxpEiL631X","2022-06-06T16:22:18","2022-06-06T10:22:18","2022-06-06",2022,6,"b5Q5MWoIy9OOBrhn8HbZMPPsGST2",null,-92.236123540928261,43.621897166320906,null,"",0,null,1,240,120,null,null,8,1,100,0,null,1,0,5,"River/Stream","Bank Erosion",0,1,0,0,0,0,0,0,0,"Baseflow",1,"Clear",1,"None",0,0,0,0,0,"South Branch Root River, light rains previous two days, but water clear",1,"Absent","Present","Absent","Absent","Absent","Absent","Absent","Absent","Recorded","South Branch Root River","South Branch Root River",1,"","Hiawatha","Agency/University","070400080402","Etna Creek-South Branch Root River","South Branch Root River"]
["Dev: DBParsing_231030_v01.xlsm","wy3EVjN8WZnNdwIT98D0","2022-06-05T01:17:02","2022-06-04T19:17:02","2022-06-04",2022,6,"XLsE0jeCBabIhsFYi4ZuVSWCKI33",null,-92.267891457390277,44.428694718558738,null,"",0,null,1,180,60,null,null,7.5,0,null,0,null,1,0,0,"River/Stream","",-1,-1,-1,-1,-1,-1,-1,-1,1,null,0,null,0,"",-1,-1,-1,-1,1,null,0,"No Data","No Data","No Data","No Data","No Data","No Data","No Data","No Data","No Data","Miller Creek","Miller Creek","","","Hiawatha","Hiawatha","070400010704","Miller Creek","Lake Pepin"]
["Dev: DBParsing_231030_v01.xlsm","pYbieuvSnr7Q9nfg6xhi","2022-06-04T14:07:52","2022-06-04T08:07:52","2022-06-04",2022,6,"qQOofzMtn7QEFNkor41r51PeJ982","",-93.009033837119105,44.657279120782135,null,"",0,null,1,240,180,null,null,7,1,0,1,54,0,"","","River/Stream","None",0,0,0,0,0,0,0,1,0,"Baseflow",1,null,0,"None",0,0,0,0,0,null,0,"Absent","Absent","Absent","Absent","Absent","Absent","Absent","Present","Recorded","South Branch Vermillion River","South Branch Vermillion River",1,"","Twin Cities","TCTU","070400010205","South Branch Vermillion River","Vermillion River"]
["Dev: DBParsing_231030_v01.xlsm","AUrfmj7DZGXvIiOF7LuL","2022-06-04T13:29:35","2022-06-04T07:29:35","2022-06-04",2022,6,"nyqdkfDdslRNDqAR2Ieel5debpE2",null,-91.422169247423696,44.778787935149658,null,"",0,null,1,80,60,null,null,6,0,null,1,54,0,"","","River/Stream","Bank Erosion",0,1,0,0,0,0,0,0,0,"Baseflow",1,"Clear",1,"None",0,0,0,0,0,null,0,"Absent","Present","Absent","Absent","Absent","Absent","Absent","Absent","Recorded","Otter Creek","Otter Creek",1,"","Wisconsin Clear Water","Wisconsin Clear Waters","070500060402","Otter Creek","Otter Creek"]
["Dev: DBParsing_231030_v01.xlsm","CfsD86O1i5pTBGectLMM","2022-05-31T18:14:46","2022-05-31T12:14:46","2022-05-31",2022,5,"IEVOLNEKvbTjBFFIUAn398Du5gu2",null,-92.622431099170754,44.850218202117148,null,"2022-05-31 13:14:46.347331.jpg-0",1,null,1,240,180,null,null,8,1,0,1,61,1,0,2,"River/Stream","None",0,0,0,0,0,0,0,1,0,"Baseflow",1,"Clear",1,"None",0,0,0,0,0,"secchi tube over 100 cm",1,"Absent","Absent","Absent","Absent","Absent","Absent","Absent","Present","Recorded","South Fork Kinnickinnic River","South Fork Kinnickinnic River",1,1,"Kiap TU Wish","Kinni Corridor Collaborative","070300051103","South Fork Kinnickinnic River","Kinnickinnic River"]
["Dev: DBParsing_231030_v01.xlsm","PaxedFNdJIdbeIAQZlkp","2022-05-31T17:53:22","2022-05-31T11:53:22","2022-05-31",2022,5,"IEVOLNEKvbTjBFFIUAn398Du5gu2",null,-92.624714625117775,44.850499159485693,null,"2022-05-31 12:53:22.521556.jpg-0",1,null,1,240,180,null,null,8,1,0,1,59,1,0,2,"River/Stream","None",0,0,0,0,0,0,0,1,0,"Baseflow",1,"Clear",1,"None",0,0,0,0,0,"secchi tube greater than 100 cm",1,"Absent","Absent","Absent","Absent","Absent","Absent","Absent","Present","Recorded","South Fork Kinnickinnic River","South Fork Kinnickinnic River",1,1,"Kiap TU Wish","Kinni Corridor Collaborative","070300051103","South Fork Kinnickinnic River","Kinnickinnic River"]
["Dev: DBParsing_231030_v01.xlsm","LDqlH4jwYIc05vUQxIPt","2022-05-31T16:51:17","2022-05-31T10:51:17","2022-05-31",2022,5,"IEVOLNEKvbTjBFFIUAn398Du5gu2","",-92.559825073010657,44.849454543780439,null,"2022-05-31 11:51:17.372925.jpg-0",1,null,1,240,180,null,null,7.5,1,100,1,62,1,0,1,"River/Stream","None",0,0,0,0,0,0,0,1,0,"Baseflow",1,"Clear",1,"None",0,0,0,0,0,"secchi tube greater than 100 cm",1,"Absent","Absent","Absent","Absent","Absent","Absent","Absent","Present","Recorded","South Fork Kinnickinnic River","South Fork Kinnickinnic River",1,1,"Kiap TU Wish","Kinni Corridor Collaborative","070300051103","South Fork Kinnickinnic River","Kinnickinnic River"]
["Dev: DBParsing_231030_v01.xlsm","URUNMrSYsYBneiT5kdod","2022-05-30T15:38:27","2022-05-30T09:38:27","2022-05-30",2022,5,"K0EjhOrGL4NGhPVbB1pKi320lLr2","Hay Creek @ 320th St",-92.5754783,44.488385000000001,null,"2022-05-30 10:38:27.785922.jpg-0",1,null,1,240,180,null,null,7,1,100,1,56,1,0,2,"River/Stream","None",0,0,0,0,0,0,0,1,0,"Mid-stage",1,"Murky",1,"Local Thunderstorm",0,1,0,0,0,null,0,"Absent","Absent","Absent","Absent","Absent","Absent","Absent","Present","Recorded","Hay Creek","Hay Creek",1,"","Twin Cities","TCTU","070400010401","Hay Creek","Hay Creek-Mississippi River"]
["Dev: DBParsing_231030_v01.xlsm","ogwZ68XDvy9FQzfHXoNG","2022-05-26T00:09:12","2022-05-25T18:09:12","2022-05-25",2022,5,"xGf42w3UBFa817jAA3vYGVMhqZo2","Vermillion River, South Branch",-93.009013133210118,44.65725220278339,null,"",0,null,1,240,180,null,null,8,1,0,1,52,1,0,0,"River/Stream","",-1,-1,-1,-1,-1,-1,-1,-1,1,"Bankfull Stage",1,"Clear",1,"Regional Rainfall",1,0,0,0,0,".82” rain in last 24 hours\n",1,"No Data","No Data","No Data","No Data","No Data","No Data","No Data","No Data","No Data","South Branch Vermillion River","South Branch Vermillion River",1,"","Twin Cities","TCTU","070400010205","South Branch Vermillion River","Vermillion River"]
["Dev: DBParsing_231030_v01.xlsm","qhi5GfEYCWTpcsQNLtsk","2022-05-25T19:25:23","2022-05-25T13:25:23","2022-05-25",2022,5,"XLsE0jeCBabIhsFYi4ZuVSWCKI33",null,-92.267847284760578,44.428693167906651,null,"",0,null,1,240,180,null,null,8,1,0,0,null,1,0,0,"River/Stream","",-1,-1,-1,-1,-1,-1,-1,-1,1,null,0,null,0,"",-1,-1,-1,-1,1,"0.75” rain overnight ",1,"No Data","No Data","No Data","No Data","No Data","No Data","No Data","No Data","No Data","Miller Creek","Miller Creek","","","Hiawatha","Hiawatha","070400010704","Miller Creek","Lake Pepin"]
["Dev: DBParsing_231030_v01.xlsm","qiQSP77D2DVC5vGgTO11","2022-05-23T19:35:11","2022-05-23T13:35:11","2022-05-23",2022,5,"b5Q5MWoIy9OOBrhn8HbZMPPsGST2",null,-91.977019588534461,44.063205876986174,null,"2022-05-23 14:35:11.631092.jpg-0",1,null,1,240,180,null,null,8,1,200,0,null,1,0,0,"River/Stream","Bank Erosion",0,1,0,0,0,0,0,0,0,"Mid-stage",1,"Murky",1,"None",0,0,0,0,0,"heavy rain 4 days earlier, still muddy",1,"Absent","Present","Absent","Absent","Absent","Absent","Absent","Absent","Recorded","South Fork Whitewater River","South Fork Whitewater River",1,"","Win Cres","Agency/University","070400030307","Lower South Fork Whitewater River","Whitewater River"]
["Dev: DBParsing_231030_v01.xlsm","BV7fqfPLMcyJYDEpLSZe","2022-05-23T19:33:32","2022-05-23T13:33:32","2022-05-23",2022,5,"bc0T8Yfie5YQFmysZHxLsNJDJnT2","",-92.732088899999994,44.831069300000003,null,"",0,null,1,240,120,null,null,7.5,1,0,1,58,1,0,5,"River/Stream","None",0,0,0,0,0,0,0,1,0,"Baseflow",1,"Clear",1,"None",0,0,0,0,0,"sucki disk greater than 100 cm",1,"Absent","Absent","Absent","Absent","Absent","Absent","Absent","Present","Recorded","Kinnickinnic River","Kinnickinnic River",1,"","Kiap TU Wish","Kinni Corridor Collaborative","070300051105","Lower Kinnickinnic Pond-Kinnickinnic River","Kinnickinnic River"]
["Dev: DBParsing_231030_v01.xlsm","FjfNkAnMogvRN4dQ8hWj","2022-05-23T18:44:36","2022-05-23T12:44:36","2022-05-23",2022,5,"bc0T8Yfie5YQFmysZHxLsNJDJnT2","",-92.641559599999994,44.849910800000004,null,"",0,null,1,240,120,null,null,7.5,1,0,1,56,1,0,2,"River/Stream","None",0,0,0,0,0,0,0,1,0,"Baseflow",1,"Clear",1,"None",0,0,0,0,0,"sucky tube greater than 100 cm",1,"Absent","Absent","Absent","Absent","Absent","Absent","Absent","Present","Recorded","Kinnickinnic River","Kinnickinnic River",1,1,"Kiap TU Wish","Kinni Corridor Collaborative","070300051105","Lower Kinnickinnic Pond-Kinnickinnic River","Kinnickinnic River"]
["Dev: DBParsing_231030_v01.xlsm","64RqGg0tSLq13MDToQUq","2022-05-23T17:31:18","2022-05-23T11:31:18","2022-05-23",2022,5,"bc0T8Yfie5YQFmysZHxLsNJDJnT2",null,-92.637957599999993,44.8517449,null,"",0,null,1,240,60,null,null,7.5,1,0,1,54,1,0,5,"River/Stream","Bank Erosion,Trash",0,1,1,0,0,0,0,0,0,"Baseflow",1,"Clear",1,"None",0,0,0,0,0,"sucki tube over 100 cm",1,"Absent","Present","Present","Absent","Absent","Absent","Absent","Absent","Recorded","Kinnickinnic River","Kinnickinnic River",1,1,"Kiap TU Wish","Kinni Corridor Collaborative","070300051105","Lower Kinnickinnic Pond-Kinnickinnic River","Kinnickinnic River"]
["Dev: DBParsing_231030_v01.xlsm","1yFDVEwheGPVZrxgF87c","2022-05-23T17:06:45","2022-05-23T11:06:45","2022-05-23",2022,5,"bc0T8Yfie5YQFmysZHxLsNJDJnT2",null,-92.636429000000007,44.8546391,null,"",0,null,1,240,120,null,null,7.5,1,0,1,52,1,0,2,"River/Stream","Trash",0,0,1,0,0,0,0,0,0,"Baseflow",1,"Clear",1,"None",0,0,0,0,0,"sucky tube 100 cm",1,"Absent","Absent","Present","Absent","Absent","Absent","Absent","Absent","Recorded","Kinnickinnic River","Kinnickinnic River",1,1,"Kiap TU Wish","Kinni Corridor Collaborative","070300051105","Lower Kinnickinnic Pond-Kinnickinnic River","Kinnickinnic River"]
["Dev: DBParsing_231030_v01.xlsm","uDKOhrciSPxQlXqER2WL","2022-05-23T15:15:06","2022-05-23T09:15:06","2022-05-23",2022,5,"IEVOLNEKvbTjBFFIUAn398Du5gu2",null,-92.624326780718647,44.864068474555147,null,"2022-05-23 10:15:06.435956.jpg-0",1,null,1,240,180,null,null,7,1,0,1,50,1,0,0,"River/Stream","None",0,0,0,0,0,0,0,1,0,"Baseflow",1,"Clear",1,"None",0,0,0,0,0,"sechi tube 100 cm or greater ",1,"Absent","Absent","Absent","Absent","Absent","Absent","Absent","Present","Recorded","Kinnickinnic River","Kinnickinnic River",1,"","Kiap TU Wish","Kinni Corridor Collaborative","070300051104","Parker Creek-Kinnickinnic River","Kinnickinnic River"]
["Dev: DBParsing_231030_v01.xlsm","20zFOS4cnd1qcuaeXorQ","2022-05-22T15:25:45","2022-05-22T09:25:45","2022-05-22",2022,5,"bc0T8Yfie5YQFmysZHxLsNJDJnT2",null,-92.621309400000001,44.875120899999999,null,"",0,null,1,240,180,null,null,7,1,0,1,48,1,0,5,"River/Stream","Trash",0,0,1,0,0,0,0,0,0,"Baseflow",1,"Clear",1,"None",0,0,0,0,0,null,0,"Absent","Absent","Present","Absent","Absent","Absent","Absent","Absent","Recorded","Kinnickinnic River","Kinnickinnic River",1,"","Kiap TU Wish","Kinni Corridor Collaborative","070300051104","Parker Creek-Kinnickinnic River","Kinnickinnic River"]
["Dev: DBParsing_231030_v01.xlsm","Lar5ylJooZkqvzWEjm2A","2022-05-22T14:06:05","2022-05-22T08:06:05","2022-05-22",2022,5,"bc0T8Yfie5YQFmysZHxLsNJDJnT2",null,-92.622389400000003,44.875567699999998,null,"",0,null,0,"",null,null,null,null,0,null,0,null,0,"","","River/Stream","",-1,-1,-1,-1,-1,-1,-1,-1,1,null,0,null,0,"",-1,-1,-1,-1,1,null,0,"No Data","No Data","No Data","No Data","No Data","No Data","No Data","No Data","No Data","Kinnickinnic River","Kinnickinnic River",1,"","Kiap TU Wish","Kinni Corridor Collaborative","070300051104","Parker Creek-Kinnickinnic River","Kinnickinnic River"]
["Dev: DBParsing_231030_v01.xlsm","lnqAzMipdWWem30HVtpH","2022-05-21T19:08:24","2022-05-21T13:08:24","2022-05-21",2022,5,"yd6EWtgkp2OxM0ESjNoOFhFrSZ53",null,-93.009006129022566,44.657272239770577,null,"",0,null,1,240,30,null,null,7,0,null,0,null,0,"","","River/Stream","",-1,-1,-1,-1,-1,-1,-1,-1,1,null,0,null,0,"",-1,-1,-1,-1,1,null,0,"No Data","No Data","No Data","No Data","No Data","No Data","No Data","No Data","No Data","South Branch Vermillion River","South Branch Vermillion River",1,"","Twin Cities","TCTU","070400010205","South Branch Vermillion River","Vermillion River"]
["Dev: DBParsing_231030_v01.xlsm","a0qYAjQ0W2dEayOesTQI","2022-05-21T17:18:23","2022-05-21T11:18:23","2022-05-21",2022,5,"K0EjhOrGL4NGhPVbB1pKi320lLr2",null,-92.597263299999995,44.472521700000001,null,"",0,null,1,240,180,null,null,7.5,1,200,1,50,1,0,2,"River/Stream","None",0,0,0,0,0,0,0,1,0,"Mid-stage",1,"Clear",1,"None",0,0,0,0,0,null,0,"Absent","Absent","Absent","Absent","Absent","Absent","Absent","Present","Recorded","Hay Creek","Hay Creek",1,"","Twin Cities","TCTU","070400010401","Hay Creek","Hay Creek-Mississippi River"]
["Dev: DBParsing_231030_v01.xlsm","NinzYeqdj1bwsgUPllZ3","2022-05-18T18:59:14","2022-05-18T12:59:14","2022-05-18",2022,5,"VQ9bNtzttGcXOEuaXrEAEYLfT103",null,-92.345323699999994,43.601063699999997,null,"2022-05-18 13:59:14.617371.jpg-0",1,null,1,240,0,null,null,8,1,0,1,56,1,0.15,5,"River/Stream","None",0,0,0,0,0,0,0,1,0,"Baseflow",1,"Clear",1,"None",0,0,0,0,0,null,0,"Absent","Absent","Absent","Absent","Absent","Absent","Absent","Present","Recorded","Etna Creek","Etna Creek",1,"","Hiawatha","Hiawatha","070400080402","Etna Creek-South Branch Root River","South Branch Root River"]
["Dev: DBParsing_231030_v01.xlsm","W2BrIjyduh1iFLmzlBQJ","2022-05-18T17:18:35","2022-05-18T11:18:35","2022-05-18",2022,5,"ZMmGOOwucYXE3nEMRlAJSj4Cg8c2","",-92.844285353248878,45.070615667009591,null,"",0,null,1,240,120,null,null,7,1,0,0,null,1,0,1,"River/Stream","None",0,0,0,0,0,0,0,1,0,"Mid-stage",1,"Clear",1,"None",0,0,0,0,0,null,0,"Absent","Absent","Absent","Absent","Absent","Absent","Absent","Present","Recorded","Browns Creek","Browns Creek",1,"","Twin Cities","TCTU","070300050907","Browns Creek","Big Marine Lake-Saint Croix River"]
["Dev: DBParsing_231030_v01.xlsm","G75XXILvxc7eNLqymRN6","2022-05-14T22:33:06","2022-05-14T16:33:06","2022-05-14",2022,5,"mMKogvdinjOuckB5tkMQrxnYO852","Eau Galle River @ WI Hwy 29",-92.236439500000003,44.840137599999998,null,"",0,null,1,240,60,null,null,7,1,100,1,66,1,0,1,"River/Stream","",-1,-1,-1,-1,-1,-1,-1,-1,1,"Bankfull Stage",1,"Muddy",1,"Regional Rainfall",1,0,0,0,0,null,0,"No Data","No Data","No Data","No Data","No Data","No Data","No Data","No Data","No Data","Burkhart Creek","Burkhart Creek",1,1,"Kiap TU Wish","Kiap-TU-Wish","070500051004","Burkhart Creek-Eau Galle Creek","Eau Galle River"]
["Dev: DBParsing_231030_v01.xlsm","4jBg1RgU6a7RbkTnco4l","2022-05-12T23:29:12","2022-05-12T17:29:12","2022-05-12",2022,5,"MaWmkh46vpfB0NKdOC23krQrdH72","",-92.929871197684662,44.370327538763064,null,"2022-05-12 18:29:12.431209.jpg-0",1,null,1,240,120,null,null,8,1,200,1,66,1,0.15,5,"River/Stream","Bank Erosion",0,1,0,0,0,0,0,0,0,"Bankfull Stage",1,"Muddy",1,"None",0,0,0,0,0,"fast moving muddy water after more than an inch of rain last night",1,"Absent","Present","Absent","Absent","Absent","Absent","Absent","Absent","Recorded","Little Cannon River","Little Cannon River",1,"","Hiawatha","TCTU","070400020702","Middle Little Cannon River","Little Cannon River"]
["Dev: DBParsing_231030_v01.xlsm","aqO8QIwpZCkewEWOHw3j","2022-05-11T22:27:53","2022-05-11T16:27:53","2022-05-11",2022,5,"80reiKTTqGYqqpgYAhPwqypFwak1",null,-92.342476397838766,43.773660468909675,null,"2022-05-11 17:27:53.121895.jpg-0",1,null,1,240,120,null,null,7.5,1,100,1,0,1,0,5,"River/Stream","None",0,0,0,0,0,0,0,1,0,"Baseflow",1,"Clear",1,"None",0,0,0,0,0,"water temp 54 degrees.  ",1,"Absent","Absent","Absent","Absent","Absent","Absent","Absent","Present","Recorded","Kedron Creek","Kedron Creek",1,"","Hiawatha","Hiawatha","070400080203","Kedron Creek","Middle Branch Root River"]
["Dev: DBParsing_231030_v01.xlsm","15F316BgSGLTSEh44bPr","2022-05-10T19:08:32","2022-05-10T13:08:32","2022-05-10",2022,5,"QqbZqyGX2YgKhSKXG0G7AK8gwMH2",null,-92.425115700000006,44.295449599999998,null,"",0,null,1,240,180,null,null,7,1,100,1,55,1,0,2,"River/Stream","None",0,0,0,0,0,0,0,1,0,"Baseflow",1,"Clear",1,"None",0,0,0,0,0,"Recent field preparation and planting done this past week. ",1,"Absent","Absent","Absent","Absent","Absent","Absent","Absent","Present","Recorded","Cold Creek","Cold Creek",1,1,"Hiawatha","Hiawatha","070400040503","Cold Creek","Zumbro River"]
["Dev: DBParsing_231030_v01.xlsm","ldArm8uD3QPmLAzMqrMF","2022-05-10T15:01:20","2022-05-10T09:01:20","2022-05-10",2022,5,"VHRlmHCbVSYpoT7Xubj2OGSvIFl1","SF Kinnickinnic River @ 900th St",-92.645002113985527,44.843619725204483,null,"2022-05-10 10:01:20.387033.jpg-0",1,null,1,240,120,null,null,7.5,1,0,1,55,1,0,0,"River/Stream","None",0,0,0,0,0,0,0,1,0,"Bankfull Stage",1,"Murky",1,"Regional Rainfall",1,0,0,0,0,"65 degrees air temp, ptly cloudy, heavy thunderstrm 15 hours ago. ",1,"Absent","Absent","Absent","Absent","Absent","Absent","Absent","Present","Recorded","Kinnickinnic River","Kinnickinnic River",1,"","Kiap TU Wish","Kiap-TU-Wish","070300051105","Lower Kinnickinnic Pond-Kinnickinnic River","Kinnickinnic River"]
["Dev: DBParsing_231030_v01.xlsm","LOOmw1OSK7A5HmDMYF6c","2022-05-09T21:44:15","2022-05-09T15:44:15","2022-05-09",2022,5,"uhi7fcC1CEM9Gzc26fagCyLA1662",null,-92.563690199999996,44.502650299999999,null,"",0,null,1,240,180,null,null,7.5,1,0,1,59,1,0,2,"River/Stream","None",0,0,0,0,0,0,0,1,0,"Baseflow",1,"Clear",1,"None",0,0,0,0,0,"hay creek ",1,"Absent","Absent","Absent","Absent","Absent","Absent","Absent","Present","Recorded","Hay Creek","Hay Creek",1,"","Twin Cities","TCTU","070400010401","Hay Creek","Hay Creek-Mississippi River"]
["Dev: DBParsing_231030_v01.xlsm","xtjbfMRjeKREpmWXHKQJ","2022-05-06T18:13:39","2022-05-06T12:13:39","2022-05-06",2022,5,"jj7B66wBA3YQo84792uvWfxjNp83","",-91.651274700000002,42.869554100000002,null,"",0,null,1,240,0,null,null,7.5,0,null,0,null,0,"","","River/Stream","Bank Erosion",0,1,0,0,0,0,0,0,0,"Baseflow",1,"Clear",1,"None",0,0,0,0,0,null,0,"Absent","Present","Absent","Absent","Absent","Absent","Absent","Absent","Recorded","Mink Creek","Mink Creek",1,"","Spring Creeks","Spring Creeks","070600040602","Mink Creek","Volga River"]
["Dev: DBParsing_231030_v01.xlsm","4Uwte6cSgW2kSdLT2a1q","2022-05-06T14:24:39","2022-05-06T08:24:39","2022-05-06",2022,5,"jj7B66wBA3YQo84792uvWfxjNp83",null,-91.758851199999995,43.291024899999996,null,"",0,null,1,240,180,null,null,8,0,null,0,null,0,"","","River/Stream","",-1,-1,-1,-1,-1,-1,-1,-1,1,"Mid-stage",1,"Clear",1,"None",0,0,0,0,0,null,0,"No Data","No Data","No Data","No Data","No Data","No Data","No Data","No Data","No Data","Trout Run","Trout Run",1,"","Iowa Driftless","Spring Creeks","070600020404","City of Decorah-Upper Iowa River","Trout Creek-Upper Iowa River"]
["Dev: DBParsing_231030_v01.xlsm","1IjVDMGkVWeSbOdEOdmT","2022-05-05T17:47:04","2022-05-05T11:47:04","2022-05-05",2022,5,"ZMmGOOwucYXE3nEMRlAJSj4Cg8c2",null,-93.151602138541662,44.64069590465818,null,"",0,null,1,240,180,null,null,7.5,0,null,1,51,0,"","","River/Stream","Trash",0,0,1,0,0,0,0,0,0,"Mid-stage",1,"Clear",1,"None",0,0,0,0,0,null,0,"Absent","Absent","Present","Absent","Absent","Absent","Absent","Absent","Recorded","Vermillion River","Vermillion River",1,"","Twin Cities","TCTU","070400010204","City of Farmington-Vermillion River","Vermillion River"]
["Dev: DBParsing_231030_v01.xlsm","NVg2JtaJbCC1BwI1e7VY","2022-05-05T17:15:41","2022-05-05T11:15:41","2022-05-05",2022,5,"CUjiGQdfaVZfGM3lWBBjUCvnb322",null,-93.151568351400243,44.640590613749474,null,"2022-05-05 12:15:40.788555.jpg-0",1,null,1,240,180,null,null,8,0,null,1,50,1,0,1,"River/Stream","None",0,0,0,0,0,0,0,1,0,"Mid-stage",1,"Murky",1,"None",0,0,0,0,0,null,0,"Absent","Absent","Absent","Absent","Absent","Absent","Absent","Present","Recorded","Vermillion River","Vermillion River",1,"","Twin Cities","TCTU","070400010204","City of Farmington-Vermillion River","Vermillion River"]
["Dev: DBParsing_231030_v01.xlsm","XSCU6RSdFNDoyi0zkRoz","2022-05-05T16:06:55","2022-05-05T10:06:55","2022-05-05",2022,5,"CUjiGQdfaVZfGM3lWBBjUCvnb322",null,-93.151415884581539,44.641000027809888,null,"",0,null,1,240,180,null,null,7,1,0,1,50,1,0,2,"","",-1,-1,-1,-1,-1,-1,-1,-1,1,null,0,null,0,"",-1,-1,-1,-1,1,null,0,"No Data","No Data","No Data","No Data","No Data","No Data","No Data","No Data","No Data","Vermillion River","Vermillion River",1,"","Twin Cities","TCTU","070400010204","City of Farmington-Vermillion River","Vermillion River"]
["Dev: DBParsing_231030_v01.xlsm","OIOlVPse7xHXz8SLrDSl","2022-05-05T14:20:32","2022-05-05T08:20:32","2022-05-05",2022,5,"jj7B66wBA3YQo84792uvWfxjNp83",null,-91.653958200000005,43.439170400000002,null,"2022-05-05 09:20:32.875747.jpg-0",1,null,1,240,0,null,null,7,0,null,0,null,0,"","","River/Stream","Bank Erosion",0,1,0,0,0,0,0,0,0,"Baseflow",1,"Clear",1,"Regional Rainfall",1,0,0,0,0,null,0,"Absent","Present","Absent","Absent","Absent","Absent","Absent","Absent","Recorded","South Bear Creek","South Bear Creek",1,"","Iowa Driftless","Spring Creeks","070600020503","Bear Creek","Bear Creek"]
["Dev: DBParsing_231030_v01.xlsm","VRKEXbTwqo8zG974vIeh","2022-05-02T20:08:07","2022-05-02T14:08:07","2022-05-02",2022,5,"VHRlmHCbVSYpoT7Xubj2OGSvIFl1","SF Kinnickinnic River @ 900th St",-92.645068284249717,44.84357423619538,null,"2022-05-02 15:08:06.848170.jpg-0",1,null,1,240,120,null,null,7,1,100,1,47,1,0,2,"River/Stream","None",0,0,0,0,0,0,0,1,0,"Bankfull Stage",1,"Murky",1,"Regional Rainfall",1,0,0,0,0,"cloudy, 47 degrees, two-day rain ended last night. ",1,"Absent","Absent","Absent","Absent","Absent","Absent","Absent","Present","Recorded","Kinnickinnic River","Kinnickinnic River",1,"","Kiap TU Wish","Kiap-TU-Wish","070300051105","Lower Kinnickinnic Pond-Kinnickinnic River","Kinnickinnic River"]
["Dev: DBParsing_231030_v01.xlsm","CkHwrVtNHHpJOHjXi5gT","2022-05-02T14:39:32","2022-05-02T08:39:32","2022-05-02",2022,5,"ZXrDvZ4pF1Qf92cFwnN35PE8grL2","Trout Brook",-92.802152000000007,44.5429922,null,"",0,null,1,240,180,null,null,7,1,0,1,45,1,0,5,"River/Stream","None",0,0,0,0,0,0,0,1,0,"Mid-stage",1,"Clear",1,"Regional Rainfall",1,0,0,0,0,null,0,"Absent","Absent","Absent","Absent","Absent","Absent","Absent","Present","Recorded","Cannon River","Cannon River",1,1,"Twin Cities","TCTU","070400020902","Trout Brook","Lower Cannon River"]
["Dev: DBParsing_231030_v01.xlsm","agoMXmxrpSbld0PcSSeR","2022-05-01T13:59:11","2022-05-01T07:59:11","2022-05-01",2022,5,"CUjiGQdfaVZfGM3lWBBjUCvnb322","",-92.725447481584482,44.547035079490904,null,"2022-05-01 08:59:11.573861.jpg-0",1,null,1,240,180,null,null,7.5,1,0,1,48,1,0,2,"River/Stream","None",0,0,0,0,0,0,0,1,0,"Mid-stage",1,"Clear",1,"Regional Rainfall",1,0,0,0,0,null,0,"Absent","Absent","Absent","Absent","Absent","Absent","Absent","Present","Recorded","Belle Creek","Belle Creek","","","Twin Cities","TCTU","070400020803","Lower Belle Creek","Belle Creek"]
["Dev: DBParsing_231030_v01.xlsm","1AkLPYdnobHhCfKkxr3u","2022-04-29T17:03:59","2022-04-29T11:03:59","2022-04-29",2022,4,"xGf42w3UBFa817jAA3vYGVMhqZo2","Vermillion River, South Branch",-93.009018497628162,44.657207066234811,null,"",0,null,1,240,180,null,null,7,1,0,1,47,1,0,5,"River/Stream","None",0,0,0,0,0,0,0,1,0,"Mid-stage",1,"Clear",1,"None",0,0,0,0,0,null,0,"Absent","Absent","Absent","Absent","Absent","Absent","Absent","Present","Recorded","South Branch Vermillion River","South Branch Vermillion River","","","Twin Cities","TCTU","070400010205","South Branch Vermillion River","Vermillion River"]
["Dev: DBParsing_231030_v01.xlsm","KaQ4rVJnyY8lm5qYmiMe","2022-04-28T17:01:40","2022-04-28T11:01:40","2022-04-28",2022,4,"XTciY3yPfYVTb535QHNfPsAPFsu1",null,-91.81456748378524,43.879435328560206,null,"",0,null,0,"",null,null,null,null,0,null,0,null,0,"","",null,"",-1,-1,-1,-1,-1,-1,-1,-1,1,null,0,null,0,"",-1,-1,-1,-1,1,null,0,"No Data","No Data","No Data","No Data","No Data","No Data","No Data","No Data","No Data","Rush Creek","Rush Creek",1,"","Win Cres","Hiawatha","070400080502","Middle Rush Creek","Rush Creek"]
["Dev: DBParsing_231030_v01.xlsm","DwudQDrTVJkmNybN5Jdc","2022-04-27T19:27:10","2022-04-27T13:27:10","2022-04-27",2022,4,"f7qMRlnlkOgrA1xpaxXrTTeRGWX2",null,-92.732083183138073,44.831109125258877,null,"",0,null,1,180,120,null,null,7.5,1,0,1,49,1,0,2,"River/Stream","Bank Erosion",0,1,0,0,0,0,0,0,0,"Baseflow",1,"Clear",1,"None",0,0,0,0,0,"Secchi Tube = > 100 cm",1,"Absent","Present","Absent","Absent","Absent","Absent","Absent","Absent","Recorded","Kinnickinnic River","Kinnickinnic River",1,"","Kiap TU Wish","Kiap-TU-Wish","070300051105","Lower Kinnickinnic Pond-Kinnickinnic River","Kinnickinnic River"]
["Dev: DBParsing_231030_v01.xlsm","7OSwi4Ae6R84oCp0qAkE","2022-04-24T13:33:11","2022-04-24T07:33:11","2022-04-24",2022,4,"D17U1veFZVXjEf12Xz7qLJhjKsm2","Vermillion River, South Branch",-93.025106916247793,44.639907981986411,null,"2022-04-24 08:33:11.078518.jpg-0",1,null,1,240,180,null,null,7,1,100,1,47,1,0,0,"River/Stream","None",0,0,0,0,0,0,0,1,0,"Bankfull Stage",1,"Murky",1,"None",0,0,0,0,0,"Fished and tested the south branch vermillion today. Day after rain storm ",1,"Absent","Absent","Absent","Absent","Absent","Absent","Absent","Present","Recorded","South Branch Vermillion River","South Branch Vermillion River","","","Twin Cities","Oak Brook","070400010205","South Branch Vermillion River","Vermillion River"]
["Dev: DBParsing_231030_v01.xlsm","4UlNRjU8MRJeclySgsWB","2022-04-23T23:48:06","2022-04-23T17:48:06","2022-04-23",2022,4,"yd6EWtgkp2OxM0ESjNoOFhFrSZ53",null,-93.298493583940086,44.689385786217869,null,"",0,null,0,"",null,null,null,null,0,null,0,null,0,"","",null,"",-1,-1,-1,-1,-1,-1,-1,-1,1,null,0,null,0,"",-1,-1,-1,-1,1,null,0,"No Data","No Data","No Data","No Data","No Data","No Data","No Data","No Data","No Data","","","","","Twin Cities","TCTU","070400010202","South Creek","Vermillion River"]
["Dev: DBParsing_231030_v01.xlsm","tbgGjf0eA4700UuRjWx0","2022-04-22T23:07:52","2022-04-22T17:07:52","2022-04-22",2022,4,"9SWyLZDRS8gsuAD2Vpf6duBiFib2",null,-92.434227066198616,44.289703300972157,null,"",0,null,1,240,120,null,null,7.5,1,0,0,null,1,0,0,"River/Stream","None",0,0,0,0,0,0,0,1,0,"Mid-stage",1,"Clear",1,"Regional Rainfall",1,0,0,0,0,null,0,"Absent","Absent","Absent","Absent","Absent","Absent","Absent","Present","Recorded","Cold Creek","Cold Creek",1,1,"Hiawatha","Hiawatha","070400040503","Cold Creek","Zumbro River"]
["Dev: DBParsing_231030_v01.xlsm","nYgjnDBEeXOQSZmjeuNe","2022-04-21T23:07:09","2022-04-21T17:07:09","2022-04-21",2022,4,"3ewh0JhsqndewkOhEmNvJ9cb0n83","Cady Creek @ 50th St",-92.146888915464842,44.793208276176053,null,"2022-04-21 18:07:09.166197.jpg-0",1,null,0,"",null,null,null,null,0,null,0,null,0,"","",null,"None",0,0,0,0,0,0,0,1,0,"Baseflow",1,"Clear",1,"None",0,0,0,0,0,null,0,"Absent","Absent","Absent","Absent","Absent","Absent","Absent","Present","Recorded","Cady Creek","Cady Creek",1,1,"Kiap TU Wish","Kiap-TU-Wish","070500051003","Cady Creek","Eau Galle River"]
["Dev: DBParsing_231030_v01.xlsm","dj2nrrSQvvRzfv3kgnbu","2022-04-19T19:25:24","2022-04-19T13:25:24","2022-04-19",2022,4,"f7qMRlnlkOgrA1xpaxXrTTeRGWX2",null,-92.732090583637685,44.831196485104911,null,"",0,null,1,240,120,null,null,7,1,0,1,47,1,0,5,"River/Stream","Bank Erosion,Trash",0,1,1,0,0,0,0,0,0,"Baseflow",1,"Clear",1,"None",0,0,0,0,0,"Secchi Tube > 100 cm",1,"Absent","Present","Present","Absent","Absent","Absent","Absent","Absent","Recorded","Kinnickinnic River","Kinnickinnic River",1,"","Kiap TU Wish","Kiap-TU-Wish","070300051105","Lower Kinnickinnic Pond-Kinnickinnic River","Kinnickinnic River"]
["Dev: DBParsing_231030_v01.xlsm","B5rof7IWbwF9I1E9K8WH","2022-04-16T20:40:18","2022-04-16T14:40:18","2022-04-16",2022,4,"XTciY3yPfYVTb535QHNfPsAPFsu1","",-92.44079087891204,44.035097722935276,null,"2022-04-16 15:40:18.381784.jpg-0",1,null,1,240,180,null,null,8,1,0,1,44,1,0.15,1,"River/Stream","",-1,-1,-1,-1,-1,-1,-1,-1,1,"Baseflow",1,"Clear",1,"None",0,0,0,0,0,"just upstream of bridge on Rush Creek",1,"No Data","No Data","No Data","No Data","No Data","No Data","No Data","No Data","No Data","","","","","Hiawatha","Hiawatha","070400040107","Silver Creek","South Fork Zumbro River"]
["Dev: DBParsing_231030_v01.xlsm","gpcVoxP4UH1oLkbJfr96","2022-04-10T20:49:51","2022-04-10T14:49:51","2022-04-10",2022,4,"XLsE0jeCBabIhsFYi4ZuVSWCKI33",null,-92.268079295840366,44.428683822084615,null,"",0,null,1,240,30,null,null,7,1,0,1,57,0,"","","River/Stream","",-1,-1,-1,-1,-1,-1,-1,-1,1,null,0,null,0,"",-1,-1,-1,-1,1,null,0,"No Data","No Data","No Data","No Data","No Data","No Data","No Data","No Data","No Data","Miller Creek","Miller Creek","","","Hiawatha","Hiawatha","070400010704","Miller Creek","Lake Pepin"]
["Dev: DBParsing_231030_v01.xlsm","iXuQ27TJt2koj7vdINSm","2022-04-09T16:49:29","2022-04-09T10:49:29","2022-04-09",2022,4,"JXs3JH9frrZM0ZdjV8qFZY0NE3P2","SF Kinnickinnic River @ 900th St",-92.583483103748961,44.848829526495976,null,"",0,null,1,240,180,null,null,8,1,0,1,44,1,0,2,"","",-1,-1,-1,-1,-1,-1,-1,-1,1,"Baseflow",1,"Clear",1,"None",0,0,0,0,0,null,0,"No Data","No Data","No Data","No Data","No Data","No Data","No Data","No Data","No Data","South Fork Kinnickinnic River","South Fork Kinnickinnic River",1,1,"Kiap TU Wish","Kiap-TU-Wish","070300051103","South Fork Kinnickinnic River","Kinnickinnic River"]
["Dev: DBParsing_231030_v01.xlsm","EI9mrpNirFYswX8KX8Wu","2022-04-07T19:04:22","2022-04-07T13:04:22","2022-04-07",2022,4,"CUjiGQdfaVZfGM3lWBBjUCvnb322",null,-93.386071790096722,44.775865059387662,null,"2022-04-07 14:04:22.490761.jpg-0",1,null,1,240,180,null,null,7,1,0,1,48,1,0,0,"River/Stream","None",0,0,0,0,0,0,0,1,0,"Mid-stage",1,"Clear",1,"None",0,0,0,0,0,null,0,"Absent","Absent","Absent","Absent","Absent","Absent","Absent","Present","Recorded","Eagle Creek","Eagle Creek",1,"","Twin Cities","TCTU","070200121106","Eagle Creek-Minnesota River","Minnesota River"]
["Dev: DBParsing_231030_v01.xlsm","gb3oYKzilU8YZOqSz38M","2022-04-07T16:20:06","2022-04-07T10:20:06","2022-04-07",2022,4,"CUjiGQdfaVZfGM3lWBBjUCvnb322",null,-92.810485912573341,44.378971760202553,null,"",0,null,1,240,180,null,null,6.5,1,0,1,40,1,0,2,"River/Stream","Pipe/Drain Outflow",0,0,0,1,0,0,0,0,0,"Baseflow",1,"Clear",1,"None",0,0,0,0,0,null,0,"Absent","Absent","Absent","Present","Absent","Absent","Absent","Absent","Recorded",0,0,"","","Twin Cities","TCTU","070400020801","Upper Belle Creek","Belle Creek"]
["Dev: DBParsing_231030_v01.xlsm","hn1IEMvAK9V14ifuFk5v","2022-04-06T19:58:39","2022-04-06T13:58:39","2022-04-06",2022,4,"3ewh0JhsqndewkOhEmNvJ9cb0n83","Cady Creek @ 50th St",-92.146820523722397,44.793220857983286,null,"2022-04-06 14:58:39.665782.jpg-0",1,null,1,240,120,null,null,6,1,200,1,40,1,0,1,"River/Stream","",-1,-1,-1,-1,-1,-1,-1,-1,1,"Bankfull Stage",1,"Murky",1,"Regional Rainfall",1,0,0,0,0,"run-off conditions due to multi-day rain",1,"No Data","No Data","No Data","No Data","No Data","No Data","No Data","No Data","No Data","Cady Creek","Cady Creek",1,1,"Kiap TU Wish","Kiap-TU-Wish","070500051003","Cady Creek","Eau Galle River"]
["Dev: DBParsing_231030_v01.xlsm","lZKyjiV2jgkggXckipFc","2022-04-04T18:49:40","2022-04-04T12:49:40","2022-04-04",2022,4,"sV8r8QoTpTQ81023RxB7QRB9qBu1",null,-92.735883999999999,44.533550200000001,null,"2022-04-04 13:49:39.649617.jpg-0",1,null,1,240,60,null,null,8,1,100,1,42,1,0,0,"River/Stream","None",0,0,0,0,0,0,0,1,0,"Baseflow",1,"Murky",1,"Regional Rainfall",1,0,0,0,0,null,0,"Absent","Absent","Absent","Absent","Absent","Absent","Absent","Present","Recorded","Belle Creek","Belle Creek","","","Twin Cities","TCTU","070400020803","Lower Belle Creek","Belle Creek"]
["Dev: DBParsing_231030_v01.xlsm","raWqssx6CUWko05bUnXP","2022-04-02T15:59:26","2022-04-02T09:59:26","2022-04-02",2022,4,"MaWmkh46vpfB0NKdOC23krQrdH72","Vermillion River, South Branch",-93.008962645499494,44.657211843801306,null,"2022-04-02 10:59:26.662093.jpg-0",1,null,1,240,180,null,null,7,1,0,1,43,1,0,0,"River/Stream","None",0,0,0,0,0,0,0,1,0,"Mid-stage",1,"Clear",1,"None",0,0,0,0,0,null,0,"Absent","Absent","Absent","Absent","Absent","Absent","Absent","Present","Recorded","South Branch Vermillion River","South Branch Vermillion River",1,"","Twin Cities","TCTU","070400010205","South Branch Vermillion River","Vermillion River"]
["Dev: DBParsing_231030_v01.xlsm","s3dG9lkGU1eW6wzcF56I","2022-04-02T15:52:15","2022-04-02T09:52:15","2022-04-02",2022,4,"dzm5kGoaEqWZ3aoqMW65dlUm5g92",null,-93.008906766858885,44.657247006003423,null,"",0,null,0,"",null,null,null,null,1,0,1,45,1,0,0,"River/Stream","",-1,-1,-1,-1,-1,-1,-1,-1,1,null,0,null,0,"",-1,-1,-1,-1,1,null,0,"No Data","No Data","No Data","No Data","No Data","No Data","No Data","No Data","No Data","South Branch Vermillion River","South Branch Vermillion River",1,"","Twin Cities","TCTU","070400010205","South Branch Vermillion River","Vermillion River"]
["Dev: DBParsing_231030_v01.xlsm","Lmb2J9ouXVfqxSWoN4ps","2022-04-02T15:37:28","2022-04-02T09:37:28","2022-04-02",2022,4,"dzm5kGoaEqWZ3aoqMW65dlUm5g92",null,-93.008983293634842,44.657248347107931,null,"",0,null,0,"",null,null,null,null,0,null,1,44,0,"","",null,"",-1,-1,-1,-1,-1,-1,-1,-1,1,null,0,null,0,"",-1,-1,-1,-1,1,null,0,"No Data","No Data","No Data","No Data","No Data","No Data","No Data","No Data","No Data","South Branch Vermillion River","South Branch Vermillion River",1,"","Twin Cities","TCTU","070400010205","South Branch Vermillion River","Vermillion River"]
["Dev: DBParsing_231030_v01.xlsm","x69aovNNpiarDO0I60ml","2022-04-02T15:37:03","2022-04-02T09:37:03","2022-04-02",2022,4,"D17U1veFZVXjEf12Xz7qLJhjKsm2","",-93.008973235351036,44.657266493928546,null,"2022-04-02 10:37:03.587365.jpg-02022-04-02 10:37:03.587365.jpg-1",1,null,0,"",null,null,null,null,1,0,1,44,0,"","","River/Stream","None",0,0,0,0,0,0,0,1,0,"Baseflow",1,"Clear",1,"Warmth Causing Snowmelt",0,0,1,0,0,null,0,"Absent","Absent","Absent","Absent","Absent","Absent","Absent","Present","Recorded","South Branch Vermillion River","South Branch Vermillion River",1,"","Twin Cities","Oak Brook","070400010205","South Branch Vermillion River","Vermillion River"]
["Dev: DBParsing_231030_v01.xlsm","OATbaqdU0utAQp0XSyzp","2021-12-13T20:53:15","2021-12-13T14:53:15","2021-12-13",2021,12,"W8BGw5bKR3fOoqYynHo0kID39br2",null,-92.195595999999995,43.847769999999997,null,"2021-12-13 14:53:15.399186.jpg-0",1,null,1,240,60,null,null,7.5,1,0,1,42,1,0.15,2,"River/Stream","None",0,0,0,0,0,0,0,1,0,"Baseflow",1,"Clear",1,"Warmth Causing Snowmelt",0,0,1,0,0,null,0,"Absent","Absent","Absent","Absent","Absent","Absent","Absent","Present","Recorded","Mill Creek","Mill Creek",1,"","Hiawatha","Hiawatha","070400080107","Mill Creek","North Branch Root River"]
["Dev: DBParsing_231030_v01.xlsm","UFffU27WI2bFnWRxfnjG","2021-11-09T18:16:38","2021-11-09T12:16:38","2021-11-09",2021,11,"79D4QMcZb1SeulClPI33vBZYFLY2",null,-92.268565673849807,44.542813178997399,null,"",0,null,1,240,120,null,null,7,1,0,1,48,1,0,2,"Springs","None",0,0,0,0,0,0,0,1,0,"Baseflow",1,"Clear",1,"None",0,0,0,0,0,null,0,"Absent","Absent","Absent","Absent","Absent","Absent","Absent","Present","Recorded",0,0,1,1,"Wisconsin Clear Water","Kiap-TU-Wish","070400010702","Pine Creek","Lake Pepin"]
["Dev: DBParsing_231030_v01.xlsm","Eq4jGCEF22L3ShxEFmJf","2021-11-09T16:39:56","2021-11-09T10:39:56","2021-11-09",2021,11,"79D4QMcZb1SeulClPI33vBZYFLY2","Pine Creek @ County Rd. AA",-92.284343478937501,44.542136904868471,null,"",0,null,1,240,180,null,null,7.5,1,0,1,46,1,0,2,"River/Stream","None",0,0,0,0,0,0,0,1,0,"Baseflow",1,"Clear",1,"None",0,0,0,0,0,null,0,"Absent","Absent","Absent","Absent","Absent","Absent","Absent","Present","Recorded","Pine Creek","Pine Creek",1,1,"Wisconsin Clear Water","Kiap-TU-Wish","070400010702","Pine Creek","Lake Pepin"]
["Dev: DBParsing_231030_v01.xlsm","ZrhjBEjsdlzQEjYO1MZd","2021-11-07T20:46:37","2021-11-07T14:46:37","2021-11-07",2021,11,"dU479eSpCyVTUJTD4yrbsIrDJyi1",null,-92.950199749407304,44.51446681753221,null,"2021-11-07 14:46:37.482294.jpg-0",1,null,1,240,0,null,null,7,1,100,0,null,1,0.15,1,"Lake/Pond","None",0,0,0,0,0,0,0,1,0,"Baseflow",1,"Clear",1,"None",0,0,0,0,0,"Lake Byllesby public access park - left side",1,"Absent","Absent","Absent","Absent","Absent","Absent","Absent","Present","Recorded","","","","","Twin Cities","Unknown","070400020605","Lake Byllesby","Middle Cannon River"]
["Dev: DBParsing_231030_v01.xlsm","geVuxHpO69oXlaLffoEf","2021-11-02T17:53:12","2021-11-02T11:53:12","2021-11-02",2021,11,"79D4QMcZb1SeulClPI33vBZYFLY2","Trimbelle River @ County Rd W",-92.529995971390122,44.793615419150122,null,"",0,null,1,240,180,null,null,7,1,0,1,45,1,0,1,"River/Stream","None",0,0,0,0,0,0,0,1,0,"Baseflow",1,"Clear",1,"None",0,0,0,0,0,null,0,"Absent","Absent","Absent","Absent","Absent","Absent","Absent","Present","Recorded","Trimbelle River","Trimbelle River",1,"","Kiap TU Wish","Kiap-TU-Wish","070400010301","Goose Creek-Trimbelle River","Trimbelle River"]
["Dev: DBParsing_231030_v01.xlsm","dyAH91bbnsfOygQJ9Wez","2021-10-30T19:43:56","2021-10-30T13:43:56","2021-10-30",2021,10,"n91xZFUxmVPxNFZPd6hBai7YMWy1",null,-93.0089976239896,44.657288595905356,null,"",0,null,0,"",null,null,null,null,1,0,1,49,0,"","","River/Stream","",-1,-1,-1,-1,-1,-1,-1,-1,1,"Baseflow",1,"Clear",1,"None",0,0,0,0,0,null,0,"No Data","No Data","No Data","No Data","No Data","No Data","No Data","No Data","No Data","South Branch Vermillion River","South Branch Vermillion River",1,"","Twin Cities","TCTU","070400010205","South Branch Vermillion River","Vermillion River"]
["Dev: DBParsing_231030_v01.xlsm","6FkcwJtXEzKAB0iMaWMq","2021-10-29T14:12:05","2021-10-29T08:12:05","2021-10-29",2021,10,"80reiKTTqGYqqpgYAhPwqypFwak1",null,-92.34256063596564,43.773713568266267,null,"2021-10-29 09:12:04.888075.jpg-0",1,null,1,240,120,null,null,7,1,0,1,0,1,0.15,2,"River/Stream","None",0,0,0,0,0,0,0,1,0,"Baseflow",1,"Clear",1,"None",0,0,0,0,0,"kedron looks great.  temperature 49 degrees.  transparency tube 100>",1,"Absent","Absent","Absent","Absent","Absent","Absent","Absent","Present","Recorded","Kedron Creek","Kedron Creek",1,"","Hiawatha","Hiawatha","070400080203","Kedron Creek","Middle Branch Root River"]
["Dev: DBParsing_231030_v01.xlsm","vOt0Yj9RsdqaP6t3H1aW","2021-10-26T19:15:19","2021-10-26T13:15:19","2021-10-26",2021,10,"ZXrDvZ4pF1Qf92cFwnN35PE8grL2","Trout Brook",-92.802101100000002,44.542972800000001,null,"",0,null,1,240,120,null,null,7.5,1,0,1,48,1,0,0,"River/Stream","None",0,0,0,0,0,0,0,1,0,"Baseflow",1,"Clear",1,"None",0,0,0,0,0,null,0,"Absent","Absent","Absent","Absent","Absent","Absent","Absent","Present","Recorded","Cannon River","Cannon River",1,1,"Twin Cities","TCTU","070400020902","Trout Brook","Lower Cannon River"]
["Dev: DBParsing_231030_v01.xlsm","ILsUwIG0xUtDbJZbx6i6","2021-10-15T20:18:31","2021-10-15T14:18:31","2021-10-15",2021,10,"02AAKekyGtT6Kuu6m0tQhSFD2XM2",null,-91.104781660109083,43.67905674100728,null,"",0,null,1,240,180,null,null,7,1,0,1,54,1,0,0,"River/Stream","",-1,-1,-1,-1,-1,-1,-1,-1,1,null,0,null,0,"",-1,-1,-1,-1,1,null,0,"No Data","No Data","No Data","No Data","No Data","No Data","No Data","No Data","No Data",0,0,1,1,"Coulee Region",-999,"070600010104","Lower Coon Creek","Coon Creek"]
["Dev: DBParsing_231030_v01.xlsm","Y3KRginGrcYYpXeL91aH","2021-10-15T16:47:27","2021-10-15T10:47:27","2021-10-15",2021,10,"02AAKekyGtT6Kuu6m0tQhSFD2XM2",null,-91.094951324398039,43.688906779714259,null,"",0,null,1,240,120,null,null,8,1,100,0,null,0,"","","River/Stream","",-1,-1,-1,-1,-1,-1,-1,-1,1,null,0,null,0,"",-1,-1,-1,-1,1,null,0,"No Data","No Data","No Data","No Data","No Data","No Data","No Data","No Data","No Data",0,0,1,1,"Coulee Region",-999,"070600010104","Lower Coon Creek","Coon Creek"]
["Dev: DBParsing_231030_v01.xlsm","VIv2i8bQPnPoMBIq0jVj","2021-10-11T16:28:00","2021-10-11T10:28:00","2021-10-11",2021,10,"f7qMRlnlkOgrA1xpaxXrTTeRGWX2",null,-92.732159038709838,44.831066926540863,null,"",0,null,1,240,120,null,null,7,1,0,1,55,0,"","","River/Stream","Bank Erosion",0,1,0,0,0,0,0,0,0,"Baseflow",1,"Clear",1,"None",0,0,0,0,0,"T-Tube = > 60 cm",1,"Absent","Present","Absent","Absent","Absent","Absent","Absent","Absent","Recorded","Kinnickinnic River","Kinnickinnic River",1,"","Kiap TU Wish","Kiap-TU-Wish","070300051105","Lower Kinnickinnic Pond-Kinnickinnic River","Kinnickinnic River"]
["Dev: DBParsing_231030_v01.xlsm","iNUECZECvWtCGokLZ9tf","2021-10-09T16:35:33","2021-10-09T10:35:33","2021-10-09",2021,10,"sV8r8QoTpTQ81023RxB7QRB9qBu1","",-92.740700599999997,44.510963799999999,null,"2021-10-09 11:35:32.477539.jpg-0",1,null,1,240,30,null,null,7,1,100,1,58,1,0.15,1,"River/Stream","None",0,0,0,0,0,0,0,1,0,"Mid-stage",1,"Clear",1,"None",0,0,0,0,0,null,0,"Absent","Absent","Absent","Absent","Absent","Absent","Absent","Present","Recorded","Belle Creek","Belle Creek","","","Twin Cities","TCTU","070400020803","Lower Belle Creek","Belle Creek"]
["Dev: DBParsing_231030_v01.xlsm","jPg3IQyODH4HH25QfVLH","2021-10-06T23:20:57","2021-10-06T17:20:57","2021-10-06",2021,10,"H4dZvxTdViejefqREn5k066JVZG3",null,-92.465223120341165,44.179399530870981,null,"",0,null,1,240,0,null,null,7.5,1,100,0,null,1,0,2,"Lake/Pond","",-1,-1,-1,-1,-1,-1,-1,-1,1,"Baseflow",1,"Murky",1,"None",0,0,0,0,0,"lake Zumbro #1 - boat ramp south side",1,"No Data","No Data","No Data","No Data","No Data","No Data","No Data","No Data","No Data","Zumbro River","Zumbro River","","","Hiawatha","Hiawatha","070400040502","Zumbro Lake-Zumbro River","Zumbro River"]
["Dev: DBParsing_231030_v01.xlsm","qKm7lsTPv7GCW0PuCsEz","2021-10-03T19:28:08","2021-10-03T13:28:08","2021-10-03",2021,10,"n91xZFUxmVPxNFZPd6hBai7YMWy1",null,-93.00901707095592,44.657304240508083,null,"",0,null,0,"",null,null,null,null,1,0,1,61,0,"","",null,"",-1,-1,-1,-1,-1,-1,-1,-1,1,null,0,null,0,"",-1,-1,-1,-1,1,null,0,"No Data","No Data","No Data","No Data","No Data","No Data","No Data","No Data","No Data","South Branch Vermillion River","South Branch Vermillion River",1,"","Twin Cities","TCTU","070400010205","South Branch Vermillion River","Vermillion River"]
["Dev: DBParsing_231030_v01.xlsm","DYNwBMKacENUoODt1noe","2021-09-30T18:04:01","2021-09-30T12:04:01","2021-09-30",2021,9,"VCf2q8JFBSOaJbmxiMqirI5xKFn2","Pine Creek @ County Rd. AA",-92.284229326899165,44.542265414916429,null,"",0,null,1,240,120,null,null,7,1,0,1,54,1,0.15,2,"River/Stream","None",0,0,0,0,0,0,0,1,0,"Baseflow",1,"Clear",1,"None",0,0,0,0,0,null,0,"Absent","Absent","Absent","Absent","Absent","Absent","Absent","Present","Recorded","Pine Creek","Pine Creek",1,1,"Wisconsin Clear Water","Kiap-TU-Wish","070400010702","Pine Creek","Lake Pepin"]
["Dev: DBParsing_231030_v01.xlsm","2gm6QQbkgLlqorhnJ9A0","2021-09-29T18:01:05","2021-09-29T12:01:05","2021-09-29",2021,9,"W8BGw5bKR3fOoqYynHo0kID39br2",null,-91.7690403,43.655372499999999,null,"2021-09-29 13:01:05.333903.jpg-0",1,null,1,240,120,null,null,7.5,1,0,0,null,1,0,0,"River/Stream","None",0,0,0,0,0,0,0,1,0,"Baseflow",1,"Clear",1,"None",0,0,0,0,0,null,0,"Absent","Absent","Absent","Absent","Absent","Absent","Absent","Present","Recorded","South Fork Root River","South Fork Root River",1,1,"Win Cres","Hiawatha","070400080803","Middle South Fork Root River","South Fork Root River"]
["Dev: DBParsing_231030_v01.xlsm","3x8lazcUr5AWbKR3tg5B","2021-09-28T21:28:59","2021-09-28T15:28:59","2021-09-28",2021,9,"XLsE0jeCBabIhsFYi4ZuVSWCKI33",null,-92.276422558438284,44.430750841316232,null,"",0,null,1,240,30,null,null,7,1,0,1,59,0,"","","River/Stream","",-1,-1,-1,-1,-1,-1,-1,-1,1,null,0,null,0,"",-1,-1,-1,-1,1,null,0,"No Data","No Data","No Data","No Data","No Data","No Data","No Data","No Data","No Data","Miller Creek","Miller Creek",1,"","Hiawatha","Hiawatha","070400010704","Miller Creek","Lake Pepin"]
["Dev: DBParsing_231030_v01.xlsm","TRcQYtKMtpWr8XFdFyD3","2021-09-26T21:57:54","2021-09-26T15:57:54","2021-09-26",2021,9,"uhi7fcC1CEM9Gzc26fagCyLA1662",null,-91.857038200000005,43.867584000000001,null,"",0,null,1,240,120,null,null,8,1,0,1,58,1,0,5,"River/Stream","None",0,0,0,0,0,0,0,1,0,"Baseflow",1,"Clear",1,"None",0,0,0,0,0,null,0,"Absent","Absent","Absent","Absent","Absent","Absent","Absent","Present","Recorded","Pine Creek","Pine Creek",1,"","Win Cres","TCTU","070400080503","Pine Creek","Rush Creek"]
["Dev: DBParsing_231030_v01.xlsm","soEQCHyNhIsDHBdBifpM","2021-09-26T15:40:49","2021-09-26T09:40:49","2021-09-26",2021,9,"Dn2W1Yjytgb3Z84Zvr69llQjrr63",null,-89.756338916843774,43.112196708842589,null,"",0,null,1,240,180,null,null,8,0,null,0,null,0,"","","River/Stream","None",0,0,0,0,0,0,0,1,0,"Baseflow",1,"Clear",1,"None",0,0,0,0,0,"water temp. 52 F",1,"Absent","Absent","Absent","Absent","Absent","Absent","Absent","Present","Recorded","Vermont Creek","Vermont Creek",1,"","S. Wisconsin","Southern Wisconsin","070700050502","Middle Black Earth Creek","Black Earth Creek"]
["Dev: DBParsing_231030_v01.xlsm","fzJKQm3PmiagJlTWpXqz","2021-09-26T15:05:05","2021-09-26T09:05:05","2021-09-26",2021,9,"Dn2W1Yjytgb3Z84Zvr69llQjrr63",null,-89.776487874912306,43.155992069524281,null,"",0,null,0,"",null,null,null,null,0,null,0,null,1,0,2,"River/Stream","",-1,-1,-1,-1,-1,-1,-1,-1,1,null,0,null,0,"",-1,-1,-1,-1,1,null,0,"No Data","No Data","No Data","No Data","No Data","No Data","No Data","No Data","No Data","Black Earth Creek","Black Earth Creek","",1,"S. Wisconsin","Southern Wisconsin","070700050504","Lower Black Earth Creek","Black Earth Creek"]
["Dev: DBParsing_231030_v01.xlsm","mLw3zHeQwHffzNUulhfa","2021-09-23T22:56:25","2021-09-23T16:56:25","2021-09-23",2021,9,"9W5BSNKuZHOcTrxqXGkRQxxsPVy1","Trout Brook",-92.808082503776674,44.548461651605805,null,"2021-09-23 17:56:25.409039.jpg-0",1,null,1,240,180,null,null,9,0,null,1,54,1,0,0,"River/Stream","None",0,0,0,0,0,0,0,1,0,"Baseflow",1,"Clear",1,"None",0,0,0,0,0,null,0,"Absent","Absent","Absent","Absent","Absent","Absent","Absent","Present","Recorded",0,0,1,1,"Twin Cities","TCTU","070400020902","Trout Brook","Lower Cannon River"]
["Dev: DBParsing_231030_v01.xlsm","j07OmsUv5dHZPGON60Nw","2021-09-23T21:21:32","2021-09-23T15:21:32","2021-09-23",2021,9,"1EGgnWfh2qRbpNTG5LFnBsUH5Z43",null,-92.056692978452944,43.66592807699336,null,"",0,null,0,"",null,null,null,null,0,null,0,null,0,"","","River/Stream","",-1,-1,-1,-1,-1,-1,-1,-1,1,null,0,null,0,"",-1,-1,-1,-1,1,null,0,"No Data","No Data","No Data","No Data","No Data","No Data","No Data","No Data","No Data","Camp Creek","Camp Creek",1,"","Hiawatha","TCTU","070400080407","Camp Creek","South Branch Root River"]
["Dev: DBParsing_231030_v01.xlsm","CYFcGfuahpWUzd1IqR0i","2021-09-23T19:13:35","2021-09-23T13:13:35","2021-09-23",2021,9,"80reiKTTqGYqqpgYAhPwqypFwak1",null,-91.580537343483044,43.641518047120087,null,"2021-09-23 14:13:34.476139.jpg-0",1,null,1,240,120,null,null,7,1,0,0,null,1,0.15,2,"River/Stream","None",0,0,0,0,0,0,0,1,0,"Baseflow",1,"Clear",1,"None",0,0,0,0,0,"  it looks gorgeous\ntemperature 51\nclarity: >100 cm",1,"Absent","Absent","Absent","Absent","Absent","Absent","Absent","Present","Recorded","Beaver Creek East","Beaver Creek East",1,"","Win Cres","Hiawatha","070400080805","Beaver Creek","South Fork Root River"]
["Dev: DBParsing_231030_v01.xlsm","IAxByDY9lXHd5aDMrAS7","2021-09-22T21:22:23","2021-09-22T15:22:23","2021-09-22",2021,9,"80reiKTTqGYqqpgYAhPwqypFwak1",null,-92.43326867007876,44.291795692447842,null,"2021-09-22 16:22:22.581921.jpg-0",1,null,1,240,120,null,null,7,1,0,0,null,1,0.15,5,"River/Stream","None",0,0,0,0,0,0,0,1,0,"Baseflow",1,"Clear",1,"None",0,0,0,0,0,"cold spring brook.  53 degrees. transparently tube. >100cm",1,"Absent","Absent","Absent","Absent","Absent","Absent","Absent","Present","Recorded","Cold Creek","Cold Creek",1,1,"Hiawatha","Hiawatha","070400040503","Cold Creek","Zumbro River"]
["Dev: DBParsing_231030_v01.xlsm","gTF1vAVcVRgN52dYIEXu","2021-09-22T16:33:02","2021-09-22T10:33:02","2021-09-22",2021,9,"80reiKTTqGYqqpgYAhPwqypFwak1",null,-91.995299980130042,44.250214244280237,null,"2021-09-22 11:33:01.010962.jpg-0",1,null,1,240,120,null,null,7,1,0,0,null,1,0.15,1,"River/Stream","None",0,0,0,0,0,0,0,1,0,"Mid-stage",1,"Murky",1,"None",0,0,0,0,0,"54 degrees in Snake Creek near Kellogg \nclarity 26 cm",1,"Absent","Absent","Absent","Absent","Absent","Absent","Absent","Present","Recorded","Snake Creek","Snake Creek",1,1,"Win Cres","Hiawatha","070400030602","Snake Creek","City of Winona-Mississippi River"]
["Dev: DBParsing_231030_v01.xlsm","9qs2sVYVxl1l1QshydVt","2021-09-22T15:58:52","2021-09-22T09:58:52","2021-09-22",2021,9,"80reiKTTqGYqqpgYAhPwqypFwak1",null,-92.026991872202643,44.214783227112342,null,"2021-09-22 10:58:52.497395.jpg-0",1,null,1,240,120,null,null,7,1,0,0,null,1,0.15,2,"River/Stream","Bank Erosion",0,1,0,0,0,0,0,0,0,"Mid-stage",1,"Murky",1,"None",0,0,0,0,0,"53 degrees. East Indian\ntransparency tube 72cm",1,"Absent","Present","Absent","Absent","Absent","Absent","Absent","Absent","Recorded","East Indian Creek","East Indian Creek",1,1,"Win Cres","Hiawatha","070400030603","East Indian Creek","City of Winona-Mississippi River"]
["Dev: DBParsing_231030_v01.xlsm","pJ235zColCJaiezPcrS8","2021-09-21T16:24:33","2021-09-21T10:24:33","2021-09-21",2021,9,"Qp6x6PYXsZQ3OPVMlJMHnfsxzog2","",-92.236221846071444,43.636956768533018,null,"",0,null,1,240,180,null,null,7,0,null,1,54,1,0,0,"River/Stream","None",0,0,0,0,0,0,0,1,0,"Bankfull Stage",1,"Clear",1,"Regional Rainfall",1,0,0,0,0,"Forestville Creek after major rain. ",1,"Absent","Absent","Absent","Absent","Absent","Absent","Absent","Present","Recorded","Forestville Creek","Forestville Creek",1,"","Hiawatha","TCTU","070400080404","Forestville Creek","South Branch Root River"]
["Dev: DBParsing_231030_v01.xlsm","vkuMAB7SOwL4DvgDoDij","2021-09-19T20:39:05","2021-09-19T14:39:05","2021-09-19",2021,9,"j4FVV2Cn5RPcgsXQGA6cEZ6g0Vk2",null,-91.773731242950802,43.27957154255666,null,"2021-09-19 15:39:04.913044.jpg-0",1,null,1,240,180,null,null,7,1,100,1,58,1,0,0,"River/Stream","None",0,0,0,0,0,0,0,1,0,"Bankfull Stage",1,"Clear",1,"None",0,0,0,0,0,null,0,"Absent","Absent","Absent","Absent","Absent","Absent","Absent","Present","Recorded","Trout Run","Trout Run",1,"","Iowa Driftless","Unknown","070600020403","Trout Creek","Trout Creek-Upper Iowa River"]
["Dev: DBParsing_231030_v01.xlsm","7yFrqkTAjKlH31EyLcpL","2021-09-19T16:13:27","2021-09-19T10:13:27","2021-09-19",2021,9,"xGf42w3UBFa817jAA3vYGVMhqZo2",null,-91.479140538807485,43.892780807841469,null,"2021-09-19 11:13:27.466257.jpg-0",1,null,1,240,120,null,null,8,1,0,1,59,1,0,1,"River/Stream","Bank Erosion",0,1,0,0,0,0,0,0,0,"Baseflow",1,"Clear",1,"None",0,0,0,0,0,"at the lower end of some recent reclamation work. Also, there is a spring just upstream from the water chemistry site.",1,"Absent","Present","Absent","Absent","Absent","Absent","Absent","Absent","Recorded",0,0,1,"","Win Cres","TCTU","070400060501","Pine Creek","Pine Creek-Mississippi River"]
["Dev: DBParsing_231030_v01.xlsm","M5NystNaMgm1u6qSyAiu","2021-09-18T20:01:28","2021-09-18T14:01:28","2021-09-18",2021,9,"80reiKTTqGYqqpgYAhPwqypFwak1",null,-92.278091898273914,43.793198475654975,null,"2021-09-18 15:01:27.455602.jpg-0",1,null,1,240,180,null,null,7,1,0,0,null,1,0,2,"River/Stream","None",0,0,0,0,0,0,0,1,0,"Baseflow",1,"Clear",1,"None",0,0,0,0,0,"53 degrees\nclarity. >100 cm\nlooks great.  sounds great",1,"Absent","Absent","Absent","Absent","Absent","Absent","Absent","Present","Recorded","Carson Creek","Carson Creek",1,1,"Hiawatha","Hiawatha","070400080208","Middle Branch Root River","Middle Branch Root River"]
["Dev: DBParsing_231030_v01.xlsm","paa4ydJhEqMwhIblzKmy","2021-09-18T18:31:32","2021-09-18T12:31:32","2021-09-18",2021,9,"80reiKTTqGYqqpgYAhPwqypFwak1",null,-92.224457608621776,43.6218135757778,null,"2021-09-18 13:31:31.629665.jpg-0",1,null,1,240,180,null,null,7,1,0,0,null,1,0,0,"River/Stream","None",0,0,0,0,0,0,0,1,0,"Baseflow",1,"Clear",1,"None",0,0,0,0,0,"54 degrees.  clarity >100 cm\nlooks great.  skeeters are fierce.  \n\n",1,"Absent","Absent","Absent","Absent","Absent","Absent","Absent","Present","Recorded","Canfield Creek","Canfield Creek",1,"","Hiawatha","Hiawatha","070400080403","Canfield Creek","South Branch Root River"]
["Dev: DBParsing_231030_v01.xlsm","3SmB7Sf4LeZwjPwAaghc","2021-09-18T17:33:02","2021-09-18T11:33:02","2021-09-18",2021,9,"80reiKTTqGYqqpgYAhPwqypFwak1",null,-92.064319169234537,43.669352419715068,null,"2021-09-18 12:33:01.721919.jpg-0",1,null,1,240,180,null,null,7,1,0,0,null,1,0.15,5,"River/Stream","None",0,0,0,0,0,0,0,1,0,"Baseflow",1,"Clear",1,"None",0,0,0,0,0,"Camp Creek   Preston. 54 degrees.  clarity >100 cm",1,"Absent","Absent","Absent","Absent","Absent","Absent","Absent","Present","Recorded","Camp Creek","Camp Creek",1,"","Hiawatha","Hiawatha","070400080407","Camp Creek","South Branch Root River"]
["Dev: DBParsing_231030_v01.xlsm","lF6yNp08UlR3FgwysRxT","2021-09-18T15:55:54","2021-09-18T09:55:54","2021-09-18",2021,9,"W8BGw5bKR3fOoqYynHo0kID39br2",null,-91.766546500000004,43.655970099999998,null,"2021-09-18 10:55:54.513576.jpg-0",1,null,1,240,120,null,null,7.5,1,0,1,57,1,0,2,"River/Stream","None",0,0,0,0,0,0,0,1,0,"Baseflow",1,"Clear",1,"None",0,0,0,0,0,null,0,"Absent","Absent","Absent","Absent","Absent","Absent","Absent","Present","Recorded","South Fork Root River","South Fork Root River",1,1,"Win Cres","Hiawatha","070400080803","Middle South Fork Root River","South Fork Root River"]
["Dev: DBParsing_231030_v01.xlsm","sxoYAbag5uinNshcohB2","2021-09-18T15:40:40","2021-09-18T09:40:40","2021-09-18",2021,9,"Dn2W1Yjytgb3Z84Zvr69llQjrr63","",-89.553756179820766,42.961165404149277,null,"",0,null,1,240,120,null,null,8,0,null,0,null,0,"","","River/Stream","None",0,0,0,0,0,0,0,1,0,null,0,null,0,"None",0,0,0,0,0,"water temperature 62F\nair temperature 72F\nclear light wind",1,"Absent","Absent","Absent","Absent","Absent","Absent","Absent","Present","Recorded","Badger Mill Creek","Badger Mill Creek","","","S. Wisconsin","Southern Wisconsin","070900040201","Badger Mill Creek","Headwaters Sugar River"]
["Dev: DBParsing_231030_v01.xlsm","ijem2eGLdhQ9z4X36X8X","2021-09-18T14:30:44","2021-09-18T08:30:44","2021-09-18",2021,9,"Dn2W1Yjytgb3Z84Zvr69llQjrr63","",-89.664953844787448,42.929504297956683,null,"",0,null,1,240,120,null,null,8,0,null,0,null,0,"","","River/Stream","Fish Barrier,None",1,0,0,0,0,0,0,1,0,"Baseflow",1,"Clear",1,"None",0,0,0,0,0,null,0,"Present","Absent","Absent","Absent","Absent","Absent","Absent","Present","Recorded","West Branch Sugar River","West Branch Sugar River","","","S. Wisconsin","Southern Wisconsin","070900040102","Primrose Branch-West Branch Sugar River","West Branch Sugar River"]
["Dev: DBParsing_231030_v01.xlsm","DIgwiQ13LCCBLFWlhfd0","2021-09-16T22:24:22","2021-09-16T16:24:22","2021-09-16",2021,9,"9SWyLZDRS8gsuAD2Vpf6duBiFib2","",-92.112401087047445,44.022999303155522,null,"",0,null,1,240,120,null,null,7.5,1,0,1,65,1,0,5,"River/Stream","",-1,-1,-1,-1,-1,-1,-1,-1,1,"Baseflow",1,"Clear",1,"None",0,0,0,0,0,null,0,"No Data","No Data","No Data","No Data","No Data","No Data","No Data","No Data","No Data","Crow Spring","Crow Spring",1,1,"Hiawatha","Hiawatha","070400030305","Middle Fork Whitewater River","Whitewater River"]
["Dev: DBParsing_231030_v01.xlsm","xziCrv1KryiERvl09Fdj","2021-09-13T20:55:21","2021-09-13T14:55:21","2021-09-13",2021,9,"uhi7fcC1CEM9Gzc26fagCyLA1662",null,-92.575455399999996,44.488345000000002,null,"",0,null,1,240,120,null,null,8,1,100,1,57,1,0,0,"River/Stream","None",0,0,0,0,0,0,0,1,0,"Baseflow",1,"Clear",1,"None",0,0,0,0,0,null,0,"Absent","Absent","Absent","Absent","Absent","Absent","Absent","Present","Recorded","Hay Creek","Hay Creek",1,"","Twin Cities","TCTU","070400010401","Hay Creek","Hay Creek-Mississippi River"]
["Dev: DBParsing_231030_v01.xlsm","LqhsbH4yluGkkpXlXSDf","2021-09-13T20:33:38","2021-09-13T14:33:38","2021-09-13",2021,9,"uhi7fcC1CEM9Gzc26fagCyLA1662",null,-92.597264499999994,44.472386999999998,null,"",0,null,1,240,180,null,null,7.5,1,100,1,55,1,0,5,"River/Stream","None",0,0,0,0,0,0,0,1,0,"Baseflow",1,"Clear",1,"None",0,0,0,0,0,null,0,"Absent","Absent","Absent","Absent","Absent","Absent","Absent","Present","Recorded","Hay Creek","Hay Creek",1,"","Twin Cities","TCTU","070400010401","Hay Creek","Hay Creek-Mississippi River"]
["Dev: DBParsing_231030_v01.xlsm","3YAWjn0496gujMVIIeRs","2021-09-13T18:44:51","2021-09-13T12:44:51","2021-09-13",2021,9,"W8BGw5bKR3fOoqYynHo0kID39br2",null,-91.812941800000004,43.599156299999997,null,"2021-09-13 13:44:50.810111.jpg-0",1,null,1,240,120,null,null,7,1,200,1,58,1,0,5,"River/Stream","",-1,-1,-1,-1,-1,-1,-1,-1,1,"Baseflow",1,"Clear",1,"None",0,0,0,0,0,null,0,"No Data","No Data","No Data","No Data","No Data","No Data","No Data","No Data","No Data","Wisel Creek","Wisel Creek",1,1,"Win Cres","Hiawatha","070400080802","Wisel Creek","South Fork Root River"]
["Dev: DBParsing_231030_v01.xlsm","Ukc1Fs07gYqSih8Te1Ya","2021-09-13T16:21:25","2021-09-13T10:21:25","2021-09-13",2021,9,"VqZRaTUPgjWCYY8wjw5nHFqlP4V2","Trout Brook",-92.802222099999994,44.543027700000003,null,"",0,null,1,240,180,null,null,7.5,1,100,1,53,1,0,5,"River/Stream","",-1,-1,-1,-1,-1,-1,-1,-1,1,"Baseflow",1,"Clear",1,"None",0,0,0,0,0,null,0,"No Data","No Data","No Data","No Data","No Data","No Data","No Data","No Data","No Data","Cannon River","Cannon River",1,1,"Twin Cities","TCTU","070400020902","Trout Brook","Lower Cannon River"]
["Dev: DBParsing_231030_v01.xlsm","uKKkz1rIP8py4yiGgwD9","2021-09-11T17:45:39","2021-09-11T11:45:39","2021-09-11",2021,9,"f7qMRlnlkOgrA1xpaxXrTTeRGWX2",null,-92.732108343705235,44.831206073926182,null,"",0,null,1,240,180,null,null,7.5,1,0,1,60,0,"","","River/Stream","Bank Erosion",0,1,0,0,0,0,0,0,0,"Baseflow",1,"Clear",1,"None",0,0,0,0,0,"T-Tube = > 60 cm\nUnable to make 2n1 measurement. “Error processing image” with multiple attempts and 2 test strips.",1,"Absent","Present","Absent","Absent","Absent","Absent","Absent","Absent","Recorded","Kinnickinnic River","Kinnickinnic River",1,"","Kiap TU Wish","Kiap-TU-Wish","070300051105","Lower Kinnickinnic Pond-Kinnickinnic River","Kinnickinnic River"]
["Dev: DBParsing_231030_v01.xlsm","0kIUc2lZjVyP6MFOX8eE","2021-09-11T15:23:31","2021-09-11T09:23:31","2021-09-11",2021,9,"ZXrDvZ4pF1Qf92cFwnN35PE8grL2","Trout Brook",-92.802092400000006,44.543073700000001,null,"",0,null,1,240,180,null,null,7.5,1,100,1,53,1,0,5,"River/Stream","None",0,0,0,0,0,0,0,1,0,"Baseflow",1,"Clear",1,"None",0,0,0,0,0,null,0,"Absent","Absent","Absent","Absent","Absent","Absent","Absent","Present","Recorded","Cannon River","Cannon River",1,1,"Twin Cities","TCTU","070400020902","Trout Brook","Lower Cannon River"]
["Dev: DBParsing_231030_v01.xlsm","cpQOKiS0Z9wSrG9wpZvC","2021-09-08T23:29:42","2021-09-08T17:29:42","2021-09-08",2021,9,"ZMmGOOwucYXE3nEMRlAJSj4Cg8c2","",-91.97617055544832,44.050649070222448,null,"",0,null,1,240,30,null,null,7,1,0,1,62,1,0.15,0,"River/Stream","None",0,0,0,0,0,0,0,1,0,"Mid-stage",1,"Clear",1,"None",0,0,0,0,0,null,0,"Absent","Absent","Absent","Absent","Absent","Absent","Absent","Present","Recorded","South Fork Whitewater River","South Fork Whitewater River",1,"","Win Cres","TCTU","070400030307","Lower South Fork Whitewater River","Whitewater River"]
["Dev: DBParsing_231030_v01.xlsm","JkcqXoqEZ05SFfpR35G8","2021-09-07T19:07:46","2021-09-07T13:07:46","2021-09-07",2021,9,"W8BGw5bKR3fOoqYynHo0kID39br2",null,-91.978611999999998,43.723771399999997,null,"2021-09-07 14:07:45.939039.jpg-0",1,null,1,240,120,null,null,7,1,100,1,62,1,0,2,"River/Stream","None",0,0,0,0,0,0,0,1,0,"Baseflow",1,"Murky",1,"Regional Rainfall",1,0,0,0,0,null,0,"Absent","Absent","Absent","Absent","Absent","Absent","Absent","Present","Recorded","South Branch Root River","South Branch Root River",1,"","Hiawatha","Hiawatha","070400080410","South Branch Root River","South Branch Root River"]
["Dev: DBParsing_231030_v01.xlsm","Qjk1DdAdlOuIzoCatBDj","2021-09-06T17:56:56","2021-09-06T11:56:56","2021-09-06",2021,9,"H4dZvxTdViejefqREn5k066JVZG3","",-92.144056478028318,44.23700292119053,null,"",0,null,1,240,180,null,null,6.5,1,100,1,58,1,0,5,"River/Stream","",-1,-1,-1,-1,-1,-1,-1,-1,1,"Baseflow",1,"Clear",1,"None",0,0,0,0,0,"West Indian just upstream of TU improvement project - EH ",1,"No Data","No Data","No Data","No Data","No Data","No Data","No Data","No Data","No Data","West Indian Creek","West Indian Creek",1,1,"Hiawatha","Hiawatha","070400040510","West Indian Creek","Zumbro River"]
["Dev: DBParsing_231030_v01.xlsm","5PPKU8aCjxLkdIIFq09N","2021-09-06T16:30:11","2021-09-06T10:30:11","2021-09-06",2021,9,"uhi7fcC1CEM9Gzc26fagCyLA1662",null,-91.781010600000002,43.658835099999997,null,"",0,null,1,240,120,null,null,8,1,200,1,60,1,0,2,"River/Stream","None",0,0,0,0,0,0,0,1,0,"Mid-stage",1,"Clear",1,"None",0,0,0,0,0,null,0,"Absent","Absent","Absent","Absent","Absent","Absent","Absent","Present","Recorded","South Fork Root River","South Fork Root River",1,1,"Win Cres","TCTU","070400080803","Middle South Fork Root River","South Fork Root River"]
["Dev: DBParsing_231030_v01.xlsm","UKZhgqnBa5NtRpWyhQtb","2021-09-02T16:49:43","2021-09-02T10:49:43","2021-09-02",2021,9,"b5Q5MWoIy9OOBrhn8HbZMPPsGST2",null,-92.122171650518823,44.004437127607602,null,"2021-09-02 11:49:43.101598.jpg-0",1,null,0,"",180,null,null,7,1,200,0,null,1,0,5,"Pipe/Drain Outflow","Bank Erosion,Pipe/Drain Outflow",0,1,0,1,0,0,0,0,0,"Baseflow",1,"Clear",1,"None",0,0,0,0,0,"drain tile emptying into upper Middle Branch whitewater/Crow Spring",1,"Absent","Present","Absent","Present","Absent","Absent","Absent","Absent","Recorded","Crow Spring","Crow Spring",1,"","Hiawatha","Agency/University","070400030305","Middle Fork Whitewater River","Whitewater River"]
["Dev: DBParsing_231030_v01.xlsm","wn95d2drBu4rhpUrsFdh","2021-08-31T17:04:33","2021-08-31T11:04:33","2021-08-31",2021,8,"cJZVjbWzjsRfePMeXT5aflRnGhh1","Trout Brook",-92.801922899999994,44.543137000000002,null,"",0,null,1,240,120,null,null,7,1,100,1,55,1,0,0,"River/Stream","",-1,-1,-1,-1,-1,-1,-1,-1,1,"Baseflow",1,"Clear",1,"None",0,0,0,0,0,null,0,"No Data","No Data","No Data","No Data","No Data","No Data","No Data","No Data","No Data","Cannon River","Cannon River",1,1,"Twin Cities","TCTU","070400020902","Trout Brook","Lower Cannon River"]
["Dev: DBParsing_231030_v01.xlsm","XNAjgJ1eiH7NAihnEIa9","2021-08-31T00:32:01","2021-08-30T18:32:01","2021-08-30",2021,8,"ZMmGOOwucYXE3nEMRlAJSj4Cg8c2",null,-92.330237612277486,44.69605618172168,null,"",0,null,1,240,180,null,null,7.5,1,200,1,69,1,0,2,"River/Stream","None",0,0,0,0,0,0,0,1,0,"Mid-stage",1,"Clear",1,"None",0,0,0,0,0,null,0,"Absent","Absent","Absent","Absent","Absent","Absent","Absent","Present","Recorded","Lost Creek","Lost Creek",1,1,"Kiap TU Wish","TCTU","070400010506","Township of Salem-Rush River","Rush River"]
["Dev: DBParsing_231030_v01.xlsm","2HvbWkkMhFdvituBdpdk","2021-08-28T15:57:38","2021-08-28T09:57:38","2021-08-28",2021,8,"qQOofzMtn7QEFNkor41r51PeJ982","",-93.00898235145128,44.65721558190809,null,"2021-08-28 10:57:38.526375.jpg-0",1,null,1,240,120,null,null,7,1,500,1,62,1,0,2,"River/Stream","None",0,0,0,0,0,0,0,1,0,"Bankfull Stage",1,"Murky",1,"Regional Rainfall",1,0,0,0,0,null,0,"Absent","Absent","Absent","Absent","Absent","Absent","Absent","Present","Recorded","South Branch Vermillion River","South Branch Vermillion River",1,"","Twin Cities","TCTU","070400010205","South Branch Vermillion River","Vermillion River"]
["Dev: DBParsing_231030_v01.xlsm","F2BLxv2autW2bWf1eHWx","2021-08-28T14:37:34","2021-08-28T08:37:34","2021-08-28",2021,8,"80reiKTTqGYqqpgYAhPwqypFwak1",null,-92.278079828333361,43.793176389340118,null,"2021-08-28 09:37:33.959251.jpg-0",1,null,1,240,120,null,null,7,1,0,1,0,1,0,2,"River/Stream","None",0,0,0,0,0,0,0,1,0,"Bankfull Stage",1,"Muddy",1,"Regional Rainfall",1,0,0,0,0,"heavy rains in days before.  can see where stream had been higher.  temp is 55.2F. clarity is  5cm with T tube",1,"Absent","Absent","Absent","Absent","Absent","Absent","Absent","Present","Recorded","Carson Creek","Carson Creek",1,1,"Hiawatha","Hiawatha","070400080208","Middle Branch Root River","Middle Branch Root River"]
["Dev: DBParsing_231030_v01.xlsm","ET4Oulfw7kOG0nR2SY84","2021-08-25T19:30:24","2021-08-25T13:30:24","2021-08-25",2021,8,"7a7IFD1YT3aDXB8CbnSJjn1oLRC2","Isabelle Creek @ County Rd. EE",-92.451890995812107,44.585430189077357,null,"",0,null,0,"",null,null,null,null,1,300,1,0,0,"","","River/Stream","None",0,0,0,0,0,0,0,1,0,"Mid-stage",1,"Murky",1,"None",0,0,0,0,0,null,0,"Absent","Absent","Absent","Absent","Absent","Absent","Absent","Present","Recorded","","","","","Kiap TU Wish","Unknown","070400010705","Lake Pepin","Lake Pepin"]
["Dev: DBParsing_231030_v01.xlsm","drnNAzzAqAMqZydCrdHE","2021-08-24T22:45:38","2021-08-24T16:45:38","2021-08-24",2021,8,"xGf42w3UBFa817jAA3vYGVMhqZo2","Vermillion River, South Branch",-93.008992094633157,44.657254004892572,null,"2021-08-24 17:45:37.775315.jpg-0",1,null,1,240,60,null,null,7,1,0,1,65,1,0,2,"River/Stream","None",0,0,0,0,0,0,0,1,0,"Bankfull Stage",1,"Muddy",1,"Regional Rainfall",1,0,0,0,0,"significant runoff event after storm on 8/24/21\n",1,"Absent","Absent","Absent","Absent","Absent","Absent","Absent","Present","Recorded","South Branch Vermillion River","South Branch Vermillion River",1,"","Twin Cities","TCTU","070400010205","South Branch Vermillion River","Vermillion River"]
["Dev: DBParsing_231030_v01.xlsm","UQcPuzfOy7PeQ0yDRxpQ","2021-08-23T18:02:04","2021-08-23T12:02:04","2021-08-23",2021,8,"OnQxi2VoMPY5EZMXmvNCgpa39dS2",null,-92.563680331486339,44.502601005988069,null,"2021-08-23 13:02:04.003236.jpg-0",1,null,1,240,180,null,null,8,1,300,1,61,1,0,2,"River/Stream","None",0,0,0,0,0,0,0,1,0,"Mid-stage",1,"Clear",1,"Regional Rainfall",1,0,0,0,0,null,0,"Absent","Absent","Absent","Absent","Absent","Absent","Absent","Present","Recorded","Hay Creek","Hay Creek",1,"","Twin Cities","Hiawatha","070400010401","Hay Creek","Hay Creek-Mississippi River"]
["Dev: DBParsing_231030_v01.xlsm","vNYtNavClaGvJmjkoVYf","2021-08-20T16:01:12","2021-08-20T10:01:12","2021-08-20",2021,8,"80reiKTTqGYqqpgYAhPwqypFwak1",null,-92.224255269479215,43.621742371510358,null,"2021-08-20 11:01:12.216205.jpg-0",1,null,1,240,120,null,null,7,1,0,1,0,1,0,0,"River/Stream","None",0,0,0,0,0,0,0,1,0,"Baseflow",1,"Clear",1,"",-1,-1,-1,-1,1,"Canfield looks great.  53 degrees.  100> cm clarity. ",1,"Absent","Absent","Absent","Absent","Absent","Absent","Absent","Present","Recorded","Canfield Creek","Canfield Creek",1,"","Hiawatha","Hiawatha","070400080403","Canfield Creek","South Branch Root River"]
["Dev: DBParsing_231030_v01.xlsm","T4pIKm5Gisya5LiInzlb","2021-08-18T20:30:28","2021-08-18T14:30:28","2021-08-18",2021,8,"VHRlmHCbVSYpoT7Xubj2OGSvIFl1","SF Kinnickinnic River @ 900th St",-92.6451137079044,44.843579554050571,null,"2021-08-18 15:30:28.776328.jpg-0",1,null,1,240,30,null,null,7,1,0,1,65,1,0,5,"River/Stream","None",0,0,0,0,0,0,0,1,0,"Baseflow",1,"Clear",1,"None",0,0,0,0,0,"river quite low and clear after very dry summer. many bank rocks exposed. ",1,"Absent","Absent","Absent","Absent","Absent","Absent","Absent","Present","Recorded","Kinnickinnic River","Kinnickinnic River",1,"","Kiap TU Wish","Kiap-TU-Wish","070300051105","Lower Kinnickinnic Pond-Kinnickinnic River","Kinnickinnic River"]
["Dev: DBParsing_231030_v01.xlsm","DVLgBHaX1vJtYHXufWiQ","2021-08-14T20:53:43","2021-08-14T14:53:43","2021-08-14",2021,8,"UFn0tvcbhgPvJSgEiNtnlwyA9Ch2",null,-92.829456162999264,45.050434730466577,null,"",0,null,1,240,180,null,null,7.5,1,0,1,53,1,0,5,"River/Stream","",-1,-1,-1,-1,-1,-1,-1,-1,1,null,0,null,0,"",-1,-1,-1,-1,1,"sample taken from Valley Creek at Stagecoach Trail near Afton, MN.  Testing done in Stillwater, MN.",1,"No Data","No Data","No Data","No Data","No Data","No Data","No Data","No Data","No Data","","","","","Twin Cities","Kiap-TU-Wish","070300051201","City of Stillwater-Lake Saint Croix","Lake Saint Croix"]
["Dev: DBParsing_231030_v01.xlsm","EXVuWZpcmGgGCseik4K4","2021-08-13T16:04:18","2021-08-13T10:04:18","2021-08-13",2021,8,"b5Q5MWoIy9OOBrhn8HbZMPPsGST2",null,-92.229398109346064,43.881215415256214,null,"",0,null,1,240,120,null,null,8,1,0,0,null,1,0,5,"River/Stream","Bank Erosion,Livestock in Water",0,1,0,0,1,0,0,0,0,"Baseflow",1,"Murky",1,"None",0,0,0,0,0,"upper Mill Creek south of Rochester ",1,"Absent","Present","Absent","Absent","Present","Absent","Absent","Absent","Recorded","Mill Creek","Mill Creek",1,"","Hiawatha","Agency/University","070400080107","Mill Creek","North Branch Root River"]
["Dev: DBParsing_231030_v01.xlsm","grjIpS1yyQxpDiKpuAmB","2021-08-13T13:13:55","2021-08-13T07:13:55","2021-08-13",2021,8,"6oemLSFIHIXnYk5OuejKZ9Uhljr1","",-91.823900740329293,43.642431286476111,null,"2021-08-13 08:13:54.921988.jpg-0",1,null,1,240,0,null,null,7,1,200,1,58,1,0,5,"River/Stream","None",0,0,0,0,0,0,0,1,0,"Mid-stage",1,"Clear",1,"None",0,0,0,0,0,null,0,"Absent","Absent","Absent","Absent","Absent","Absent","Absent","Present","Recorded","South Fork Root River","South Fork Root River",1,1,"Win Cres","Hiawatha","070400080803","Middle South Fork Root River","South Fork Root River"]
["Dev: DBParsing_231030_v01.xlsm","yMTNCfyufxCQiAEZux52","2021-08-12T18:22:23","2021-08-12T12:22:23","2021-08-12",2021,8,"1EGgnWfh2qRbpNTG5LFnBsUH5Z43",null,-92.507252963345962,44.92102797147345,null,"",0,null,0,"",null,null,null,null,0,null,1,0,0,"","","River/Stream","",-1,-1,-1,-1,-1,-1,-1,-1,1,"Mid-stage",1,"Clear",1,"None",0,0,0,0,0,"water temp 64",1,"No Data","No Data","No Data","No Data","No Data","No Data","No Data","No Data","No Data","Parker Creek","Parker Creek",1,1,"Kiap TU Wish","TCTU","070300051104","Parker Creek-Kinnickinnic River","Kinnickinnic River"]
["Dev: DBParsing_231030_v01.xlsm","Fe1o41YfFOzRXqZM5Odu","2021-08-11T22:32:39","2021-08-11T16:32:39","2021-08-11",2021,8,"XLsE0jeCBabIhsFYi4ZuVSWCKI33",null,-92.2679031082357,44.429037077393779,null,"",0,null,1,240,30,null,null,7,1,300,1,63,0,"","","River/Stream","",-1,-1,-1,-1,-1,-1,-1,-1,1,null,0,null,0,"",-1,-1,-1,-1,1,null,0,"No Data","No Data","No Data","No Data","No Data","No Data","No Data","No Data","No Data","Miller Creek","Miller Creek",1,"","Hiawatha","Hiawatha","070400010704","Miller Creek","Lake Pepin"]
["Dev: DBParsing_231030_v01.xlsm","csgwd2QLCkwKgLfuj4ol","2021-08-11T22:06:36","2021-08-11T16:06:36","2021-08-11",2021,8,"b5Q5MWoIy9OOBrhn8HbZMPPsGST2",null,-91.980258391436877,43.777067629100443,null,"",0,null,1,240,0,null,null,7,1,0,0,null,1,0,5,"River/Stream","Bank Erosion,Livestock in Water",0,1,0,0,1,0,0,0,0,"Baseflow",1,"Clear",1,"None",0,0,0,0,0,"tried 5-in-1 several times.  FINALLY got an image.",1,"Absent","Present","Absent","Absent","Present","Absent","Absent","Absent","Recorded","Torkelson Creek","Torkelson Creek",1,"","Hiawatha","Agency/University","070400080305","Torkelson Creek-Root River","Trout Run-Root River"]
["Dev: DBParsing_231030_v01.xlsm","Ix4itPYz6BDk5NIf9Pto","2021-08-11T00:53:18","2021-08-10T18:53:18","2021-08-10",2021,8,"9SWyLZDRS8gsuAD2Vpf6duBiFib2",null,-92.115755192415037,44.021193713694274,null,"",0,null,1,240,180,null,null,7.5,1,0,1,62,1,0,5,"River/Stream","None",0,0,0,0,0,0,0,1,0,"Baseflow",1,"Clear",1,"None",0,0,0,0,0,null,0,"Absent","Absent","Absent","Absent","Absent","Absent","Absent","Present","Recorded","Crow Spring","Crow Spring",1,1,"Hiawatha","Hiawatha","070400030305","Middle Fork Whitewater River","Whitewater River"]
["Dev: DBParsing_231030_v01.xlsm","bFFs9ZX5FVd6pvLT3Aa8","2021-08-09T19:35:36","2021-08-09T13:35:36","2021-08-09",2021,8,"F2KCfcDlmPU6IsvVOPR2BgMVHc32",null,-90.860995099999997,43.696737200000001,null,"2021-08-09 14:35:36.108009.jpg-02021-08-09 14:35:36.108009.jpg-1",1,null,1,240,60,null,null,7,1,100,1,67,1,0,2,"River/Stream","Bank Erosion",0,1,0,0,0,0,0,0,0,"Mid-stage",1,"Muddy",1,"Local Thunderstorm",0,1,0,0,0,null,0,"Absent","Present","Absent","Absent","Absent","Absent","Absent","Absent","Recorded","Timber Coulee Creek","Timber Coulee Creek",1,"","Coulee Region","Coulee Region","070600010101","Timber Coulee Creek","Coon Creek"]
["Dev: DBParsing_231030_v01.xlsm","IB0qSnK74AfBmf2ypr1c","2021-08-09T18:43:29","2021-08-09T12:43:29","2021-08-09",2021,8,"F2KCfcDlmPU6IsvVOPR2BgMVHc32",null,-90.778769199999999,43.602289599999999,null,"2021-08-09 13:43:29.424307.jpg-0",1,null,1,240,60,null,null,7,1,300,1,69,1,0,1,"River/Stream","Bank Erosion,Trash",0,1,1,0,0,0,0,0,0,"Bankfull Stage",1,"Muddy",1,"Local Thunderstorm",0,1,0,0,0,null,0,"Absent","Present","Present","Absent","Absent","Absent","Absent","Absent","Recorded","West Fork Kickapoo River","West Fork Kickapoo River",1,1,"Coulee Region","Coulee Region","070700060202","Knapp Creek-West Fork Kickapoo River","West Fork Kickapoo River"]
["Dev: DBParsing_231030_v01.xlsm","lKZv01g346ORLDZVhj9z","2021-08-07T21:39:47","2021-08-07T15:39:47","2021-08-07",2021,8,"b5Q5MWoIy9OOBrhn8HbZMPPsGST2",null,-91.694435879416602,44.054634782962019,null,"2021-08-07 16:39:47.276565.jpg-0",1,null,1,80,60,null,null,7,1,300,0,null,1,0,1,"River/Stream","",-1,-1,-1,-1,-1,-1,-1,-1,1,"Overbank Flooding",1,"Muddy",1,"Local Thunderstorm",0,1,0,0,0,"Gilmore Creek in Winona, Minnesota after about a 2 inch rainfall a couple hours earlier.",1,"No Data","No Data","No Data","No Data","No Data","No Data","No Data","No Data","No Data","Gilmore Creek","Gilmore Creek",1,"","Win Cres","Agency/University","070400030607","Pleasant Valley Creek","City of Winona-Mississippi River"]
["Dev: DBParsing_231030_v01.xlsm","9x7fCQr8qGYj3Ji7cIcz","2021-08-04T16:32:28","2021-08-04T10:32:28","2021-08-04",2021,8,"f7qMRlnlkOgrA1xpaxXrTTeRGWX2",null,-92.732145876204157,44.831092381228494,null,"",0,null,1,240,180,null,null,8,1,0,1,61,1,0,5,"River/Stream","Bank Erosion",0,1,0,0,0,0,0,0,0,"Baseflow",1,"Clear",1,"None",0,0,0,0,0,"Secchi Tube > 60 cm.",1,"Absent","Present","Absent","Absent","Absent","Absent","Absent","Absent","Recorded","Kinnickinnic River","Kinnickinnic River",1,"","Kiap TU Wish","Kiap-TU-Wish","070300051105","Lower Kinnickinnic Pond-Kinnickinnic River","Kinnickinnic River"]
["Dev: DBParsing_231030_v01.xlsm","zydvBjert3tamG5t9CV0","2021-08-04T13:24:06","2021-08-04T07:24:06","2021-08-04",2021,8,"80reiKTTqGYqqpgYAhPwqypFwak1","",-91.770089892755976,43.650592002126992,null,"2021-08-04 08:24:06.305734.jpg-0",1,null,1,240,30,null,null,7,1,0,1,0,1,0,0,"River/Stream","None",0,0,0,0,0,0,0,1,0,"Baseflow",1,"Clear",1,"None",0,0,0,0,0,"water temp 61 degrees which seems high for Vesta Creek.  it’s a small brookie stream but I’ll bet it cools higher up. clarity using transparency tube is 100 +",1,"Absent","Absent","Absent","Absent","Absent","Absent","Absent","Present","Recorded","Vesta Creek","Vesta Creek",1,1,"Win Cres","Hiawatha","070400080803","Middle South Fork Root River","South Fork Root River"]
["Dev: DBParsing_231030_v01.xlsm","icpXPUFc6Pcl70sJ9jO4","2021-08-01T15:08:27","2021-08-01T09:08:27","2021-08-01",2021,8,"a61SOYPc3eOGfrAJu30rsKXhQUA3",null,-92.359474474512794,44.787095527567871,null,"",0,null,1,240,30,null,null,7,0,null,1,57,0,"","","River/Stream","None",0,0,0,0,0,0,0,1,0,"Baseflow",1,"Clear",1,"None",0,0,0,0,0,null,0,"Absent","Absent","Absent","Absent","Absent","Absent","Absent","Present","Recorded","Rush River","Rush River",1,1,"Kiap TU Wish","Kiap-TU-Wish","070400010505","Brush Creek-Rush River","Rush River"]
["Dev: DBParsing_231030_v01.xlsm","UxXfVkEqfynvVR7eAIS3","2021-07-30T01:03:06","2021-07-29T19:03:06","2021-07-29",2021,7,"r5sO3h7bL7STNrd2WKxA3k9pKv03",null,-92.587672663807524,44.895092770803288,null,"",0,null,1,240,60,null,null,7,0,null,0,null,0,"","","","",-1,-1,-1,-1,-1,-1,-1,-1,1,"Mid-stage",1,"Clear",1,"Regional Rainfall",1,0,0,0,0,null,0,"No Data","No Data","No Data","No Data","No Data","No Data","No Data","No Data","No Data","Kinnickinnic River","Kinnickinnic River",1,"","Kiap TU Wish","TCTU","070300051104","Parker Creek-Kinnickinnic River","Kinnickinnic River"]
["Dev: DBParsing_231030_v01.xlsm","8Ti28aQ16inDeKAzLdGj","2021-07-28T18:55:00","2021-07-28T12:55:00","2021-07-28",2021,7,"XLsE0jeCBabIhsFYi4ZuVSWCKI33",null,-92.267688280057399,44.42856995393003,null,"",0,null,1,240,120,null,null,8,1,200,1,60,0,"","","","",-1,-1,-1,-1,-1,-1,-1,-1,1,null,0,null,0,"",-1,-1,-1,-1,1,null,0,"No Data","No Data","No Data","No Data","No Data","No Data","No Data","No Data","No Data","","","","","Hiawatha","Hiawatha","070400010704","Miller Creek","Lake Pepin"]
["Dev: DBParsing_231030_v01.xlsm","2H0usn5mHdGQvNcym3Mu","2021-07-26T15:58:53","2021-07-26T09:58:53","2021-07-26",2021,7,"79D4QMcZb1SeulClPI33vBZYFLY2","Trimbelle River @ County Rd W",-92.52961998697036,44.79373138879258,null,"",0,null,1,240,180,null,null,8,1,0,1,65,1,0,2,"River/Stream","None",0,0,0,0,0,0,0,1,0,"Baseflow",1,"Clear",1,"None",0,0,0,0,0,null,0,"Absent","Absent","Absent","Absent","Absent","Absent","Absent","Present","Recorded","Trimbelle River","Trimbelle River",1,"","Kiap TU Wish","Kiap-TU-Wish","070400010301","Goose Creek-Trimbelle River","Trimbelle River"]
["Dev: DBParsing_231030_v01.xlsm","scZ890IfdtlsHSktcxhk","2021-07-26T14:51:29","2021-07-26T08:51:29","2021-07-26",2021,7,"79D4QMcZb1SeulClPI33vBZYFLY2",null,-92.529676133844276,44.789805317598777,null,"",0,null,1,240,120,null,null,7.5,1,0,1,52,1,0,0,"Springs","None",0,0,0,0,0,0,0,1,0,"Baseflow",1,"Clear",1,"None",0,0,0,0,0,null,0,"Absent","Absent","Absent","Absent","Absent","Absent","Absent","Present","Recorded","Trimbelle River","Trimbelle River",1,"","Kiap TU Wish","Kiap-TU-Wish","070400010301","Goose Creek-Trimbelle River","Trimbelle River"]
["Dev: DBParsing_231030_v01.xlsm","bO4es55GaOvuANUAeCOn","2021-07-23T13:15:31","2021-07-23T07:15:31","2021-07-23",2021,7,"80reiKTTqGYqqpgYAhPwqypFwak1","",-92.278066752564399,43.793050241697387,null,"",0,null,1,240,0,null,null,7,1,0,1,0,1,0.15,5,"River/Stream","None",0,0,0,0,0,0,0,1,0,"Baseflow",1,"Clear",1,"None",0,0,0,0,0,"it looks really good.  I forgot thermometer.  ",1,"Absent","Absent","Absent","Absent","Absent","Absent","Absent","Present","Recorded","Carson Creek","Carson Creek",1,1,"Hiawatha","Hiawatha","070400080208","Middle Branch Root River","Middle Branch Root River"]
["Dev: DBParsing_231030_v01.xlsm","4Yz4P32Ad0e2Zd8oCQH4","2021-07-22T22:58:26","2021-07-22T16:58:26","2021-07-22",2021,7,"r5sO3h7bL7STNrd2WKxA3k9pKv03",null,-92.587635027240324,44.895235892857627,null,"",0,null,1,0,30,null,null,6,0,null,0,null,0,"","",null,"",-1,-1,-1,-1,-1,-1,-1,-1,1,"Baseflow",1,"Clear",1,"Regional Rainfall",1,0,0,0,0,null,0,"No Data","No Data","No Data","No Data","No Data","No Data","No Data","No Data","No Data","Kinnickinnic River","Kinnickinnic River",1,"","Kiap TU Wish","TCTU","070300051104","Parker Creek-Kinnickinnic River","Kinnickinnic River"]
["Dev: DBParsing_231030_v01.xlsm","OyBAOBBJl0sdSfqVYk6q","2021-07-22T15:34:21","2021-07-22T09:34:21","2021-07-22",2021,7,"f7qMRlnlkOgrA1xpaxXrTTeRGWX2",null,-92.271533890372638,44.544350297516189,null,"2021-07-22 10:34:21.262988.jpg-0",1,null,1,240,180,null,null,7.5,1,0,1,52,1,0,5,"River/Stream","None",0,0,0,0,0,0,0,1,0,"Baseflow",1,"Clear",1,"None",0,0,0,0,0,"Secchi Tube transparency > 60 cm",1,"Absent","Absent","Absent","Absent","Absent","Absent","Absent","Present","Recorded",0,0,1,1,"Wisconsin Clear Water","Kiap-TU-Wish","070400010702","Pine Creek","Lake Pepin"]
["Dev: DBParsing_231030_v01.xlsm","v1vfkCZJdWXD9j9XRehj","2021-07-20T15:07:31","2021-07-20T09:07:31","2021-07-20",2021,7,"ZXrDvZ4pF1Qf92cFwnN35PE8grL2","",-91.581686500000004,43.642325700000001,null,"",0,null,1,240,180,null,null,7,1,0,1,50,1,0,0,"River/Stream","None",0,0,0,0,0,0,0,1,0,"Baseflow",1,"Clear",1,"None",0,0,0,0,0,null,0,"Absent","Absent","Absent","Absent","Absent","Absent","Absent","Present","Recorded","Beaver Creek East","Beaver Creek East",1,"","Win Cres","TCTU","070400080805","Beaver Creek","South Fork Root River"]
["Dev: DBParsing_231030_v01.xlsm","loLAJy3BEgvr93UyNW9U","2021-07-19T19:47:55","2021-07-19T13:47:55","2021-07-19",2021,7,"OnQxi2VoMPY5EZMXmvNCgpa39dS2",null,-92.563673133607395,44.50261076889867,null,"2021-07-19 14:47:55.151139.jpg-0",1,null,1,240,30,null,null,7,1,100,0,null,0,"","","River/Stream","",-1,-1,-1,-1,-1,-1,-1,-1,1,null,0,null,0,"",-1,-1,-1,-1,1,null,0,"No Data","No Data","No Data","No Data","No Data","No Data","No Data","No Data","No Data","Hay Creek","Hay Creek",1,"","Twin Cities","Hiawatha","070400010401","Hay Creek","Hay Creek-Mississippi River"]
["Dev: DBParsing_231030_v01.xlsm","144PSRniVcf50pt1MpoK","2021-07-13T22:50:12","2021-07-13T16:50:12","2021-07-13",2021,7,"yzMNw9t0vSgiYvaAETWMJXNRTyC3","Hay Creek @ 320th St",-92.575541334312945,44.488405007910437,null,"",0,null,1,240,180,null,null,9,1,0,1,65,1,0,5,"River/Stream","None",0,0,0,0,0,0,0,1,0,"Baseflow",1,"Clear",1,"None",0,0,0,0,0,"Observation taken below culvert",1,"Absent","Absent","Absent","Absent","Absent","Absent","Absent","Present","Recorded","Hay Creek","Hay Creek",1,"","Twin Cities","Hiawatha","070400010401","Hay Creek","Hay Creek-Mississippi River"]
["Dev: DBParsing_231030_v01.xlsm","LBqeb3afzP10ITLItYKO","2021-07-13T22:25:32","2021-07-13T16:25:32","2021-07-13",2021,7,"yzMNw9t0vSgiYvaAETWMJXNRTyC3","Hay Creek @ 325th St",-92.59739404552856,44.47232751179903,null,"https://firebasestorage.googleapis.com/v0/b/wiseh2odev-83a9b.appspot.com/o/PhotoCapture%2F2021-07-13%2017:25:15.193321.jpg-0.jpg?alt=media&token=10af0309-ae13-43e5-951b-51bb88743dcf",1,null,1,240,180,null,null,7.5,1,0,1,61,1,0,2,"River/Stream","None",0,0,0,0,0,0,0,1,0,"Baseflow",1,"Clear",1,"None",0,0,0,0,0,"Observation taken above culvert",1,"Absent","Absent","Absent","Absent","Absent","Absent","Absent","Present","Recorded","Hay Creek","Hay Creek",1,"","Twin Cities","Hiawatha","070400010401","Hay Creek","Hay Creek-Mississippi River"]
["Dev: DBParsing_231030_v01.xlsm","G1lt4kNCdGgn7D3mmSXO","2021-07-10T17:28:23","2021-07-10T11:28:23","2021-07-10",2021,7,"f7qMRlnlkOgrA1xpaxXrTTeRGWX2",null,-92.732049942753207,44.83104554085201,null,"",0,null,1,240,180,null,null,8,1,0,1,62,1,0.15,5,"River/Stream","Bank Erosion",0,1,0,0,0,0,0,0,0,"Baseflow",1,"Clear",1,"None",0,0,0,0,0,"Secch Tube transparency > 60 cm. No recent rainfall.",1,"Absent","Present","Absent","Absent","Absent","Absent","Absent","Absent","Recorded","Kinnickinnic River","Kinnickinnic River",1,"","Kiap TU Wish","Kiap-TU-Wish","070300051105","Lower Kinnickinnic Pond-Kinnickinnic River","Kinnickinnic River"]
["Dev: DBParsing_231030_v01.xlsm","dASD5yZnoVzKWjRPuoBG","2021-07-09T22:13:11","2021-07-09T16:13:11","2021-07-09",2021,7,"qQOofzMtn7QEFNkor41r51PeJ982",null,-93.009153170871258,44.657249722788286,null,"2021-07-09 17:13:11.625608.jpg-0",1,null,0,"",null,null,null,null,0,null,0,null,1,0,5,null,"None",0,0,0,0,0,0,0,1,0,"Baseflow",1,"Clear",1,"None",0,0,0,0,0,null,0,"Absent","Absent","Absent","Absent","Absent","Absent","Absent","Present","Recorded","South Branch Vermillion River","South Branch Vermillion River","","","Twin Cities","TCTU","070400010205","South Branch Vermillion River","Vermillion River"]
["Dev: DBParsing_231030_v01.xlsm","OMbGNsyqEnebyFmZIuCv","2021-07-08T18:08:30","2021-07-08T12:08:30","2021-07-08",2021,7,"QqbZqyGX2YgKhSKXG0G7AK8gwMH2",null,-92.433436,44.291833099999998,null,"",0,null,1,180,60,null,null,7,1,100,1,52,0,"","","River/Stream","None",0,0,0,0,0,0,0,1,0,"Mid-stage",1,"Murky",1,"Regional Rainfall",1,0,0,0,0,null,0,"Absent","Absent","Absent","Absent","Absent","Absent","Absent","Present","Recorded","Cold Creek","Cold Creek",1,1,"Hiawatha","Hiawatha","070400040503","Cold Creek","Zumbro River"]
["Dev: DBParsing_231030_v01.xlsm","szptSpTqliaGUXfd3Wp7","2021-07-07T16:19:26","2021-07-07T10:19:26","2021-07-07",2021,7,"VqZRaTUPgjWCYY8wjw5nHFqlP4V2","Trout Brook",-92.802214199999995,44.543047000000001,null,"",0,null,1,240,180,null,null,7.5,1,100,1,54,1,0,0,"River/Stream","None",0,0,0,0,0,0,0,1,0,"Mid-stage",1,"Clear",1,"None",0,0,0,0,0,null,0,"Absent","Absent","Absent","Absent","Absent","Absent","Absent","Present","Recorded","Cannon River","Cannon River",1,1,"Twin Cities","TCTU","070400020902","Trout Brook","Lower Cannon River"]
["Dev: DBParsing_231030_v01.xlsm","HJWvMJ4TErZkvmV3rlSh","2021-07-02T19:58:02","2021-07-02T13:58:02","2021-07-02",2021,7,"02AAKekyGtT6Kuu6m0tQhSFD2XM2",null,-90.990052756860081,43.712029123728897,null,"",0,null,1,240,180,null,null,9,1,0,1,69,0,"","","River/Stream","",-1,-1,-1,-1,-1,-1,-1,-1,1,null,0,null,0,"",-1,-1,-1,-1,1,null,0,"No Data","No Data","No Data","No Data","No Data","No Data","No Data","No Data","No Data",0,0,1,1,"Coulee Region",-999,"070600010103","Middle Coon Creek","Coon Creek"]
["Dev: DBParsing_231030_v01.xlsm","d62dyHZXuGDPEvNqRlQ9","2021-07-01T01:27:40","2021-06-30T19:27:40","2021-06-30",2021,6,"9SWyLZDRS8gsuAD2Vpf6duBiFib2",null,-92.115627538217822,44.0211938485918,null,"",0,null,1,240,180,null,null,8,1,0,1,60,1,0,5,"River/Stream","None",0,0,0,0,0,0,0,1,0,"Baseflow",1,"Clear",1,"None",0,0,0,0,0,null,0,"Absent","Absent","Absent","Absent","Absent","Absent","Absent","Present","Recorded","Crow Spring","Crow Spring",1,1,"Hiawatha","Hiawatha","070400030305","Middle Fork Whitewater River","Whitewater River"]
["Dev: DBParsing_231030_v01.xlsm","CKu8Uqhq6rA2hvTY31U6","2021-06-27T16:31:18","2021-06-27T10:31:18","2021-06-27",2021,6,"ZXrDvZ4pF1Qf92cFwnN35PE8grL2","Trout Brook",-92.802713999999995,44.542926899999998,null,"",0,null,1,240,120,null,null,7.5,1,0,1,52,1,0,5,"River/Stream","None",0,0,0,0,0,0,0,1,0,"Baseflow",1,"Clear",1,"Regional Rainfall,Local Thunderstorm",1,1,0,0,0,null,0,"Absent","Absent","Absent","Absent","Absent","Absent","Absent","Present","Recorded","Cannon River","Cannon River",1,1,"Twin Cities","TCTU","070400020902","Trout Brook","Lower Cannon River"]
["Dev: DBParsing_231030_v01.xlsm","SMMVUNhyvVJ1kPaCVmZ9","2021-06-27T13:29:01","2021-06-27T07:29:01","2021-06-27",2021,6,"ZXrDvZ4pF1Qf92cFwnN35PE8grL2","Trout Brook",-92.802161699999999,44.543034800000001,null,"",0,null,1,240,120,null,null,7.5,1,0,1,52,1,0,5,"River/Stream","None",0,0,0,0,0,0,0,1,0,"Mid-stage",1,"Clear",1,"Regional Rainfall,Local Thunderstorm",1,1,0,0,0,"Recorded by Matt Lowe.",1,"Absent","Absent","Absent","Absent","Absent","Absent","Absent","Present","Recorded","Cannon River","Cannon River",1,1,"Twin Cities","TCTU","070400020902","Trout Brook","Lower Cannon River"]
["Dev: DBParsing_231030_v01.xlsm","965d1jO1AVS6Q3Dh0EsG","2021-06-25T15:19:07","2021-06-25T09:19:07","2021-06-25",2021,6,"VCf2q8JFBSOaJbmxiMqirI5xKFn2","Pine Creek @ County Rd. AA",-92.284191986182762,44.542246162813122,null,"",0,null,1,240,120,null,null,7.5,1,0,1,55,1,0.15,2,"River/Stream","",-1,-1,-1,-1,-1,-1,-1,-1,1,"Baseflow",1,"Clear",1,"None",0,0,0,0,0,null,0,"No Data","No Data","No Data","No Data","No Data","No Data","No Data","No Data","No Data","Pine Creek","Pine Creek",1,1,"Wisconsin Clear Water","Kiap-TU-Wish","070400010702","Pine Creek","Lake Pepin"]
["Dev: DBParsing_231030_v01.xlsm","EcnhaC0xhZy3yMCMHmGj","2021-06-25T14:42:07","2021-06-25T08:42:07","2021-06-25",2021,6,"W8BGw5bKR3fOoqYynHo0kID39br2","Other Locations",-92.225608699999995,43.887171100000003,null,"https://firebasestorage.googleapis.com/v0/b/wiseh2odev-83a9b.appspot.com/o/PhotoCapture%2F2021-06-25%2009%3A41%3A48.658575.jpg-0.jpg?alt=media&token=c5946345-4ad2-479d-9af5-5bd0bf84bdab",1,null,1,240,60,null,null,7,1,100,1,54,1,0,5,"River/Stream","None",0,0,0,0,0,0,0,1,0,"Baseflow",1,"Murky",1,"None",0,0,0,0,0,null,0,"Absent","Absent","Absent","Absent","Absent","Absent","Absent","Present","Recorded","Mill Creek","Mill Creek",1,"","Hiawatha","Hiawatha","070400080107","Mill Creek","North Branch Root River"]
["Dev: DBParsing_231030_v01.xlsm","yQL6ECfBpf0NNwZ2H4dK","2021-06-22T23:25:58","2021-06-22T17:25:58","2021-06-22",2021,6,"ZXrDvZ4pF1Qf92cFwnN35PE8grL2","Trout Brook",-92.8021435,44.543096499999997,null,"",0,null,1,240,120,null,null,7.5,1,0,1,60,1,0,0,"River/Stream","None",0,0,0,0,0,0,0,1,0,"Mid-stage",1,"Clear",1,"None",0,0,0,0,0,"Recorded by Matt Lowe.",1,"Absent","Absent","Absent","Absent","Absent","Absent","Absent","Present","Recorded","Cannon River","Cannon River",1,1,"Twin Cities","TCTU","070400020902","Trout Brook","Lower Cannon River"]
["Dev: DBParsing_231030_v01.xlsm","nDiDCxxKq7B1C0l8d2UA","2021-06-22T14:02:04","2021-06-22T08:02:04","2021-06-22",2021,6,"80reiKTTqGYqqpgYAhPwqypFwak1",null,-92.224375046875537,43.622038713696988,null,"",0,null,1,240,180,null,null,7.5,1,0,1,0,1,0,0,"River/Stream","None",0,0,0,0,0,0,0,1,0,"Mid-stage",1,"Clear",1,"None",0,0,0,0,0,"49.3 degrees.  looks great.  rain must have been much less.  ",1,"Absent","Absent","Absent","Absent","Absent","Absent","Absent","Present","Recorded","Canfield Creek","Canfield Creek",1,"","Hiawatha","Hiawatha","070400080403","Canfield Creek","South Branch Root River"]
["Dev: DBParsing_231030_v01.xlsm","QdGgSoorICtXYDQ6F0ib","2021-06-21T18:53:28","2021-06-21T12:53:28","2021-06-21",2021,6,"f7qMRlnlkOgrA1xpaxXrTTeRGWX2",null,-92.732079478598095,44.831093980911319,null,"",0,null,1,240,180,null,null,8,1,0,1,60,1,0,5,"River/Stream","Bank Erosion",0,1,0,0,0,0,0,0,0,"Baseflow",1,"Clear",1,"Regional Rainfall",1,0,0,0,0,"0.45” of rain in River Falls on 6/20/21. Secchi tube transparency > 60 cm. 125 cfs at USGS gage.",1,"Absent","Present","Absent","Absent","Absent","Absent","Absent","Absent","Recorded","Kinnickinnic River","Kinnickinnic River",1,"","Kiap TU Wish","Kiap-TU-Wish","070300051105","Lower Kinnickinnic Pond-Kinnickinnic River","Kinnickinnic River"]
["Dev: DBParsing_231030_v01.xlsm","5NuhrFdTzVvW2tEEw2EH","2021-06-19T19:34:08","2021-06-19T13:34:08","2021-06-19",2021,6,"XLsE0jeCBabIhsFYi4ZuVSWCKI33",null,-92.267921716060741,44.428713158745715,null,"",0,null,1,240,120,null,null,8,1,200,0,null,0,"","","River/Stream","",-1,-1,-1,-1,-1,-1,-1,-1,1,null,0,null,0,"",-1,-1,-1,-1,1,null,0,"No Data","No Data","No Data","No Data","No Data","No Data","No Data","No Data","No Data","Miller Creek","Miller Creek","","","Hiawatha","Hiawatha","070400010704","Miller Creek","Lake Pepin"]
["Dev: DBParsing_231030_v01.xlsm","oZZDSYP3osKg6TiPNgoC","2021-06-17T00:19:32","2021-06-16T18:19:32","2021-06-16",2021,6,"H4dZvxTdViejefqREn5k066JVZG3",null,-92.143994048990706,44.23665308357657,null,"",0,null,1,240,180,null,null,8,1,100,1,60,1,0,0,"River/Stream","None",0,0,0,0,0,0,0,1,0,"Baseflow",1,"Clear",1,"None",0,0,0,0,0,"West Indian just upstream of  TU improvement project.  little to no rain last  2 weeks",1,"Absent","Absent","Absent","Absent","Absent","Absent","Absent","Present","Recorded","West Indian Creek","West Indian Creek",1,1,"Hiawatha","Hiawatha","070400040510","West Indian Creek","Zumbro River"]
["Dev: DBParsing_231030_v01.xlsm","bhawZd1ayHMT4Sh5Fquh","2021-06-15T23:49:27","2021-06-15T17:49:27","2021-06-15",2021,6,"ZMmGOOwucYXE3nEMRlAJSj4Cg8c2","Vermillion River, South Branch",-93.008988674584558,44.657264490918031,null,"https://firebasestorage.googleapis.com/v0/b/wiseh2odev-83a9b.appspot.com/o/PhotoCapture%2F2021-06-15%2018:49:19.902143.jpg-0.jpg?alt=media&token=210bafb1-f405-4112-9cbc-c2f15d297d1d",1,null,1,240,120,null,null,8,1,200,1,68,1,0,5,"River/Stream","None",0,0,0,0,0,0,0,1,0,"",0,"Clear",1,"None",0,0,0,0,0,"Conducting Streamkeeper training",1,"Absent","Absent","Absent","Absent","Absent","Absent","Absent","Present","Recorded","South Branch Vermillion River","South Branch Vermillion River",1,"","Twin Cities","TCTU","070400010205","South Branch Vermillion River","Vermillion River"]
["Dev: DBParsing_231030_v01.xlsm","UWha6j8zXzcXZO45HQnE","2021-06-15T23:49:01","2021-06-15T17:49:01","2021-06-15",2021,6,"yzMNw9t0vSgiYvaAETWMJXNRTyC3","Vermillion River, South Branch",-93.008922524836834,44.657270894427462,null,"",0,null,0,"",null,null,null,null,1,200,1,68,0,"","","River/Stream","None",0,0,0,0,0,0,0,1,0,"Baseflow",1,"Clear",1,"None",0,0,0,0,0,null,0,"Absent","Absent","Absent","Absent","Absent","Absent","Absent","Present","Recorded","South Branch Vermillion River","South Branch Vermillion River",1,"","Twin Cities","Hiawatha","070400010205","South Branch Vermillion River","Vermillion River"]
["Dev: DBParsing_231030_v01.xlsm","Zw0KrNjWcTVi9gIL5gHj","2021-06-13T15:51:32","2021-06-13T09:51:32","2021-06-13",2021,6,"XLsE0jeCBabIhsFYi4ZuVSWCKI33",null,-92.267755586739881,44.428647779900977,null,"",0,null,1,240,180,null,null,8,1,2500,1,55,1,0.15,0,"River/Stream","",-1,-1,-1,-1,-1,-1,-1,-1,1,null,0,null,0,"",-1,-1,-1,-1,1,null,0,"No Data","No Data","No Data","No Data","No Data","No Data","No Data","No Data","No Data","","","","","Hiawatha","Hiawatha","070400010704","Miller Creek","Lake Pepin"]
["Dev: DBParsing_231030_v01.xlsm","MOWUKtKbUHPExtv2I0qn","2021-06-07T23:06:39","2021-06-07T17:06:39","2021-06-07",2021,6,"n91xZFUxmVPxNFZPd6hBai7YMWy1",null,-93.008951282877263,44.657278493441837,null,"",0,null,1,240,120,null,null,6,1,100,1,71,1,0,5,"River/Stream","",-1,-1,-1,-1,-1,-1,-1,-1,1,null,0,null,0,"",-1,-1,-1,-1,1,"Very hot days.  Water not crystal clear",1,"No Data","No Data","No Data","No Data","No Data","No Data","No Data","No Data","No Data","South Branch Vermillion River","South Branch Vermillion River",1,"","Twin Cities","TCTU","070400010205","South Branch Vermillion River","Vermillion River"]
["Dev: DBParsing_231030_v01.xlsm","NXx3hqQD4wdjauCeFqcv","2021-06-07T21:40:54","2021-06-07T15:40:54","2021-06-07",2021,6,"uhi7fcC1CEM9Gzc26fagCyLA1662",null,-92.563653299999999,44.502575,null,"https://firebasestorage.googleapis.com/v0/b/wiseh2odev-83a9b.appspot.com/o/PhotoCapture%2F2021-06-07%2016%3A32%3A48.259069.jpg-0.jpg?alt=media&token=650d44c6-e8ec-4304-bbd6-65518a3f3f2bhttps://firebasestorage.googleapis.com/v0/b/wiseh2odev-83a9b.appspot.com/o/PhotoCapture%2F2021-06-07%2016%3A36%3A14.060636.jpg-0.jpg?alt=media&token=d03179ba-e2fd-4d52-ac86-0fb25580413f",1,null,1,240,120,null,null,7.5,1,100,1,68,1,0.15,2,"River/Stream","None",0,0,0,0,0,0,0,1,0,"Mid-stage",1,"Clear",1,"None",0,0,0,0,0,"93° very hot",1,"Absent","Absent","Absent","Absent","Absent","Absent","Absent","Present","Recorded","Hay Creek","Hay Creek",1,"","Twin Cities","TCTU","070400010401","Hay Creek","Hay Creek-Mississippi River"]
["Dev: DBParsing_231030_v01.xlsm","90dB8flZEDzg3kAktUoO","2021-06-07T20:40:40","2021-06-07T14:40:40","2021-06-07",2021,6,"uhi7fcC1CEM9Gzc26fagCyLA1662","",-92.597325699999999,44.472379699999998,null,"",0,null,1,180,120,null,null,8.5,1,300,1,61,1,0.15,5,null,"None",0,0,0,0,0,0,0,1,0,"Mid-stage",1,"Clear",1,"None",0,0,0,0,0,"93° out today.  very hot",1,"Absent","Absent","Absent","Absent","Absent","Absent","Absent","Present","Recorded","Hay Creek","Hay Creek",1,"","Twin Cities","TCTU","070400010401","Hay Creek","Hay Creek-Mississippi River"]
["Dev: DBParsing_231030_v01.xlsm","Flalb57uVMAh8ctKIDZz","2021-06-03T19:47:44","2021-06-03T13:47:44","2021-06-03",2021,6,"raGk7ZR3GrfMo7yQku4nuriRtsC3","Trimbelle River @ County Rd W",-93.167159499999997,45.001359999999998,null,"",0,null,0,"",null,null,null,null,1,0,1,56,0,"","","River/Stream","None",0,0,0,0,0,0,0,1,0,"Baseflow",1,"Clear",1,"None",0,0,0,0,0,"unable to get camera to work through H20. will send what I've got, figure out what's going on and come back another day.",1,"Absent","Absent","Absent","Absent","Absent","Absent","Absent","Present","Recorded","","","","","Twin Cities","Kiap-TU-Wish","070102060306","Long Lake-Rice Creek","Rice Creek"]
["Dev: DBParsing_231030_v01.xlsm","MwmZi5Ob32PjS5lVYRhK","2021-05-29T20:43:52","2021-05-29T14:43:52","2021-05-29",2021,5,"9SWyLZDRS8gsuAD2Vpf6duBiFib2",null,-92.11583598455428,44.021138518109261,null,"",0,null,1,240,180,null,null,8,1,0,1,58,1,0,5,"River/Stream","",-1,-1,-1,-1,-1,-1,-1,-1,1,"Baseflow",1,null,0,"None",0,0,0,0,0,null,0,"No Data","No Data","No Data","No Data","No Data","No Data","No Data","No Data","No Data","Crow Spring","Crow Spring",1,1,"Hiawatha","Hiawatha","070400030305","Middle Fork Whitewater River","Whitewater River"]
["Dev: DBParsing_231030_v01.xlsm","2TDFlLdHDvE5pKIlTJ0U","2021-05-28T21:47:51","2021-05-28T15:47:51","2021-05-28",2021,5,"VHRlmHCbVSYpoT7Xubj2OGSvIFl1","SF Kinnickinnic River @ 900th St",-92.644987950762726,44.843604655387864,null,"https://firebasestorage.googleapis.com/v0/b/wiseh2odev-83a9b.appspot.com/o/PhotoCapture%2F2021-05-28%2016:47:41.562807.jpg-0.jpg?alt=media&token=84c979bb-0f15-4ff3-a95c-1a24507566fa",1,null,1,240,120,null,null,7.5,1,200,1,54,1,0,5,"River/Stream","None",0,0,0,0,0,0,0,1,0,"Bankfull Stage",1,"Murky",1,"Regional Rainfall",1,0,0,0,0,"1.5 inch all-day rain yesterday and this morning early. River is murky and high, not flooding. ",1,"Absent","Absent","Absent","Absent","Absent","Absent","Absent","Present","Recorded","Kinnickinnic River","Kinnickinnic River",1,"","Kiap TU Wish","Kiap-TU-Wish","070300051105","Lower Kinnickinnic Pond-Kinnickinnic River","Kinnickinnic River"]
["Dev: DBParsing_231030_v01.xlsm","JeXfbyLtwF4V9Na14jrP","2021-05-28T19:48:44","2021-05-28T13:48:44","2021-05-28",2021,5,"W8BGw5bKR3fOoqYynHo0kID39br2",null,-92.195632500000002,43.847710999999997,null,"https://firebasestorage.googleapis.com/v0/b/wiseh2odev-83a9b.appspot.com/o/PhotoCapture%2F2021-05-28%2014%3A48%3A37.040715.jpg-0.jpg?alt=media&token=2deca499-b50d-4d1e-b0bf-022bc302f01ehttps://firebasestorage.googleapis.com/v0/b/wiseh2odev-83a9b.appspot.com/o/PhotoCapture%2F2021-05-28%2014%3A48%3A37.040715.jpg-1.jpg?alt=media&token=e8cf8845-9171-48df-bf80-64bac475b24e",1,null,1,240,120,null,null,7.5,1,0,1,54,1,0.15,5,"River/Stream","None",0,0,0,0,0,0,0,1,0,"Baseflow",1,"Murky",1,"",-1,-1,-1,-1,1,null,0,"Absent","Absent","Absent","Absent","Absent","Absent","Absent","Present","Recorded","Mill Creek","Mill Creek",1,"","Hiawatha","Hiawatha","070400080107","Mill Creek","North Branch Root River"]
["Dev: DBParsing_231030_v01.xlsm","zaArE6ztxPSbrzSPXiAm","2021-05-25T17:59:28","2021-05-25T11:59:28","2021-05-25",2021,5,"b5Q5MWoIy9OOBrhn8HbZMPPsGST2",null,-92.143954267740483,44.236927048540039,null,"",0,null,1,180,180,null,null,8,1,0,0,null,1,0,0,"River/Stream","None",0,0,0,0,0,0,0,1,0,"Baseflow",1,"Clear",1,"None",0,0,0,0,0,null,0,"Absent","Absent","Absent","Absent","Absent","Absent","Absent","Present","Recorded","West Indian Creek","West Indian Creek",1,1,"Hiawatha","Agency/University","070400040510","West Indian Creek","Zumbro River"]
["Dev: DBParsing_231030_v01.xlsm","gqt6d504oXBqwKRTxGDk","2021-05-25T14:52:22","2021-05-25T08:52:22","2021-05-25",2021,5,"b5Q5MWoIy9OOBrhn8HbZMPPsGST2",null,-91.930977422829656,44.15706875272506,null,"",0,null,0,"",180,null,null,7.5,1,100,0,null,1,0,2,"River/Stream","None",0,0,0,0,0,0,0,1,0,"Baseflow",1,"Clear",1,"None",0,0,0,0,0,null,0,"Absent","Absent","Absent","Absent","Absent","Absent","Absent","Present","Recorded","Trout Creek","Trout Creek",1,1,"Win Cres","Agency/University","070400030309","Trout Creek","Whitewater River"]
["Dev: DBParsing_231030_v01.xlsm","NiggfftGYNYvyjj2K79T","2021-05-24T16:44:03","2021-05-24T10:44:03","2021-05-24",2021,5,"b5Q5MWoIy9OOBrhn8HbZMPPsGST2","",-92.072243569831656,43.859220293300147,null,"",0,null,0,"",120,null,null,8,1,0,0,null,1,0,5,"River/Stream","None",0,0,0,0,0,0,0,1,0,"Baseflow",1,"Clear",1,"None",0,0,0,0,0,null,0,"Absent","Absent","Absent","Absent","Absent","Absent","Absent","Present","Recorded","Trout Run","Trout Run",1,"","Hiawatha","Agency/University","070400080302","Trout Run","Trout Run-Root River"]
["Dev: DBParsing_231030_v01.xlsm","vsgOccczIwMVGpjpfBo9","2021-05-23T20:06:16","2021-05-23T14:06:16","2021-05-23",2021,5,"ZL2DLndmAQQRpHe8BYu3GQtS33w1","Rush River @ 570th Ave",-92.331431613854022,44.746292224413267,null,"",0,null,1,240,120,null,null,7.5,1,0,1,61,1,0,0,"River/Stream","None",0,0,0,0,0,0,0,1,0,"Baseflow",1,"Murky",1,"Regional Rainfall",1,0,0,0,0,null,0,"Absent","Absent","Absent","Absent","Absent","Absent","Absent","Present","Recorded","Rush River","Rush River",1,1,"Kiap TU Wish","Kiap-TU-Wish","070400010505","Brush Creek-Rush River","Rush River"]
["Dev: DBParsing_231030_v01.xlsm","xXuHxe0Ns8aXTDex84wR","2021-05-22T15:20:19","2021-05-22T09:20:19","2021-05-22",2021,5,"f7qMRlnlkOgrA1xpaxXrTTeRGWX2",null,-92.732059427907942,44.831127422068747,null,"https://firebasestorage.googleapis.com/v0/b/wiseh2odev-83a9b.appspot.com/o/PhotoCapture%2F2021-05-22%2010:20:09.682912.jpg-0.jpg?alt=media&token=29bd965d-bf18-492c-b89e-f23afb7c66a8",1,null,1,240,120,null,null,7,1,100,1,63,1,0,0,"River/Stream","Bank Erosion",0,1,0,0,0,0,0,0,0,"Mid-stage",1,"Murky",1,"Regional Rainfall",1,0,0,0,0,"Descending hydrograph at 160 cfs (USGS station). Secchi transparency = 15 cm. 1” of rain in Hudson on May 20-21.",1,"Absent","Present","Absent","Absent","Absent","Absent","Absent","Absent","Recorded","Kinnickinnic River","Kinnickinnic River",1,"","Kiap TU Wish","Kiap-TU-Wish","070300051105","Lower Kinnickinnic Pond-Kinnickinnic River","Kinnickinnic River"]
["Dev: DBParsing_231030_v01.xlsm","2fgRhzuW3amS2aWoQVAC","2021-05-21T17:10:58","2021-05-21T11:10:58","2021-05-21",2021,5,"80reiKTTqGYqqpgYAhPwqypFwak1",null,-91.580666005696713,43.641487034078352,null,"",0,null,1,240,180,null,null,8,1,0,1,0,1,0,5,"River/Stream","None",0,0,0,0,0,0,0,1,0,"Baseflow",1,"Clear",1,"Regional Rainfall",1,0,0,0,0,"this is East Beaver in Beaver Creek Valley State Park.  very clear and 49 degrees.  ",1,"Absent","Absent","Absent","Absent","Absent","Absent","Absent","Present","Recorded","Beaver Creek East","Beaver Creek East",1,"","Win Cres","Hiawatha","070400080805","Beaver Creek","South Fork Root River"]
["Dev: DBParsing_231030_v01.xlsm","HkmyzqgnT9ClhDTtzKcR","2021-05-19T22:35:02","2021-05-19T16:35:02","2021-05-19",2021,5,"XLsE0jeCBabIhsFYi4ZuVSWCKI33",null,-92.267920123499138,44.428658299189458,null,"",0,null,1,240,120,null,null,8,0,null,0,null,0,"","","River/Stream","",-1,-1,-1,-1,-1,-1,-1,-1,1,null,0,null,0,"",-1,-1,-1,-1,1,null,0,"No Data","No Data","No Data","No Data","No Data","No Data","No Data","No Data","No Data","","","","","Hiawatha","Hiawatha","070400010704","Miller Creek","Lake Pepin"]
["Dev: DBParsing_231030_v01.xlsm","J9Q2Jj7ImzIlXrrETlwP","2021-05-17T22:07:13","2021-05-17T16:07:13","2021-05-17",2021,5,"5sE4Yqji6nO193vOJEyE5nVk3V33",null,-93.008998899999995,44.657305800000003,null,"",0,null,1,240,120,null,null,7.5,1,1000,1,64,1,0,2,"River/Stream","Bank Erosion,Trash",0,1,1,0,0,0,0,0,0,"Mid-stage",1,"Clear",1,"None",0,0,0,0,0,null,0,"Absent","Present","Present","Absent","Absent","Absent","Absent","Absent","Recorded","South Branch Vermillion River","South Branch Vermillion River",1,"","Twin Cities","TCTU","070400010205","South Branch Vermillion River","Vermillion River"]
["Dev: DBParsing_231030_v01.xlsm","67DFkP8V2dj0mERY8Hiu","2021-05-17T22:01:08","2021-05-17T16:01:08","2021-05-17",2021,5,"5sE4Yqji6nO193vOJEyE5nVk3V33",null,-93.008998500000004,44.657302600000001,null,"",0,null,1,120,60,null,null,7,0,null,0,null,0,"","",null,"",-1,-1,-1,-1,-1,-1,-1,-1,1,null,0,null,0,"",-1,-1,-1,-1,1,null,0,"No Data","No Data","No Data","No Data","No Data","No Data","No Data","No Data","No Data","South Branch Vermillion River","South Branch Vermillion River",1,"","Twin Cities","TCTU","070400010205","South Branch Vermillion River","Vermillion River"]
["Dev: DBParsing_231030_v01.xlsm","xgqzXl0LHcFylVSRudjy","2021-05-16T22:01:46","2021-05-16T16:01:46","2021-05-16",2021,5,"OnQxi2VoMPY5EZMXmvNCgpa39dS2",null,-92.563675125360234,44.502606767058971,null,"",0,null,1,240,120,null,null,9,1,0,1,57,1,0,0,"River/Stream","None",0,0,0,0,0,0,0,1,0,"Mid-stage",1,"Clear",1,"None",0,0,0,0,0,null,0,"Absent","Absent","Absent","Absent","Absent","Absent","Absent","Present","Recorded","Hay Creek","Hay Creek",1,"","Twin Cities","Hiawatha","070400010401","Hay Creek","Hay Creek-Mississippi River"]
["Dev: DBParsing_231030_v01.xlsm","YPgrzqFIXXPrYjvzGZPh","2021-05-16T17:42:44","2021-05-16T11:42:44","2021-05-16",2021,5,"F2KCfcDlmPU6IsvVOPR2BgMVHc32",null,-90.945223100000007,43.700218200000002,null,"https://firebasestorage.googleapis.com/v0/b/wiseh2odev-83a9b.appspot.com/o/PhotoCapture%2F2021-05-16%2012%3A41%3A28.968129.jpg-0.jpg?alt=media&token=564fbd78-c7ac-4cfd-b0d7-f0ad3ce71e64",1,null,1,240,60,null,null,7,0,null,0,null,1,0.3,1,"River/Stream","Bank Erosion",0,1,0,0,0,0,0,0,0,"Baseflow",1,"Clear",1,"None",0,0,0,0,0,null,0,"Absent","Present","Absent","Absent","Absent","Absent","Absent","Absent","Recorded",0,0,1,"","Coulee Region","Coulee Region","070600010103","Middle Coon Creek","Coon Creek"]
["Dev: DBParsing_231030_v01.xlsm","DG5UTVOPEwYf6egIfoUQ","2021-05-15T16:11:16","2021-05-15T10:11:16","2021-05-15",2021,5,"qQOofzMtn7QEFNkor41r51PeJ982",null,-93.008949249130524,44.657290231740262,null,"",0,null,0,"",null,null,null,null,1,0,1,52,0,"","",null,"",-1,-1,-1,-1,-1,-1,-1,-1,1,"Baseflow",1,"Clear",1,"None",0,0,0,0,0,null,0,"No Data","No Data","No Data","No Data","No Data","No Data","No Data","No Data","No Data","South Branch Vermillion River","South Branch Vermillion River",1,"","Twin Cities","TCTU","070400010205","South Branch Vermillion River","Vermillion River"]
["Dev: DBParsing_231030_v01.xlsm","hTnEBHySllD2Flze0nnA","2021-05-15T15:43:49","2021-05-15T09:43:49","2021-05-15",2021,5,"xGf42w3UBFa817jAA3vYGVMhqZo2",null,-93.008802328345354,44.65734335598038,null,"",0,null,0,"",null,null,null,null,0,null,1,52,0,"","",null,"",-1,-1,-1,-1,-1,-1,-1,-1,1,null,0,null,0,"",-1,-1,-1,-1,1,null,0,"No Data","No Data","No Data","No Data","No Data","No Data","No Data","No Data","No Data","South Branch Vermillion River","South Branch Vermillion River",1,"","Twin Cities","TCTU","070400010205","South Branch Vermillion River","Vermillion River"]
["Dev: DBParsing_231030_v01.xlsm","RwUORcJwbEVRMiEW6Xb3","2021-05-15T15:34:27","2021-05-15T09:34:27","2021-05-15",2021,5,"xGf42w3UBFa817jAA3vYGVMhqZo2","",-93.008782211777756,44.65733820110993,null,"",0,null,0,"",null,null,null,null,0,null,0,null,1,0,2,null,"",-1,-1,-1,-1,-1,-1,-1,-1,1,null,0,null,0,"",-1,-1,-1,-1,1,null,0,"No Data","No Data","No Data","No Data","No Data","No Data","No Data","No Data","No Data","South Branch Vermillion River","South Branch Vermillion River",1,"","Twin Cities","TCTU","070400010205","South Branch Vermillion River","Vermillion River"]
["Dev: DBParsing_231030_v01.xlsm","2ULZOJBZqaQG9OWNjqAG","2021-05-14T17:43:10","2021-05-14T11:43:10","2021-05-14",2021,5,"W8BGw5bKR3fOoqYynHo0kID39br2",null,-92.225585899999999,43.887154099999997,null,"https://firebasestorage.googleapis.com/v0/b/wiseh2odev-83a9b.appspot.com/o/PhotoCapture%2F2021-05-14%2012%3A42%3A55.069717.jpg-0.jpg?alt=media&token=706e2abb-f941-4ff7-8d71-6e4d6658355ehttps://firebasestorage.googleapis.com/v0/b/wiseh2odev-83a9b.appspot.com/o/PhotoCapture%2F2021-05-14%2012%3A42%3A55.069717.jpg-1.jpg?alt=media&token=83cf871a-146f-4c6b-b446-83b00be30724",1,null,1,240,180,null,null,7.5,1,0,1,51,1,0,5,"River/Stream","None",0,0,0,0,0,0,0,1,0,"Baseflow",1,"Clear",1,"None",0,0,0,0,0,null,0,"Absent","Absent","Absent","Absent","Absent","Absent","Absent","Present","Recorded","Mill Creek","Mill Creek",1,"","Hiawatha","Hiawatha","070400080107","Mill Creek","North Branch Root River"]
["Dev: DBParsing_231030_v01.xlsm","Bg67majxcV70a8vbOC3y","2021-05-14T17:06:57","2021-05-14T11:06:57","2021-05-14",2021,5,"VCf2q8JFBSOaJbmxiMqirI5xKFn2","Pine Creek @ County Rd. AA",-92.284117160102056,44.542215022181914,null,"",0,null,1,240,180,null,null,7.5,1,0,1,57,1,0,2,"River/Stream","",-1,-1,-1,-1,-1,-1,-1,-1,1,"Baseflow",1,"Clear",1,"None",0,0,0,0,0,null,0,"No Data","No Data","No Data","No Data","No Data","No Data","No Data","No Data","No Data","Pine Creek","Pine Creek",1,1,"Wisconsin Clear Water","Kiap-TU-Wish","070400010702","Pine Creek","Lake Pepin"]
["Dev: DBParsing_231030_v01.xlsm","MfQz9Ebz3CL25Ljco6GE","2021-05-14T16:41:54","2021-05-14T10:41:54","2021-05-14",2021,5,"uhi7fcC1CEM9Gzc26fagCyLA1662","",-92.844157499999994,45.070594499999999,null,"",0,null,1,240,180,null,null,7.5,1,0,1,51,1,0.15,1,"River/Stream","None",0,0,0,0,0,0,0,1,0,"Baseflow",1,"Clear",1,"None",0,0,0,0,0,"jgesa just released 84 fish ",1,"Absent","Absent","Absent","Absent","Absent","Absent","Absent","Present","Recorded","Browns Creek","Browns Creek",1,"","Twin Cities","TCTU","070300050907","Browns Creek","Big Marine Lake-Saint Croix River"]
["Dev: DBParsing_231030_v01.xlsm","jzf51IMeITSwXI8gP2QJ","2021-05-12T20:27:53","2021-05-12T14:27:53","2021-05-12",2021,5,"XLsE0jeCBabIhsFYi4ZuVSWCKI33",null,-92.276539485987513,44.431189927313874,null,"",0,null,1,240,120,null,null,8,0,null,0,null,0,"","","River/Stream","",-1,-1,-1,-1,-1,-1,-1,-1,1,null,0,null,0,"",-1,-1,-1,-1,1,null,0,"No Data","No Data","No Data","No Data","No Data","No Data","No Data","No Data","No Data","Miller Creek","Miller Creek",1,"","Hiawatha","Hiawatha","070400010704","Miller Creek","Lake Pepin"]
["Dev: DBParsing_231030_v01.xlsm","tb2Y5UrQ8exVLXtjtiea","2021-05-12T16:19:54","2021-05-12T10:19:54","2021-05-12",2021,5,"ZMmGOOwucYXE3nEMRlAJSj4Cg8c2",null,-92.844147053929817,45.070650759327599,null,"https://firebasestorage.googleapis.com/v0/b/wiseh2odev-83a9b.appspot.com/o/PhotoCapture%2F2021-05-12%2011:19:06.415752.jpg-0.jpg?alt=media&token=87b644d8-79d7-4e2a-8dc8-280c74f56d12",1,null,1,240,120,null,null,7.5,0,null,1,50,1,0,0,"River/Stream","None",0,0,0,0,0,0,0,1,0,"Baseflow",1,"Clear",1,"None",0,0,0,0,0,"fantaric group!  released 250 rainbos.",1,"Absent","Absent","Absent","Absent","Absent","Absent","Absent","Present","Recorded","Browns Creek","Browns Creek",1,"","Twin Cities","TCTU","070300050907","Browns Creek","Big Marine Lake-Saint Croix River"]
["Dev: DBParsing_231030_v01.xlsm","wt01mCVsvhvhqQeEN7r3","2021-05-08T21:33:57","2021-05-08T15:33:57","2021-05-08",2021,5,"VHRlmHCbVSYpoT7Xubj2OGSvIFl1","SF Kinnickinnic River @ 900th St",-92.644980507026077,44.843591680546922,null,"https://firebasestorage.googleapis.com/v0/b/wiseh2odev-83a9b.appspot.com/o/PhotoCapture%2F2021-05-08%2016:33:49.720213.jpg-0.jpg?alt=media&token=f692f4e4-8475-4011-8d7e-6d547d0d8e9e",1,null,1,240,30,null,null,7,1,100,1,52,1,0,0,"River/Stream","None",0,0,0,0,0,0,0,1,0,"Baseflow",1,"Clear",1,"None",0,0,0,0,0,"Cloudy, river low and clear after long dry spell. Air temp 58 degrees. ",1,"Absent","Absent","Absent","Absent","Absent","Absent","Absent","Present","Recorded","Kinnickinnic River","Kinnickinnic River",1,"","Kiap TU Wish","Kiap-TU-Wish","070300051105","Lower Kinnickinnic Pond-Kinnickinnic River","Kinnickinnic River"]
["Dev: DBParsing_231030_v01.xlsm","zfIMzLCLsF8qGcpR6NTC","2021-05-07T15:22:59","2021-05-07T09:22:59","2021-05-07",2021,5,"ZMmGOOwucYXE3nEMRlAJSj4Cg8c2",null,-92.844316782516273,45.070531996940325,null,"",0,null,1,240,30,null,null,7,0,null,1,45,1,0,0,"","Trash",0,0,1,0,0,0,0,0,0,"Baseflow",1,"Clear",1,"None",0,0,0,0,0,null,0,"Absent","Absent","Present","Absent","Absent","Absent","Absent","Absent","Recorded","Browns Creek","Browns Creek",1,"","Twin Cities","TCTU","070300050907","Browns Creek","Big Marine Lake-Saint Croix River"]
["Dev: DBParsing_231030_v01.xlsm","1BFY5pWopJz8Fvn6wynl","2021-05-03T23:45:26","2021-05-03T17:45:26","2021-05-03",2021,5,"43tg6vyaAId5rBaxgaLmYZEH83r2","",-92.074243319181804,43.88108723418523,null,"",0,null,1,240,180,null,null,7,1,200,1,47,1,0,2,"River/Stream","None",0,0,0,0,0,0,0,1,0,null,0,"Murky",1,"Regional Rainfall",1,0,0,0,0,null,0,"Absent","Absent","Absent","Absent","Absent","Absent","Absent","Present","Recorded","Trout Run","Trout Run",1,"","Hiawatha","Unknown","070400080302","Trout Run","Trout Run-Root River"]
["Dev: DBParsing_231030_v01.xlsm","OKZsK6uhAXIvD1I6FV8G","2021-05-03T22:59:12","2021-05-03T16:59:12","2021-05-03",2021,5,"43tg6vyaAId5rBaxgaLmYZEH83r2","Other Locations",-92.045837962469676,43.841422157990102,null,"",0,null,1,240,180,null,null,7,1,100,1,46,1,0,2,"River/Stream","",-1,-1,-1,-1,-1,-1,-1,-1,1,null,0,"Murky",1,"Regional Rainfall",1,0,0,0,0,null,0,"No Data","No Data","No Data","No Data","No Data","No Data","No Data","No Data","No Data","Trout Run","Trout Run",1,"","Hiawatha","Unknown","070400080302","Trout Run","Trout Run-Root River"]
["Dev: DBParsing_231030_v01.xlsm","4DlxPq1DSpxgct8laz0a","2021-05-01T22:18:10","2021-05-01T16:18:10","2021-05-01",2021,5,"uhi7fcC1CEM9Gzc26fagCyLA1662",null,-91.980447600000005,43.7781746,null,"",0,null,0,"",null,null,null,null,0,null,0,null,0,"","",null,"",-1,-1,-1,-1,-1,-1,-1,-1,1,null,0,null,0,"",-1,-1,-1,-1,1,null,0,"No Data","No Data","No Data","No Data","No Data","No Data","No Data","No Data","No Data","Torkelson Creek","Torkelson Creek",1,"","Hiawatha","TCTU","070400080305","Torkelson Creek-Root River","Trout Run-Root River"]
["Dev: DBParsing_231030_v01.xlsm","zY76UYr4Fup6HY5iSylh","2021-05-01T14:26:54","2021-05-01T08:26:54","2021-05-01",2021,5,"uhi7fcC1CEM9Gzc26fagCyLA1662","",-91.781352100000007,43.659127699999999,null,"",0,null,1,240,120,null,null,8,0,null,1,48,0,"","","River/Stream","None",0,0,0,0,0,0,0,1,0,"Mid-stage",1,"Clear",1,"None",0,0,0,0,0,null,0,"Absent","Absent","Absent","Absent","Absent","Absent","Absent","Present","Recorded","South Fork Root River","South Fork Root River",1,1,"Win Cres","TCTU","070400080803","Middle South Fork Root River","South Fork Root River"]
["Dev: DBParsing_231030_v01.xlsm","xhWE5F6qKt2nrKXJS6G2","2021-05-01T13:42:47","2021-05-01T07:42:47","2021-05-01",2021,5,"uhi7fcC1CEM9Gzc26fagCyLA1662","",-91.784525700000003,43.662572099999998,null,"",0,null,1,240,120,null,null,8,0,null,1,48,0,"","","River/Stream","None",0,0,0,0,0,0,0,1,0,"Mid-stage",1,"Clear",1,"None",0,0,0,0,0,null,0,"Absent","Absent","Absent","Absent","Absent","Absent","Absent","Present","Recorded","South Fork Root River","South Fork Root River",1,1,"Win Cres","TCTU","070400080803","Middle South Fork Root River","South Fork Root River"]
["Dev: DBParsing_231030_v01.xlsm","TLg1dprxEmZsOTQVk6PT","2021-04-30T14:58:46","2021-04-30T08:58:46","2021-04-30",2021,4,"ZMmGOOwucYXE3nEMRlAJSj4Cg8c2",null,-92.844196506503181,45.070680434321751,null,"https://firebasestorage.googleapis.com/v0/b/wiseh2odev-83a9b.appspot.com/o/PhotoCapture%2F2021-04-30%2009:58:29.157262.jpg-0.jpg?alt=media&token=e01adffa-0268-4876-b1d4-e49cccb5e42d",1,null,1,180,60,null,null,7,0,null,0,null,1,0,1,"River/Stream","None",0,0,0,0,0,0,0,1,0,"Baseflow",1,"Clear",1,"None",0,0,0,0,0,"Trout in Classroom, Stillwater High School..",1,"Absent","Absent","Absent","Absent","Absent","Absent","Absent","Present","Recorded","Browns Creek","Browns Creek",1,"","Twin Cities","TCTU","070300050907","Browns Creek","Big Marine Lake-Saint Croix River"]
["Dev: DBParsing_231030_v01.xlsm","OIJLnCZY5hOBQDi62mq0","2021-04-29T17:15:08","2021-04-29T11:15:08","2021-04-29",2021,4,"79D4QMcZb1SeulClPI33vBZYFLY2",null,-92.271521225553101,44.544327648468581,null,"",0,null,1,240,180,null,null,8,1,0,1,52,1,0,2,"River/Stream","None",0,0,0,0,0,0,0,1,0,"Baseflow",1,"Clear",1,"None",0,0,0,0,0,null,0,"Absent","Absent","Absent","Absent","Absent","Absent","Absent","Present","Recorded",0,0,1,1,"Wisconsin Clear Water","Kiap-TU-Wish","070400010702","Pine Creek","Lake Pepin"]
["Dev: DBParsing_231030_v01.xlsm","ELqUaFzW3qTtPaEjrWEr","2021-04-27T19:04:07","2021-04-27T13:04:07","2021-04-27",2021,4,"f7qMRlnlkOgrA1xpaxXrTTeRGWX2","",-92.631981372555899,44.85204517057057,null,"https://firebasestorage.googleapis.com/v0/b/wiseh2odev-83a9b.appspot.com/o/PhotoCapture%2F2021-04-27%2014:03:59.504891.jpg-0.jpg?alt=media&token=4f97cbc8-b4ea-47d9-99c7-125c5f8dde4c",1,null,1,240,180,null,null,7.5,1,0,1,48,1,0,5,"River/Stream","None",0,0,0,0,0,0,0,1,0,"Baseflow",1,"Clear",1,"Local Thunderstorm",0,1,0,0,0,"Glen Park pavilion. Measurements at Swinging Gate.",1,"Absent","Absent","Absent","Absent","Absent","Absent","Absent","Present","Recorded","South Fork Kinnickinnic River","South Fork Kinnickinnic River",1,1,"Kiap TU Wish","Kiap-TU-Wish","070300051103","South Fork Kinnickinnic River","Kinnickinnic River"]
["Dev: DBParsing_231030_v01.xlsm","h4S8ndCxyEaKnqWsp4kC","2021-04-25T12:41:07","2021-04-25T06:41:07","2021-04-25",2021,4,"OnQxi2VoMPY5EZMXmvNCgpa39dS2",null,-92.409256139728598,43.997053430699573,null,"",0,null,0,"",null,null,null,null,0,null,1,47,0,"","","","",-1,-1,-1,-1,-1,-1,-1,-1,1,null,0,null,0,"",-1,-1,-1,-1,1,null,0,"No Data","No Data","No Data","No Data","No Data","No Data","No Data","No Data","No Data","","","","","Hiawatha","Hiawatha","070400040106","Bear Creek","South Fork Zumbro River"]
["Dev: DBParsing_231030_v01.xlsm","eohtf5TMh17uy1IlK7wi","2021-04-24T22:07:49","2021-04-24T16:07:49","2021-04-24",2021,4,"JXs3JH9frrZM0ZdjV8qFZY0NE3P2",null,-92.529872434006364,44.793813370324692,null,"",0,null,1,240,180,null,null,7.5,1,0,1,48,1,0.15,1,"River/Stream","",-1,-1,-1,-1,-1,-1,-1,-1,1,"Baseflow",1,"Clear",1,"None",0,0,0,0,0,"air temp 53, cloudy",1,"No Data","No Data","No Data","No Data","No Data","No Data","No Data","No Data","No Data","Trimbelle River","Trimbelle River",1,"","Kiap TU Wish","Kiap-TU-Wish","070400010301","Goose Creek-Trimbelle River","Trimbelle River"]
["Dev: DBParsing_231030_v01.xlsm","oyBIwD5HnZAtBLTlPkCs","2021-04-24T20:59:35","2021-04-24T14:59:35","2021-04-24",2021,4,"OnQxi2VoMPY5EZMXmvNCgpa39dS2",null,-92.563637599564686,44.502613488314573,null,"",0,null,0,"",null,null,null,null,1,0,0,null,0,"","",null,"",-1,-1,-1,-1,-1,-1,-1,-1,1,null,0,null,0,"",-1,-1,-1,-1,1,null,0,"No Data","No Data","No Data","No Data","No Data","No Data","No Data","No Data","No Data","Hay Creek","Hay Creek",1,"","Twin Cities","Hiawatha","070400010401","Hay Creek","Hay Creek-Mississippi River"]
["Dev: DBParsing_231030_v01.xlsm","YXv7jvjqGIHBxGfRzCPE","2021-04-24T20:55:24","2021-04-24T14:55:24","2021-04-24",2021,4,"OnQxi2VoMPY5EZMXmvNCgpa39dS2",null,-92.563648998215086,44.502609920464401,null,"",0,null,0,"",null,null,null,null,1,0,1,47,0,"","",null,"",-1,-1,-1,-1,-1,-1,-1,-1,1,null,0,null,0,"",-1,-1,-1,-1,1,null,0,"No Data","No Data","No Data","No Data","No Data","No Data","No Data","No Data","No Data","Hay Creek","Hay Creek",1,"","Twin Cities","Hiawatha","070400010401","Hay Creek","Hay Creek-Mississippi River"]
["Dev: DBParsing_231030_v01.xlsm","qzBRZmnTXcQKAYKTnqGF","2021-04-24T15:26:25","2021-04-24T09:26:25","2021-04-24",2021,4,"W8BGw5bKR3fOoqYynHo0kID39br2",null,-92.225699399999996,43.886580299999999,null,"https://firebasestorage.googleapis.com/v0/b/wiseh2odev-83a9b.appspot.com/o/PhotoCapture%2F2021-04-24%2010%3A26%3A14.246872.jpg-0.jpg?alt=media&token=75511fd2-764f-4cc5-acc4-614afd794033https://firebasestorage.googleapis.com/v0/b/wiseh2odev-83a9b.appspot.com/o/PhotoCapture%2F2021-04-24%2010%3A26%3A14.246872.jpg-1.jpg?alt=media&token=4bc5428b-71e0-4e11-948a-fbd1706bb8dd",1,null,1,240,180,null,null,7.5,1,0,1,48,0,"","","River/Stream","",-1,-1,-1,-1,-1,-1,-1,-1,1,"Baseflow",1,"Clear",1,"None",0,0,0,0,0,"mill creek hwy 52 bridge",1,"No Data","No Data","No Data","No Data","No Data","No Data","No Data","No Data","No Data","Mill Creek","Mill Creek",1,"","Hiawatha","Hiawatha","070400080107","Mill Creek","North Branch Root River"]
["Dev: DBParsing_231030_v01.xlsm","wMbD0Q2D5ohWnws0TLD7","2021-04-23T14:44:35","2021-04-23T08:44:35","2021-04-23",2021,4,"aPffmw8BEWfof4TYloC3SpL9sQk1",null,-91.979313500000004,44.070467399999998,null,"https://firebasestorage.googleapis.com/v0/b/wiseh2odev-83a9b.appspot.com/o/PhotoCapture%2F2021-04-23%2009%3A44%3A16.409923.jpg-0.jpg?alt=media&token=f3e8ee8b-2b88-41e4-b862-83df4fd39f88",1,null,1,240,120,null,null,7.5,1,100,1,47,1,0,0,"River/Stream","None",0,0,0,0,0,0,0,1,0,"Baseflow",1,"Clear",1,"None",0,0,0,0,0,null,0,"Absent","Absent","Absent","Absent","Absent","Absent","Absent","Present","Recorded","South Fork Whitewater River","South Fork Whitewater River",1,"","Win Cres","Hiawatha","070400030307","Lower South Fork Whitewater River","Whitewater River"]
["Dev: DBParsing_231030_v01.xlsm","5iL0Raq21pcIpjrbZ8f0","2021-04-22T18:56:24","2021-04-22T12:56:24","2021-04-22",2021,4,"1EGgnWfh2qRbpNTG5LFnBsUH5Z43",null,-92.844252660956997,45.070676459041486,null,"",0,null,0,"",null,null,null,null,0,null,0,null,1,0.15,1,"River/Stream","",-1,-1,-1,-1,-1,-1,-1,-1,1,null,0,null,0,"",-1,-1,-1,-1,1,null,0,"No Data","No Data","No Data","No Data","No Data","No Data","No Data","No Data","No Data","Browns Creek","Browns Creek",1,"","Twin Cities","TCTU","070300050907","Browns Creek","Big Marine Lake-Saint Croix River"]
["Dev: DBParsing_231030_v01.xlsm","3l3BtN10HaGg8OBO3i2Y","2021-04-21T17:22:31","2021-04-21T11:22:31","2021-04-21",2021,4,"6oemLSFIHIXnYk5OuejKZ9Uhljr1","",-91.823791425549103,43.642551610720723,null,"",0,null,1,240,180,null,null,7.5,1,0,1,41,1,0,5,"River/Stream","",-1,-1,-1,-1,-1,-1,-1,-1,1,"Baseflow",1,"Clear",1,"None",0,0,0,0,0,null,0,"No Data","No Data","No Data","No Data","No Data","No Data","No Data","No Data","No Data","South Fork Root River","South Fork Root River",1,1,"Win Cres","Hiawatha","070400080803","Middle South Fork Root River","South Fork Root River"]
["Dev: DBParsing_231030_v01.xlsm","mTfOEfPLosKDAHFko8MA","2021-04-21T17:22:31","2021-04-21T11:22:31","2021-04-21",2021,4,"6oemLSFIHIXnYk5OuejKZ9Uhljr1","",-91.823910604210994,43.642487458387663,null,"",0,null,1,240,180,null,null,7.5,1,0,1,41,1,0,0,"River/Stream","",-1,-1,-1,-1,-1,-1,-1,-1,1,"Baseflow",1,"Clear",1,"None",0,0,0,0,0,null,0,"No Data","No Data","No Data","No Data","No Data","No Data","No Data","No Data","No Data","South Fork Root River","South Fork Root River",1,1,"Win Cres","Hiawatha","070400080803","Middle South Fork Root River","South Fork Root River"]
["Dev: DBParsing_231030_v01.xlsm","cARTZEdcdO8diTVYjZY4","2021-04-20T16:38:08","2021-04-20T10:38:08","2021-04-20",2021,4,"79D4QMcZb1SeulClPI33vBZYFLY2",null,-92.529861764129762,44.789740806614972,null,"",0,null,1,240,120,null,null,7,1,0,1,48,1,0,2,"Springs","None",0,0,0,0,0,0,0,1,0,"Baseflow",1,"Clear",1,"None",0,0,0,0,0,null,0,"Absent","Absent","Absent","Absent","Absent","Absent","Absent","Present","Recorded","Trimbelle River","Trimbelle River",1,"","Kiap TU Wish","Kiap-TU-Wish","070400010301","Goose Creek-Trimbelle River","Trimbelle River"]
["Dev: DBParsing_231030_v01.xlsm","0K9EQlnYk7zJ9rbVhiSv","2021-04-19T23:46:57","2021-04-19T17:46:57","2021-04-19",2021,4,"5RQuWak2yTbCLXixyDsqyBCU9CA2","Rocky Branch Creek, Lower Glen Park",-92.643476199999995,44.842803400000001,null,"https://firebasestorage.googleapis.com/v0/b/wiseh2odev-83a9b.appspot.com/o/PhotoCapture%2F2021-04-19%2018%3A45%3A29.624569.jpg-0.jpg?alt=media&token=eb63e8b0-86a0-4011-8c88-7ccfe070bca6",1,null,1,240,120,null,null,7.5,1,0,1,46,0,"","","River/Stream","None",0,0,0,0,0,0,0,1,0,"Baseflow",1,"Clear",1,"None",0,0,0,0,0,null,0,"Absent","Absent","Absent","Absent","Absent","Absent","Absent","Present","Recorded","Kinnickinnic River","Kinnickinnic River",1,"","Kiap TU Wish","Kiap-TU-Wish","070300051105","Lower Kinnickinnic Pond-Kinnickinnic River","Kinnickinnic River"]
["Dev: DBParsing_231030_v01.xlsm","VnC61XMOCVA0abCfQNhl","2021-04-19T20:36:02","2021-04-19T14:36:02","2021-04-19",2021,4,"1EGgnWfh2qRbpNTG5LFnBsUH5Z43",null,-92.929012309846399,44.369979780208659,null,"",0,null,1,180,180,null,null,6.5,0,null,0,null,0,"","","River/Stream","",-1,-1,-1,-1,-1,-1,-1,-1,1,null,0,null,0,"",-1,-1,-1,-1,1,null,0,"No Data","No Data","No Data","No Data","No Data","No Data","No Data","No Data","No Data","Little Cannon River","Little Cannon River",1,"","Hiawatha","TCTU","070400020702","Middle Little Cannon River","Little Cannon River"]
["Dev: DBParsing_231030_v01.xlsm","UeLYzF57DMAUvbZ9ilCA","2021-04-17T20:59:31","2021-04-17T14:59:31","2021-04-17",2021,4,"UFn0tvcbhgPvJSgEiNtnlwyA9Ch2",null,-92.841066612840763,45.070332052614056,null,"https://firebasestorage.googleapis.com/v0/b/wiseh2odev-83a9b.appspot.com/o/PhotoCapture%2F2021-04-17%2015:58:33.588122.jpg-0.jpg?alt=media&token=61dcbbbe-32de-4ffb-926b-59b4a8bbaf60",1,null,1,240,120,null,null,7,1,100,1,51,1,0,1,"River/Stream","None",0,0,0,0,0,0,0,1,0,"Mid-stage",1,"Murky",1,"",-1,-1,-1,-1,1,"Browns Creek Trail",1,"Absent","Absent","Absent","Absent","Absent","Absent","Absent","Present","Recorded","Browns Creek","Browns Creek",1,"","Twin Cities","Kiap-TU-Wish","070300050907","Browns Creek","Big Marine Lake-Saint Croix River"]
["Dev: DBParsing_231030_v01.xlsm","fAOTkeNpySyp61GAJwdv","2021-04-17T20:08:09","2021-04-17T14:08:09","2021-04-17",2021,4,"UFn0tvcbhgPvJSgEiNtnlwyA9Ch2",null,-92.833819587080484,45.074986534190771,null,"",0,null,1,240,120,null,null,7.5,0,null,0,null,1,0,1,"River/Stream","None",0,0,0,0,0,0,0,1,0,"Mid-stage",1,"Murky",1,"",-1,-1,-1,-1,1,null,0,"Absent","Absent","Absent","Absent","Absent","Absent","Absent","Present","Recorded","Browns Creek","Browns Creek",1,"","Twin Cities","Kiap-TU-Wish","070300050907","Browns Creek","Big Marine Lake-Saint Croix River"]
["Dev: DBParsing_231030_v01.xlsm","mfRpw8VFrTkEBeNY3wAp","2021-04-16T21:45:26","2021-04-16T15:45:26","2021-04-16",2021,4,"OnQxi2VoMPY5EZMXmvNCgpa39dS2",null,-92.409208557109039,43.997110876854812,null,"",0,null,0,"",null,null,null,null,1,0,1,51,0,"","","River/Stream","",-1,-1,-1,-1,-1,-1,-1,-1,1,null,0,null,0,"",-1,-1,-1,-1,1,null,0,"No Data","No Data","No Data","No Data","No Data","No Data","No Data","No Data","No Data","","","","","Hiawatha","Hiawatha","070400040106","Bear Creek","South Fork Zumbro River"]
["Dev: DBParsing_231030_v01.xlsm","7CLHccgcjdAFIX02u6pW","2021-04-16T20:48:24","2021-04-16T14:48:24","2021-04-16",2021,4,"9SWyLZDRS8gsuAD2Vpf6duBiFib2","",-92.115760823008316,44.021346312476439,null,"",0,null,1,240,120,null,null,8,1,0,1,51,1,0,10,"River/Stream","",-1,-1,-1,-1,-1,-1,-1,-1,1,"Baseflow",1,"Clear",1,"None",0,0,0,0,0,null,0,"No Data","No Data","No Data","No Data","No Data","No Data","No Data","No Data","No Data","Crow Spring","Crow Spring",1,1,"Hiawatha","Hiawatha","070400030305","Middle Fork Whitewater River","Whitewater River"]
["Dev: DBParsing_231030_v01.xlsm","21nFhfi8h8JXZzHqOCfe","2021-04-16T15:30:03","2021-04-16T09:30:03","2021-04-16",2021,4,"80reiKTTqGYqqpgYAhPwqypFwak1",null,-92.250203378584459,44.302601600107089,null,"",0,null,0,"",null,null,null,null,0,null,0,null,0,"","","River/Stream","",-1,-1,-1,-1,-1,-1,-1,-1,1,null,0,null,0,"",-1,-1,-1,-1,1,"spring creek. wabasha county.  needs HIP badly.  could be nice stream",1,"No Data","No Data","No Data","No Data","No Data","No Data","No Data","No Data","No Data","Spring Creek","Spring Creek",1,"","Hiawatha","Hiawatha","070400040509","Spring Creek","Zumbro River"]
["Dev: DBParsing_231030_v01.xlsm","s1BxIoYT3fmCb3GYNjZv","2021-04-14T20:39:54","2021-04-14T14:39:54","2021-04-14",2021,4,"3ewh0JhsqndewkOhEmNvJ9cb0n83","Cady Creek @ 50th St",-92.14708669119716,44.793250216212861,null,"",0,null,1,240,180,null,null,7,1,0,1,45,1,0,0,"River/Stream","Pipe/Drain Outflow,None",0,0,0,1,0,0,0,1,0,"Baseflow",1,"Clear",1,"None",0,0,0,0,0,null,0,"Absent","Absent","Absent","Present","Absent","Absent","Absent","Present","Recorded","Cady Creek","Cady Creek",1,1,"Kiap TU Wish","Kiap-TU-Wish","070500051003","Cady Creek","Eau Galle River"]
["Dev: DBParsing_231030_v01.xlsm","PzMV1eyJlB8q5Wv2PMXO","2021-04-12T21:06:32","2021-04-12T15:06:32","2021-04-12",2021,4,"UFn0tvcbhgPvJSgEiNtnlwyA9Ch2",null,-92.829586375312687,45.050514832743332,null,"",0,null,1,180,60,null,null,7.5,1,100,1,43,1,0,1,"River/Stream","",-1,-1,-1,-1,-1,-1,-1,-1,1,null,0,null,0,"",-1,-1,-1,-1,1,null,0,"No Data","No Data","No Data","No Data","No Data","No Data","No Data","No Data","No Data","","","","","Twin Cities","Kiap-TU-Wish","070300051201","City of Stillwater-Lake Saint Croix","Lake Saint Croix"]
["Dev: DBParsing_231030_v01.xlsm","lms1oFrtMGbB7A9v1haO","2021-04-11T16:23:04","2021-04-11T10:23:04","2021-04-11",2021,4,"1EGgnWfh2qRbpNTG5LFnBsUH5Z43",null,-92.567434525203481,44.738420750987473,null,"",0,null,1,240,180,null,null,7,0,null,1,47,1,0,0,"River/Stream","",-1,-1,-1,-1,-1,-1,-1,-1,1,null,0,"Murky",1,"",-1,-1,-1,-1,1,null,0,"No Data","No Data","No Data","No Data","No Data","No Data","No Data","No Data","No Data","Trimbelle River","Trimbelle River",1,"","Kiap TU Wish","TCTU","070400010303","Spring Creek-Trimbelle River","Trimbelle River"]
["Dev: DBParsing_231030_v01.xlsm","ib3CtvDHYoEjoN3RDYuv","2021-04-07T19:33:06","2021-04-07T13:33:06","2021-04-07",2021,4,"3ewh0JhsqndewkOhEmNvJ9cb0n83","Cady Creek @ 50th St",-92.147012259896982,44.793193177361779,null,"https://firebasestorage.googleapis.com/v0/b/wiseh2odev-83a9b.appspot.com/o/PhotoCapture%2F2021-04-07%2014:20:47.999900.jpg-0.jpg?alt=media&token=0fe5c4a4-a46f-4efd-a217-52ff9b519508",1,null,1,240,60,null,null,7,1,100,1,58,1,0,1,"River/Stream","None",0,0,0,0,0,0,0,1,0,"Bankfull Stage",1,"Muddy",1,"Regional Rainfall",1,0,0,0,0,null,0,"Absent","Absent","Absent","Absent","Absent","Absent","Absent","Present","Recorded","Cady Creek","Cady Creek",1,1,"Kiap TU Wish","Kiap-TU-Wish","070500051003","Cady Creek","Eau Galle River"]
["Dev: DBParsing_231030_v01.xlsm","bvZJkvNkELZaeCCJpLxL","2021-04-06T18:44:47","2021-04-06T12:44:47","2021-04-06",2021,4,"7a7IFD1YT3aDXB8CbnSJjn1oLRC2",null,-92.443071892571126,44.621350667480954,null,"",0,null,1,240,180,null,null,8,1,0,1,53,1,0.15,2,"River/Stream","None",0,0,0,0,0,0,0,1,0,"Baseflow",1,"Clear",1,"None",0,0,0,0,0,null,0,"Absent","Absent","Absent","Absent","Absent","Absent","Absent","Present","Recorded","Isabelle Creek","Isabelle Creek",1,"","Kiap TU Wish","Unknown","070400010701","Isabelle Creek","Lake Pepin"]
["Dev: DBParsing_231030_v01.xlsm","uuUDZM4Nfl1HqjhgBQGe","2021-04-03T16:15:06","2021-04-03T10:15:06","2021-04-03",2021,4,"f7qMRlnlkOgrA1xpaxXrTTeRGWX2",null,-92.100119165061443,44.036374513993728,null,"https://firebasestorage.googleapis.com/v0/b/wiseh2odev-83a9b.appspot.com/o/PhotoCapture%2F2021-04-03%2011:12:29.814181.jpg-0.jpg?alt=media&token=95c158cb-2201-4edf-a646-22c47ae70ffc",1,null,1,240,120,null,null,8,1,0,1,45,1,0,0,"River/Stream","None",0,0,0,0,0,0,0,1,0,"Baseflow",1,"Clear",1,"None",0,0,0,0,0,"",0,"Absent","Absent","Absent","Absent","Absent","Absent","Absent","Present","Recorded","Middle Fork Whitewater River","Middle Fork Whitewater River",1,"","Hiawatha","Kiap-TU-Wish","070400030305","Middle Fork Whitewater River","Whitewater River"]
["Dev: DBParsing_231030_v01.xlsm","PZayREpekgLuhbRT9vHL","2021-04-02T23:53:13","2021-04-02T17:53:13","2021-04-02",2021,4,"JXs3JH9frrZM0ZdjV8qFZY0NE3P2","SF Kinnickinnic River @ 900th St",-92.583471307767297,44.84885099590867,null,"",0,null,1,240,180,null,null,7.5,1,0,1,50,1,0.15,2,"River/Stream","",-1,-1,-1,-1,-1,-1,-1,-1,1,"Baseflow",1,"Clear",1,"None",0,0,0,0,0,null,0,"No Data","No Data","No Data","No Data","No Data","No Data","No Data","No Data","No Data","South Fork Kinnickinnic River","South Fork Kinnickinnic River",1,1,"Kiap TU Wish","Kiap-TU-Wish","070300051103","South Fork Kinnickinnic River","Kinnickinnic River"]
["Dev: DBParsing_231030_v01.xlsm","NZdtWnQ0c0lC5UkmHRGe","2021-03-28T17:19:47","2021-03-28T11:19:47","2021-03-28",2021,3,"VCf2q8JFBSOaJbmxiMqirI5xKFn2","Pine Creek @ County Rd. AA",-92.283337712373836,44.543928913813588,null,"",0,null,1,240,120,null,null,7.5,1,0,1,48,1,0,2,"River/Stream","None",0,0,0,0,0,0,0,1,0,"Baseflow",1,"Clear",1,"None",0,0,0,0,0,null,0,"Absent","Absent","Absent","Absent","Absent","Absent","Absent","Present","Recorded","Pine Creek","Pine Creek",1,1,"Wisconsin Clear Water","Kiap-TU-Wish","070400010702","Pine Creek","Lake Pepin"]
["Dev: DBParsing_231030_v01.xlsm","dmOJWGFa91NMTIaZl4WX","2021-03-26T19:35:40","2021-03-26T13:35:40","2021-03-26",2021,3,"b5Q5MWoIy9OOBrhn8HbZMPPsGST2",null,-91.809458257852455,44.004705956599409,null,"https://firebasestorage.googleapis.com/v0/b/wiseh2odev-83a9b.appspot.com/o/PhotoCapture%2F2021-03-26%2014:35:15.087480.jpg-0.jpg?alt=media&token=64b764c4-f659-45fd-9f5e-2148b7f32692",1,null,0,"",180,null,null,7.5,0,null,0,null,1,0,2,"River/Stream","Trash",0,0,1,0,0,0,0,0,0,"Baseflow",1,"Clear",1,"None",0,0,0,0,0,"Garvin Brook 2017 HI below Farmers Park",1,"Absent","Absent","Present","Absent","Absent","Absent","Absent","Absent","Recorded","Garvin Brook","Garvin Brook",1,1,"Win Cres","Agency/University","070400030502","Garvin Brook","Garvin Brook"]
["Dev: DBParsing_231030_v01.xlsm","CuE8QD1TCAd4Yu6piLDm","2021-03-20T21:52:17","2021-03-20T15:52:17","2021-03-20",2021,3,"JXs3JH9frrZM0ZdjV8qFZY0NE3P2","Other Locations",-92.583265400000002,44.8483789,null,"",0,null,1,180,180,null,null,7.5,1,0,0,null,0,"","","River/Stream","",-1,-1,-1,-1,-1,-1,-1,-1,1,"Baseflow",1,"Clear",1,"None",0,0,0,0,0,null,0,"No Data","No Data","No Data","No Data","No Data","No Data","No Data","No Data","No Data","South Fork Kinnickinnic River","South Fork Kinnickinnic River",1,1,"Kiap TU Wish","Kiap-TU-Wish","070300051103","South Fork Kinnickinnic River","Kinnickinnic River"]
["Dev: DBParsing_231030_v01.xlsm","Sm74eudbMV2Z5goYpbm0","2021-03-20T00:21:58","2021-03-19T18:21:58","2021-03-19",2021,3,"ZL2DLndmAQQRpHe8BYu3GQtS33w1","Rush River @ 570th Ave",-92.331246806318447,44.746032949276255,null,"",0,null,1,180,120,null,null,7,1,100,1,43,1,0.15,2,"River/Stream","",-1,-1,-1,-1,-1,-1,-1,-1,1,"Baseflow",1,"Clear",1,"None",0,0,0,0,0,"low and gin clear",1,"No Data","No Data","No Data","No Data","No Data","No Data","No Data","No Data","No Data","Rush River","Rush River",1,1,"Kiap TU Wish","Kiap-TU-Wish","070400010505","Brush Creek-Rush River","Rush River"]
["Dev: DBParsing_231030_v01.xlsm","ebLSz2th89g83p0PYm9P","2021-03-13T20:10:53","2021-03-13T14:10:53","2021-03-13",2021,3,"ywUFLgiRYPVoUUSi7cN16v6wqzq1","",-89.543352338909429,42.94878286438869,null,"https://firebasestorage.googleapis.com/v0/b/wiseh2odev-83a9b.appspot.com/o/PhotoCapture%2F2021-03-13%2014:10:34.367679.jpg-0.jpg?alt=media&token=dc1ec820-3e67-4410-8e9a-67c854f6aff3",1,null,1,240,180,null,null,7,1,0,1,49,1,0.15,1,"River/Stream","None",0,0,0,0,0,0,0,1,0,"Mid-stage",1,"Murky",1,"Warmth Causing Snowmelt",0,0,1,0,0,"small mayfly hatch ",1,"Absent","Absent","Absent","Absent","Absent","Absent","Absent","Present","Recorded","Sugar River","Sugar River","","","S. Wisconsin","Southern Wisconsin","070900040203","Paoli-Sugar River","Headwaters Sugar River"]
["Dev: DBParsing_231030_v01.xlsm","xwzO0S1zVw6fy8cs6hJr","2021-03-11T17:00:14","2021-03-11T11:00:14","2021-03-11",2021,3,"f7qMRlnlkOgrA1xpaxXrTTeRGWX2","Trimbelle River @ County Rd W",-92.529877160573619,44.793730812655959,null,"https://firebasestorage.googleapis.com/v0/b/wiseh2odev-83a9b.appspot.com/o/PhotoCapture%2F2021-03-11%2010:59:51.765261.jpg-0.jpg?alt=media&token=f4876c19-248a-4f29-b3ee-30093542fe5e",1,null,1,240,60,null,null,6.5,1,0,1,37,1,0,0,"River/Stream","None",0,0,0,0,0,0,0,1,0,"Mid-stage",1,"Murky",1,"Regional Rainfall,Warmth Causing Snowmelt",1,0,1,0,0,"Record warmth on 3/9/21 and rainfall on 3/10 (0.75” in Hudson) lead to spring runoff event.",1,"Absent","Absent","Absent","Absent","Absent","Absent","Absent","Present","Recorded","Trimbelle River","Trimbelle River",1,"","Kiap TU Wish","Kiap-TU-Wish","070400010301","Goose Creek-Trimbelle River","Trimbelle River"]
["Dev: DBParsing_231030_v01.xlsm","2t4dI46uT8NwytmKFp2h","2021-01-20T20:11:14","2021-01-20T14:11:14","2021-01-20",2021,1,"79D4QMcZb1SeulClPI33vBZYFLY2",null,-92.529709893290644,44.789695785643332,null,"",0,null,1,240,180,null,null,7,1,0,1,46,1,0,2,"Springs","None",0,0,0,0,0,0,0,1,0,"Baseflow",1,"Clear",1,"None",0,0,0,0,0,null,0,"Absent","Absent","Absent","Absent","Absent","Absent","Absent","Present","Recorded","Trimbelle River","Trimbelle River",1,"","Kiap TU Wish","Kiap-TU-Wish","070400010301","Goose Creek-Trimbelle River","Trimbelle River"]
["Dev: DBParsing_231030_v01.xlsm","TncsNDJvS9dVFXBRO4hk","2021-01-13T16:50:25","2021-01-13T10:50:25","2021-01-13",2021,1,"f7qMRlnlkOgrA1xpaxXrTTeRGWX2","Pine Creek @ County Rd. AA",-92.28432182287824,44.542245818259083,null,"",0,null,0,"",null,null,null,null,1,0,1,44,1,0,2,"River/Stream","None",0,0,0,0,0,0,0,1,0,"Baseflow",1,"Clear",1,"None",0,0,0,0,0,"Winter baseflow observation. Some duckweed along channel edges.",1,"Absent","Absent","Absent","Absent","Absent","Absent","Absent","Present","Recorded","Pine Creek","Pine Creek",1,1,"Wisconsin Clear Water","Kiap-TU-Wish","070400010702","Pine Creek","Lake Pepin"]
["Dev: DBParsing_231030_v01.xlsm","KPCyWBYusieEfPoYwO9s","2020-12-20T20:26:36","2020-12-20T14:26:36","2020-12-20",2020,12,"QhsIWYhrIqTEP85lM4VNR256zUH2","",-91.656057536687385,44.827048606281011,null,"",0,null,1,240,0,null,null,6,0,null,0,null,0,"","",null,"",-1,-1,-1,-1,-1,-1,-1,-1,1,"Baseflow",1,null,0,"",-1,-1,-1,-1,1,null,0,"No Data","No Data","No Data","No Data","No Data","No Data","No Data","No Data","No Data","Elk Creek","Elk Creek",1,1,"Wisconsin Clear Water","Wisconsin Clear Waters","070500050602","Elk Creek Lake-Elk Creek","Elk Creek"]
["Dev: DBParsing_231030_v01.xlsm","cL69fNgbwfTSGQqjLoxI","2020-12-04T21:33:16","2020-12-04T15:33:16","2020-12-04",2020,12,"80reiKTTqGYqqpgYAhPwqypFwak1",null,-92.263834700074284,43.631053366738961,null,"",0,null,0,"",null,null,null,null,0,null,1,0,0,"","",null,"",-1,-1,-1,-1,-1,-1,-1,-1,1,null,0,null,0,"",-1,-1,-1,-1,1,null,0,"No Data","No Data","No Data","No Data","No Data","No Data","No Data","No Data","No Data",0,0,"","","Hiawatha","Hiawatha","070400080404","Forestville Creek","South Branch Root River"]
["Dev: DBParsing_231030_v01.xlsm","bieavWD49ayoQsvForvW","2020-11-05T16:46:08","2020-11-05T10:46:08","2020-11-05",2020,11,"79D4QMcZb1SeulClPI33vBZYFLY2",null,-92.284318713281024,44.54224261648875,null,"",0,null,1,240,120,null,null,7,1,0,1,46,1,0,5,"River/Stream","None",0,0,0,0,0,0,0,1,0,"Baseflow",1,"Clear",1,"None",0,0,0,0,0,null,0,"Absent","Absent","Absent","Absent","Absent","Absent","Absent","Present","Recorded","Pine Creek","Pine Creek",1,1,"Wisconsin Clear Water","Kiap-TU-Wish","070400010702","Pine Creek","Lake Pepin"]
["Dev: DBParsing_231030_v01.xlsm","QCEtEdvjK2kbUcfKXxne","2020-11-03T17:56:57","2020-11-03T11:56:57","2020-11-03",2020,11,"79D4QMcZb1SeulClPI33vBZYFLY2",null,-92.529779035384365,44.793645291975928,null,"",0,null,1,240,60,null,null,7,0,null,0,null,1,0.15,2,"River/Stream","None",0,0,0,0,0,0,0,1,0,"Baseflow",1,"Clear",1,"None",0,0,0,0,0,null,0,"Absent","Absent","Absent","Absent","Absent","Absent","Absent","Present","Recorded","Trimbelle River","Trimbelle River",1,"","Kiap TU Wish","Kiap-TU-Wish","070400010301","Goose Creek-Trimbelle River","Trimbelle River"]
["Dev: DBParsing_231030_v01.xlsm","25PGwUb5lUA3N42PutYI","2020-10-24T14:48:45","2020-10-24T08:48:45","2020-10-24",2020,10,"xYjaaWkJX4fiKpH7uMmSdC5YE0h2","Other Locations",-88.136452599999998,41.754592000000002,null,"",0,null,1,240,60,null,null,7,0,null,1,50,1,0,2,"River/Stream","Trash",0,0,1,0,0,0,0,0,0,"Overbank Flooding",1,"Muddy",1,"Regional Rainfall",1,0,0,0,0,null,0,"Absent","Absent","Present","Absent","Absent","Absent","Absent","Absent","Recorded","West Branch Du Page River","West Branch Du Page River","","",0,"Oak Brook","071200040805","Lower West Branch Du Page River","Du Page River"]
["Dev: DBParsing_231030_v01.xlsm","sYmHKhmKokaof1HzWtfF","2020-10-12T17:58:05","2020-10-12T11:58:05","2020-10-12",2020,10,"3ewh0JhsqndewkOhEmNvJ9cb0n83","Cady Creek @ 50th St",-92.146993903529037,44.793184963096671,null,"https://firebasestorage.googleapis.com/v0/b/wiseh2odev-83a9b.appspot.com/o/PhotoCapture%2F2020-10-12%2012:52:17.940464.jpg-0.jpg?alt=media&token=aa550390-22b4-404c-8cd0-ad8d14fac4c6",1,null,1,240,120,null,null,7.5,1,100,1,51,1,0,0,"River/Stream","",-1,-1,-1,-1,-1,-1,-1,-1,1,"Baseflow",1,"Clear",1,"None",0,0,0,0,0,null,0,"No Data","No Data","No Data","No Data","No Data","No Data","No Data","No Data","No Data","Cady Creek","Cady Creek",1,1,"Kiap TU Wish","Kiap-TU-Wish","070500051003","Cady Creek","Eau Galle River"]
["Dev: DBParsing_231030_v01.xlsm","78FVnXXCQeI2JyXDGTX5","2020-10-10T16:09:35","2020-10-10T10:09:35","2020-10-10",2020,10,"a61SOYPc3eOGfrAJu30rsKXhQUA3",null,-92.342776675981384,44.75321740116788,null,"",0,null,1,240,30,null,null,7.5,0,null,1,49,0,"","","River/Stream","None",0,0,0,0,0,0,0,1,0,"Baseflow",1,"Clear",1,"None",0,0,0,0,0,null,0,"Absent","Absent","Absent","Absent","Absent","Absent","Absent","Present","Recorded","Rush River","Rush River",1,1,"Kiap TU Wish","Kiap-TU-Wish","070400010505","Brush Creek-Rush River","Rush River"]
["Dev: DBParsing_231030_v01.xlsm","k74DpzIN1BsrA4kJjyOy","2020-10-04T16:47:54","2020-10-04T10:47:54","2020-10-04",2020,10,"RFOcPacep0e15rSw11dBGOgUM5o1",null,-89.376276899999993,43.381790299999999,null,"https://firebasestorage.googleapis.com/v0/b/wiseh2odev-83a9b.appspot.com/o/PhotoCapture%2F2020-10-04%2011%3A47%3A50.561474.jpg-0.jpg?alt=media&token=467247dc-84b4-4ca3-9781-538d4b1c0e08",1,null,0,"",null,null,null,null,0,null,1,54,0,"","",null,"",-1,-1,-1,-1,-1,-1,-1,-1,1,"Baseflow",1,"Clear",1,"",-1,-1,-1,-1,1,null,0,"No Data","No Data","No Data","No Data","No Data","No Data","No Data","No Data","No Data","Rowan Creek","Rowan Creek",1,"","Aldo Leopold","Southern Wisconsin","070700050202","Rowan Creek","Prairie du Sac Dam-Wisconsin River"]
["Dev: DBParsing_231030_v01.xlsm","qDzq4xBW3Vk0amyqhLIo","2020-09-27T19:02:46","2020-09-27T13:02:46","2020-09-27",2020,9,"f7qMRlnlkOgrA1xpaxXrTTeRGWX2","Pine Creek @ County Rd. AA",-92.284314094459077,44.542218930471961,null,"",0,null,1,240,180,null,null,7.5,1,0,1,49,1,0,0,"River/Stream","None",0,0,0,0,0,0,0,1,0,"Baseflow",1,"Clear",1,"None",0,0,0,0,0,null,0,"Absent","Absent","Absent","Absent","Absent","Absent","Absent","Present","Recorded","Pine Creek","Pine Creek",1,1,"Wisconsin Clear Water","Kiap-TU-Wish","070400010702","Pine Creek","Lake Pepin"]
["Dev: DBParsing_231030_v01.xlsm","9GMN9qoYjTsieP8mPQZc","2020-09-26T21:04:47","2020-09-26T15:04:47","2020-09-26",2020,9,"QhsIWYhrIqTEP85lM4VNR256zUH2","",-91.656794808890353,44.826682107564828,null,"",0,null,1,240,60,null,null,6,0,null,0,null,1,0.15,1,null,"",-1,-1,-1,-1,-1,-1,-1,-1,1,"",0,"Clear",1,"",-1,-1,-1,-1,1,null,0,"No Data","No Data","No Data","No Data","No Data","No Data","No Data","No Data","No Data","Elk Creek","Elk Creek",1,1,"Wisconsin Clear Water","Wisconsin Clear Waters","070500050602","Elk Creek Lake-Elk Creek","Elk Creek"]
["Dev: DBParsing_231030_v01.xlsm","EE77XnHjAGsI1UXrwig0","2020-09-26T20:58:28","2020-09-26T14:58:28","2020-09-26",2020,9,"QhsIWYhrIqTEP85lM4VNR256zUH2","",-91.656752480279337,44.826706037898383,null,"",0,null,1,240,60,null,null,6,0,null,0,null,1,0.15,1,null,"",-1,-1,-1,-1,-1,-1,-1,-1,1,"",0,"Clear",1,"",-1,-1,-1,-1,1,null,0,"No Data","No Data","No Data","No Data","No Data","No Data","No Data","No Data","No Data","Elk Creek","Elk Creek",1,1,"Wisconsin Clear Water","Wisconsin Clear Waters","070500050602","Elk Creek Lake-Elk Creek","Elk Creek"]
["Dev: DBParsing_231030_v01.xlsm","3pdmUsYeOl234FcpBRfb","2020-09-25T00:03:35","2020-09-24T18:03:35","2020-09-24",2020,9,"rpHx3Va4Addyv6ZLeQhGZeANEEF2",null,-91.665465533943845,43.916492282386997,null,"",0,null,1,240,120,null,null,8,1,200,0,null,0,"","",null,"Bank Erosion,Livestock in Water",0,1,0,0,1,0,0,0,0,"Baseflow",1,"Clear",1,"Local Thunderstorm",0,1,0,0,0,null,0,"Absent","Present","Absent","Absent","Present","Absent","Absent","Absent","Recorded",0,0,1,"","Win Cres","Win-Cres","070400080601","Upper Money Creek","Money Creek"]
["Dev: DBParsing_231030_v01.xlsm","MTN1wgYy399J1vRa064Q","2020-09-22T00:31:03","2020-09-21T18:31:03","2020-09-21",2020,9,"rpHx3Va4Addyv6ZLeQhGZeANEEF2",null,-91.7815968000195,44.023964107735857,null,"",0,null,1,240,120,null,null,7.5,1,200,1,0,1,0,5,"River/Stream","Bank Erosion",0,1,0,0,0,0,0,0,0,"Baseflow",1,"Clear",1,"None",0,0,0,0,0,null,0,"Absent","Present","Absent","Absent","Absent","Absent","Absent","Absent","Recorded","Garvin Brook","Garvin Brook",1,1,"Win Cres","Win-Cres","070400030502","Garvin Brook","Garvin Brook"]
["Dev: DBParsing_231030_v01.xlsm","HaHQjUIWJZit4wuiN9CC","2020-09-20T23:56:41","2020-09-20T17:56:41","2020-09-20",2020,9,"a2iVDfAZsXbAYw8fNroBpibgO6Y2",null,-93.195760510948659,44.944463060279325,null,"",0,null,0,"",null,null,null,null,0,null,0,null,0,"","",null,"",-1,-1,-1,-1,-1,-1,-1,-1,1,null,0,null,0,"",-1,-1,-1,-1,1,null,0,"No Data","No Data","No Data","No Data","No Data","No Data","No Data","No Data","No Data","","","","","Twin Cities","Kiap-TU-Wish","070102060703","Saint Anthony Falls-Mississippi River","City of Minneapolis-Mississippi River"]
["Dev: DBParsing_231030_v01.xlsm","GogZFqpVDZFoIEVew0MA","2020-09-17T17:34:23","2020-09-17T11:34:23","2020-09-17",2020,9,"qmROCqQx86UtTueFq7I5ueZyhdl2",null,-91.023808799999998,44.568874000000001,null,"https://firebasestorage.googleapis.com/v0/b/wiseh2odev-83a9b.appspot.com/o/PhotoCapture%2F2020-09-17%2012%3A30%3A03.330619.jpg-0.jpg?alt=media&token=ae0c5dd5-f848-4bec-ae51-5532bd1eebc3https://firebasestorage.googleapis.com/v0/b/wiseh2odev-83a9b.appspot.com/o/PhotoCapture%2F2020-09-17%2012%3A30%3A03.330619.jpg-1.jpg?alt=media&token=f06ef1bc-18ca-463d-bf9b-a5ea8d4b94b5",1,null,1,180,0,null,null,6,0,null,0,null,1,0,1,"River/Stream","None",0,0,0,0,0,0,0,1,0,"Baseflow",1,"Clear",1,"None",0,0,0,0,0,null,0,"Absent","Absent","Absent","Absent","Absent","Absent","Absent","Present","Recorded","North Fork Buffalo River","North Fork Buffalo River",1,1,"Wisconsin Clear Water","Agency/University","070400030101","North Fork of the Buffalo River","Harvey Creek-Buffalo River"]
["Dev: DBParsing_231030_v01.xlsm","8dDcAzblfZV2gLNYaWCA","2020-09-17T17:06:29","2020-09-17T11:06:29","2020-09-17",2020,9,"qmROCqQx86UtTueFq7I5ueZyhdl2","",-91.144956199999996,44.588073600000001,null,"https://firebasestorage.googleapis.com/v0/b/wiseh2odev-83a9b.appspot.com/o/PhotoCapture%2F2020-09-17%2012%3A06%3A14.684132.jpg-0.jpg?alt=media&token=4622768b-f016-4c53-ae82-a0c251eb1373https://firebasestorage.googleapis.com/v0/b/wiseh2odev-83a9b.appspot.com/o/PhotoCapture%2F2020-09-17%2012%3A06%3A14.684132.jpg-1.jpg?alt=media&token=dc5eef41-7f37-49ea-bd77-63e2337e24d8",1,null,1,180,0,null,null,6,1,100,1,54,1,0,1,"River/Stream","None",0,0,0,0,0,0,0,1,0,"Mid-stage",1,"Clear",1,"None",0,0,0,0,0,null,0,"Absent","Absent","Absent","Absent","Absent","Absent","Absent","Present","Recorded","Buffalo River","Buffalo River",1,1,"Wisconsin Clear Water","Agency/University","070400030101","North Fork of the Buffalo River","Harvey Creek-Buffalo River"]
["Dev: DBParsing_231030_v01.xlsm","Oi9AmfXappo3uSZj3sTD","2020-09-16T21:54:04","2020-09-16T15:54:04","2020-09-16",2020,9,"1EGgnWfh2qRbpNTG5LFnBsUH5Z43",null,-91.5424755402762,43.742616791318859,null,"https://firebasestorage.googleapis.com/v0/b/wiseh2odev-83a9b.appspot.com/o/PhotoCapture%2F2020-09-16%2016:53:06.677376.jpg-0.jpg?alt=media&token=5ccb82e1-c861-4007-86c9-b39db99ad55a",1,null,0,"",null,null,null,null,0,null,0,null,0,"","","River/Stream","",-1,-1,-1,-1,-1,-1,-1,-1,1,"Baseflow",1,"Clear",1,"None",0,0,0,0,0,null,0,"No Data","No Data","No Data","No Data","No Data","No Data","No Data","No Data","No Data","Swede Bottom Creek","Swede Bottom Creek",1,1,"Win Cres","TCTU","070400080806","Lower South Fork Root River","South Fork Root River"]
["Dev: DBParsing_231030_v01.xlsm","rZ94RMOrn5mHBqjPkJ7B","2020-09-16T20:48:25","2020-09-16T14:48:25","2020-09-16",2020,9,"1EGgnWfh2qRbpNTG5LFnBsUH5Z43",null,-91.564060114409358,43.73193866577347,null,"https://firebasestorage.googleapis.com/v0/b/wiseh2odev-83a9b.appspot.com/o/PhotoCapture%2F2020-09-16%2015:44:43.651495.jpg-0.jpg?alt=media&token=a26b84a4-85d8-4ff0-a594-c0eb1de3095f",1,null,0,"",null,null,null,null,0,null,0,null,0,"","","River/Stream","",-1,-1,-1,-1,-1,-1,-1,-1,1,"Baseflow",1,"Murky",1,"None",0,0,0,0,0,null,0,"No Data","No Data","No Data","No Data","No Data","No Data","No Data","No Data","No Data","Badger Creek","Badger Creek",1,1,"Win Cres","TCTU","070400080806","Lower South Fork Root River","South Fork Root River"]
["Dev: DBParsing_231030_v01.xlsm","Wjksy7tFD2LKokVLKGIW","2020-09-13T19:37:00","2020-09-13T13:37:00","2020-09-13",2020,9,"f7qMRlnlkOgrA1xpaxXrTTeRGWX2",null,-92.268484653033823,44.542786081108339,null,"",0,null,1,240,180,null,null,7,1,0,1,45,1,0.15,2,"Springs","None",0,0,0,0,0,0,0,1,0,"Baseflow",1,"Clear",1,"None",0,0,0,0,0,"Spring at Pine Creek headwaters.",1,"Absent","Absent","Absent","Absent","Absent","Absent","Absent","Present","Recorded",0,0,1,1,"Wisconsin Clear Water","Kiap-TU-Wish","070400010702","Pine Creek","Lake Pepin"]
["Dev: DBParsing_231030_v01.xlsm","dGmP0jSoe6NWkrE6EUxg","2020-09-11T16:21:49","2020-09-11T10:21:49","2020-09-11",2020,9,"qmROCqQx86UtTueFq7I5ueZyhdl2",null,-91.691783799999996,44.567956199999998,null,"https://firebasestorage.googleapis.com/v0/b/wiseh2odev-83a9b.appspot.com/o/PhotoCapture%2F2020-09-11%2011%3A21%3A35.740600.jpg-0.jpg?alt=media&token=ecf0d04b-58d5-4634-abb5-20eff1a7b731https://firebasestorage.googleapis.com/v0/b/wiseh2odev-83a9b.appspot.com/o/PhotoCapture%2F2020-09-11%2011%3A21%3A35.740600.jpg-1.jpg?alt=media&token=f46b52d0-d475-4574-b82a-06685d66249a",1,null,1,240,120,null,null,7,1,100,1,50,1,0,2,null,"None",0,0,0,0,0,0,0,1,0,"Mid-stage",1,"Muddy",1,"Regional Rainfall",1,0,0,0,0,null,0,"Absent","Absent","Absent","Absent","Absent","Absent","Absent","Present","Recorded","Harvey Creek","Harvey Creek","",1,"Wisconsin Clear Water","Agency/University","070400030107","Harvey Creek","Harvey Creek-Buffalo River"]
["Dev: DBParsing_231030_v01.xlsm","Zan9DoNa6A8LayrFgyOU","2020-09-10T18:45:36","2020-09-10T12:45:36","2020-09-10",2020,9,"qmROCqQx86UtTueFq7I5ueZyhdl2",null,-91.650702499999994,44.254164199999998,null,"https://firebasestorage.googleapis.com/v0/b/wiseh2odev-83a9b.appspot.com/o/PhotoCapture%2F2020-09-10%2013%3A41%3A30.176760.jpg-0.jpg?alt=media&token=05dbd770-7b29-401b-a391-449f85f8af01",1,null,1,240,180,null,null,7.5,1,0,1,49,1,0.15,2,null,"",-1,-1,-1,-1,-1,-1,-1,-1,1,null,0,null,0,"",-1,-1,-1,-1,1,null,0,"No Data","No Data","No Data","No Data","No Data","No Data","No Data","No Data","No Data","Eagle Creek","Eagle Creek",1,1,"Wisconsin Clear Water","Agency/University","070400030404","Eagle Creek","Waumaundee Creek"]
["Dev: DBParsing_231030_v01.xlsm","kURQVeHI3KKuVBaE1x04","2020-09-10T17:10:35","2020-09-10T11:10:35","2020-09-10",2020,9,"qmROCqQx86UtTueFq7I5ueZyhdl2",null,-91.741531300000005,44.166658900000002,null,"https://firebasestorage.googleapis.com/v0/b/wiseh2odev-83a9b.appspot.com/o/PhotoCapture%2F2020-09-10%2012%3A09%3A29.693535.jpg-0.jpg?alt=media&token=d5781d46-c892-4d6b-8a98-645fe8f54377",1,null,1,240,180,null,null,7.5,0,null,0,null,1,0.15,2,"River/Stream","None",0,0,0,0,0,0,0,1,0,"Baseflow",1,"Muddy",1,"Local Thunderstorm",0,1,0,0,0,null,0,"Absent","Absent","Absent","Absent","Absent","Absent","Absent","Present","Recorded","Eagle Creek","Eagle Creek","","","Wisconsin Clear Water","Agency/University","070400030404","Eagle Creek","Waumaundee Creek"]
["Dev: DBParsing_231030_v01.xlsm","SMwXnVBYIlTc3LjvGmBr","2020-09-07T16:02:40","2020-09-07T10:02:40","2020-09-07",2020,9,"JXs3JH9frrZM0ZdjV8qFZY0NE3P2",null,-92.583488700000004,44.848870400000003,null,"",0,null,1,240,120,null,null,8,1,0,0,null,1,0.15,2,"River/Stream","",-1,-1,-1,-1,-1,-1,-1,-1,1,"Baseflow",1,"Murky",1,"None",0,0,0,0,0,null,0,"No Data","No Data","No Data","No Data","No Data","No Data","No Data","No Data","No Data","South Fork Kinnickinnic River","South Fork Kinnickinnic River",1,1,"Kiap TU Wish","Kiap-TU-Wish","070300051103","South Fork Kinnickinnic River","Kinnickinnic River"]
["Dev: DBParsing_231030_v01.xlsm","3gXksUcmwVEvU0Vso7Qz","2020-08-29T21:29:05","2020-08-29T15:29:05","2020-08-29",2020,8,"iM6NG2oxmwYGFNqSq6skS4Odguo2",null,-91.655668697279083,44.795723944705351,null,"",0,null,1,180,30,null,null,7,0,null,0,null,0,"","","River/Stream","",-1,-1,-1,-1,-1,-1,-1,-1,1,"Baseflow",1,"Murky",1,"None",0,0,0,0,0,null,0,"No Data","No Data","No Data","No Data","No Data","No Data","No Data","No Data","No Data","Elk Creek","Elk Creek",1,"","Wisconsin Clear Water","Wisconsin Clear Waters","070500050602","Elk Creek Lake-Elk Creek","Elk Creek"]
["Dev: DBParsing_231030_v01.xlsm","cHOLtu3JKssAvIRieVVi","2020-08-25T21:13:17","2020-08-25T15:13:17","2020-08-25",2020,8,"iM6NG2oxmwYGFNqSq6skS4Odguo2",null,-91.528095041288765,44.721349865380411,null,"",0,null,1,180,0,null,null,6,0,null,0,null,0,"","","Groundwater Well","",-1,-1,-1,-1,-1,-1,-1,-1,1,null,0,null,0,"",-1,-1,-1,-1,1,null,0,"No Data","No Data","No Data","No Data","No Data","No Data","No Data","No Data","No Data","","","","","Wisconsin Clear Water","Wisconsin Clear Waters","070500050704","West Creek","Lowes Creek-Chippewa River"]
["Dev: DBParsing_231030_v01.xlsm","RwVOyQ7o9m9VRaw7WjRJ","2020-08-25T20:28:03","2020-08-25T14:28:03","2020-08-25",2020,8,"iM6NG2oxmwYGFNqSq6skS4Odguo2",null,-91.65584080481942,44.795854775166532,null,"",0,null,0,"",null,null,null,null,0,null,1,71,0,"","","River/Stream","",-1,-1,-1,-1,-1,-1,-1,-1,1,null,0,null,0,"",-1,-1,-1,-1,1,null,0,"No Data","No Data","No Data","No Data","No Data","No Data","No Data","No Data","No Data","Elk Creek","Elk Creek",1,"","Wisconsin Clear Water","Wisconsin Clear Waters","070500050602","Elk Creek Lake-Elk Creek","Elk Creek"]
["Dev: DBParsing_231030_v01.xlsm","1n1xTR3vrUx8aU0hoTNh","2020-08-07T00:37:26","2020-08-06T18:37:26","2020-08-06",2020,8,"a61SOYPc3eOGfrAJu30rsKXhQUA3","",-92.363028265017761,44.789729157549679,null,"",0,null,1,240,30,null,null,7,0,null,1,60,0,"","","River/Stream","None",0,0,0,0,0,0,0,1,0,"Baseflow",1,"Clear",1,"None",0,0,0,0,0,null,0,"Absent","Absent","Absent","Absent","Absent","Absent","Absent","Present","Recorded","Rush River","Rush River",1,1,"Kiap TU Wish","Kiap-TU-Wish","070400010505","Brush Creek-Rush River","Rush River"]
["Dev: DBParsing_231030_v01.xlsm","y6LvC8mVOJWUAsZppPeE","2020-08-04T18:47:33","2020-08-04T12:47:33","2020-08-04",2020,8,"qmROCqQx86UtTueFq7I5ueZyhdl2",null,-91.452492899999996,44.359726299999998,null,"https://firebasestorage.googleapis.com/v0/b/wiseh2odev-83a9b.appspot.com/o/PhotoCapture%2F2020-08-04%2013%3A43%3A08.475748.jpg-0.jpg?alt=media&token=8e6d42a1-97ad-44bf-9516-6f14ec4d5667https://firebasestorage.googleapis.com/v0/b/wiseh2odev-83a9b.appspot.com/o/PhotoCapture%2F2020-08-04%2013%3A43%3A08.475748.jpg-1.jpg?alt=media&token=6ec8531f-86de-4a48-9924-7281da229a36",1,null,1,240,180,null,null,8.5,0,null,1,58,1,0,0,null,"Pipe/Drain Outflow",0,0,0,1,0,0,0,0,0,"Mid-stage",1,"Murky",1,"None",0,0,0,0,0,null,0,"Absent","Absent","Absent","Present","Absent","Absent","Absent","Absent","Recorded","Traverse Valley Creek","Traverse Valley Creek","","","Wisconsin Clear Water","Agency/University","070400050402","Traverse Valley Creek","Middle Trempealeau River"]
["Dev: DBParsing_231030_v01.xlsm","S1D1u2kjXL1elpBGmxaq","2020-07-23T14:23:58","2020-07-23T08:23:58","2020-07-23",2020,7,"79D4QMcZb1SeulClPI33vBZYFLY2",null,-92.53189302989432,44.787328235440846,null,"",0,null,1,240,120,null,null,8,1,0,1,53,1,0,5,"River/Stream","None",0,0,0,0,0,0,0,1,0,"Baseflow",1,"Clear",1,"None",0,0,0,0,0,null,0,"Absent","Absent","Absent","Absent","Absent","Absent","Absent","Present","Recorded","Trimbelle River","Trimbelle River",1,"","Kiap TU Wish","Kiap-TU-Wish","070400010301","Goose Creek-Trimbelle River","Trimbelle River"]
["Dev: DBParsing_231030_v01.xlsm","xuEDcmZxso84MEKjilQi","2020-07-08T19:29:08","2020-07-08T13:29:08","2020-07-08",2020,7,"f7qMRlnlkOgrA1xpaxXrTTeRGWX2",null,-92.256891093022958,44.544204950704817,null,"",0,null,1,240,180,null,null,8,1,0,1,59,1,0,0,"River/Stream","Bank Erosion",0,1,0,0,0,0,0,0,0,"Baseflow",1,"Clear",1,"None",0,0,0,0,0,"Upper Pine Creek, near M2 monitoring site.",1,"Absent","Present","Absent","Absent","Absent","Absent","Absent","Absent","Recorded",0,0,1,1,"Wisconsin Clear Water","Kiap-TU-Wish","070400010702","Pine Creek","Lake Pepin"]
["Dev: DBParsing_231030_v01.xlsm","M7Zgu2qWuGKgEpGEnSbm","2020-07-01T16:47:20","2020-07-01T10:47:20","2020-07-01",2020,7,"VHRlmHCbVSYpoT7Xubj2OGSvIFl1","SF Kinnickinnic River @ 900th St",-92.644954934047959,44.843592580782129,null,"https://firebasestorage.googleapis.com/v0/b/wiseh2odev-83a9b.appspot.com/o/PhotoCapture%2F2020-07-01%2011:43:35.197956.jpg-0.jpg?alt=media&token=da080409-c7ba-4e16-9cd6-d4ff7ffe8807",1,null,1,240,30,null,null,7,1,100,1,66,1,0.15,2,"River/Stream","None",0,0,0,0,0,0,0,1,0,null,0,null,0,"",-1,-1,-1,-1,1,"8 inch torrential rain 2 days ago washed out the river. now still bank full and muddy. ",1,"Absent","Absent","Absent","Absent","Absent","Absent","Absent","Present","Recorded","Kinnickinnic River","Kinnickinnic River",1,"","Kiap TU Wish","Kiap-TU-Wish","070300051105","Lower Kinnickinnic Pond-Kinnickinnic River","Kinnickinnic River"]
["Dev: DBParsing_231030_v01.xlsm","q1FlIOvje5qFOkoyMLrS","2020-06-20T22:24:11","2020-06-20T16:24:11","2020-06-20",2020,6,"79D4QMcZb1SeulClPI33vBZYFLY2",null,-92.613560913346362,44.886186607105742,null,"",0,null,1,240,120,null,null,7,0,null,0,null,1,0,0,"River/Stream","None",0,0,0,0,0,0,0,1,0,"Baseflow",1,"Clear",1,"Regional Rainfall",1,0,0,0,0,null,0,"Absent","Absent","Absent","Absent","Absent","Absent","Absent","Present","Recorded","Kinnickinnic River","Kinnickinnic River",1,"","Kiap TU Wish","Kiap-TU-Wish","070300051104","Parker Creek-Kinnickinnic River","Kinnickinnic River"]
["Dev: DBParsing_231030_v01.xlsm","6IK0SRuKZtVUoHH2x9ah","2020-06-19T20:48:39","2020-06-19T14:48:39","2020-06-19",2020,6,"f7qMRlnlkOgrA1xpaxXrTTeRGWX2",null,-92.6209006755942,44.876199383571162,null,"https://firebasestorage.googleapis.com/v0/b/wiseh2odev-83a9b.appspot.com/o/PhotoCapture%2F2020-06-19%2015:48:15.690683.jpg-0.jpg?alt=media&token=bf735d7a-130f-49e5-8c75-a61fb2289b9a",1,null,1,240,180,null,null,7.5,1,0,1,64,1,0,2,"River/Stream","Bank Erosion",0,1,0,0,0,0,0,0,0,"Baseflow",1,"Clear",1,"Regional Rainfall",1,0,0,0,0,"Observations at Sumner Creek. Thunderstorm on 6/18/20, with 0.9” of rain in Hudson. Stream is clear.",1,"Absent","Present","Absent","Absent","Absent","Absent","Absent","Absent","Recorded","Kinnickinnic River","Kinnickinnic River",1,"","Kiap TU Wish","Kiap-TU-Wish","070300051104","Parker Creek-Kinnickinnic River","Kinnickinnic River"]
["Dev: DBParsing_231030_v01.xlsm","BJyUEaZL2QbC4DCMmOxB","2020-06-19T19:51:52","2020-06-19T13:51:52","2020-06-19",2020,6,"f7qMRlnlkOgrA1xpaxXrTTeRGWX2",null,-92.732208249728316,44.830974199185754,null,"https://firebasestorage.googleapis.com/v0/b/wiseh2odev-83a9b.appspot.com/o/PhotoCapture%2F2020-06-19%2014:51:41.056297.jpg-0.jpg?alt=media&token=361fa065-a181-4699-a8cd-a43b3bb27b29",1,null,1,240,120,null,null,8,1,0,1,63,1,0,5,"River/Stream","Bank Erosion",0,1,0,0,0,0,0,0,0,"Baseflow",1,"Clear",1,"Regional Rainfall",1,0,0,0,0,"Thunderstorm on 6/18/20, with 0.9” of rain in Hudson. Only slight turbidity and little hydrograph response.",1,"Absent","Present","Absent","Absent","Absent","Absent","Absent","Absent","Recorded","Kinnickinnic River","Kinnickinnic River",1,"","Kiap TU Wish","Kiap-TU-Wish","070300051105","Lower Kinnickinnic Pond-Kinnickinnic River","Kinnickinnic River"]
["Dev: DBParsing_231030_v01.xlsm","93PqtWIGeQTyPbiBDAYp","2020-06-09T16:13:59","2020-06-09T10:13:59","2020-06-09",2020,6,"b5Q5MWoIy9OOBrhn8HbZMPPsGST2",null,-92.115674503233393,44.020694098476341,null,"2020-06-09 11:12:55.101098.jpg",1,null,1,240,120,null,null,7.5,1,100,0,null,1,0,5,"River/Stream","None",0,0,0,0,0,0,0,1,0,"Baseflow",1,"Clear",1,"None",0,0,0,0,0,"Middle Fork Whitewater, mostly pasture riparian zone",1,"Absent","Absent","Absent","Absent","Absent","Absent","Absent","Present","Recorded","Crow Spring","Crow Spring",1,1,"Hiawatha","Agency/University","070400030305","Middle Fork Whitewater River","Whitewater River"]
["Dev: DBParsing_231030_v01.xlsm","mQJvVfxFwNH71uxfPkEY","2020-06-09T15:14:52","2020-06-09T09:14:52","2020-06-09",2020,6,"b5Q5MWoIy9OOBrhn8HbZMPPsGST2",null,-91.931029474448366,44.157120343338846,null,"2020-06-09 10:14:06.994373.jpg",1,null,1,240,60,null,null,8,1,0,0,null,1,0,0,"River/Stream","None",0,0,0,0,0,0,0,1,0,"Baseflow",1,"Clear",1,"None",0,0,0,0,0,"Trout Valley Creek",1,"Absent","Absent","Absent","Absent","Absent","Absent","Absent","Present","Recorded","Trout Creek","Trout Creek",1,1,"Win Cres","Agency/University","070400030309","Trout Creek","Whitewater River"]
["Dev: DBParsing_231030_v01.xlsm","5D2QRF8FxdlU6IPODiFj","2020-06-08T18:20:59","2020-06-08T12:20:59","2020-06-08",2020,6,"b5Q5MWoIy9OOBrhn8HbZMPPsGST2",null,-92.026056954722876,44.215624686371733,null,"2020-06-08 13:20:11.606811.jpg",1,null,1,240,60,null,null,7.5,0,null,0,null,1,0,5,"River/Stream","None",0,0,0,0,0,0,0,1,0,"Baseflow",1,"Clear",1,"None",0,0,0,0,0,"East Indian",1,"Absent","Absent","Absent","Absent","Absent","Absent","Absent","Present","Recorded","East Indian Creek","East Indian Creek",1,1,"Win Cres","Agency/University","070400030603","East Indian Creek","City of Winona-Mississippi River"]
["Dev: DBParsing_231030_v01.xlsm","YxczvVfSqfrOmvFG7Wan","2020-06-08T16:47:49","2020-06-08T10:47:49","2020-06-08",2020,6,"b5Q5MWoIy9OOBrhn8HbZMPPsGST2",null,-92.14339940817294,44.236267386045526,null,"2020-06-08 11:47:01.613989.jpg",1,null,1,240,60,null,null,8,0,null,0,null,1,0,5,"River/Stream","Bank Erosion",0,1,0,0,0,0,0,0,0,"Baseflow",1,"Clear",1,"None",0,0,0,0,0,"West Indian Creek",1,"Absent","Present","Absent","Absent","Absent","Absent","Absent","Absent","Recorded","West Indian Creek","West Indian Creek",1,1,"Hiawatha","Agency/University","070400040510","West Indian Creek","Zumbro River"]
["Dev: DBParsing_231030_v01.xlsm","RkCtlJEjk9xcyy3QI7Md","2020-06-05T20:40:08","2020-06-05T14:40:08","2020-06-05",2020,6,"BKxKRQr8KiaMAjrJWzKb6GrNJCm1","Isabelle Creek @ County Rd. EE",-92.442900638713382,44.621369178943972,null,"",0,null,1,240,30,null,null,8,0,null,1,52,1,0.15,5,null,"None",0,0,0,0,0,0,0,1,0,"Baseflow",1,"Clear",1,"None",0,0,0,0,0,null,0,"Absent","Absent","Absent","Absent","Absent","Absent","Absent","Present","Recorded","Isabelle Creek","Isabelle Creek",1,"","Kiap TU Wish","Kiap-TU-Wish","070400010701","Isabelle Creek","Lake Pepin"]
["Dev: DBParsing_231030_v01.xlsm","nW9U529YRY7ZvdAZxDvW","2020-06-04T19:52:18","2020-06-04T13:52:18","2020-06-04",2020,6,"b5Q5MWoIy9OOBrhn8HbZMPPsGST2",null,-91.800628015857001,44.010147820267832,null,"2020-06-04 14:51:35.226120.jpg",1,null,1,240,60,null,null,9,0,null,0,null,0,"","","River/Stream","None",0,0,0,0,0,0,0,1,0,"Baseflow",1,"Clear",1,"None",0,0,0,0,0,"Garvin Brook",1,"Absent","Absent","Absent","Absent","Absent","Absent","Absent","Present","Recorded","Garvin Brook","Garvin Brook",1,1,"Win Cres","Agency/University","070400030502","Garvin Brook","Garvin Brook"]
["Dev: DBParsing_231030_v01.xlsm","USVvYUXcRJSJEyGhMkwR","2020-06-04T18:27:44","2020-06-04T12:27:44","2020-06-04",2020,6,"b5Q5MWoIy9OOBrhn8HbZMPPsGST2",null,-91.979279564779233,44.070406998548719,null,"2020-06-04 13:26:13.148621.jpg",1,null,1,240,30,null,null,8,0,null,0,null,0,"","","River/Stream","",-1,-1,-1,-1,-1,-1,-1,-1,1,"Baseflow",1,"Muddy",1,"None",0,0,0,0,0,"South Fork Whitewater, very dirty from stream habitat work",1,"No Data","No Data","No Data","No Data","No Data","No Data","No Data","No Data","No Data","South Fork Whitewater River","South Fork Whitewater River",1,"","Win Cres","Agency/University","070400030307","Lower South Fork Whitewater River","Whitewater River"]
["Dev: DBParsing_231030_v01.xlsm","OxZAQuzQUv7KZBZN53Gf","2020-06-04T17:30:53","2020-06-04T11:30:53","2020-06-04",2020,6,"b5Q5MWoIy9OOBrhn8HbZMPPsGST2","",-92.052995888602041,44.145367364440247,null,"2020-06-04 12:29:59.955214.jpg",1,null,1,240,60,null,null,8,0,null,0,null,0,"","","River/Stream","Bank Erosion",0,1,0,0,0,0,0,0,0,"Baseflow",1,"Clear",1,"None",0,0,0,0,0,"Beaver Creek",1,"Absent","Present","Absent","Absent","Absent","Absent","Absent","Absent","Recorded","Beaver Creek","Beaver Creek",1,"","Hiawatha","Agency/University","070400030308","Beaver Creek","Whitewater River"]
["Dev: DBParsing_231030_v01.xlsm","B4CY13CIcUXOYFNBeLzn","2020-06-01T00:34:43","2020-05-31T18:34:43","2020-05-31",2020,5,"b5Q5MWoIy9OOBrhn8HbZMPPsGST2",null,-92.068615984257377,43.870542319532362,null,"2020-05-31 19:34:08.249012.jpg",1,null,1,240,60,null,null,7.5,0,null,0,null,0,"","",null,"",-1,-1,-1,-1,-1,-1,-1,-1,1,"Baseflow",1,"Murky",1,"None",0,0,0,0,0,"Trout Run near Troy, MN",1,"No Data","No Data","No Data","No Data","No Data","No Data","No Data","No Data","No Data","Trout Run","Trout Run",1,"","Hiawatha","Agency/University","070400080302","Trout Run","Trout Run-Root River"]
["Dev: DBParsing_231030_v01.xlsm","2EhCAg4eRTAMMIg5rWby","2020-05-30T17:35:16","2020-05-30T11:35:16","2020-05-30",2020,5,"ZL2DLndmAQQRpHe8BYu3GQtS33w1","Rush River @ 570th Ave",-92.331429362097595,44.746202705978384,null,"2020-05-30 12:33:48.201277.jpg",1,null,1,240,30,null,null,7.5,1,100,1,56,1,0.15,2,"River/Stream","None",0,0,0,0,0,0,0,1,0,"Baseflow",1,"Murky",1,"Regional Rainfall",1,0,0,0,0,"more brown than green tint in the water ",1,"Absent","Absent","Absent","Absent","Absent","Absent","Absent","Present","Recorded","Rush River","Rush River",1,1,"Kiap TU Wish","Kiap-TU-Wish","070400010505","Brush Creek-Rush River","Rush River"]
["Dev: DBParsing_231030_v01.xlsm","jOvKqhAA2TmieYNfBLmF","2020-05-29T22:44:21","2020-05-29T16:44:21","2020-05-29",2020,5,"GfLB1jD8phNRjx5T5pEyOwWamYz2",null,-92.697031990062527,44.834439239646692,null,"",0,null,1,240,120,null,null,7.5,0,null,1,59,1,0,2,"River/Stream","None",0,0,0,0,0,0,0,1,0,"Mid-stage",1,"Murky",1,"None",0,0,0,0,0,null,0,"Absent","Absent","Absent","Absent","Absent","Absent","Absent","Present","Recorded","Kinnickinnic River","Kinnickinnic River",1,"","Kiap TU Wish","Kiap-TU-Wish","070300051105","Lower Kinnickinnic Pond-Kinnickinnic River","Kinnickinnic River"]
["Dev: DBParsing_231030_v01.xlsm","Le2urLXhQdpBPjmsEpm5","2020-05-29T22:30:43","2020-05-29T16:30:43","2020-05-29",2020,5,"f7qMRlnlkOgrA1xpaxXrTTeRGWX2",null,-92.73201000218036,44.831055917252826,null,"2020-05-29 17:26:58.208095.jpg",1,null,1,240,120,null,null,7.5,1,0,1,61,0,"","","River/Stream","Bank Erosion",0,1,0,0,0,0,0,0,0,"Baseflow",1,"Murky",1,"None",0,0,0,0,0,"Receding hydrograph and near baseflow after heavy rain on May 26-27. Slight turbidity but T-tube >60 cm.",1,"Absent","Present","Absent","Absent","Absent","Absent","Absent","Absent","Recorded","Kinnickinnic River","Kinnickinnic River",1,"","Kiap TU Wish","Kiap-TU-Wish","070300051105","Lower Kinnickinnic Pond-Kinnickinnic River","Kinnickinnic River"]
["Dev: DBParsing_231030_v01.xlsm","bz81gFOyQZOptAJ9GXjv","2020-05-29T21:41:49","2020-05-29T15:41:49","2020-05-29",2020,5,"f7qMRlnlkOgrA1xpaxXrTTeRGWX2","Trimbelle River @ County Rd W",-92.52986832948244,44.793668316818831,null,"2020-05-29 16:39:38.208997.jpg",1,null,1,240,180,null,null,7.5,1,0,1,61,0,"","","River/Stream","None",0,0,0,0,0,0,0,1,0,"Baseflow",1,"Clear",1,"None",0,0,0,0,0,"Heavy rain and over bank flow earlier in the week. T-tube today is >60 cm.",1,"Absent","Absent","Absent","Absent","Absent","Absent","Absent","Present","Recorded","Trimbelle River","Trimbelle River",1,"","Kiap TU Wish","Kiap-TU-Wish","070400010301","Goose Creek-Trimbelle River","Trimbelle River"]
["Dev: DBParsing_231030_v01.xlsm","bMhbEiaiNj428EUm9JDP","2020-05-29T20:00:30","2020-05-29T14:00:30","2020-05-29",2020,5,"GfLB1jD8phNRjx5T5pEyOwWamYz2",null,-92.613542744581238,44.886186336889153,null,"",0,null,1,240,120,null,null,7,0,null,0,null,1,0.15,2,"River/Stream","None",0,0,0,0,0,0,0,1,0,"Mid-stage",1,"Clear",1,"None",0,0,0,0,0,null,0,"Absent","Absent","Absent","Absent","Absent","Absent","Absent","Present","Recorded","Kinnickinnic River","Kinnickinnic River",1,"","Kiap TU Wish","Kiap-TU-Wish","070300051104","Parker Creek-Kinnickinnic River","Kinnickinnic River"]
["Dev: DBParsing_231030_v01.xlsm","6fAfZPcz4fmKB8zOKOlw","2020-05-28T21:33:29","2020-05-28T15:33:29","2020-05-28",2020,5,"f7qMRlnlkOgrA1xpaxXrTTeRGWX2","Plum Creek @ Plum CIty Park",-92.189864433164502,44.632838911070479,null,"2020-05-28 16:29:59.168825.jpg",1,null,1,240,120,null,null,7,1,0,1,66,0,"","","River/Stream","None",0,0,0,0,0,0,0,1,0,"Mid-stage",1,"Murky",1,"Regional Rainfall",1,0,0,0,0,"Heavy rain (>2”) in River Falls on May 26-27. No NO2 pad on 2-in-1 strip. App crashed on Run Test.",1,"Absent","Absent","Absent","Absent","Absent","Absent","Absent","Present","Recorded","Plum Creek","Plum Creek",1,1,"Kiap TU Wish","Kiap-TU-Wish","070500051101","Nugget Lake-Plum Creek","Plum Creek"]
["Dev: DBParsing_231030_v01.xlsm","zxp9YAYSEdQAKa8LOXW8","2020-05-28T18:46:46","2020-05-28T12:46:46","2020-05-28",2020,5,"f7qMRlnlkOgrA1xpaxXrTTeRGWX2","Pine Creek @ County Rd. AA",-92.284266435498296,44.542207150551768,null,"2020-05-28 13:44:24.815052.jpg",1,null,1,240,180,null,null,8,1,0,1,52,1,0,0,"River/Stream","None",0,0,0,0,0,0,0,1,0,"Baseflow",1,"Clear",1,"Regional Rainfall",1,0,0,0,0,"Heavy rainfall in River Falls (>2”) on May 26-27.",1,"Absent","Absent","Absent","Absent","Absent","Absent","Absent","Present","Recorded","Pine Creek","Pine Creek",1,1,"Wisconsin Clear Water","Kiap-TU-Wish","070400010702","Pine Creek","Lake Pepin"]
["Dev: DBParsing_231030_v01.xlsm","8BMu1Zg695phlLWDJSIF","2020-05-28T17:37:31","2020-05-28T11:37:31","2020-05-28",2020,5,"f7qMRlnlkOgrA1xpaxXrTTeRGWX2",null,-92.268552341889446,44.542851584149453,null,"2020-05-28 12:35:53.456451.jpg",1,null,1,240,180,null,null,7.5,1,0,1,46,1,0,2,"Springs","None",0,0,0,0,0,0,0,1,0,"Baseflow",1,"Clear",1,"Regional Rainfall",1,0,0,0,0,"Pine Creek headwaters spring.",1,"Absent","Absent","Absent","Absent","Absent","Absent","Absent","Present","Recorded",0,0,1,1,"Wisconsin Clear Water","Kiap-TU-Wish","070400010702","Pine Creek","Lake Pepin"]
["Dev: DBParsing_231030_v01.xlsm","K0aA4rORGl4dPqCq5Ztw","2020-05-22T20:41:53","2020-05-22T14:41:53","2020-05-22",2020,5,"f7qMRlnlkOgrA1xpaxXrTTeRGWX2",null,-92.731886076458125,44.830937472165147,null,"2020-05-22 15:39:35.118763.jpg",1,null,1,240,60,null,null,8,0,null,1,58,1,0,5,"River/Stream","",-1,-1,-1,-1,-1,-1,-1,-1,1,"Baseflow",1,"Clear",1,"None",0,0,0,0,0,"Bank erosion evident. Monitoring location at USGS flow gage.",1,"No Data","No Data","No Data","No Data","No Data","No Data","No Data","No Data","No Data","Kinnickinnic River","Kinnickinnic River",1,"","Kiap TU Wish","Kiap-TU-Wish","070300051105","Lower Kinnickinnic Pond-Kinnickinnic River","Kinnickinnic River"]
["Dev: DBParsing_231030_v01.xlsm","C4CX8szrStZ4aXiNC5vC","2020-05-21T21:23:23","2020-05-21T15:23:23","2020-05-21",2020,5,"f7qMRlnlkOgrA1xpaxXrTTeRGWX2","Trimbelle River @ County Rd W",-92.529863689351401,44.79370636512192,null,"2020-05-21 16:20:24.502162.jpg",1,null,0,"",null,null,null,null,1,0,1,59,1,0,2,"River/Stream","",-1,-1,-1,-1,-1,-1,-1,-1,1,"Baseflow",1,"Clear",1,"None",0,0,0,0,0,"Heavy rain (2.5”) on 5/17/20. Evjdence of over bank flow, and still slight turbidity today.",1,"No Data","No Data","No Data","No Data","No Data","No Data","No Data","No Data","No Data","Trimbelle River","Trimbelle River",1,"","Kiap TU Wish","Kiap-TU-Wish","070400010301","Goose Creek-Trimbelle River","Trimbelle River"]
["Dev: DBParsing_231030_v01.xlsm","yiBquoHiDasfIlvpaytZ","2020-05-21T17:37:49","2020-05-21T11:37:49","2020-05-21",2020,5,"f7qMRlnlkOgrA1xpaxXrTTeRGWX2",null,-92.268468781528441,44.542859061879327,null,"2020-05-21 12:36:32.094741.jpg",1,null,1,240,30,null,null,8,1,0,1,47,1,0,0,"Springs","",-1,-1,-1,-1,-1,-1,-1,-1,1,"Baseflow",1,"Clear",1,"None",0,0,0,0,0,"Pine Creek headwaters spring at Maiden Rock Legion Post",1,"No Data","No Data","No Data","No Data","No Data","No Data","No Data","No Data","No Data",0,0,1,1,"Wisconsin Clear Water","Kiap-TU-Wish","070400010702","Pine Creek","Lake Pepin"]
["Dev: DBParsing_231030_v01.xlsm","LBWFukcyC4ba0P0f9qKE","2020-05-21T16:37:51","2020-05-21T10:37:51","2020-05-21",2020,5,"f7qMRlnlkOgrA1xpaxXrTTeRGWX2","Pine Creek @ County Rd. AA",-92.284344648669006,44.542257270414801,null,"2020-05-21 11:33:54.254651.jpg",1,null,1,240,60,null,null,8,1,0,1,51,1,0.15,2,"River/Stream","",-1,-1,-1,-1,-1,-1,-1,-1,1,"Baseflow",1,"Clear",1,"None",0,0,0,0,0,"Heavy rain on 5/17/20, but stream is clear today, with baseflow condition.",1,"No Data","No Data","No Data","No Data","No Data","No Data","No Data","No Data","No Data","Pine Creek","Pine Creek",1,1,"Wisconsin Clear Water","Kiap-TU-Wish","070400010702","Pine Creek","Lake Pepin"]
["Dev: DBParsing_231030_v01.xlsm","s59z1q1bLipPg7JEAvHO","2020-05-20T17:49:08","2020-05-20T11:49:08","2020-05-20",2020,5,"VHRlmHCbVSYpoT7Xubj2OGSvIFl1",null,-92.645100600000006,44.8434867,null,"2020-05-20 12:29:35.186051.jpg",1,null,1,180,60,null,null,7,1,100,1,58,1,0,0,"River/Stream","None",0,0,0,0,0,0,0,1,0,"Mid-stage",1,"Clear",1,"None",0,0,0,0,0,"sky clear, 70 degrees at 12:30 pm. River is clear, too. Solid rain 3 days ago.",1,"Absent","Absent","Absent","Absent","Absent","Absent","Absent","Present","Recorded","Kinnickinnic River","Kinnickinnic River",1,"","Kiap TU Wish","Kiap-TU-Wish","070300051105","Lower Kinnickinnic Pond-Kinnickinnic River","Kinnickinnic River"]
["Dev: DBParsing_231030_v01.xlsm","Ca98se6iaFo4JNfhxoE0","2020-05-15T22:23:26","2020-05-15T16:23:26","2020-05-15",2020,5,"f7qMRlnlkOgrA1xpaxXrTTeRGWX2",null,-92.732115550089659,44.831205950397489,null,"",0,null,0,"",null,null,null,null,1,0,1,63,1,0,5,"River/Stream","",-1,-1,-1,-1,-1,-1,-1,-1,1,"Baseflow",1,"Clear",1,"None",0,0,0,0,0,null,0,"No Data","No Data","No Data","No Data","No Data","No Data","No Data","No Data","No Data","Kinnickinnic River","Kinnickinnic River",1,"","Kiap TU Wish","Kiap-TU-Wish","070300051105","Lower Kinnickinnic Pond-Kinnickinnic River","Kinnickinnic River"]
["Dev: DBParsing_231030_v01.xlsm","Gr0yvbRKpuf0oVMR9DEe","2020-05-07T15:57:20","2020-05-07T09:57:20","2020-05-07",2020,5,"a61SOYPc3eOGfrAJu30rsKXhQUA3",null,-92.363181905270395,44.789615146600653,null,"",0,null,1,240,60,null,null,7,0,null,1,47,0,"","","River/Stream","None",0,0,0,0,0,0,0,1,0,"Baseflow",1,"Clear",1,"None",0,0,0,0,0,null,0,"Absent","Absent","Absent","Absent","Absent","Absent","Absent","Present","Recorded","Rush River","Rush River",1,1,"Kiap TU Wish","Kiap-TU-Wish","070400010505","Brush Creek-Rush River","Rush River"]
["Dev: DBParsing_231030_v01.xlsm","Gr3usDZVgDJ1oXLrRSEl","2020-04-30T19:53:32","2020-04-30T13:53:32","2020-04-30",2020,4,"VHRlmHCbVSYpoT7Xubj2OGSvIFl1",null,-92.644949400000002,44.843532600000003,null,"2020-04-30 14:50:04.176943.jpg",1,null,1,40,120,null,null,7.5,1,100,1,55,1,0.15,0,"River/Stream","None",0,0,0,0,0,0,0,1,0,"Mid-stage",1,"Murky",1,"None",0,0,0,0,0,"river is normal level, a little color.  1 in rain 48 hours ago.\n",1,"Absent","Absent","Absent","Absent","Absent","Absent","Absent","Present","Recorded","Kinnickinnic River","Kinnickinnic River",1,"","Kiap TU Wish","Kiap-TU-Wish","070300051105","Lower Kinnickinnic Pond-Kinnickinnic River","Kinnickinnic River"]
["Dev: DBParsing_231030_v01.xlsm","s6891BxjEfY7DBbrx2D2","2020-04-24T15:32:04","2020-04-24T09:32:04","2020-04-24",2020,4,"ZL2DLndmAQQRpHe8BYu3GQtS33w1","Rush River @ 570th Ave",-92.33150816217794,44.746238581225043,null,"2020-04-24 10:31:03.114805.jpg",1,null,1,180,30,null,null,6.5,1,0,1,47,1,0,0,"River/Stream","None",0,0,0,0,0,0,0,1,0,"Baseflow",1,"Clear",1,"None",0,0,0,0,0,"slight tint",1,"Absent","Absent","Absent","Absent","Absent","Absent","Absent","Present","Recorded","Rush River","Rush River",1,1,"Kiap TU Wish","Kiap-TU-Wish","070400010505","Brush Creek-Rush River","Rush River"]
["Dev: DBParsing_231030_v01.xlsm","3gGGZWghim6t7j3fmtSt","2020-04-20T20:16:02","2020-04-20T14:16:02","2020-04-20",2020,4,"f7qMRlnlkOgrA1xpaxXrTTeRGWX2","Pine Creek @ County Rd. AA",-92.284345614597044,44.542218178444074,null,"2020-04-20 15:15:43.537155.jpg",1,null,0,"",null,null,null,null,1,0,0,null,1,0,2,"River/Stream","None",0,0,0,0,0,0,0,1,0,"Baseflow",1,"Clear",1,"None",0,0,0,0,0,null,0,"Absent","Absent","Absent","Absent","Absent","Absent","Absent","Present","Recorded","Pine Creek","Pine Creek",1,1,"Wisconsin Clear Water","Kiap-TU-Wish","070400010702","Pine Creek","Lake Pepin"]
["Dev: DBParsing_231030_v01.xlsm","17iEmgfJbcht6hvSJag1","2020-04-17T18:56:35","2020-04-17T12:56:35","2020-04-17",2020,4,"f7qMRlnlkOgrA1xpaxXrTTeRGWX2","Trimbelle River @ County Rd W",-92.52987502060904,44.793640747229446,null,"2020-04-17 13:56:20.691983.jpg",1,null,0,"",null,null,null,null,1,0,1,48,1,0,2,"River/Stream","None",0,0,0,0,0,0,0,1,0,"Baseflow",1,"Clear",1,"None",0,0,0,0,0,null,0,"Absent","Absent","Absent","Absent","Absent","Absent","Absent","Present","Recorded","Trimbelle River","Trimbelle River",1,"","Kiap TU Wish","Kiap-TU-Wish","070400010301","Goose Creek-Trimbelle River","Trimbelle River"]
["Dev: DBParsing_231030_v01.xlsm","3yGWrJkCeYntuJDgj26d","2020-04-17T18:17:13","2020-04-17T12:17:13","2020-04-17",2020,4,"f7qMRlnlkOgrA1xpaxXrTTeRGWX2",null,-92.52977324299674,44.78961883852768,null,"2020-04-17 13:16:07.056426.jpg",1,null,0,"",null,null,null,null,1,0,1,48,1,0,5,"Springs","None",0,0,0,0,0,0,0,1,0,"Baseflow",1,"Clear",1,"None",0,0,0,0,0,"Trimbelle River spring, with temperature logger shelter.",1,"Absent","Absent","Absent","Absent","Absent","Absent","Absent","Present","Recorded","Trimbelle River","Trimbelle River",1,"","Kiap TU Wish","Kiap-TU-Wish","070400010301","Goose Creek-Trimbelle River","Trimbelle River"]
["Dev: DBParsing_231030_v01.xlsm","8tYZNFTdr2Lom7c2gZiF","2020-04-17T17:04:41","2020-04-17T11:04:41","2020-04-17",2020,4,"f7qMRlnlkOgrA1xpaxXrTTeRGWX2",null,-92.732079613924,44.831094584490138,null,"2020-04-17 12:03:32.384972.jpg",1,null,0,"",null,null,null,null,1,0,1,45,1,0,5,"River/Stream","Bank Erosion",0,1,0,0,0,0,0,0,0,"Baseflow",1,"Clear",1,"None",0,0,0,0,0,"Baseflow conditions and clear water (note Secchi Disk).",1,"Absent","Present","Absent","Absent","Absent","Absent","Absent","Absent","Recorded","Kinnickinnic River","Kinnickinnic River",1,"","Kiap TU Wish","Kiap-TU-Wish","070300051105","Lower Kinnickinnic Pond-Kinnickinnic River","Kinnickinnic River"]
["Dev: DBParsing_231030_v01.xlsm","vcRDO4D5U7zMrUME4zQ5","2020-04-17T16:07:20","2020-04-17T10:07:20","2020-04-17",2020,4,"ZL2DLndmAQQRpHe8BYu3GQtS33w1","Rush River @ 570th Ave",-92.331413430933281,44.746262749320415,null,"2020-04-17 11:05:58.522395.jpg",1,null,1,240,30,null,null,6.5,1,0,1,42,1,0,0,"River/Stream","None",0,0,0,0,0,0,0,1,0,"Baseflow",1,"Clear",1,"None",0,0,0,0,0,"very clear and low bwos ",1,"Absent","Absent","Absent","Absent","Absent","Absent","Absent","Present","Recorded","Rush River","Rush River",1,1,"Kiap TU Wish","Kiap-TU-Wish","070400010505","Brush Creek-Rush River","Rush River"]
["Dev: DBParsing_231030_v01.xlsm","W1wRCbVLPwtFF55LBOMO","2020-04-11T20:25:26","2020-04-11T14:25:26","2020-04-11",2020,4,"79D4QMcZb1SeulClPI33vBZYFLY2",null,-92.162345613480639,44.585714911604938,null,"",0,null,0,"",null,null,null,null,0,null,1,48,0,"","","River/Stream","",-1,-1,-1,-1,-1,-1,-1,-1,1,"Baseflow",1,"Murky",1,"None",0,0,0,0,0,null,0,"No Data","No Data","No Data","No Data","No Data","No Data","No Data","No Data","No Data","Brunner Valley","Brunner Valley",1,1,"Kiap TU Wish","Kiap-TU-Wish","070500051102","Porcupine Creek-Plum Creek","Plum Creek"]
["Dev: DBParsing_231030_v01.xlsm","qCnesrtoIrTi0jHing33","2020-04-11T18:23:20","2020-04-11T12:23:20","2020-04-11",2020,4,"ZL2DLndmAQQRpHe8BYu3GQtS33w1","Rush River @ 570th Ave",-92.331379091944015,44.746219259644398,null,"2020-04-11 13:22:13.011018.jpg",1,null,0,"",30,null,null,6.5,1,0,1,45,1,0,0,"River/Stream","None",0,0,0,0,0,0,0,1,0,"Baseflow",1,"Clear",1,"None",0,0,0,0,0,"water very clear and low",1,"Absent","Absent","Absent","Absent","Absent","Absent","Absent","Present","Recorded","Rush River","Rush River",1,1,"Kiap TU Wish","Kiap-TU-Wish","070400010505","Brush Creek-Rush River","Rush River"]
["Dev: DBParsing_231030_v01.xlsm","7lVyqSFTeCp5dDbmzc8n","2020-04-09T18:00:21","2020-04-09T12:00:21","2020-04-09",2020,4,"ZL2DLndmAQQRpHe8BYu3GQtS33w1","Rush River @ 570th Ave",-92.331184031512166,44.746052848942313,null,"",0,null,0,"",null,null,null,null,1,0,1,43,0,"","","River/Stream","None",0,0,0,0,0,0,0,1,0,"Baseflow",1,"Clear",1,"None",0,0,0,0,0,"The app crashed saving a 2-1 picture. Evidently the 5-1 picture was lost. The water looks beautiful with a slight green tint. ",1,"Absent","Absent","Absent","Absent","Absent","Absent","Absent","Present","Recorded","Rush River","Rush River",1,1,"Kiap TU Wish","Kiap-TU-Wish","070400010505","Brush Creek-Rush River","Rush River"]
["Dev: DBParsing_231030_v01.xlsm","mNJHWJrhu8qgk4xWQvjZ","2020-04-09T15:53:41","2020-04-09T09:53:41","2020-04-09",2020,4,"BKxKRQr8KiaMAjrJWzKb6GrNJCm1","",-92.443167274595524,44.62138038086055,null,"",0,null,1,240,60,null,null,8,0,null,0,null,0,"","","","",-1,-1,-1,-1,-1,-1,-1,-1,1,"",0,"",0,"",-1,-1,-1,-1,1,null,0,"No Data","No Data","No Data","No Data","No Data","No Data","No Data","No Data","No Data","Isabelle Creek","Isabelle Creek",1,"","Kiap TU Wish","Kiap-TU-Wish","070400010701","Isabelle Creek","Lake Pepin"]
["Dev: DBParsing_231030_v01.xlsm","RBXPTQgyVQkkdOwi3kgD","2020-04-05T20:25:07","2020-04-05T14:25:07","2020-04-05",2020,4,"f7qMRlnlkOgrA1xpaxXrTTeRGWX2",null,-92.268536734477237,44.542862702033965,null,"2020-04-05 15:24:18.943946.jpg",1,null,0,"",null,null,null,null,1,0,1,47,1,0,5,"Springs","None",0,0,0,0,0,0,0,1,0,"Baseflow",1,"Clear",1,"None",0,0,0,0,0,"Pine Creek headwaters spring",1,"Absent","Absent","Absent","Absent","Absent","Absent","Absent","Present","Recorded",0,0,1,1,"Wisconsin Clear Water","Kiap-TU-Wish","070400010702","Pine Creek","Lake Pepin"]
["Dev: DBParsing_231030_v01.xlsm","WP4SFMtOXoWkh8FvHWsr","2020-04-02T20:37:12","2020-04-02T14:37:12","2020-04-02",2020,4,"79D4QMcZb1SeulClPI33vBZYFLY2",null,-92.351307386498277,44.776538626075293,null,"",0,null,0,"",null,null,null,null,0,null,1,50,0,"","","River/Stream","None",0,0,0,0,0,0,0,1,0,"Baseflow",1,"Clear",1,"None",0,0,0,0,0,null,0,"Absent","Absent","Absent","Absent","Absent","Absent","Absent","Present","Recorded","Rush River","Rush River",1,1,"Kiap TU Wish","Kiap-TU-Wish","070400010505","Brush Creek-Rush River","Rush River"]
["Dev: DBParsing_231030_v01.xlsm","ZaE2dQ715bG7pHgL3bpW","2020-03-30T18:32:32","2020-03-30T12:32:32","2020-03-30",2020,3,"f7qMRlnlkOgrA1xpaxXrTTeRGWX2",null,-92.732157352693378,44.831168833818275,null,"2020-03-30 13:29:45.752846.jpg",1,null,0,"",null,null,null,null,1,0,1,45,1,0,5,"River/Stream","Bank Erosion",0,1,0,0,0,0,0,0,0,"Mid-stage",1,"Murky",1,"Regional Rainfall",1,0,0,0,0,"1.2” of rain on March 28-29. River flow is 240 cfs. T-tube=22 cm. Light BWO hatch.",1,"Absent","Present","Absent","Absent","Absent","Absent","Absent","Absent","Recorded","Kinnickinnic River","Kinnickinnic River",1,"","Kiap TU Wish","Kiap-TU-Wish","070300051105","Lower Kinnickinnic Pond-Kinnickinnic River","Kinnickinnic River"]
["Dev: DBParsing_231030_v01.xlsm","2xBdVVhc8gQMFfrUpvCS","2020-03-28T17:59:18","2020-03-28T11:59:18","2020-03-28",2020,3,"ZL2DLndmAQQRpHe8BYu3GQtS33w1","Rush River @ 570th Ave",-92.331047383869119,44.746052263559861,null,"",0,null,0,"",120,null,null,6.5,1,0,1,45,0,"","","River/Stream","None",0,0,0,0,0,0,0,1,0,"Baseflow",1,"Murky",1,"Regional Rainfall,Warmth Causing Snowmelt",1,0,1,0,0,"very nice tint",1,"Absent","Absent","Absent","Absent","Absent","Absent","Absent","Present","Recorded","Rush River","Rush River",1,1,"Kiap TU Wish","Kiap-TU-Wish","070400010505","Brush Creek-Rush River","Rush River"]
["Dev: DBParsing_231030_v01.xlsm","16W79vQCEXJUDutcao16","2020-03-27T20:34:05","2020-03-27T14:34:05","2020-03-27",2020,3,"f7qMRlnlkOgrA1xpaxXrTTeRGWX2",null,-92.696365742712601,44.836251936453024,null,"2020-03-27 15:31:23.259578.jpg",1,null,0,"",null,null,null,null,1,0,1,50,1,0,5,"River/Stream","Bank Erosion",0,1,0,0,0,0,0,0,0,"Baseflow",1,"Clear",1,"None",0,0,0,0,0,"High baseflow conditions, with clear water. Minimal snowmelt runoff this spring.",1,"Absent","Present","Absent","Absent","Absent","Absent","Absent","Absent","Recorded","Kinnickinnic River","Kinnickinnic River",1,"","Kiap TU Wish","Kiap-TU-Wish","070300051105","Lower Kinnickinnic Pond-Kinnickinnic River","Kinnickinnic River"]
["Dev: DBParsing_231030_v01.xlsm","vlaBNuFC1nnL2TeJ3EkP","2020-03-15T22:55:33","2020-03-15T16:55:33","2020-03-15",2020,3,"f7qMRlnlkOgrA1xpaxXrTTeRGWX2",null,-92.732821042050958,44.983979391639728,null,"2020-03-15 16:06:22.753792.jpg",1,null,1,240,30,null,null,8,1,0,1,43,1,0,0,"River/Stream","Bank Erosion",0,1,0,0,0,0,0,0,0,"Baseflow",1,"Clear",1,"None",0,0,0,0,0,"Insufficient coverage of green box on hardness pad; marginal on alkalinity.",1,"Absent","Present","Absent","Absent","Absent","Absent","Absent","Absent","Recorded","","","","","Kiap TU Wish","Kiap-TU-Wish","070300051008","Bass Lake-Willow River","Willow River"]
["Dev: DBParsing_231030_v01.xlsm","rLCGrovrhtLppfRwoQSm","2020-03-15T20:51:00","2020-03-15T14:51:00","2020-03-15",2020,3,"79D4QMcZb1SeulClPI33vBZYFLY2","",-92.319371756589106,44.723931216721354,null,"",0,null,0,"",null,null,null,null,0,null,1,39,0,"","","River/Stream","None",0,0,0,0,0,0,0,1,0,"Baseflow",1,"Clear",1,"None",0,0,0,0,0,null,0,"Absent","Absent","Absent","Absent","Absent","Absent","Absent","Present","Recorded","Cave Creek","Cave Creek",1,1,"Kiap TU Wish","Kiap-TU-Wish","070400010505","Brush Creek-Rush River","Rush River"]
["Dev: DBParsing_231030_v01.xlsm","UdrFEwn9FFCiPaEAbLCE","2020-03-15T14:43:12","2020-03-15T08:43:12","2020-03-15",2020,3,"ZL2DLndmAQQRpHe8BYu3GQtS33w1","Rush River @ 570th Ave",-92.331282284000523,44.746039100170641,null,"",0,null,1,240,60,null,null,7,1,0,1,34,0,"","","River/Stream","None",0,0,0,0,0,0,0,1,0,"Baseflow",1,"Murky",1,"Warmth Causing Snowmelt",0,0,1,0,0,"very nice green tint in the water",1,"Absent","Absent","Absent","Absent","Absent","Absent","Absent","Present","Recorded","Rush River","Rush River",1,1,"Kiap TU Wish","Kiap-TU-Wish","070400010505","Brush Creek-Rush River","Rush River"]
["Dev: DBParsing_231030_v01.xlsm","cCGUN4rw8EZpdmNeqq4Q","2020-03-13T18:38:11","2020-03-13T12:38:11","2020-03-13",2020,3,"a61SOYPc3eOGfrAJu30rsKXhQUA3",null,-92.651247290771281,44.847290116872415,null,"",0,null,0,"",null,null,null,null,0,null,1,40,1,0.15,0,"River/Stream","None",0,0,0,0,0,0,0,1,0,"Bankfull Stage",1,"Murky",1,"None",0,0,0,0,0,null,0,"Absent","Absent","Absent","Absent","Absent","Absent","Absent","Present","Recorded","Kinnickinnic River","Kinnickinnic River",1,"","Kiap TU Wish","Kiap-TU-Wish","070300051105","Lower Kinnickinnic Pond-Kinnickinnic River","Kinnickinnic River"]
["Dev: DBParsing_231030_v01.xlsm","zCERmV9Cd5y2trPVWSGn","2020-03-08T14:36:26","2020-03-08T08:36:26","2020-03-08",2020,3,"ZL2DLndmAQQRpHe8BYu3GQtS33w1","Rush River @ 570th Ave",-92.331320183936384,44.746086808104408,null,"",0,null,1,240,60,null,null,7,1,0,1,40,0,"","","River/Stream","None",0,0,0,0,0,0,0,1,0,"Baseflow",1,"Clear",1,"Warmth Causing Snowmelt",0,0,1,0,0,"looks very good",1,"Absent","Absent","Absent","Absent","Absent","Absent","Absent","Present","Recorded","Rush River","Rush River",1,1,"Kiap TU Wish","Kiap-TU-Wish","070400010505","Brush Creek-Rush River","Rush River"]
["Dev: DBParsing_231030_v01.xlsm","3WyPzNDXsROFkGmL7Xg3","2020-03-06T20:53:04","2020-03-06T14:53:04","2020-03-06",2020,3,"f7qMRlnlkOgrA1xpaxXrTTeRGWX2",null,-92.732067016385017,44.831197279969906,null,"2020-03-06 14:51:30.901555.jpg",1,null,0,"",null,null,null,null,1,0,1,42,0,"","","River/Stream","Bank Erosion",0,1,0,0,0,0,0,0,0,"Baseflow",1,"Clear",1,"Warmth Causing Snowmelt",0,0,1,0,0,"Baseflow conditions in spite of recent warmth. Gradual snowmelt.",1,"Absent","Present","Absent","Absent","Absent","Absent","Absent","Absent","Recorded","Kinnickinnic River","Kinnickinnic River",1,"","Kiap TU Wish","Kiap-TU-Wish","070300051105","Lower Kinnickinnic Pond-Kinnickinnic River","Kinnickinnic River"]
["Dev: DBParsing_231030_v01.xlsm","VYg7kIGtbdz4J0LFTyA1","2020-03-06T15:40:28","2020-03-06T09:40:28","2020-03-06",2020,3,"hU1HbEHHdaU8AhuDtzvdtGI8zvo2","Other Locations",-91.780546099999995,43.272373299999998,null,"",0,null,1,240,60,null,null,7.5,0,null,0,null,0,"","","River/Stream","None",0,0,0,0,0,0,0,1,0,"Mid-stage",1,"Muddy",1,"Warmth Causing Snowmelt",0,0,1,0,0,null,0,"Absent","Absent","Absent","Absent","Absent","Absent","Absent","Present","Recorded","Trout Run","Trout Run",1,"","Iowa Driftless","Kiap-TU-Wish","070600020403","Trout Creek","Trout Creek-Upper Iowa River"]
["Dev: DBParsing_231030_v01.xlsm","gS0jr5piECUaZlQQmbG8","2020-03-01T14:58:34","2020-03-01T08:58:34","2020-03-01",2020,3,"ZL2DLndmAQQRpHe8BYu3GQtS33w1","Rush River @ 570th Ave",-92.331503532752279,44.7462983708824,null,"",0,null,0,"",null,null,null,null,0,null,1,36,0,"","",null,"None",0,0,0,0,0,0,0,1,0,"Baseflow",1,"Clear",1,"Warmth Causing Snowmelt",0,0,1,0,0,"water gun clear and lower than usual this time of year",1,"Absent","Absent","Absent","Absent","Absent","Absent","Absent","Present","Recorded","Rush River","Rush River",1,1,"Kiap TU Wish","Kiap-TU-Wish","070400010505","Brush Creek-Rush River","Rush River"]
["Dev: DBParsing_231030_v01.xlsm","CUja2r8y0kOb3CYmg83y","2020-02-24T21:02:50","2020-02-24T15:02:50","2020-02-24",2020,2,"f7qMRlnlkOgrA1xpaxXrTTeRGWX2","",-92.732032050304497,44.831103989533752,null,"2020-02-24 15:01:05.032455.jpg",1,null,0,"",null,null,null,null,1,0,1,41,0,"","","River/Stream","None",0,0,0,0,0,0,0,1,0,"Baseflow",1,"Clear",1,"None",0,0,0,0,0,"Winter baseflow condition, with minimal shelf ice along banks.",1,"Absent","Absent","Absent","Absent","Absent","Absent","Absent","Present","Recorded","Kinnickinnic River","Kinnickinnic River",1,"","Kiap TU Wish","Kiap-TU-Wish","070300051105","Lower Kinnickinnic Pond-Kinnickinnic River","Kinnickinnic River"]
["Dev: DBParsing_231030_v01.xlsm","JSpGMJACELuCuvIj2gLr","2020-02-05T20:11:36","2020-02-05T14:11:36","2020-02-05",2020,2,"usGRnrTHGsZu6xw2EjMVC52cnqo1",null,-91.2551498507068,43.813246395479709,null,"",0,null,0,"",null,null,null,null,0,null,0,null,0,"","","","",-1,-1,-1,-1,-1,-1,-1,-1,1,null,0,null,0,"",-1,-1,-1,-1,1,null,0,"No Data","No Data","No Data","No Data","No Data","No Data","No Data","No Data","No Data","","","","","Coulee Region","Kiap-TU-Wish","070400060502","City of La Crosse-Mississippi River","Pine Creek-Mississippi River"]
["Dev: DBParsing_231030_v01.xlsm","DUSpMnsYsBvXz5fVBODX","2020-02-05T19:51:09","2020-02-05T13:51:09","2020-02-05",2020,2,"FYL7YiCe6OdD8bPN31ubH82Xh2u1","",-91.25511808329378,43.813222590874702,null,"2020-02-05 13:50:43.713690.jpg",1,null,0,"",null,null,null,null,0,null,0,null,0,"","","","",-1,-1,-1,-1,-1,-1,-1,-1,1,"",0,"",0,"",-1,-1,-1,-1,1,null,0,"No Data","No Data","No Data","No Data","No Data","No Data","No Data","No Data","No Data","","","","","Coulee Region","Kiap-TU-Wish","070400060502","City of La Crosse-Mississippi River","Pine Creek-Mississippi River"]
["Dev: DBParsing_231030_v01.xlsm","Y4POrMUh53wOZrR5KtxP","2020-02-05T19:49:57","2020-02-05T13:49:57","2020-02-05",2020,2,"AD6JCNYvElPTWLupARpWInZJ7hI3","Pine Creek @ County Rd. AA",-91.255130672769965,43.813270124270886,null,"",0,null,0,"",null,null,null,null,0,null,0,null,0,"","",null,"",-1,-1,-1,-1,-1,-1,-1,-1,1,"Bankfull Stage",1,null,0,"Local Thunderstorm",0,1,0,0,0,null,0,"No Data","No Data","No Data","No Data","No Data","No Data","No Data","No Data","No Data","","","","","Coulee Region","Kiap-TU-Wish","070400060502","City of La Crosse-Mississippi River","Pine Creek-Mississippi River"]
["Dev: DBParsing_231030_v01.xlsm","0Hsq141RTUCPmiFG0WYj","2020-02-05T19:49:51","2020-02-05T13:49:51","2020-02-05",2020,2,"5gmJEp8QCCSFYxglsiszWKzeL1K2","",-91.254929993386597,43.813250209245652,null,"",0,null,0,"",0,null,null,6,0,null,0,null,0,"","",null,"",-1,-1,-1,-1,-1,-1,-1,-1,1,"",0,"",0,"",-1,-1,-1,-1,1,null,0,"No Data","No Data","No Data","No Data","No Data","No Data","No Data","No Data","No Data","","","","","Coulee Region","Iowa Driftless","070400060502","City of La Crosse-Mississippi River","Pine Creek-Mississippi River"]
["Dev: DBParsing_231030_v01.xlsm","7sqZml2vn0xJIPu0BPqK","2020-02-05T19:49:24","2020-02-05T13:49:24","2020-02-05",2020,2,"xYjaaWkJX4fiKpH7uMmSdC5YE0h2",null,-91.255362099999999,43.813216599999997,null,"",0,null,0,"",null,null,null,null,0,null,0,null,0,"","",null,"Fish Barrier",1,0,0,0,0,0,0,0,0,null,0,null,0,"",-1,-1,-1,-1,1,null,0,"Present","Absent","Absent","Absent","Absent","Absent","Absent","Absent","Recorded","","","","","Coulee Region","Oak Brook","070400060502","City of La Crosse-Mississippi River","Pine Creek-Mississippi River"]
["Dev: DBParsing_231030_v01.xlsm","E9fkRmBpPZ45Zs0kuICE","2020-02-05T19:49:20","2020-02-05T13:49:20","2020-02-05",2020,2,"S4lPzDead3OY4NkJwamlcyYtyN62",null,-91.255462699999995,43.813260399999997,null,"",0,null,0,"",null,null,null,null,1,100,1,43,0,"","","Lake/Pond","",-1,-1,-1,-1,-1,-1,-1,-1,1,"Baseflow",1,"Murky",1,"Warmth Causing Snowmelt",0,0,1,0,0,null,0,"No Data","No Data","No Data","No Data","No Data","No Data","No Data","No Data","No Data","","","","","Coulee Region","TU Staff","070400060502","City of La Crosse-Mississippi River","Pine Creek-Mississippi River"]
["Dev: DBParsing_231030_v01.xlsm","Ni1R5aF8Pg0Rhu5Idrz2","2020-02-05T19:49:12","2020-02-05T13:49:12","2020-02-05",2020,2,"G9YVGsA1pecv7s31GjmicjpOngC3",null,-91.255389600000001,43.813210699999999,null,"",0,null,0,"",null,null,null,null,0,null,0,null,0,"","","Lake/Pond","",-1,-1,-1,-1,-1,-1,-1,-1,1,null,0,null,0,"",-1,-1,-1,-1,1,null,0,"No Data","No Data","No Data","No Data","No Data","No Data","No Data","No Data","No Data","","","","","Coulee Region","Kiap-TU-Wish","070400060502","City of La Crosse-Mississippi River","Pine Creek-Mississippi River"]
["Dev: DBParsing_231030_v01.xlsm","Uw4B41XvaDES2mvO7x3K","2020-02-05T19:48:18","2020-02-05T13:48:18","2020-02-05",2020,2,"usGRnrTHGsZu6xw2EjMVC52cnqo1","",-91.255171793585603,43.813274688765254,null,"",0,null,0,"",null,null,null,null,0,null,0,null,0,"","",null,"",-1,-1,-1,-1,-1,-1,-1,-1,1,"",0,"",0,"",-1,-1,-1,-1,1,null,0,"No Data","No Data","No Data","No Data","No Data","No Data","No Data","No Data","No Data","","","","","Coulee Region","Kiap-TU-Wish","070400060502","City of La Crosse-Mississippi River","Pine Creek-Mississippi River"]
["Dev: DBParsing_231030_v01.xlsm","h72b8wBrGagmhlTwCpiq","2020-02-05T19:48:07","2020-02-05T13:48:07","2020-02-05",2020,2,"hU1HbEHHdaU8AhuDtzvdtGI8zvo2",null,-91.255454900000004,43.813195499999999,null,"2020-02-05 13:37:42.371572.jpg",1,null,1,240,60,null,null,7,0,null,1,66,0,"","",null,"Trash,Pipe/Drain Outflow",0,0,1,1,0,0,0,0,0,"Mid-stage",1,"",0,"Regional Rainfall",1,0,0,0,0,"",0,"Absent","Absent","Present","Present","Absent","Absent","Absent","Absent","Recorded","","","","","Coulee Region","Kiap-TU-Wish","070400060502","City of La Crosse-Mississippi River","Pine Creek-Mississippi River"]
["Dev: DBParsing_231030_v01.xlsm","wuK9ZqQzTPNU2ehRaPwC","2020-02-05T19:37:05","2020-02-05T13:37:05","2020-02-05",2020,2,"MCnVNih9BIN4gi6oNH8FoBSG8Af1","Other Locations",-91.255412000000007,43.813242799999998,null,"2020-02-05 13:36:37.206189.jpg",1,null,1,240,0,null,null,7.5,0,null,1,null,0,"","","River/Stream","",-1,-1,-1,-1,-1,-1,-1,-1,1,null,0,null,0,"",-1,-1,-1,-1,1,"test run at conference ",1,"No Data","No Data","No Data","No Data","No Data","No Data","No Data","No Data","No Data","","","","","Coulee Region","Kiap-TU-Wish","070400060502","City of La Crosse-Mississippi River","Pine Creek-Mississippi River"]
["Dev: DBParsing_231030_v01.xlsm","I1mxoYETGgNHsG0nYdgN","2020-02-05T19:32:09","2020-02-05T13:32:09","2020-02-05",2020,2,"dV67Pqbk6jbWMNb18ukDVS7XaAU2",null,-91.25549627476488,43.813267434056669,null,"",0,null,0,"",null,null,null,null,0,null,0,null,0,"","","River/Stream","",-1,-1,-1,-1,-1,-1,-1,-1,1,null,0,null,0,"",-1,-1,-1,-1,1,null,0,"No Data","No Data","No Data","No Data","No Data","No Data","No Data","No Data","No Data","","","","","Coulee Region","Kiap-TU-Wish","070400060502","City of La Crosse-Mississippi River","Pine Creek-Mississippi River"]
["Dev: DBParsing_231030_v01.xlsm","elraPnlkdffUIH2EOXx7","2020-02-03T20:02:31","2020-02-03T14:02:31","2020-02-03",2020,2,"tBAAR7faosMTQJ2I96zZmmj44ji1",null,-92.575523500000003,44.4883363,null,"2020-02-03 14:01:21.764281.jpg",1,null,1,240,180,null,null,7.5,0,null,0,null,0,"","","River/Stream","None",0,0,0,0,0,0,0,1,0,"Mid-stage",1,"Clear",1,"Warmth Causing Snowmelt",0,0,1,0,0,"hay creek with Dan",1,"Absent","Absent","Absent","Absent","Absent","Absent","Absent","Present","Recorded","Hay Creek","Hay Creek",1,"","Twin Cities","Kiap-TU-Wish","070400010401","Hay Creek","Hay Creek-Mississippi River"]
["Dev: DBParsing_231030_v01.xlsm","lg4hqUzjZoBgHhPoSvOc","2020-02-01T22:38:40","2020-02-01T16:38:40","2020-02-01",2020,2,"h8xpRwaPUEcuqR3jFLN2w8s5I7f1",null,-88.537835571512105,44.01471642277388,null,"2020-02-01 16:34:18.289001.jpg",1,null,1,240,120,null,null,8,1,300,1,55,0,"","","Tap Water","",-1,-1,-1,-1,-1,-1,-1,-1,1,"",0,"Clear",1,"None",0,0,0,0,0,"Best Western Oshkosh",1,"No Data","No Data","No Data","No Data","No Data","No Data","No Data","No Data","No Data","","","","",0,"Kiap-TU-Wish","040302011205","Lake Butte des Mortes-Fox River","Lake Butte des Mortes"]
["Dev: DBParsing_231030_v01.xlsm","MS6NizGyaoZNCTlHkgho","2020-01-31T20:57:59","2020-01-31T14:57:59","2020-01-31",2020,1,"h8xpRwaPUEcuqR3jFLN2w8s5I7f1",null,-92.732962793480397,44.984004760940763,null,"",0,null,1,240,120,null,null,8,1,0,0,null,0,"","","Tap Water","",-1,-1,-1,-1,-1,-1,-1,-1,1,null,0,null,0,"",-1,-1,-1,-1,1,null,0,"No Data","No Data","No Data","No Data","No Data","No Data","No Data","No Data","No Data","","","","","Kiap TU Wish","Kiap-TU-Wish","070300051008","Bass Lake-Willow River","Willow River"]
["Dev: DBParsing_231030_v01.xlsm","W5KgGhh9XrQUICpadVgF","2019-10-30T16:41:09","2019-10-30T10:41:09","2019-10-30",2019,10,"h8xpRwaPUEcuqR3jFLN2w8s5I7f1","Trimbelle River @ County Rd W",-92.529814644561327,44.793674363235176,null,"",0,true,0,"",180,null,null,7.5,1,0,1,40,0,"","","River/Stream","None",0,0,0,0,0,0,0,1,0,"Baseflow",1,"Clear",1,"None",0,0,0,0,0,"",0,"Absent","Absent","Absent","Absent","Absent","Absent","Absent","Present","Recorded","Trimbelle River","Trimbelle River",1,"","Kiap TU Wish","Kiap-TU-Wish","070400010301","Goose Creek-Trimbelle River","Trimbelle River"]
["Dev: DBParsing_231030_v01.xlsm","fspbjykElIKJhpwxWdgM","2019-10-30T15:27:39","2019-10-30T09:27:39","2019-10-30",2019,10,"h8xpRwaPUEcuqR3jFLN2w8s5I7f1","Unknown",-92.529750086413159,44.789775695053152,null,"",0,true,0,"",180,null,null,7.5,1,0,1,47,0,"","","Springs","None",0,0,0,0,0,0,0,1,0,"Baseflow",1,"Clear",1,"None",0,0,0,0,0,"",0,"Absent","Absent","Absent","Absent","Absent","Absent","Absent","Present","Recorded","Trimbelle River","Trimbelle River",1,"","Kiap TU Wish","Kiap-TU-Wish","070400010301","Goose Creek-Trimbelle River","Trimbelle River"]
["Dev: DBParsing_231030_v01.xlsm","AG7UjKLfztDvXJFA9ph4","2019-10-29T17:32:33","2019-10-29T11:32:33","2019-10-29",2019,10,"h8xpRwaPUEcuqR3jFLN2w8s5I7f1","Unknown",-92.268506238127301,44.542923904306768,null,"",0,true,0,"",120,null,null,7.5,1,0,1,47,0,"","","Springs","None",0,0,0,0,0,0,0,1,0,"Baseflow",1,"Clear",1,"None",0,0,0,0,0,"",0,"Absent","Absent","Absent","Absent","Absent","Absent","Absent","Present","Recorded",0,0,1,1,"Wisconsin Clear Water","Kiap-TU-Wish","070400010702","Pine Creek","Lake Pepin"]
["Dev: DBParsing_231030_v01.xlsm","9kXJgVO6Hh7vq7j5tvUJ","2019-10-29T15:58:21","2019-10-29T09:58:21","2019-10-29",2019,10,"h8xpRwaPUEcuqR3jFLN2w8s5I7f1","Pine Creek @ County Rd. AA",-92.284301113269279,44.542175750285118,null,"",0,true,0,"",180,null,null,8.5,1,0,1,45,0,"","","River/Stream","None",0,0,0,0,0,0,0,1,0,"Baseflow",1,"Clear",1,"None",0,0,0,0,0,"[Record]",1,"Absent","Absent","Absent","Absent","Absent","Absent","Absent","Present","Recorded","Pine Creek","Pine Creek",1,1,"Wisconsin Clear Water","Kiap-TU-Wish","070400010702","Pine Creek","Lake Pepin"]
["Dev: DBParsing_231030_v01.xlsm","Wk7ON2WmygzsIQF7L6ab","2019-06-30T20:32:27","2019-06-30T14:32:27","2019-06-30",2019,6,"4Ykk5veXq2hi1RbTNiHDVsXi48I3","Eau Galle River @ WI Hwy. 292",-92.236067899999995,44.840516800000003,null,"",0,true,0,"",null,-14,75,null,0,null,1,65,0,"","","River/Stream","None",0,0,0,0,0,0,0,1,0,"Mid-stage",1,"Murky",1,"Local Thunderstorm",0,1,0,0,0,"",0,"Absent","Absent","Absent","Absent","Absent","Absent","Absent","Present","Recorded","Burkhart Creek","Burkhart Creek",1,1,"Kiap TU Wish","Kiap-TU-Wish","070500051004","Burkhart Creek-Eau Galle Creek","Eau Galle River"]
["Dev: DBParsing_231030_v01.xlsm","J6Vr9HbJD93pDaHtvBdD","2019-06-28T16:00:15","2019-06-28T10:00:15","2019-06-28",2019,6,"FRZZhEyLR4WADV6UPlIZSKdWUpS2","SF Kinnickinnic River @ 900th St",-92.645009299999998,44.843623999999998,null,"",0,true,0,"",null,31,-28,null,1,100,1,57,0,"","","River/Stream","None",0,0,0,0,0,0,0,1,0,"Baseflow",1,"Murky",1,"Regional Rainfall",1,0,0,0,0,"[Record]",1,"Absent","Absent","Absent","Absent","Absent","Absent","Absent","Present","Recorded","Kinnickinnic River","Kinnickinnic River",1,"","Kiap TU Wish","Kiap-TU-Wish","070300051105","Lower Kinnickinnic Pond-Kinnickinnic River","Kinnickinnic River"]
["Dev: DBParsing_231030_v01.xlsm","IohyeG04YOuaZFAXrtFL","2019-06-27T20:15:40","2019-06-27T14:15:40","2019-06-27",2019,6,"D1QmPG2MfNY3WFWFaaT6LZIxAsi1","Rocky Branch Creek, Lower Glen Park",-92.634280899999993,44.840575299999998,null,"",0,true,0,"",null,25,-106,null,1,100,1,55,0,"","","River/Stream","Bank Erosion",0,1,0,0,0,0,0,0,0,"Baseflow",1,"Clear",1,"Local Thunderstorm",0,1,0,0,0,"",0,"Absent","Present","Absent","Absent","Absent","Absent","Absent","Absent","Recorded","","","","","Kiap TU Wish","Kiap-TU-Wish","070300051105","Lower Kinnickinnic Pond-Kinnickinnic River","Kinnickinnic River"]
["Dev: DBParsing_231030_v01.xlsm","m8Ia7PXTj0ZRwQiLU2u3","2019-06-26T22:23:02","2019-06-26T16:23:02","2019-06-26",2019,6,"5LHjzjwcR3gRpTbduCnw0dDjeNQ2","Trimbelle River @ County Rd W",-92.509630000000001,44.773288200000003,null,"",0,true,0,"",null,41,-83,null,1,0,0,null,0,"","","Unknown","None",0,0,0,0,0,0,0,1,0,"Baseflow",1,"Clear",1,"None",0,0,0,0,0,"",0,"Absent","Absent","Absent","Absent","Absent","Absent","Absent","Present","Recorded","Goose Creek","Goose Creek",1,"","Kiap TU Wish","Kiap-TU-Wish","070400010301","Goose Creek-Trimbelle River","Trimbelle River"]
["Dev: DBParsing_231030_v01.xlsm","9AI1CQVZEn1xaLsTHT77","2019-06-20T00:39:49","2019-06-19T18:39:49","2019-06-19",2019,6,"YkpWOyDHLcV71TEIgRIoUjroJX33","Unknown",-92.651395100000002,44.847151400000001,null,"",0,true,0,"",null,28,-87,null,0,null,1,61,0,"","","River/Stream","None",0,0,0,0,0,0,0,1,0,"Baseflow",1,"Clear",1,"None",0,0,0,0,0,"",0,"Absent","Absent","Absent","Absent","Absent","Absent","Absent","Present","Recorded","Kinnickinnic River","Kinnickinnic River",1,"","Kiap TU Wish","Kiap-TU-Wish","070300051105","Lower Kinnickinnic Pond-Kinnickinnic River","Kinnickinnic River"]
["Dev: DBParsing_231030_v01.xlsm","D0Ynq4sZVmVN59Gy31OZ","2019-06-10T22:14:34","2019-06-10T16:14:34","2019-06-10",2019,6,"FRZZhEyLR4WADV6UPlIZSKdWUpS2","SF Kinnickinnic River @ 900th St",-92.645202800000007,44.843479500000001,null,"",0,true,0,"",null,11,8,null,1,100,1,61,0,"","","River/Stream","None",0,0,0,0,0,0,0,1,0,"Baseflow",1,"Clear",1,"None",0,0,0,0,0,"[Record]",1,"Absent","Absent","Absent","Absent","Absent","Absent","Absent","Present","Recorded","Kinnickinnic River","Kinnickinnic River",1,"","Kiap TU Wish","Kiap-TU-Wish","070300051105","Lower Kinnickinnic Pond-Kinnickinnic River","Kinnickinnic River"]
["Dev: DBParsing_231030_v01.xlsm","zSozl53c1NSPg6BddWGz","2019-06-08T13:45:17","2019-06-08T07:45:17","2019-06-08",2019,6,"hEgRvyxprVMoz5dpBpUBrum6edn1",null,-92.151009999999999,44.777846699999998,null,"",0,null,0,"",null,1,39,null,1,0,1,56,0,"","","River/Stream","None",0,0,0,0,0,0,0,1,0,"Baseflow",1,"Clear",1,"None",0,0,0,0,0,null,0,"Absent","Absent","Absent","Absent","Absent","Absent","Absent","Present","Recorded","","","",1,"Kiap TU Wish","Kiap-TU-Wish","070500051004","Burkhart Creek-Eau Galle Creek","Eau Galle River"]
["Dev: DBParsing_231030_v01.xlsm","pvtxHZY63UIsswngVSs0","2019-06-05T18:38:33","2019-06-05T12:38:33","2019-06-05",2019,6,"RtViMLMtt9UbHrBNbNmeeETsZ9Q2","Isabelle Creek @ County Rd. EE",-92.443025000000006,44.621465800000003,null,"",0,true,0,"",null,35,-95,null,1,0,1,62,0,"","","River/Stream","None",0,0,0,0,0,0,0,1,0,"Baseflow",1,"Murky",1,"Local Thunderstorm",0,1,0,0,0,"",0,"Absent","Absent","Absent","Absent","Absent","Absent","Absent","Present","Recorded","Isabelle Creek","Isabelle Creek",1,"","Kiap TU Wish","Kiap-TU-Wish","070400010701","Isabelle Creek","Lake Pepin"]
["Dev: DBParsing_231030_v01.xlsm","u9TlRp3luBfHpSalMcbk","2019-06-03T20:20:08","2019-06-03T14:20:08","2019-06-03",2019,6,"RtViMLMtt9UbHrBNbNmeeETsZ9Q2","Plum Creek @ Plum CIty Park",-92.190892399999996,44.633518500000001,null,"",0,true,0,"",null,7,-44,null,1,0,1,61,0,"","","River/Stream","Fish Barrier",1,0,0,0,0,0,0,0,0,"Baseflow",1,"Clear",1,"None",0,0,0,0,0,"",0,"Present","Absent","Absent","Absent","Absent","Absent","Absent","Absent","Recorded","Plum Creek","Plum Creek",1,1,"Kiap TU Wish","Kiap-TU-Wish","070500051101","Nugget Lake-Plum Creek","Plum Creek"]
["Dev: DBParsing_231030_v01.xlsm","Wsa3M73NdYlg5UFCKrU5","2019-06-01T16:26:28","2019-06-01T10:26:28","2019-06-01",2019,6,"5LHjzjwcR3gRpTbduCnw0dDjeNQ2","Trimbelle River @ County Rd W",-92.529713099999995,44.793793299999997,null,"",0,true,0,"",null,22,-62,null,1,0,0,null,0,"","","River/Stream","Fish Barrier,None",1,0,0,0,0,0,0,1,0,"Baseflow",1,"Clear",1,"None",0,0,0,0,0,"",0,"Present","Absent","Absent","Absent","Absent","Absent","Absent","Present","Recorded","Trimbelle River","Trimbelle River",1,"","Kiap TU Wish","Kiap-TU-Wish","070400010301","Goose Creek-Trimbelle River","Trimbelle River"]
["Dev: DBParsing_231030_v01.xlsm","8bEVQSwFnCzAGxrMMlGX","2019-06-01T01:58:10","2019-05-31T19:58:10","2019-05-31",2019,5,"Jze49MWrhRTjqve8BWc3L9u44972",null,-92.3512889,44.773636600000003,null,"",0,null,0,"",null,34,-90,null,0,null,1,60,0,"","","River/Stream","None",0,0,0,0,0,0,0,1,0,"Baseflow",1,"Clear",1,"Regional Rainfall",1,0,0,0,0,null,0,"Absent","Absent","Absent","Absent","Absent","Absent","Absent","Present","Recorded","Rush River","Rush River",1,1,"Kiap TU Wish","Kiap-TU-Wish","070400010505","Brush Creek-Rush River","Rush River"]
["Dev: DBParsing_231030_v01.xlsm","D7BIm9xIxLzUPfdPv1Ky","2019-05-28T15:56:12","2019-05-28T09:56:12","2019-05-28",2019,5,"FRZZhEyLR4WADV6UPlIZSKdWUpS2","SF Kinnickinnic River @ 900th St",-92.641605100000007,44.847351600000003,null,"",0,true,0,"",null,13,18,null,1,100,1,51,0,"","","River/Stream","None",0,0,0,0,0,0,0,1,0,"Bankfull",1,"Muddy",1,"Regional Rainfall",1,0,0,0,0,"[Record]",1,"Absent","Absent","Absent","Absent","Absent","Absent","Absent","Present","Recorded","Kinnickinnic River","Kinnickinnic River",1,1,"Kiap TU Wish","Kiap-TU-Wish","070300051105","Lower Kinnickinnic Pond-Kinnickinnic River","Kinnickinnic River"]
["Dev: DBParsing_231030_v01.xlsm","UCwhIVqAYedqsTLH8fBt","2019-05-26T23:33:37","2019-05-26T17:33:37","2019-05-26",2019,5,"4Ykk5veXq2hi1RbTNiHDVsXi48I3","Eau Galle River @ WI Hwy. 292",-92.236039700000006,44.840905100000001,null,"",0,true,0,"",null,9,-35,null,0,null,1,57,0,"","","River/Stream","",-1,-1,-1,-1,-1,-1,-1,-1,1,"Baseflow",1,"Clear",1,"None",0,0,0,0,0,"",0,"No Data","No Data","No Data","No Data","No Data","No Data","No Data","No Data","No Data","Burkhart Creek","Burkhart Creek",1,1,"Kiap TU Wish","Kiap-TU-Wish","070500051004","Burkhart Creek-Eau Galle Creek","Eau Galle River"]
["Dev: DBParsing_231030_v01.xlsm","IXnJFAGYT4ADrfyY0Ewm","2019-05-25T16:36:36","2019-05-25T10:36:36","2019-05-25",2019,5,"5LHjzjwcR3gRpTbduCnw0dDjeNQ2","Trimbelle River @ County Rd W",-92.493341599999994,44.794023299999999,null,"",0,true,0,"",null,null,null,null,0,null,0,null,0,"","","River/Stream","None",0,0,0,0,0,0,0,1,0,"Baseflow",1,"Clear",1,"None",0,0,0,0,0,"",0,"Absent","Absent","Absent","Absent","Absent","Absent","Absent","Present","Recorded","","","","","Kiap TU Wish","Kiap-TU-Wish","070400010301","Goose Creek-Trimbelle River","Trimbelle River"]
["Dev: DBParsing_231030_v01.xlsm","3ItiolDn1BR7z3bYOwE2","2019-05-23T19:47:05","2019-05-23T13:47:05","2019-05-23",2019,5,"RtViMLMtt9UbHrBNbNmeeETsZ9Q2","Plum Creek @ Plum CIty Park",-92.189658100000003,44.632823700000003,null,"",0,true,0,"",null,3,-18,null,1,0,1,54,0,"","","River/Stream","Fish Barrier",1,0,0,0,0,0,0,0,0,"Mid-stage",1,"Murky",1,"None",0,0,0,0,0,"",0,"Present","Absent","Absent","Absent","Absent","Absent","Absent","Absent","Recorded","Plum Creek","Plum Creek",1,1,"Kiap TU Wish","Kiap-TU-Wish","070500051101","Nugget Lake-Plum Creek","Plum Creek"]
["Dev: DBParsing_231030_v01.xlsm","czCGG049oqrZyUsoohkG","2019-05-23T15:44:03","2019-05-23T09:44:03","2019-05-23",2019,5,"RtViMLMtt9UbHrBNbNmeeETsZ9Q2","Pine Creek @ County Rd. AA",-92.284306400000006,44.542196099999998,null,"",0,true,0,"",null,4,-31,null,1,0,1,49,0,"","","River/Stream","None",0,0,0,0,0,0,0,1,0,"Baseflow",1,"Clear",1,"None",0,0,0,0,0,"",0,"Absent","Absent","Absent","Absent","Absent","Absent","Absent","Present","Recorded","Pine Creek","Pine Creek",1,1,"Wisconsin Clear Water","Kiap-TU-Wish","070400010702","Pine Creek","Lake Pepin"]
["Dev: DBParsing_231030_v01.xlsm","lSmNCfE8qJr6CFE2J5kH","2019-05-20T16:58:53","2019-05-20T10:58:53","2019-05-20",2019,5,"RtViMLMtt9UbHrBNbNmeeETsZ9Q2","Unknown",-92.696339300000005,44.8364707,null,"",0,true,0,"",null,13,-36,null,1,100,0,null,0,"","","River/Stream","Bank Erosion",0,1,0,0,0,0,0,0,0,"Mid-stage",1,"Murky",1,"Regional Rainfall",1,0,0,0,0,"[Record]",1,"Absent","Present","Absent","Absent","Absent","Absent","Absent","Absent","Recorded","Kinnickinnic River","Kinnickinnic River",1,"","Kiap TU Wish","Kiap-TU-Wish","070300051105","Lower Kinnickinnic Pond-Kinnickinnic River","Kinnickinnic River"]
["Dev: DBParsing_231030_v01.xlsm","oj6WLS2mZUrlGgOxhzTb","2019-05-19T21:22:42","2019-05-19T15:22:42","2019-05-19",2019,5,"D1QmPG2MfNY3WFWFaaT6LZIxAsi1","Rocky Branch Creek, Lower Glen Park",-92.631178700000007,44.838308699999999,null,"",0,true,0,"",null,18,-100,null,1,100,1,46,0,"","","River/Stream","Bank Erosion",0,1,0,0,0,0,0,0,0,"Mid-stage",1,"Muddy",1,"Regional Rainfall",1,0,0,0,0,"",0,"Absent","Present","Absent","Absent","Absent","Absent","Absent","Absent","Recorded","","","","","Kiap TU Wish","Kiap-TU-Wish","070300051105","Lower Kinnickinnic Pond-Kinnickinnic River","Kinnickinnic River"]
["Dev: DBParsing_231030_v01.xlsm","MxvlubEE62l7OszrHXmv","2019-05-18T15:51:15","2019-05-18T09:51:15","2019-05-18",2019,5,"aaZLVG4ULtMFxbMcGh7Du7yv6D53","SF Kinnickinnic River @ 900th St",-92.5834811,44.8488489,null,"",0,true,0,"",null,27,-116,null,1,0,0,null,0,"","","River/Stream","",-1,-1,-1,-1,-1,-1,-1,-1,1,"Bankfull",1,"Muddy",1,"Regional Rainfall",1,0,0,0,0,"[Record]",1,"No Data","No Data","No Data","No Data","No Data","No Data","No Data","No Data","No Data","South Fork Kinnickinnic River","South Fork Kinnickinnic River",1,1,"Kiap TU Wish","Kiap-TU-Wish","070300051103","South Fork Kinnickinnic River","Kinnickinnic River"]
["Dev: DBParsing_231030_v01.xlsm","h5cJ6UnyoO9sGgTM6DSX","2019-05-17T15:02:21","2019-05-17T09:02:21","2019-05-17",2019,5,"FRZZhEyLR4WADV6UPlIZSKdWUpS2","SF Kinnickinnic River @ 900th St",-92.645045499999995,44.843572000000002,null,"",0,true,0,"",null,33,-102,null,1,100,1,55,0,"","","River/Stream","None",0,0,0,0,0,0,0,1,0,"Baseflow",1,"Clear",1,"Local Thunderstorm",0,1,0,0,0,"[Record]",1,"Absent","Absent","Absent","Absent","Absent","Absent","Absent","Present","Recorded","Kinnickinnic River","Kinnickinnic River",1,"","Kiap TU Wish","Kiap-TU-Wish","070300051105","Lower Kinnickinnic Pond-Kinnickinnic River","Kinnickinnic River"]
["Dev: DBParsing_231030_v01.xlsm","mIYHqs8ePTfFas6zgZWA","2019-05-15T22:04:09","2019-05-15T16:04:09","2019-05-15",2019,5,"RtViMLMtt9UbHrBNbNmeeETsZ9Q2","Unknown",-92.531289299999997,44.792409300000003,null,"",0,true,0,"",null,17,-56,null,1,0,1,65,0,"","","River/Stream","None",0,0,0,0,0,0,0,1,0,"Baseflow",1,"Clear",1,"None",0,0,0,0,0,"[Record]",1,"Absent","Absent","Absent","Absent","Absent","Absent","Absent","Present","Recorded","Trimbelle River","Trimbelle River",1,"","Kiap TU Wish","Kiap-TU-Wish","070400010301","Goose Creek-Trimbelle River","Trimbelle River"]
["Dev: DBParsing_231030_v01.xlsm","L4F4t5vseMmlr7HvhiMy","2019-05-13T19:23:30","2019-05-13T13:23:30","2019-05-13",2019,5,"RtViMLMtt9UbHrBNbNmeeETsZ9Q2","Unknown",-92.732005700000002,44.831073099999998,null,"",0,true,0,"",null,17,-36,null,1,0,1,57,0,"","","River/Stream","Bank Erosion",0,1,0,0,0,0,0,0,0,"Baseflow",1,"Clear",1,"None",0,0,0,0,0,"[Record]",1,"Absent","Present","Absent","Absent","Absent","Absent","Absent","Absent","Recorded","Kinnickinnic River","Kinnickinnic River",1,"","Kiap TU Wish","Kiap-TU-Wish","070300051105","Lower Kinnickinnic Pond-Kinnickinnic River","Kinnickinnic River"]
["Dev: DBParsing_231030_v01.xlsm","DMxwWuHSraHF0SiukSbe","2019-05-12T20:37:08","2019-05-12T14:37:08","2019-05-12",2019,5,"5LHjzjwcR3gRpTbduCnw0dDjeNQ2","Trimbelle River @ County Rd W",-92.529866200000001,44.7938203,null,"",0,true,0,"",null,13,-50,null,1,0,1,54,0,"","","River/Stream","None",0,0,0,0,0,0,0,1,0,"Mid-stage",1,"Clear",1,"None",0,0,0,0,0,"",0,"Absent","Absent","Absent","Absent","Absent","Absent","Absent","Present","Recorded","Trimbelle River","Trimbelle River",1,"","Kiap TU Wish","Kiap-TU-Wish","070400010301","Goose Creek-Trimbelle River","Trimbelle River"]
["Dev: DBParsing_231030_v01.xlsm","3sj8rbPQJrFNUMe3CqUD","2019-05-11T19:36:09","2019-05-11T13:36:09","2019-05-11",2019,5,"D1QmPG2MfNY3WFWFaaT6LZIxAsi1","Rocky Branch Creek, Lower Glen Park",-92.643727699999999,44.8428252,null,"",0,true,0,"",null,13,-53,null,1,0,1,55,0,"","","River/Stream","Bank Erosion",0,1,0,0,0,0,0,0,0,"Baseflow",1,"Clear",1,"None",0,0,0,0,0,"",0,"Absent","Present","Absent","Absent","Absent","Absent","Absent","Absent","Recorded","Kinnickinnic River","Kinnickinnic River",1,"","Kiap TU Wish","Kiap-TU-Wish","070300051105","Lower Kinnickinnic Pond-Kinnickinnic River","Kinnickinnic River"]
["Dev: DBParsing_231030_v01.xlsm","sQuUQzlvykBZNLRiP5Iz","2019-05-08T13:31:55","2019-05-08T07:31:55","2019-05-08",2019,5,"RtViMLMtt9UbHrBNbNmeeETsZ9Q2","Trimbelle River @ County Rd W",-92.529165000000006,44.793925199999997,null,"",0,true,0,"",null,-1,-11,null,1,0,1,46,0,"","","River/Stream","None",0,0,0,0,0,0,0,1,0,"Baseflow",1,"Clear",1,"None",0,0,0,0,0,"",0,"Absent","Absent","Absent","Absent","Absent","Absent","Absent","Present","Recorded","Trimbelle River","Trimbelle River",1,"","Kiap TU Wish","Kiap-TU-Wish","070400010301","Goose Creek-Trimbelle River","Trimbelle River"]
["Dev: DBParsing_231030_v01.xlsm","tqzdvoP7iem1LWwjWjyX","2019-05-01T18:11:07","2019-05-01T12:11:07","2019-05-01",2019,5,"RtViMLMtt9UbHrBNbNmeeETsZ9Q2","Pine Creek @ County Rd. AA",-92.284608800000001,44.542262700000002,null,"",0,true,0,"",null,13,-55,null,1,0,1,48,0,"","","River/Stream","None",0,0,0,0,0,0,0,1,0,"Baseflow",1,"Clear",1,"None",0,0,0,0,0,"[Record]",1,"Absent","Absent","Absent","Absent","Absent","Absent","Absent","Present","Recorded","Pine Creek","Pine Creek",1,1,"Wisconsin Clear Water","Kiap-TU-Wish","070400010702","Pine Creek","Lake Pepin"]
["Dev: DBParsing_231030_v01.xlsm","66wHM1WinBa32BFcXAD3","2019-04-28T18:54:48","2019-04-28T12:54:48","2019-04-28",2019,4,"aaZLVG4ULtMFxbMcGh7Du7yv6D53","Unknown",-92.641064499999999,44.838949900000003,null,"",0,true,0,"",null,null,null,null,0,null,0,null,0,"","","Unknown","Bank Erosion",0,1,0,0,0,0,0,0,0,null,0,null,0,"",-1,-1,-1,-1,1,"[Record]",1,"Absent","Present","Absent","Absent","Absent","Absent","Absent","Absent","Recorded",0,0,1,"","Kiap TU Wish","Kiap-TU-Wish","070300051105","Lower Kinnickinnic Pond-Kinnickinnic River","Kinnickinnic River"]
["Dev: DBParsing_231030_v01.xlsm","xJSrbMXu3sGPGI3OBtSM","2019-04-20T17:21:36","2019-04-20T11:21:36","2019-04-20",2019,4,"x1i9cEQnWOO56OOjDScxQFFBG9z2",null,-92.443028499999997,44.6213877,null,"",0,null,0,"",null,8,45,null,1,0,0,null,0,"","","Unknown","None",0,0,0,0,0,0,0,1,0,"Mid-stage",1,"Clear",1,"None",0,0,0,0,0,null,0,"Absent","Absent","Absent","Absent","Absent","Absent","Absent","Present","Recorded","Isabelle Creek","Isabelle Creek",1,"","Kiap TU Wish","Kiap-TU-Wish","070400010701","Isabelle Creek","Lake Pepin"]
["Dev: DBParsing_231030_v01.xlsm","kplSoLvfBKXcZr8c5Flt","2019-04-16T22:26:03","2019-04-16T16:26:03","2019-04-16",2019,4,"5LHjzjwcR3gRpTbduCnw0dDjeNQ2","Trimbelle River @ County Rd W",-92.529821299999995,44.793694199999997,null,"",0,false,0,"",null,20,-41,null,1,0,1,53,0,"","","River/Stream","None",0,0,0,0,0,0,0,1,0,"Bankfull",1,"Murky",1,"Warmth Causing Snowmelt",0,0,1,0,0,"",0,"Absent","Absent","Absent","Absent","Absent","Absent","Absent","Present","Recorded","Trimbelle River","Trimbelle River",1,"","Kiap TU Wish","Kiap-TU-Wish","070400010301","Goose Creek-Trimbelle River","Trimbelle River"]
["Dev: DBParsing_231030_v01.xlsm","BkVpg7R1MmZQyPZgMnTc","2019-04-16T20:37:25","2019-04-16T14:37:25","2019-04-16",2019,4,"RtViMLMtt9UbHrBNbNmeeETsZ9Q2","Pine Creek @ County Rd. AA",-92.284396000000001,44.542199799999999,null,"",0,false,0,"",null,20,-55,null,1,0,1,54,0,"","","River/Stream","None",0,0,0,0,0,0,0,1,0,"Baseflow",1,"Clear",1,"None",0,0,0,0,0,"",0,"Absent","Absent","Absent","Absent","Absent","Absent","Absent","Present","Recorded","Pine Creek","Pine Creek",1,1,"Wisconsin Clear Water","Kiap-TU-Wish","070400010702","Pine Creek","Lake Pepin"]
["Dev: DBParsing_231030_v01.xlsm","goy6keK76BgGtkduLFvN","2019-04-15T21:58:05","2019-04-15T15:58:05","2019-04-15",2019,4,"5LHjzjwcR3gRpTbduCnw0dDjeNQ2","Unknown",-93.167067299999999,45.0014428,null,"",0,true,0,"",null,-13,54,null,1,0,1,46,0,"","","Tap Water","None",0,0,0,0,0,0,0,1,0,"Baseflow",1,"Clear",1,"None",0,0,0,0,0,"",0,"Absent","Absent","Absent","Absent","Absent","Absent","Absent","Present","Recorded","","","","","Twin Cities","Kiap-TU-Wish","070102060306","Long Lake-Rice Creek","Rice Creek"]
["Dev: DBParsing_231030_v01.xlsm","NY9dVZl7kqlJCK1AH4Kq","2019-04-15T21:50:15","2019-04-15T15:50:15","2019-04-15",2019,4,"5LHjzjwcR3gRpTbduCnw0dDjeNQ2","Unknown",-93.167064400000001,45.001447900000002,null,"",0,true,0,"",null,null,null,null,0,null,0,null,0,"","","Tap Water","",-1,-1,-1,-1,-1,-1,-1,-1,1,null,0,null,0,"",-1,-1,-1,-1,1,"",0,"No Data","No Data","No Data","No Data","No Data","No Data","No Data","No Data","No Data","","","","","Twin Cities","Kiap-TU-Wish","070102060306","Long Lake-Rice Creek","Rice Creek"]
["Dev: DBParsing_231030_v01.xlsm","uSK6Yr6xUwdpA2olpdTG","2019-04-15T21:49:34","2019-04-15T15:49:34","2019-04-15",2019,4,"5LHjzjwcR3gRpTbduCnw0dDjeNQ2","Unknown",-93.167169099999995,45.0014064,null,"",0,true,0,"",null,null,null,null,0,null,0,null,0,"","","Tap Water","None",0,0,0,0,0,0,0,1,0,null,0,null,0,"",-1,-1,-1,-1,1,"",0,"Absent","Absent","Absent","Absent","Absent","Absent","Absent","Present","Recorded","","","","","Twin Cities","Kiap-TU-Wish","070102060306","Long Lake-Rice Creek","Rice Creek"]
["Dev: DBParsing_231030_v01.xlsm","Kou6XzF9bcjEFZz9uwq4","2019-04-14T19:17:40","2019-04-14T13:17:40","2019-04-14",2019,4,"RtViMLMtt9UbHrBNbNmeeETsZ9Q2","Unknown",-92.189697499999994,44.632640500000001,null,"",0,true,0,"",null,33,-104,null,1,0,1,48,0,"","","River/Stream","None",0,0,0,0,0,0,0,1,0,"Mid-stage",1,"Murky",1,"None",0,0,0,0,0,"",0,"Absent","Absent","Absent","Absent","Absent","Absent","Absent","Present","Recorded","Plum Creek","Plum Creek",1,1,"Kiap TU Wish","Kiap-TU-Wish","070500051101","Nugget Lake-Plum Creek","Plum Creek"]
["Dev: DBParsing_231030_v01.xlsm","gfGZwOzeyTohX6NyEUtm","2019-04-14T16:45:54","2019-04-14T10:45:54","2019-04-14",2019,4,"D1QmPG2MfNY3WFWFaaT6LZIxAsi1","Rocky Branch Creek, Lower Glen Park",-92.643386800000002,44.842784799999997,null,"",0,true,0,"",null,12,-8,null,1,0,1,49,0,"","","River/Stream","Bank Erosion",0,1,0,0,0,0,0,0,0,"Baseflow",1,"Clear",1,"None",0,0,0,0,0,"",0,"Absent","Present","Absent","Absent","Absent","Absent","Absent","Absent","Recorded","Kinnickinnic River","Kinnickinnic River",1,"","Kiap TU Wish","Kiap-TU-Wish","070300051105","Lower Kinnickinnic Pond-Kinnickinnic River","Kinnickinnic River"]
["Dev: DBParsing_231030_v01.xlsm","FDeisRXwIrOUWoHIO64d","2019-04-10T20:57:58","2019-04-10T14:57:58","2019-04-10",2019,4,"RtViMLMtt9UbHrBNbNmeeETsZ9Q2","Unknown",-92.732820500000003,44.983962400000003,null,"",0,true,0,"",null,null,null,null,1,200,1,50,0,"","","River/Stream","None",0,0,0,0,0,0,0,1,0,"Mid-stage",1,"Clear",1,"Regional Rainfall",1,0,0,0,0,"",0,"Absent","Absent","Absent","Absent","Absent","Absent","Absent","Present","Recorded","","","","","Kiap TU Wish","Kiap-TU-Wish","070300051008","Bass Lake-Willow River","Willow River"]
["Dev: DBParsing_231030_v01.xlsm","R9T8NVH40vxHZaBJENY4","2019-04-10T20:29:11","2019-04-10T14:29:11","2019-04-10",2019,4,"RtViMLMtt9UbHrBNbNmeeETsZ9Q2","Unknown",-92.732859500000004,44.983995299999997,null,"",0,true,0,"",null,null,null,null,1,200,1,54,0,"","","Unknown","",-1,-1,-1,-1,-1,-1,-1,-1,1,null,0,null,0,"",-1,-1,-1,-1,1,"",0,"No Data","No Data","No Data","No Data","No Data","No Data","No Data","No Data","No Data","","","","","Kiap TU Wish","Kiap-TU-Wish","070300051008","Bass Lake-Willow River","Willow River"]
["Dev: DBParsing_231030_v01.xlsm","SJT73PsRVVgnl0zKEBWY","2019-04-09T23:52:34","2019-04-09T17:52:34","2019-04-09",2019,4,"4Ykk5veXq2hi1RbTNiHDVsXi48I3","Eau Galle River @ WI Hwy. 292",-92.235020300000002,44.841925600000003,null,"",0,false,0,"",null,-2,2,null,1,100,1,42,0,"","","River/Stream","None",0,0,0,0,0,0,0,1,0,"Mid-stage",1,"Clear",1,"None",0,0,0,0,0,"",0,"Absent","Absent","Absent","Absent","Absent","Absent","Absent","Present","Recorded","Burkhart Creek","Burkhart Creek",1,1,"Kiap TU Wish","Kiap-TU-Wish","070500051004","Burkhart Creek-Eau Galle Creek","Eau Galle River"]
["Dev: DBParsing_231030_v01.xlsm","ZaRwz1oKxQ8n6Ljez4r3","2019-04-08T22:35:40","2019-04-08T16:35:40","2019-04-08",2019,4,"aaZLVG4ULtMFxbMcGh7Du7yv6D53","Unknown",-92.583468100000005,44.848864499999998,null,"",0,true,0,"",null,12,-41,null,1,0,1,42,0,"","","River/Stream","",-1,-1,-1,-1,-1,-1,-1,-1,1,null,0,null,0,"",-1,-1,-1,-1,1,"",0,"No Data","No Data","No Data","No Data","No Data","No Data","No Data","No Data","No Data","South Fork Kinnickinnic River","South Fork Kinnickinnic River",1,1,"Kiap TU Wish","Kiap-TU-Wish","070300051103","South Fork Kinnickinnic River","Kinnickinnic River"]
["Dev: DBParsing_231030_v01.xlsm","IMOZtZyAgzhozHOhCN2T","2019-04-06T14:41:36","2019-04-06T08:41:36","2019-04-06",2019,4,"hEgRvyxprVMoz5dpBpUBrum6edn1",null,-92.146952499999998,44.793195599999997,null,"",0,null,0,"",null,-16,42,null,1,0,1,42,0,"","","River/Stream","None",0,0,0,0,0,0,0,1,0,"Mid-stage",1,"Murky",1,"Regional Rainfall",1,0,0,0,0,null,0,"Absent","Absent","Absent","Absent","Absent","Absent","Absent","Present","Recorded","Cady Creek","Cady Creek",1,1,"Kiap TU Wish","Kiap-TU-Wish","070500051003","Cady Creek","Eau Galle River"]
["Dev: DBParsing_231030_v01.xlsm","0kF6LU5Q0FKAMgmfWLPQ","2019-04-01T23:35:11","2019-04-01T17:35:11","2019-04-01",2019,4,"Jze49MWrhRTjqve8BWc3L9u44972",null,-92.7333055,44.831432599999999,null,"",0,null,0,"",null,15,-48,null,0,null,0,null,0,"","","River/Stream","None",0,0,0,0,0,0,0,1,0,"Baseflow",1,"Clear",1,"None",0,0,0,0,0,null,0,"Absent","Absent","Absent","Absent","Absent","Absent","Absent","Present","Recorded","Kinnickinnic River","Kinnickinnic River",1,"","Kiap TU Wish","Kiap-TU-Wish","070300051105","Lower Kinnickinnic Pond-Kinnickinnic River","Kinnickinnic River"]
["Dev: DBParsing_231030_v01.xlsm","J2ZK05NlsjH7EszAKpAq","2019-03-21T20:01:30","2019-03-21T14:01:30","2019-03-21",2019,3,"RtViMLMtt9UbHrBNbNmeeETsZ9Q2",null,-92.529949090000002,44.793594599999999,null,"",0,null,0,"",null,12,-40,null,1,100,1,35,0,"","","River/Stream","None",0,0,0,0,0,0,0,1,0,"Overbank Flooding",1,"Murky",1,"Warmth Causing Snowmelt",0,0,1,0,0,null,0,"Absent","Absent","Absent","Absent","Absent","Absent","Absent","Present","Recorded","Trimbelle River","Trimbelle River",1,"","Kiap TU Wish","Kiap-TU-Wish","070400010301","Goose Creek-Trimbelle River","Trimbelle River"]
["Dev: DBParsing_231030_v01.xlsm","pj6HJ7EO50MnMShf8k9v","2019-03-20T20:07:52","2019-03-20T14:07:52","2019-03-20",2019,3,"RtViMLMtt9UbHrBNbNmeeETsZ9Q2",null,-92.529863730000002,44.793739629999997,null,"",0,null,0,"",null,11,-40,null,1,200,1,34,0,"","","River/Stream","None",0,0,0,0,0,0,0,1,0,"Overbank Flooding",1,"Murky",1,"Warmth Causing Snowmelt",0,0,1,0,0,null,0,"Absent","Absent","Absent","Absent","Absent","Absent","Absent","Present","Recorded","Trimbelle River","Trimbelle River",1,"","Kiap TU Wish","Kiap-TU-Wish","070400010301","Goose Creek-Trimbelle River","Trimbelle River"]
["Dev: DBParsing_231030_v01.xlsm","4UYO8s3turCRUH8HnXWJ","2019-03-20T19:31:10","2019-03-20T13:31:10","2019-03-20",2019,3,"RtViMLMtt9UbHrBNbNmeeETsZ9Q2",null,-92.529788429999996,44.789732780000001,null,"",0,null,0,"",null,null,null,null,0,null,1,48,0,"","","Springs","None",0,0,0,0,0,0,0,1,0,"Bankfull",1,"Clear",1,"Warmth Causing Snowmelt",0,0,1,0,0,null,0,"Absent","Absent","Absent","Absent","Absent","Absent","Absent","Present","Recorded","Trimbelle River","Trimbelle River",1,"","Kiap TU Wish","Kiap-TU-Wish","070400010301","Goose Creek-Trimbelle River","Trimbelle River"]
["Dev: DBParsing_231030_v01.xlsm","JecXTsnIhKZN1Gyb8CLJ","2019-03-16T22:27:03","2019-03-16T16:27:03","2019-03-16",2019,3,"gQ9v9qjFhrTuJwNMhUuOGT7Jl3F2",null,-92.275545039999997,44.543375730000001,null,"",0,null,0,"",null,null,null,null,0,null,0,null,0,"","","River/Stream","Bank Erosion",0,1,0,0,0,0,0,0,0,"Bankfull",1,"Murky",1,"Warmth Causing Snowmelt",0,0,1,0,0,null,0,"Absent","Present","Absent","Absent","Absent","Absent","Absent","Absent","Recorded",0,0,1,1,"Wisconsin Clear Water","Kiap-TU-Wish","070400010702","Pine Creek","Lake Pepin"]
["Dev: DBParsing_231030_v01.xlsm","9OqzvdnZgFkbYJItmJbw","2019-03-16T18:18:47","2019-03-16T12:18:47","2019-03-16",2019,3,"pNUOPrVrLAYalyFyEZ8n7pv2NXl1",null,-92.624472800000007,44.850615050000002,null,"",0,null,0,"",null,32,-62,null,1,100,1,45,0,"","","River/Stream","None",0,0,0,0,0,0,0,1,0,"Mid-stage",1,"Murky",1,"Warmth Causing Snowmelt",0,0,1,0,0,null,0,"Absent","Absent","Absent","Absent","Absent","Absent","Absent","Present","Recorded","South Fork Kinnickinnic River","South Fork Kinnickinnic River",1,1,"Kiap TU Wish","Kiap-TU-Wish","070300051103","South Fork Kinnickinnic River","Kinnickinnic River"]
["Dev: DBParsing_231030_v01.xlsm","MHq7w9X7fXZbUitETGDX","2019-03-16T18:18:30","2019-03-16T12:18:30","2019-03-16",2019,3,"ZXA41xzI2eX7P5fFeTzyOsASKfm1",null,-92.624507730000005,44.850485849999998,null,"",0,null,0,"",null,null,null,null,1,2500,1,38,0,"","","River/Stream","Bank Erosion",0,1,0,0,0,0,0,0,0,"Bankfull",1,"Murky",1,"Warmth Causing Snowmelt",0,0,1,0,0,null,0,"Absent","Present","Absent","Absent","Absent","Absent","Absent","Absent","Recorded","South Fork Kinnickinnic River","South Fork Kinnickinnic River",1,1,"Kiap TU Wish","Kiap-TU-Wish","070300051103","South Fork Kinnickinnic River","Kinnickinnic River"]
["Dev: DBParsing_231030_v01.xlsm","HMu3CLgXoiBhmWhVsFCy","2019-03-16T17:45:38","2019-03-16T11:45:38","2019-03-16",2019,3,"ZXA41xzI2eX7P5fFeTzyOsASKfm1",null,-92.415489570000005,44.861408529999999,null,"",0,null,0,"",null,null,null,null,0,null,0,null,0,"","","Tap Water","None",0,0,0,0,0,0,0,1,0,null,0,null,0,"",-1,-1,-1,-1,1,null,0,"Absent","Absent","Absent","Absent","Absent","Absent","Absent","Present","Recorded","","","","","Kiap TU Wish","Kiap-TU-Wish","070400010502","Town of Martell-Ruh River","Rush River"]
["Dev: DBParsing_231030_v01.xlsm","T918o3hL6CeI7fVENaQa","2019-03-15T20:52:03","2019-03-15T14:52:03","2019-03-15",2019,3,"p19CQ1BbH9PHxeE0VLFdcdKIBUi1",null,-92.529317109999994,44.79402348,null,"",0,null,0,"",null,null,null,null,0,null,0,null,0,"","","River/Stream","None",0,0,0,0,0,0,0,1,0,null,0,null,0,"",-1,-1,-1,-1,1,null,0,"Absent","Absent","Absent","Absent","Absent","Absent","Absent","Present","Recorded","Trimbelle River","Trimbelle River",1,"","Kiap TU Wish","Kiap-TU-Wish","070400010301","Goose Creek-Trimbelle River","Trimbelle River"]
["Dev: DBParsing_231030_v01.xlsm","ExILzPS9XM7d9zTSkneL","2019-03-15T20:44:41","2019-03-15T14:44:41","2019-03-15",2019,3,"AhR0j59FntcvgJmYbFkI8vPPHg73",null,-92.331596340000004,44.746055910000003,null,"",0,null,0,"",null,null,null,null,0,null,0,null,0,"","","River/Stream","None",0,0,0,0,0,0,0,1,0,null,0,null,0,"",-1,-1,-1,-1,1,null,0,"Absent","Absent","Absent","Absent","Absent","Absent","Absent","Present","Recorded","Rush River","Rush River",1,1,"Kiap TU Wish","Kiap-TU-Wish","070400010505","Brush Creek-Rush River","Rush River"]
["Dev: DBParsing_231030_v01.xlsm","R85W88LMRFTmnKwA7amP","2019-03-15T19:50:03","2019-03-15T13:50:03","2019-03-15",2019,3,"AhR0j59FntcvgJmYbFkI8vPPHg73",null,-92.529656779999996,44.793896189999998,null,"",0,null,0,"",null,null,null,null,0,null,0,null,0,"","","River/Stream","None",0,0,0,0,0,0,0,1,0,null,0,null,0,"",-1,-1,-1,-1,1,null,0,"Absent","Absent","Absent","Absent","Absent","Absent","Absent","Present","Recorded","Trimbelle River","Trimbelle River",1,"","Kiap TU Wish","Kiap-TU-Wish","070400010301","Goose Creek-Trimbelle River","Trimbelle River"]
["Dev: DBParsing_231030_v01.xlsm","cEhAt2zQgh094cAwGiTJ","2019-03-15T19:25:18","2019-03-15T13:25:18","2019-03-15",2019,3,"AhR0j59FntcvgJmYbFkI8vPPHg73",null,-92.582822890000003,44.849003260000003,null,"",0,null,0,"",null,29,-82,null,0,null,0,null,0,"","","River/Stream","None",0,0,0,0,0,0,0,1,0,null,0,null,0,"",-1,-1,-1,-1,1,null,0,"Absent","Absent","Absent","Absent","Absent","Absent","Absent","Present","Recorded","South Fork Kinnickinnic River","South Fork Kinnickinnic River",1,1,"Kiap TU Wish","Kiap-TU-Wish","070300051103","South Fork Kinnickinnic River","Kinnickinnic River"]
["Dev: DBParsing_231030_v01.xlsm","3Mws9cNNRf64DJihQemA","2019-03-15T19:22:21","2019-03-15T13:22:21","2019-03-15",2019,3,"AhR0j59FntcvgJmYbFkI8vPPHg73",null,-92.64077408,44.84334647,null,"",0,null,0,"",null,30,-76,null,0,null,0,null,0,"","","River/Stream","None",0,0,0,0,0,0,0,1,0,null,0,null,0,"",-1,-1,-1,-1,1,null,0,"Absent","Absent","Absent","Absent","Absent","Absent","Absent","Present","Recorded","","","","","Kiap TU Wish","Kiap-TU-Wish","070300051105","Lower Kinnickinnic Pond-Kinnickinnic River","Kinnickinnic River"]
["Dev: DBParsing_231030_v01.xlsm","NZAJA7eMaHRHxXNNORNu","2019-03-15T19:19:50","2019-03-15T13:19:50","2019-03-15",2019,3,"p19CQ1BbH9PHxeE0VLFdcdKIBUi1",null,-92.645203050000006,44.84353127,null,"",0,null,0,"",null,15,-37,null,0,null,0,null,0,"","","Canal/Ditch","None",0,0,0,0,0,0,0,1,0,null,0,null,0,"",-1,-1,-1,-1,1,null,0,"Absent","Absent","Absent","Absent","Absent","Absent","Absent","Present","Recorded","Kinnickinnic River","Kinnickinnic River",1,"","Kiap TU Wish","Kiap-TU-Wish","070300051105","Lower Kinnickinnic Pond-Kinnickinnic River","Kinnickinnic River"]
["Dev: DBParsing_231030_v01.xlsm","G7uYieR2RZSSv7P3oYDn","2019-03-15T18:24:02","2019-03-15T12:24:02","2019-03-15",2019,3,"p19CQ1BbH9PHxeE0VLFdcdKIBUi1",null,-92.645203050000006,44.84353127,null,"",0,null,0,"",null,4,-16,null,0,null,0,null,0,"","","River/Stream","None",0,0,0,0,0,0,0,1,0,null,0,null,0,"",-1,-1,-1,-1,1,null,0,"Absent","Absent","Absent","Absent","Absent","Absent","Absent","Present","Recorded","Kinnickinnic River","Kinnickinnic River",1,"","Kiap TU Wish","Kiap-TU-Wish","070300051105","Lower Kinnickinnic Pond-Kinnickinnic River","Kinnickinnic River"]
["Dev: DBParsing_231030_v01.xlsm","UlOm1sT9b1dZ4XZFSbHp","2019-03-15T16:37:36","2019-03-15T10:37:36","2019-03-15",2019,3,"AhR0j59FntcvgJmYbFkI8vPPHg73",null,-92.627009756037324,44.854958849487637,null,"",0,null,0,"",null,-59,148,null,1,300,1,68,0,"","","River/Stream","None",0,0,0,0,0,0,0,1,0,null,0,null,0,"",-1,-1,-1,-1,1,null,0,"Absent","Absent","Absent","Absent","Absent","Absent","Absent","Present","Recorded","","","",1,"Kiap TU Wish","Kiap-TU-Wish","070300051104","Parker Creek-Kinnickinnic River","Kinnickinnic River"]

{"sheet":"Use","index":1,"n_rows":204,"n_cols":28,"rows_kept":204,"cut":false,"hidden":false,"merged":[[110,16,110,19],[65,23,65,24],[65,25,65,26],[65,16,66,16],[65,17,65,18],[65,19,65,20],[65,21,65,22]]}
["TU DARE Angler Science DB"]
[]
[null,"DRIFTLESS AREA OBSERVATIONS"]
[null,"2020-23 Observations (as of Oct 31st)"]
[null,null,"Overall","Number","Percentage"]
[null,null,"Target",2000,1]
[null,null,"Observations",{"$f":"TUDB!B4","v":1849},{"$f":"D7/D6","v":0.92449999999999999},{"$f":"E7-0.05","v":0.87449999999999994}]
[null,null,"Remaining",{"$f":"D6-D7","v":151},{"$f":"E6-E7","v":7.5500000000000012E-2}]
[]
[null,"Participation"]
[null,null,null,"Contributing Individuals",146]
[null,"Observations by Individuals"]
[null,"Obs.",2020,2021,2022,2023]
[null,0,{"$f":"FREQUENCY(F$45:F$166,$B$14:$B$22)","v":108},{"$f":"FREQUENCY(G$45:G$166,$B$14:$B$22)","v":74},{"$f":"FREQUENCY(H$45:H$166,$B$14:$B$22)","v":61},{"$f":"FREQUENCY(I$45:I$166,$B$14:$B$22)","v":42}]
[null,1,5,5,12,20,null,null,null,null,null,null,null,null,null,null,"Observations per observer"]
[null,5,5,16,26,25]
[null,10,1,15,10,17]
[null,15,2,5,7,6]
[null,20,0,3,2,0]
[null,25,0,2,0,2]
[null,30,0,2,1,2]
[null,35,1,0,1,0]
[null,"40+",0,0,2,8]
[]
[null,"Trout Streams",1593,{"$f":"C25/(D7-60)","v":0.89044158747903857}]
[null,"BT Streams",663,{"$f":"C26/(D7-60)","v":0.37059809949692568}]
[]
[null,"User Stats"]
[null,"Year","Active Observers","Change from Previous Year","New Observers","Change from Previous Year","Observations/\nObserver","Change from Previous Year",null,null,null,null,null,null,null,null,"Observations Reported","Average",2020,2021,2022,2023,2024]
[null,"2019*",{"$f":"TRANSPOSE(E42:I42)","v":16},"-",16,"-",{"$f":"60/16","v":3.75},"-",null,null,null,null,null,null,null,null,"0-1",{"$f":"AVERAGE(S30:V30)","v":10.5},{"$f":"C15","v":5},{"$f":"D15","v":5},{"$f":"E15","v":12},{"$f":"F15","v":20},{"$f":"H15","v":0}]
[null,2020,31,0.98,{"$f":"TRANSPOSE(K42:N42)","v":30},{"$f":"(E31-E30)/E30","v":0.875},{"$f":"TRANSPOSE(F43:I43)","v":4.645161290322581},{"$f":"(G31-G30)/G30","v":0.23870967741935492},null,null,null,null,null,null,null,null,"2-5",18,5,16,26,25,0]
[null,2021,54,{"$f":"(C32-C31)/C31","v":0.74193548387096775},43,{"$f":"(E32-E31)/E31","v":0.43333333333333335},7.5370370370370372,{"$f":"(G32-G31)/G31","v":0.6225565843621399},null,null,null,null,null,null,null,null,"6-10",10.75,1,15,10,17,0]
[null,2022,61,{"$f":"(C33-C32)/C32","v":0.12962962962962962},33,-0.23255813953488372,7.5245901639344259,{"$f":"(G33-G32)/G32","v":-1.65142788093614E-3},null,null,null,null,null,null,null,null,"11-15",5,2,5,7,6,0]
[null,2023,80,0.31147540983606559,38,0.15151515151515152,9.7249999999999996,{"$f":"(G34-G33)/G33","v":0.29242919389978211},null,null,null,null,null,null,null,null,"16-20",1.25,0,3,2,0,0]
[null,"*Large turnover between 2019 to 2020 likely due to the change of app download from manual to through the Play Store/Apple Store ",null,null,null,null,null,null,null,null,null,null,null,null,null,null,"21-25",1,0,2,0,2,0]
[null,null,null,null,null,null,null,null,null,null,null,null,null,null,null,null,"26-30",1.25,0,2,1,2,0]
[null,null,null,null,null,null,null,null,null,null,null,null,null,null,null,null,"31-35",0.5,1,0,1,0,0]
[null,null,null,null,null,null,null,null,null,null,null,null,null,null,null,null,"36-40+",2.5,0,0,2,8,0]
[]
[]
[null,"DA User Data",null,null,null,null,null,null,null,null,"New Users"]
[null,"Observers",null,{"$f":"COUNTIF(C45:C501,\">\"&0)","v":0},16,{"$f":"COUNTIF(F45:F501,\">\"&0)","v":31},{"$f":"COUNTIF(G45:G501,\">\"&0)","v":54},61,80,null,{"$f":"SUM(K45:K501)","v":30},{"$f":"SUM(L45:L501)","v":43},33,38]
[null,"Obsvns/obsvr",null,{"$f":"IFERROR(SUM(C45:C501)/D42,0)","v":0},{"$f":"60/E42","v":3.75},{"$f":"IFERROR(SUM(F45:F501)/F42,0)","v":4.645161290322581},{"$f":"IFERROR(SUM(G45:G501)/G42,0)","v":7.5370370370370372},7.5245901639344259,9.7249999999999996]
[null,"Obsvr ID","Affilliation","Sum",2019,2020,2021,2022,2023,null,2020,2021,2022,2023]
[null,{"$f":"_xlfn.UNIQUE(TU_DB[ObserverID])","v":"JXs3JH9frrZM0ZdjV8qFZY0NE3P2"},"Kiap-TU-Wish",{"$f":"SUM(E45:I45)","v":20},{"$f":"COUNTIFS(TUDB!$H$8:$H$1855,Use!$B45,TUDB!$F$8:$F$1855,Use!E$44)","v":0},{"$f":"COUNTIFS(TUDB!$H$8:$H$1855,Use!$B45,TUDB!$F$8:$F$1855,Use!F$44)","v":1},{"$f":"COUNTIFS(TUDB!$H$8:$H$1855,Use!$B45,TUDB!$F$8:$F$1855,Use!G$44)","v":6},{"$f":"COUNTIFS(TUDB!$H$8:$H$1855,Use!$B45,TUDB!$F$8:$F$1855,Use!H$44)","v":5},{"$f":"COUNTIFS(TUDB!$H$8:$H$1855,Use!$B45,TUDB!$F$8:$F$1855,Use!I$44)","v":8},null,{"$f":"IF(AND(F45>0,SUM($E45)=0),1,0)","v":1},{"$f":"IF(AND(G45>0,SUM($E45:F45)=0),1,0)","v":0},{"$f":"IF(AND(H45>0,SUM($E45:G45)=0),1,0)","v":0},{"$f":"IF(AND(I45>0,SUM($E45:H45)=0),1,0)","v":0},null,null,"App Use Stats"]
[null,"bmxwg22L1hbfcniR6e24vEvKK5u2","TCTU",{"$f":"SUM(E46:I46)","v":1},{"$f":"COUNTIFS(TUDB!$H$8:$H$1855,Use!$B46,TUDB!$F$8:$F$1855,Use!E$44)","v":0},{"$f":"COUNTIFS(TUDB!$H$8:$H$1855,Use!$B46,TUDB!$F$8:$F$1855,Use!F$44)","v":0},{"$f":"COUNTIFS(TUDB!$H$8:$H$1855,Use!$B46,TUDB!$F$8:$F$1855,Use!G$44)","v":0},{"$f":"COUNTIFS(TUDB!$H$8:$H$1855,Use!$B46,TUDB!$F$8:$F$1855,Use!H$44)","v":0},{"$f":"COUNTIFS(TUDB!$H$8:$H$1855,Use!$B46,TUDB!$F$8:$F$1855,Use!I$44)","v":1},null,0,{"$f":"IF(AND(G46>0,SUM($E46:F46)=0),1,0)","v":0},{"$f":"IF(AND(H46>0,SUM($E46:G46)=0),1,0)","v":0},{"$f":"IF(AND(I46>0,SUM($E46:H46)=0),1,0)","v":1}]
[null,"VQ9bNtzttGcXOEuaXrEAEYLfT103","Hiawatha",61,{"$f":"COUNTIFS(TUDB!$H$8:$H$1855,Use!$B47,TUDB!$F$8:$F$1855,Use!E$44)","v":0},{"$f":"COUNTIFS(TUDB!$H$8:$H$1855,Use!$B47,TUDB!$F$8:$F$1855,Use!F$44)","v":0},{"$f":"COUNTIFS(TUDB!$H$8:$H$1855,Use!$B47,TUDB!$F$8:$F$1855,Use!G$44)","v":0},{"$f":"COUNTIFS(TUDB!$H$8:$H$1855,Use!$B47,TUDB!$F$8:$F$1855,Use!H$44)","v":14},{"$f":"COUNTIFS(TUDB!$H$8:$H$1855,Use!$B47,TUDB!$F$8:$F$1855,Use!I$44)","v":47},null,0,{"$f":"IF(AND(G47>0,SUM($E47:F47)=0),1,0)","v":0},{"$f":"IF(AND(H47>0,SUM($E47:G47)=0),1,0)","v":1},{"$f":"IF(AND(I47>0,SUM($E47:H47)=0),1,0)","v":0},null,null,"Year","Observa-tions","Observ. Water Source","5n1 Test Strip","2n1 Test Strip","Phosphorus Test Strip","Water Temp.","Stream Disturb-ances","Current Conditions"]
[null,"wOnBJTAV2CZK06CRnr5oUK45EDv1","US FWS",29,{"$f":"COUNTIFS(TUDB!$H$8:$H$1855,Use!$B48,TUDB!$F$8:$F$1855,Use!E$44)","v":0},{"$f":"COUNTIFS(TUDB!$H$8:$H$1855,Use!$B48,TUDB!$F$8:$F$1855,Use!F$44)","v":0},{"$f":"COUNTIFS(TUDB!$H$8:$H$1855,Use!$B48,TUDB!$F$8:$F$1855,Use!G$44)","v":0},{"$f":"COUNTIFS(TUDB!$H$8:$H$1855,Use!$B48,TUDB!$F$8:$F$1855,Use!H$44)","v":0},{"$f":"COUNTIFS(TUDB!$H$8:$H$1855,Use!$B48,TUDB!$F$8:$F$1855,Use!I$44)","v":29},null,0,{"$f":"IF(AND(G48>0,SUM($E48:F48)=0),1,0)","v":0},{"$f":"IF(AND(H48>0,SUM($E48:G48)=0),1,0)","v":0},{"$f":"IF(AND(I48>0,SUM($E48:H48)=0),1,0)","v":1},null,null,"Analyses per observation"]
[null,"1lKBGtvFeSbEVNlbIt9EhqtOO7u2","Unknown",39,{"$f":"COUNTIFS(TUDB!$H$8:$H$1855,Use!$B49,TUDB!$F$8:$F$1855,Use!E$44)","v":0},{"$f":"COUNTIFS(TUDB!$H$8:$H$1855,Use!$B49,TUDB!$F$8:$F$1855,Use!F$44)","v":0},{"$f":"COUNTIFS(TUDB!$H$8:$H$1855,Use!$B49,TUDB!$F$8:$F$1855,Use!G$44)","v":0},{"$f":"COUNTIFS(TUDB!$H$8:$H$1855,Use!$B49,TUDB!$F$8:$F$1855,Use!H$44)","v":0},{"$f":"COUNTIFS(TUDB!$H$8:$H$1855,Use!$B49,TUDB!$F$8:$F$1855,Use!I$44)","v":39},null,0,{"$f":"IF(AND(G49>0,SUM($E49:F49)=0),1,0)","v":0},{"$f":"IF(AND(H49>0,SUM($E49:G49)=0),1,0)","v":0},{"$f":"IF(AND(I49>0,SUM($E49:H49)=0),1,0)","v":1},null,null,"2019*",60,60,46,0,41,41,55,46]
[null,"7fp9eoNK1RTW0XUKFpn9oieJe1W2","TU Staff",14,{"$f":"COUNTIFS(TUDB!$H$8:$H$1855,Use!$B50,TUDB!$F$8:$F$1855,Use!E$44)","v":0},{"$f":"COUNTIFS(TUDB!$H$8:$H$1855,Use!$B50,TUDB!$F$8:$F$1855,Use!F$44)","v":0},{"$f":"COUNTIFS(TUDB!$H$8:$H$1855,Use!$B50,TUDB!$F$8:$F$1855,Use!G$44)","v":0},{"$f":"COUNTIFS(TUDB!$H$8:$H$1855,Use!$B50,TUDB!$F$8:$F$1855,Use!H$44)","v":2},{"$f":"COUNTIFS(TUDB!$H$8:$H$1855,Use!$B50,TUDB!$F$8:$F$1855,Use!I$44)","v":12},null,0,{"$f":"IF(AND(G50>0,SUM($E50:F50)=0),1,0)","v":0},{"$f":"IF(AND(H50>0,SUM($E50:G50)=0),1,0)","v":1},{"$f":"IF(AND(I50>0,SUM($E50:H50)=0),1,0)","v":0},null,null,2020,{"$f":"COUNTIF(TU_DB[Year],$Q50)","v":144},{"$f":"COUNTIFS(TU_DB[Year],$Q50,TU_DB[Source],\"<>\"&\"\")","v":118},{"$f":"COUNTIFS(TU_DB[Year],$Q50,TU_DB[[5n1  Flag ]],1)","v":105},{"$f":"COUNTIFS(TU_DB[Year],$Q50,TU_DB[[2n1  Flag ]],1)","v":92},{"$f":"COUNTIFS(TU_DB[Year],$Q50,TU_DB[Phos Flag],1)","v":84},{"$f":"COUNTIFS(TU_DB[Year],$Q50,TU_DB[Water Temp Flag],1)","v":95},{"$f":"COUNTIFS(TU_DB[Year],$Q50,TU_DB[Dis: Not Reported],0)","v":103},{"$f":"COUNTIFS(TU_DB[Year],$Q50,TU_DB[Water Level Flag],1)","v":118}]
[null,"cJZVjbWzjsRfePMeXT5aflRnGhh1","TCTU",12,{"$f":"COUNTIFS(TUDB!$H$8:$H$1855,Use!$B51,TUDB!$F$8:$F$1855,Use!E$44)","v":0},{"$f":"COUNTIFS(TUDB!$H$8:$H$1855,Use!$B51,TUDB!$F$8:$F$1855,Use!F$44)","v":0},{"$f":"COUNTIFS(TUDB!$H$8:$H$1855,Use!$B51,TUDB!$F$8:$F$1855,Use!G$44)","v":5},{"$f":"COUNTIFS(TUDB!$H$8:$H$1855,Use!$B51,TUDB!$F$8:$F$1855,Use!H$44)","v":2},{"$f":"COUNTIFS(TUDB!$H$8:$H$1855,Use!$B51,TUDB!$F$8:$F$1855,Use!I$44)","v":5},null,0,{"$f":"IF(AND(G51>0,SUM($E51:F51)=0),1,0)","v":1},{"$f":"IF(AND(H51>0,SUM($E51:G51)=0),1,0)","v":0},{"$f":"IF(AND(I51>0,SUM($E51:H51)=0),1,0)","v":0},null,null,2021,{"$f":"COUNTIF(TU_DB[Year],$Q51)","v":407},{"$f":"COUNTIFS(TU_DB[Year],$Q51,TU_DB[Source],\"<>\"&\"\")","v":382},{"$f":"COUNTIFS(TU_DB[Year],$Q51,TU_DB[[5n1  Flag ]],1)","v":352},{"$f":"COUNTIFS(TU_DB[Year],$Q51,TU_DB[[2n1  Flag ]],1)","v":309},{"$f":"COUNTIFS(TU_DB[Year],$Q51,TU_DB[Phos Flag],1)","v":324},{"$f":"COUNTIFS(TU_DB[Year],$Q51,TU_DB[Water Temp Flag],1)","v":304},{"$f":"COUNTIFS(TU_DB[Year],$Q51,TU_DB[Dis: Not Reported],0)","v":281},{"$f":"COUNTIFS(TU_DB[Year],$Q51,TU_DB[Water Level Flag],1)","v":337}]
[null,"VCf2q8JFBSOaJbmxiMqirI5xKFn2","Kiap-TU-Wish",18,{"$f":"COUNTIFS(TUDB!$H$8:$H$1855,Use!$B52,TUDB!$F$8:$F$1855,Use!E$44)","v":0},{"$f":"COUNTIFS(TUDB!$H$8:$H$1855,Use!$B52,TUDB!$F$8:$F$1855,Use!F$44)","v":0},{"$f":"COUNTIFS(TUDB!$H$8:$H$1855,Use!$B52,TUDB!$F$8:$F$1855,Use!G$44)","v":6},{"$f":"COUNTIFS(TUDB!$H$8:$H$1855,Use!$B52,TUDB!$F$8:$F$1855,Use!H$44)","v":5},{"$f":"COUNTIFS(TUDB!$H$8:$H$1855,Use!$B52,TUDB!$F$8:$F$1855,Use!I$44)","v":7},null,0,{"$f":"IF(AND(G52>0,SUM($E52:F52)=0),1,0)","v":1},{"$f":"IF(AND(H52>0,SUM($E52:G52)=0),1,0)","v":0},{"$f":"IF(AND(I52>0,SUM($E52:H52)=0),1,0)","v":0},null,null,2022,{"$f":"COUNTIF(TU_DB[Year],$Q52)","v":459},{"$f":"COUNTIFS(TU_DB[Year],$Q52,TU_DB[Source],\"<>\"&\"\")","v":436},{"$f":"COUNTIFS(TU_DB[Year],$Q52,TU_DB[[5n1  Flag ]],1)","v":418},{"$f":"COUNTIFS(TU_DB[Year],$Q52,TU_DB[[2n1  Flag ]],1)","v":382},{"$f":"COUNTIFS(TU_DB[Year],$Q52,TU_DB[Phos Flag],1)","v":374},{"$f":"COUNTIFS(TU_DB[Year],$Q52,TU_DB[Water Temp Flag],1)","v":366},{"$f":"COUNTIFS(TU_DB[Year],$Q52,TU_DB[Dis: Not Reported],0)","v":356},{"$f":"COUNTIFS(TU_DB[Year],$Q52,TU_DB[Water Level Flag],1)","v":389}]
[null,"7a7IFD1YT3aDXB8CbnSJjn1oLRC2","Unknown",22,{"$f":"COUNTIFS(TUDB!$H$8:$H$1855,Use!$B53,TUDB!$F$8:$F$1855,Use!E$44)","v":0},{"$f":"COUNTIFS(TUDB!$H$8:$H$1855,Use!$B53,TUDB!$F$8:$F$1855,Use!F$44)","v":0},{"$f":"COUNTIFS(TUDB!$H$8:$H$1855,Use!$B53,TUDB!$F$8:$F$1855,Use!G$44)","v":8},{"$f":"COUNTIFS(TUDB!$H$8:$H$1855,Use!$B53,TUDB!$F$8:$F$1855,Use!H$44)","v":7},{"$f":"COUNTIFS(TUDB!$H$8:$H$1855,Use!$B53,TUDB!$F$8:$F$1855,Use!I$44)","v":7},null,0,{"$f":"IF(AND(G53>0,SUM($E53:F53)=0),1,0)","v":1},{"$f":"IF(AND(H53>0,SUM($E53:G53)=0),1,0)","v":0},{"$f":"IF(AND(I53>0,SUM($E53:H53)=0),1,0)","v":0},null,null,2023,{"$f":"COUNTIF(TU_DB[Year],$Q53)","v":778},{"$f":"COUNTIFS(TU_DB[Year],$Q53,TU_DB[Source],\"<>\"&\"\")","v":740},{"$f":"COUNTIFS(TU_DB[Year],$Q53,TU_DB[[5n1  Flag ]],1)","v":689},{"$f":"COUNTIFS(TU_DB[Year],$Q53,TU_DB[[2n1  Flag ]],1)","v":684},{"$f":"COUNTIFS(TU_DB[Year],$Q53,TU_DB[Phos Flag],1)","v":647},{"$f":"COUNTIFS(TU_DB[Year],$Q53,TU_DB[Water Temp Flag],1)","v":702},{"$f":"COUNTIFS(TU_DB[Year],$Q53,TU_DB[Dis: Not Reported],0)","v":656},{"$f":"COUNTIFS(TU_DB[Year],$Q53,TU_DB[Water Level Flag],1)","v":706}]
[null,"5sE4Yqji6nO193vOJEyE5nVk3V33","TCTU",11,{"$f":"COUNTIFS(TUDB!$H$8:$H$1855,Use!$B54,TUDB!$F$8:$F$1855,Use!E$44)","v":0},{"$f":"COUNTIFS(TUDB!$H$8:$H$1855,Use!$B54,TUDB!$F$8:$F$1855,Use!F$44)","v":0},{"$f":"COUNTIFS(TUDB!$H$8:$H$1855,Use!$B54,TUDB!$F$8:$F$1855,Use!G$44)","v":4},{"$f":"COUNTIFS(TUDB!$H$8:$H$1855,Use!$B54,TUDB!$F$8:$F$1855,Use!H$44)","v":0},{"$f":"COUNTIFS(TUDB!$H$8:$H$1855,Use!$B54,TUDB!$F$8:$F$1855,Use!I$44)","v":7},null,0,{"$f":"IF(AND(G54>0,SUM($E54:F54)=0),1,0)","v":1},{"$f":"IF(AND(H54>0,SUM($E54:G54)=0),1,0)","v":0},{"$f":"IF(AND(I54>0,SUM($E54:H54)=0),1,0)","v":0},null,null,"Sum 2020-23",{"$f":"SUM(R50:R53)","v":1788},{"$f":"SUM(S50:S52)","v":936},875,783,782,765,740,844]
[null,"sV8r8QoTpTQ81023RxB7QRB9qBu1","TCTU",9,{"$f":"COUNTIFS(TUDB!$H$8:$H$1855,Use!$B55,TUDB!$F$8:$F$1855,Use!E$44)","v":0},{"$f":"COUNTIFS(TUDB!$H$8:$H$1855,Use!$B55,TUDB!$F$8:$F$1855,Use!F$44)","v":0},{"$f":"COUNTIFS(TUDB!$H$8:$H$1855,Use!$B55,TUDB!$F$8:$F$1855,Use!G$44)","v":1},{"$f":"COUNTIFS(TUDB!$H$8:$H$1855,Use!$B55,TUDB!$F$8:$F$1855,Use!H$44)","v":4},{"$f":"COUNTIFS(TUDB!$H$8:$H$1855,Use!$B55,TUDB!$F$8:$F$1855,Use!I$44)","v":4},null,0,{"$f":"IF(AND(G55>0,SUM($E55:F55)=0),1,0)","v":1},{"$f":"IF(AND(H55>0,SUM($E55:G55)=0),1,0)","v":0},{"$f":"IF(AND(I55>0,SUM($E55:H55)=0),1,0)","v":0},null,null,"Application of total samples"]
[null,"MHFdkCj8zqhw6MGszjwZYx49QR22","TCTU",10,{"$f":"COUNTIFS(TUDB!$H$8:$H$1855,Use!$B56,TUDB!$F$8:$F$1855,Use!E$44)","v":0},{"$f":"COUNTIFS(TUDB!$H$8:$H$1855,Use!$B56,TUDB!$F$8:$F$1855,Use!F$44)","v":0},{"$f":"COUNTIFS(TUDB!$H$8:$H$1855,Use!$B56,TUDB!$F$8:$F$1855,Use!G$44)","v":0},{"$f":"COUNTIFS(TUDB!$H$8:$H$1855,Use!$B56,TUDB!$F$8:$F$1855,Use!H$44)","v":4},{"$f":"COUNTIFS(TUDB!$H$8:$H$1855,Use!$B56,TUDB!$F$8:$F$1855,Use!I$44)","v":6},null,0,{"$f":"IF(AND(G56>0,SUM($E56:F56)=0),1,0)","v":0},{"$f":"IF(AND(H56>0,SUM($E56:G56)=0),1,0)","v":1},{"$f":"IF(AND(I56>0,SUM($E56:H56)=0),1,0)","v":0},null,null,2020,"-",{"$f":"S50/$R50","v":0.81944444444444442},0.72916666666666663,0.63888888888888884,0.58333333333333337,0.65972222222222221,0.71527777777777779,0.81944444444444442]
[null,"jr4xjZvRQFP5TMTbzZ3WFt91JbZ2","TCTU",6,{"$f":"COUNTIFS(TUDB!$H$8:$H$1855,Use!$B57,TUDB!$F$8:$F$1855,Use!E$44)","v":0},{"$f":"COUNTIFS(TUDB!$H$8:$H$1855,Use!$B57,TUDB!$F$8:$F$1855,Use!F$44)","v":0},{"$f":"COUNTIFS(TUDB!$H$8:$H$1855,Use!$B57,TUDB!$F$8:$F$1855,Use!G$44)","v":0},{"$f":"COUNTIFS(TUDB!$H$8:$H$1855,Use!$B57,TUDB!$F$8:$F$1855,Use!H$44)","v":0},{"$f":"COUNTIFS(TUDB!$H$8:$H$1855,Use!$B57,TUDB!$F$8:$F$1855,Use!I$44)","v":6},null,0,{"$f":"IF(AND(G57>0,SUM($E57:F57)=0),1,0)","v":0},{"$f":"IF(AND(H57>0,SUM($E57:G57)=0),1,0)","v":0},{"$f":"IF(AND(I57>0,SUM($E57:H57)=0),1,0)","v":1},null,null,2021,"-",{"$f":"S51/$R51","v":0.93857493857493857},0.86486486486486491,0.75921375921375922,0.7960687960687961,0.74692874692874689,0.69041769041769041,0.82800982800982803]
[null,"GFBS1bSIACUVgSmsBlw0BYkB9i72","TU Staff",22,{"$f":"COUNTIFS(TUDB!$H$8:$H$1855,Use!$B58,TUDB!$F$8:$F$1855,Use!E$44)","v":0},{"$f":"COUNTIFS(TUDB!$H$8:$H$1855,Use!$B58,TUDB!$F$8:$F$1855,Use!F$44)","v":0},{"$f":"COUNTIFS(TUDB!$H$8:$H$1855,Use!$B58,TUDB!$F$8:$F$1855,Use!G$44)","v":0},{"$f":"COUNTIFS(TUDB!$H$8:$H$1855,Use!$B58,TUDB!$F$8:$F$1855,Use!H$44)","v":13},{"$f":"COUNTIFS(TUDB!$H$8:$H$1855,Use!$B58,TUDB!$F$8:$F$1855,Use!I$44)","v":9},null,0,{"$f":"IF(AND(G58>0,SUM($E58:F58)=0),1,0)","v":0},{"$f":"IF(AND(H58>0,SUM($E58:G58)=0),1,0)","v":1},{"$f":"IF(AND(I58>0,SUM($E58:H58)=0),1,0)","v":0},null,null,2022,"-",{"$f":"S52/$R52","v":0.94989106753812635},0.91067538126361658,0.83224400871459692,0.81481481481481477,0.79738562091503273,0.77559912854030499,0.84749455337690627]
[null,"wQCfNJcgkMPI4m2bsIm33lNVmqH2","TCTU",8,{"$f":"COUNTIFS(TUDB!$H$8:$H$1855,Use!$B59,TUDB!$F$8:$F$1855,Use!E$44)","v":0},{"$f":"COUNTIFS(TUDB!$H$8:$H$1855,Use!$B59,TUDB!$F$8:$F$1855,Use!F$44)","v":0},{"$f":"COUNTIFS(TUDB!$H$8:$H$1855,Use!$B59,TUDB!$F$8:$F$1855,Use!G$44)","v":1},{"$f":"COUNTIFS(TUDB!$H$8:$H$1855,Use!$B59,TUDB!$F$8:$F$1855,Use!H$44)","v":3},{"$f":"COUNTIFS(TUDB!$H$8:$H$1855,Use!$B59,TUDB!$F$8:$F$1855,Use!I$44)","v":4},null,0,{"$f":"IF(AND(G59>0,SUM($E59:F59)=0),1,0)","v":1},{"$f":"IF(AND(H59>0,SUM($E59:G59)=0),1,0)","v":0},{"$f":"IF(AND(I59>0,SUM($E59:H59)=0),1,0)","v":0},null,null,2023,"-",{"$f":"S53/$R53","v":0.95115681233933158},0.88560411311053988,0.87917737789203088,0.83161953727506421,0.90231362467866327,0.84318766066838047,0.90745501285347041]
[null,"qg0Gw2Z5bFP7xIvHpN2bfZB65d62","TCTU",6,{"$f":"COUNTIFS(TUDB!$H$8:$H$1855,Use!$B60,TUDB!$F$8:$F$1855,Use!E$44)","v":0},{"$f":"COUNTIFS(TUDB!$H$8:$H$1855,Use!$B60,TUDB!$F$8:$F$1855,Use!F$44)","v":0},{"$f":"COUNTIFS(TUDB!$H$8:$H$1855,Use!$B60,TUDB!$F$8:$F$1855,Use!G$44)","v":0},{"$f":"COUNTIFS(TUDB!$H$8:$H$1855,Use!$B60,TUDB!$F$8:$F$1855,Use!H$44)","v":0},{"$f":"COUNTIFS(TUDB!$H$8:$H$1855,Use!$B60,TUDB!$F$8:$F$1855,Use!I$44)","v":6},null,0,{"$f":"IF(AND(G60>0,SUM($E60:F60)=0),1,0)","v":0},{"$f":"IF(AND(H60>0,SUM($E60:G60)=0),1,0)","v":0},{"$f":"IF(AND(I60>0,SUM($E60:H60)=0),1,0)","v":1},null,null,"*Due to further editing of the database, the number of observations in 2019 does not match the number reported in the 2019 and 2020 annual reports.  "]
[null,"3ewh0JhsqndewkOhEmNvJ9cb0n83","Kiap-TU-Wish",20,{"$f":"COUNTIFS(TUDB!$H$8:$H$1855,Use!$B61,TUDB!$F$8:$F$1855,Use!E$44)","v":0},{"$f":"COUNTIFS(TUDB!$H$8:$H$1855,Use!$B61,TUDB!$F$8:$F$1855,Use!F$44)","v":1},{"$f":"COUNTIFS(TUDB!$H$8:$H$1855,Use!$B61,TUDB!$F$8:$F$1855,Use!G$44)","v":8},{"$f":"COUNTIFS(TUDB!$H$8:$H$1855,Use!$B61,TUDB!$F$8:$F$1855,Use!H$44)","v":7},{"$f":"COUNTIFS(TUDB!$H$8:$H$1855,Use!$B61,TUDB!$F$8:$F$1855,Use!I$44)","v":4},null,1,{"$f":"IF(AND(G61>0,SUM($E61:F61)=0),1,0)","v":0},{"$f":"IF(AND(H61>0,SUM($E61:G61)=0),1,0)","v":0},{"$f":"IF(AND(I61>0,SUM($E61:H61)=0),1,0)","v":0}]
[null,"80reiKTTqGYqqpgYAhPwqypFwak1","Hiawatha",100,{"$f":"COUNTIFS(TUDB!$H$8:$H$1855,Use!$B62,TUDB!$F$8:$F$1855,Use!E$44)","v":0},{"$f":"COUNTIFS(TUDB!$H$8:$H$1855,Use!$B62,TUDB!$F$8:$F$1855,Use!F$44)","v":2},{"$f":"COUNTIFS(TUDB!$H$8:$H$1855,Use!$B62,TUDB!$F$8:$F$1855,Use!G$44)","v":29},{"$f":"COUNTIFS(TUDB!$H$8:$H$1855,Use!$B62,TUDB!$F$8:$F$1855,Use!H$44)","v":32},{"$f":"COUNTIFS(TUDB!$H$8:$H$1855,Use!$B62,TUDB!$F$8:$F$1855,Use!I$44)","v":37},null,1,{"$f":"IF(AND(G62>0,SUM($E62:F62)=0),1,0)","v":0},{"$f":"IF(AND(H62>0,SUM($E62:G62)=0),1,0)","v":0},{"$f":"IF(AND(I62>0,SUM($E62:H62)=0),1,0)","v":0}]
[null,"ZMmGOOwucYXE3nEMRlAJSj4Cg8c2","TCTU",25,{"$f":"COUNTIFS(TUDB!$H$8:$H$1855,Use!$B63,TUDB!$F$8:$F$1855,Use!E$44)","v":0},{"$f":"COUNTIFS(TUDB!$H$8:$H$1855,Use!$B63,TUDB!$F$8:$F$1855,Use!F$44)","v":0},{"$f":"COUNTIFS(TUDB!$H$8:$H$1855,Use!$B63,TUDB!$F$8:$F$1855,Use!G$44)","v":9},{"$f":"COUNTIFS(TUDB!$H$8:$H$1855,Use!$B63,TUDB!$F$8:$F$1855,Use!H$44)","v":10},{"$f":"COUNTIFS(TUDB!$H$8:$H$1855,Use!$B63,TUDB!$F$8:$F$1855,Use!I$44)","v":6},null,0,{"$f":"IF(AND(G63>0,SUM($E63:F63)=0),1,0)","v":1},{"$f":"IF(AND(H63>0,SUM($E63:G63)=0),1,0)","v":0},{"$f":"IF(AND(I63>0,SUM($E63:H63)=0),1,0)","v":0},null,null,"Chapter Participation"]
[null,"mOliWfJ8EcTqb0crRnvVrqCHyEi1","TCTU",6,{"$f":"COUNTIFS(TUDB!$H$8:$H$1855,Use!$B64,TUDB!$F$8:$F$1855,Use!E$44)","v":0},{"$f":"COUNTIFS(TUDB!$H$8:$H$1855,Use!$B64,TUDB!$F$8:$F$1855,Use!F$44)","v":0},{"$f":"COUNTIFS(TUDB!$H$8:$H$1855,Use!$B64,TUDB!$F$8:$F$1855,Use!G$44)","v":0},{"$f":"COUNTIFS(TUDB!$H$8:$H$1855,Use!$B64,TUDB!$F$8:$F$1855,Use!H$44)","v":5},{"$f":"COUNTIFS(TUDB!$H$8:$H$1855,Use!$B64,TUDB!$F$8:$F$1855,Use!I$44)","v":1},null,0,{"$f":"IF(AND(G64>0,SUM($E64:F64)=0),1,0)","v":0},{"$f":"IF(AND(H64>0,SUM($E64:G64)=0),1,0)","v":1},{"$f":"IF(AND(I64>0,SUM($E64:H64)=0),1,0)","v":0},null,null,"Chapters",{"$f":"COUNTIF(AB69:AB83,\">\"&0)","v":10},"total obs",{"$f":"SUM(S68,U68,W68,Y68)","v":1028}]
[null,"inidBfHzkzPKUyeLROUq9PMQemF2","Agency/University",23,{"$f":"COUNTIFS(TUDB!$H$8:$H$1855,Use!$B65,TUDB!$F$8:$F$1855,Use!E$44)","v":0},{"$f":"COUNTIFS(TUDB!$H$8:$H$1855,Use!$B65,TUDB!$F$8:$F$1855,Use!F$44)","v":0},{"$f":"COUNTIFS(TUDB!$H$8:$H$1855,Use!$B65,TUDB!$F$8:$F$1855,Use!G$44)","v":0},{"$f":"COUNTIFS(TUDB!$H$8:$H$1855,Use!$B65,TUDB!$F$8:$F$1855,Use!H$44)","v":0},{"$f":"COUNTIFS(TUDB!$H$8:$H$1855,Use!$B65,TUDB!$F$8:$F$1855,Use!I$44)","v":23},null,0,{"$f":"IF(AND(G65>0,SUM($E65:F65)=0),1,0)","v":0},{"$f":"IF(AND(H65>0,SUM($E65:G65)=0),1,0)","v":0},{"$f":"IF(AND(I65>0,SUM($E65:H65)=0),1,0)","v":1}]
[null,"AFSRTEftiTe1HDjxTst1HuMIU1l1","Kiap-TU-Wish",15,{"$f":"COUNTIFS(TUDB!$H$8:$H$1855,Use!$B66,TUDB!$F$8:$F$1855,Use!E$44)","v":0},{"$f":"COUNTIFS(TUDB!$H$8:$H$1855,Use!$B66,TUDB!$F$8:$F$1855,Use!F$44)","v":0},{"$f":"COUNTIFS(TUDB!$H$8:$H$1855,Use!$B66,TUDB!$F$8:$F$1855,Use!G$44)","v":0},{"$f":"COUNTIFS(TUDB!$H$8:$H$1855,Use!$B66,TUDB!$F$8:$F$1855,Use!H$44)","v":8},{"$f":"COUNTIFS(TUDB!$H$8:$H$1855,Use!$B66,TUDB!$F$8:$F$1855,Use!I$44)","v":7},null,0,{"$f":"IF(AND(G66>0,SUM($E66:F66)=0),1,0)","v":0},{"$f":"IF(AND(H66>0,SUM($E66:G66)=0),1,0)","v":1},{"$f":"IF(AND(I66>0,SUM($E66:H66)=0),1,0)","v":0},null,null,"Organizations",2020,null,2021,null,2022,null,2023,null,2024]
[null,"45rXX7ilGVVrOJRshsY6hOrN1Hd2","Hiawatha",4,{"$f":"COUNTIFS(TUDB!$H$8:$H$1855,Use!$B67,TUDB!$F$8:$F$1855,Use!E$44)","v":0},{"$f":"COUNTIFS(TUDB!$H$8:$H$1855,Use!$B67,TUDB!$F$8:$F$1855,Use!F$44)","v":0},{"$f":"COUNTIFS(TUDB!$H$8:$H$1855,Use!$B67,TUDB!$F$8:$F$1855,Use!G$44)","v":0},{"$f":"COUNTIFS(TUDB!$H$8:$H$1855,Use!$B67,TUDB!$F$8:$F$1855,Use!H$44)","v":0},{"$f":"COUNTIFS(TUDB!$H$8:$H$1855,Use!$B67,TUDB!$F$8:$F$1855,Use!I$44)","v":4},null,0,{"$f":"IF(AND(G67>0,SUM($E67:F67)=0),1,0)","v":0},{"$f":"IF(AND(H67>0,SUM($E67:G67)=0),1,0)","v":0},{"$f":"IF(AND(I67>0,SUM($E67:H67)=0),1,0)","v":1},null,null,null,"Members","Member Observations","Members","Member Observations","Members","Member Observations","Members","Member Observations","Members","Member Observations"]
[null,"K0EjhOrGL4NGhPVbB1pKi320lLr2","TCTU",26,{"$f":"COUNTIFS(TUDB!$H$8:$H$1855,Use!$B68,TUDB!$F$8:$F$1855,Use!E$44)","v":0},{"$f":"COUNTIFS(TUDB!$H$8:$H$1855,Use!$B68,TUDB!$F$8:$F$1855,Use!F$44)","v":0},{"$f":"COUNTIFS(TUDB!$H$8:$H$1855,Use!$B68,TUDB!$F$8:$F$1855,Use!G$44)","v":0},{"$f":"COUNTIFS(TUDB!$H$8:$H$1855,Use!$B68,TUDB!$F$8:$F$1855,Use!H$44)","v":14},{"$f":"COUNTIFS(TUDB!$H$8:$H$1855,Use!$B68,TUDB!$F$8:$F$1855,Use!I$44)","v":12},null,0,{"$f":"IF(AND(G68>0,SUM($E68:F68)=0),1,0)","v":0},{"$f":"IF(AND(H68>0,SUM($E68:G68)=0),1,0)","v":1},{"$f":"IF(AND(I68>0,SUM($E68:H68)=0),1,0)","v":0},null,null,"TU Chapters",{"$f":"SUM(R69:R83)","v":28},{"$f":"SUM(S69:S83)","v":117},47,367,41,270,46,274,0,0]
[null,"H4dZvxTdViejefqREn5k066JVZG3","Hiawatha",27,{"$f":"COUNTIFS(TUDB!$H$8:$H$1855,Use!$B69,TUDB!$F$8:$F$1855,Use!E$44)","v":0},{"$f":"COUNTIFS(TUDB!$H$8:$H$1855,Use!$B69,TUDB!$F$8:$F$1855,Use!F$44)","v":0},{"$f":"COUNTIFS(TUDB!$H$8:$H$1855,Use!$B69,TUDB!$F$8:$F$1855,Use!G$44)","v":9},{"$f":"COUNTIFS(TUDB!$H$8:$H$1855,Use!$B69,TUDB!$F$8:$F$1855,Use!H$44)","v":6},{"$f":"COUNTIFS(TUDB!$H$8:$H$1855,Use!$B69,TUDB!$F$8:$F$1855,Use!I$44)","v":12},null,0,{"$f":"IF(AND(G69>0,SUM($E69:F69)=0),1,0)","v":1},{"$f":"IF(AND(H69>0,SUM($E69:G69)=0),1,0)","v":0},{"$f":"IF(AND(I69>0,SUM($E69:H69)=0),1,0)","v":0},null,null,"Aldo Leopold",{"$f":"COUNTIFS($C$45:$C$544,$Q69,$F$45:$F$544,\">\"&0)","v":0},{"$f":"SUMIFS($F$45:$F$544,$C$45:$C$544,$Q69)","v":0},{"$f":"COUNTIFS($C$45:$C$544,$Q69,$G$45:$G$544,\">\"&0)","v":0},{"$f":"SUMIFS($G$45:$G$544,$C$45:$C$544,$Q69)","v":0},{"$f":"COUNTIFS($C$45:$C$544,$Q69,$H$45:$H$544,\">\"&0)","v":0},{"$f":"SUMIFS($H$45:$H$544,$C$45:$C$544,$Q69)","v":0},{"$f":"COUNTIFS($C$45:$C$544,$Q69,$I$45:$I$544,\">\"&0)","v":0},{"$f":"SUMIFS($I$45:$I$544,$C$45:$C$544,$Q69)","v":0},null,null,{"$f":"SUM(R69,T69,V69,X69)","v":0}]
[null,"iL4InQVt0eQdf8HXXiLJJxA4dTA2","Unknown",12,{"$f":"COUNTIFS(TUDB!$H$8:$H$1855,Use!$B70,TUDB!$F$8:$F$1855,Use!E$44)","v":0},{"$f":"COUNTIFS(TUDB!$H$8:$H$1855,Use!$B70,TUDB!$F$8:$F$1855,Use!F$44)","v":0},{"$f":"COUNTIFS(TUDB!$H$8:$H$1855,Use!$B70,TUDB!$F$8:$F$1855,Use!G$44)","v":0},{"$f":"COUNTIFS(TUDB!$H$8:$H$1855,Use!$B70,TUDB!$F$8:$F$1855,Use!H$44)","v":0},{"$f":"COUNTIFS(TUDB!$H$8:$H$1855,Use!$B70,TUDB!$F$8:$F$1855,Use!I$44)","v":12},null,0,{"$f":"IF(AND(G70>0,SUM($E70:F70)=0),1,0)","v":0},{"$f":"IF(AND(H70>0,SUM($E70:G70)=0),1,0)","v":0},{"$f":"IF(AND(I70>0,SUM($E70:H70)=0),1,0)","v":1},null,null,"Blackhawk",{"$f":"COUNTIFS($C$45:$C$544,$Q70,$F$45:$F$544,\">\"&0)","v":0},{"$f":"SUMIFS($F$45:$F$544,$C$45:$C$544,$Q70)","v":0},0,0,0,0,0,0,null,null,0]
[null,"M7nEAKQN9zgYz7BtxGWTXq0oso12","Kiap-TU-Wish",3,{"$f":"COUNTIFS(TUDB!$H$8:$H$1855,Use!$B71,TUDB!$F$8:$F$1855,Use!E$44)","v":0},{"$f":"COUNTIFS(TUDB!$H$8:$H$1855,Use!$B71,TUDB!$F$8:$F$1855,Use!F$44)","v":0},{"$f":"COUNTIFS(TUDB!$H$8:$H$1855,Use!$B71,TUDB!$F$8:$F$1855,Use!G$44)","v":0},{"$f":"COUNTIFS(TUDB!$H$8:$H$1855,Use!$B71,TUDB!$F$8:$F$1855,Use!H$44)","v":0},{"$f":"COUNTIFS(TUDB!$H$8:$H$1855,Use!$B71,TUDB!$F$8:$F$1855,Use!I$44)","v":3},null,0,{"$f":"IF(AND(G71>0,SUM($E71:F71)=0),1,0)","v":0},{"$f":"IF(AND(H71>0,SUM($E71:G71)=0),1,0)","v":0},{"$f":"IF(AND(I71>0,SUM($E71:H71)=0),1,0)","v":1},null,null,"Coulee Region",0,0,1,8,0,0,0,0,null,null,1]
[null,"UlOTIjO5fRXyX2NgghYvxYXOF0j2","Unknown",8,{"$f":"COUNTIFS(TUDB!$H$8:$H$1855,Use!$B72,TUDB!$F$8:$F$1855,Use!E$44)","v":0},{"$f":"COUNTIFS(TUDB!$H$8:$H$1855,Use!$B72,TUDB!$F$8:$F$1855,Use!F$44)","v":0},{"$f":"COUNTIFS(TUDB!$H$8:$H$1855,Use!$B72,TUDB!$F$8:$F$1855,Use!G$44)","v":0},{"$f":"COUNTIFS(TUDB!$H$8:$H$1855,Use!$B72,TUDB!$F$8:$F$1855,Use!H$44)","v":0},{"$f":"COUNTIFS(TUDB!$H$8:$H$1855,Use!$B72,TUDB!$F$8:$F$1855,Use!I$44)","v":8},null,0,{"$f":"IF(AND(G72>0,SUM($E72:F72)=0),1,0)","v":0},{"$f":"IF(AND(H72>0,SUM($E72:G72)=0),1,0)","v":0},{"$f":"IF(AND(I72>0,SUM($E72:H72)=0),1,0)","v":1},null,null,"Harry & Laura Nohr",0,0,0,0,0,0,0,0,null,null,0]
[null,"2XHDjq71v6QuQ2mR0YUjDtciKej1","Oak Brook",1,{"$f":"COUNTIFS(TUDB!$H$8:$H$1855,Use!$B73,TUDB!$F$8:$F$1855,Use!E$44)","v":0},{"$f":"COUNTIFS(TUDB!$H$8:$H$1855,Use!$B73,TUDB!$F$8:$F$1855,Use!F$44)","v":0},{"$f":"COUNTIFS(TUDB!$H$8:$H$1855,Use!$B73,TUDB!$F$8:$F$1855,Use!G$44)","v":0},{"$f":"COUNTIFS(TUDB!$H$8:$H$1855,Use!$B73,TUDB!$F$8:$F$1855,Use!H$44)","v":0},{"$f":"COUNTIFS(TUDB!$H$8:$H$1855,Use!$B73,TUDB!$F$8:$F$1855,Use!I$44)","v":1},null,0,{"$f":"IF(AND(G73>0,SUM($E73:F73)=0),1,0)","v":0},{"$f":"IF(AND(H73>0,SUM($E73:G73)=0),1,0)","v":0},{"$f":"IF(AND(I73>0,SUM($E73:H73)=0),1,0)","v":1},null,null,"Hiawatha",1,2,11,122,9,75,10,116,null,null,31]
[null,"sPbTkTzcbybDduQDEAb0F4hUDHf2","TCTU",16,{"$f":"COUNTIFS(TUDB!$H$8:$H$1855,Use!$B74,TUDB!$F$8:$F$1855,Use!E$44)","v":0},{"$f":"COUNTIFS(TUDB!$H$8:$H$1855,Use!$B74,TUDB!$F$8:$F$1855,Use!F$44)","v":0},{"$f":"COUNTIFS(TUDB!$H$8:$H$1855,Use!$B74,TUDB!$F$8:$F$1855,Use!G$44)","v":0},{"$f":"COUNTIFS(TUDB!$H$8:$H$1855,Use!$B74,TUDB!$F$8:$F$1855,Use!H$44)","v":9},{"$f":"COUNTIFS(TUDB!$H$8:$H$1855,Use!$B74,TUDB!$F$8:$F$1855,Use!I$44)","v":7},null,0,{"$f":"IF(AND(G74>0,SUM($E74:F74)=0),1,0)","v":0},{"$f":"IF(AND(H74>0,SUM($E74:G74)=0),1,0)","v":1},{"$f":"IF(AND(I74>0,SUM($E74:H74)=0),1,0)","v":0},null,null,"Iowa Driftless",1,1,1,3,1,1,5,8,null,null,8]
[null,"dzm5kGoaEqWZ3aoqMW65dlUm5g92","TCTU",18,{"$f":"COUNTIFS(TUDB!$H$8:$H$1855,Use!$B75,TUDB!$F$8:$F$1855,Use!E$44)","v":0},{"$f":"COUNTIFS(TUDB!$H$8:$H$1855,Use!$B75,TUDB!$F$8:$F$1855,Use!F$44)","v":0},{"$f":"COUNTIFS(TUDB!$H$8:$H$1855,Use!$B75,TUDB!$F$8:$F$1855,Use!G$44)","v":0},{"$f":"COUNTIFS(TUDB!$H$8:$H$1855,Use!$B75,TUDB!$F$8:$F$1855,Use!H$44)","v":12},{"$f":"COUNTIFS(TUDB!$H$8:$H$1855,Use!$B75,TUDB!$F$8:$F$1855,Use!I$44)","v":6},null,0,{"$f":"IF(AND(G75>0,SUM($E75:F75)=0),1,0)","v":0},{"$f":"IF(AND(H75>0,SUM($E75:G75)=0),1,0)","v":1},{"$f":"IF(AND(I75>0,SUM($E75:H75)=0),1,0)","v":0},null,null,"Kiap-TU-Wish",20,91,13,105,9,59,9,50,null,null,51]
[null,"xYjaaWkJX4fiKpH7uMmSdC5YE0h2","Oak Brook",4,{"$f":"COUNTIFS(TUDB!$H$8:$H$1855,Use!$B76,TUDB!$F$8:$F$1855,Use!E$44)","v":0},{"$f":"COUNTIFS(TUDB!$H$8:$H$1855,Use!$B76,TUDB!$F$8:$F$1855,Use!F$44)","v":2},{"$f":"COUNTIFS(TUDB!$H$8:$H$1855,Use!$B76,TUDB!$F$8:$F$1855,Use!G$44)","v":0},{"$f":"COUNTIFS(TUDB!$H$8:$H$1855,Use!$B76,TUDB!$F$8:$F$1855,Use!H$44)","v":0},{"$f":"COUNTIFS(TUDB!$H$8:$H$1855,Use!$B76,TUDB!$F$8:$F$1855,Use!I$44)","v":2},null,1,{"$f":"IF(AND(G76>0,SUM($E76:F76)=0),1,0)","v":0},{"$f":"IF(AND(H76>0,SUM($E76:G76)=0),1,0)","v":0},{"$f":"IF(AND(I76>0,SUM($E76:H76)=0),1,0)","v":0},null,null,"Lee Wulff",0,0,0,0,0,0,0,0,null,null,0]
[null,"6oemLSFIHIXnYk5OuejKZ9Uhljr1","Hiawatha",17,{"$f":"COUNTIFS(TUDB!$H$8:$H$1855,Use!$B77,TUDB!$F$8:$F$1855,Use!E$44)","v":0},{"$f":"COUNTIFS(TUDB!$H$8:$H$1855,Use!$B77,TUDB!$F$8:$F$1855,Use!F$44)","v":0},{"$f":"COUNTIFS(TUDB!$H$8:$H$1855,Use!$B77,TUDB!$F$8:$F$1855,Use!G$44)","v":7},{"$f":"COUNTIFS(TUDB!$H$8:$H$1855,Use!$B77,TUDB!$F$8:$F$1855,Use!H$44)","v":1},{"$f":"COUNTIFS(TUDB!$H$8:$H$1855,Use!$B77,TUDB!$F$8:$F$1855,Use!I$44)","v":9},null,{"$f":"IF(AND(F77>0,SUM($E77)=0),1,0)","v":0},{"$f":"IF(AND(G77>0,SUM($E77:F77)=0),1,0)","v":1},{"$f":"IF(AND(H77>0,SUM($E77:G77)=0),1,0)","v":0},{"$f":"IF(AND(I77>0,SUM($E77:H77)=0),1,0)","v":0},null,null,"North Bear",0,0,0,0,0,0,0,0,null,null,0]
[null,"f7qMRlnlkOgrA1xpaxXrTTeRGWX2","Kiap-TU-Wish",85,{"$f":"COUNTIFS(TUDB!$H$8:$H$1855,Use!$B78,TUDB!$F$8:$F$1855,Use!E$44)","v":0},{"$f":"COUNTIFS(TUDB!$H$8:$H$1855,Use!$B78,TUDB!$F$8:$F$1855,Use!F$44)","v":34},{"$f":"COUNTIFS(TUDB!$H$8:$H$1855,Use!$B78,TUDB!$F$8:$F$1855,Use!G$44)","v":25},{"$f":"COUNTIFS(TUDB!$H$8:$H$1855,Use!$B78,TUDB!$F$8:$F$1855,Use!H$44)","v":16},{"$f":"COUNTIFS(TUDB!$H$8:$H$1855,Use!$B78,TUDB!$F$8:$F$1855,Use!I$44)","v":10},null,1,{"$f":"IF(AND(G78>0,SUM($E78:F78)=0),1,0)","v":0},{"$f":"IF(AND(H78>0,SUM($E78:G78)=0),1,0)","v":0},{"$f":"IF(AND(I78>0,SUM($E78:H78)=0),1,0)","v":0},null,null,"Oak Brook",1,2,1,1,1,3,2,3,null,null,5]
[null,"7NTXAgPEn9VYyuIA3Cp8vDW3NQX2","TU Staff",37,{"$f":"COUNTIFS(TUDB!$H$8:$H$1855,Use!$B79,TUDB!$F$8:$F$1855,Use!E$44)","v":0},{"$f":"COUNTIFS(TUDB!$H$8:$H$1855,Use!$B79,TUDB!$F$8:$F$1855,Use!F$44)","v":0},{"$f":"COUNTIFS(TUDB!$H$8:$H$1855,Use!$B79,TUDB!$F$8:$F$1855,Use!G$44)","v":0},{"$f":"COUNTIFS(TUDB!$H$8:$H$1855,Use!$B79,TUDB!$F$8:$F$1855,Use!H$44)","v":0},{"$f":"COUNTIFS(TUDB!$H$8:$H$1855,Use!$B79,TUDB!$F$8:$F$1855,Use!I$44)","v":37},null,0,{"$f":"IF(AND(G79>0,SUM($E79:F79)=0),1,0)","v":0},{"$f":"IF(AND(H79>0,SUM($E79:G79)=0),1,0)","v":0},{"$f":"IF(AND(I79>0,SUM($E79:H79)=0),1,0)","v":1},null,null,"Southern Wisconsin",1,1,2,8,0,0,0,0,null,null,3]
[null,"vJrwbdPvPnXJgon4SQthmTwobKu2","Kinni Corridor Collaborative",1,{"$f":"COUNTIFS(TUDB!$H$8:$H$1855,Use!$B80,TUDB!$F$8:$F$1855,Use!E$44)","v":0},{"$f":"COUNTIFS(TUDB!$H$8:$H$1855,Use!$B80,TUDB!$F$8:$F$1855,Use!F$44)","v":0},{"$f":"COUNTIFS(TUDB!$H$8:$H$1855,Use!$B80,TUDB!$F$8:$F$1855,Use!G$44)","v":0},{"$f":"COUNTIFS(TUDB!$H$8:$H$1855,Use!$B80,TUDB!$F$8:$F$1855,Use!H$44)","v":0},{"$f":"COUNTIFS(TUDB!$H$8:$H$1855,Use!$B80,TUDB!$F$8:$F$1855,Use!I$44)","v":1},null,0,{"$f":"IF(AND(G80>0,SUM($E80:F80)=0),1,0)","v":0},{"$f":"IF(AND(H80>0,SUM($E80:G80)=0),1,0)","v":0},{"$f":"IF(AND(I80>0,SUM($E80:H80)=0),1,0)","v":1},null,null,"Spring Creeks",0,0,1,1,1,5,0,0,null,null,2]
[null,"JPeRKIYV47UbzfPT6XNOkzh8jrH3","Unknown",1,{"$f":"COUNTIFS(TUDB!$H$8:$H$1855,Use!$B81,TUDB!$F$8:$F$1855,Use!E$44)","v":0},{"$f":"COUNTIFS(TUDB!$H$8:$H$1855,Use!$B81,TUDB!$F$8:$F$1855,Use!F$44)","v":0},{"$f":"COUNTIFS(TUDB!$H$8:$H$1855,Use!$B81,TUDB!$F$8:$F$1855,Use!G$44)","v":0},{"$f":"COUNTIFS(TUDB!$H$8:$H$1855,Use!$B81,TUDB!$F$8:$F$1855,Use!H$44)","v":0},{"$f":"COUNTIFS(TUDB!$H$8:$H$1855,Use!$B81,TUDB!$F$8:$F$1855,Use!I$44)","v":1},null,0,{"$f":"IF(AND(G81>0,SUM($E81:F81)=0),1,0)","v":0},{"$f":"IF(AND(H81>0,SUM($E81:G81)=0),1,0)","v":0},{"$f":"IF(AND(I81>0,SUM($E81:H81)=0),1,0)","v":1},null,null,"Twin Cities (TCTU)",{"$f":"COUNTIFS($C$45:$C$544,\"TCTU\",$F$45:$F$544,\">\"&0)","v":1},{"$f":"SUMIFS($F$45:$F$544,$C$45:$C$544,\"TCTU\")","v":4},{"$f":"COUNTIFS($C$45:$C$544,\"TCTU\",$G$45:$G$544,\">\"&0)","v":17},{"$f":"SUMIFS($G$45:$G$544,$C$45:$C$544,\"TCTU\")","v":119},{"$f":"COUNTIFS($C$45:$C$544,\"TCTU\",$H$45:$H$544,\">\"&0)","v":19},{"$f":"SUMIFS($H$45:$H$544,$C$45:$C$544,\"TCTU\")","v":107},{"$f":"COUNTIFS($C$45:$C$544,\"TCTU\",$I$45:$I$544,\">\"&0)","v":19},{"$f":"SUMIFS($I$45:$I$544,$C$45:$C$544,\"TCTU\")","v":92},null,null,56]
[null,"priF5cixMzgI8IDVbN4UORA8Axx2","Unknown",2,{"$f":"COUNTIFS(TUDB!$H$8:$H$1855,Use!$B82,TUDB!$F$8:$F$1855,Use!E$44)","v":0},{"$f":"COUNTIFS(TUDB!$H$8:$H$1855,Use!$B82,TUDB!$F$8:$F$1855,Use!F$44)","v":0},{"$f":"COUNTIFS(TUDB!$H$8:$H$1855,Use!$B82,TUDB!$F$8:$F$1855,Use!G$44)","v":0},{"$f":"COUNTIFS(TUDB!$H$8:$H$1855,Use!$B82,TUDB!$F$8:$F$1855,Use!H$44)","v":0},{"$f":"COUNTIFS(TUDB!$H$8:$H$1855,Use!$B82,TUDB!$F$8:$F$1855,Use!I$44)","v":2},null,0,{"$f":"IF(AND(G82>0,SUM($E82:F82)=0),1,0)","v":0},{"$f":"IF(AND(H82>0,SUM($E82:G82)=0),1,0)","v":0},{"$f":"IF(AND(I82>0,SUM($E82:H82)=0),1,0)","v":1},null,null,"Wisconsin Clear Waters",2,10,{"$f":"COUNTIFS($C$45:$C$544,$Q82,$G$45:$G$544,\">\"&0)","v":0},{"$f":"SUMIFS($G$45:$G$544,$C$45:$C$544,$Q82)","v":0},{"$f":"COUNTIFS($C$45:$C$544,$Q82,$H$45:$H$544,\">\"&0)","v":1},{"$f":"SUMIFS($H$45:$H$544,$C$45:$C$544,$Q82)","v":20},{"$f":"COUNTIFS($C$45:$C$544,$Q82,$I$45:$I$544,\">\"&0)","v":1},{"$f":"SUMIFS($I$45:$I$544,$C$45:$C$544,$Q82)","v":5},null,null,4]
[null,"b5Q5MWoIy9OOBrhn8HbZMPPsGST2","Agency/University",50,{"$f":"COUNTIFS(TUDB!$H$8:$H$1855,Use!$B83,TUDB!$F$8:$F$1855,Use!E$44)","v":0},{"$f":"COUNTIFS(TUDB!$H$8:$H$1855,Use!$B83,TUDB!$F$8:$F$1855,Use!F$44)","v":9},{"$f":"COUNTIFS(TUDB!$H$8:$H$1855,Use!$B83,TUDB!$F$8:$F$1855,Use!G$44)","v":16},{"$f":"COUNTIFS(TUDB!$H$8:$H$1855,Use!$B83,TUDB!$F$8:$F$1855,Use!H$44)","v":12},{"$f":"COUNTIFS(TUDB!$H$8:$H$1855,Use!$B83,TUDB!$F$8:$F$1855,Use!I$44)","v":13},null,1,{"$f":"IF(AND(G83>0,SUM($E83:F83)=0),1,0)","v":0},{"$f":"IF(AND(H83>0,SUM($E83:G83)=0),1,0)","v":0},{"$f":"IF(AND(I83>0,SUM($E83:H83)=0),1,0)","v":0},null,null,"Win-Cres",1,6,{"$f":"COUNTIFS($C$45:$C$544,$Q83,$G$45:$G$544,\">\"&0)","v":0},{"$f":"SUMIFS($G$45:$G$544,$C$45:$C$544,$Q83)","v":0},{"$f":"COUNTIFS($C$45:$C$544,$Q83,$H$45:$H$544,\">\"&0)","v":0},{"$f":"SUMIFS($H$45:$H$544,$C$45:$C$544,$Q83)","v":0},{"$f":"COUNTIFS($C$45:$C$544,$Q83,$I$45:$I$544,\">\"&0)","v":0},{"$f":"SUMIFS($I$45:$I$544,$C$45:$C$544,$Q83)","v":0},null,null,1]
[null,"k6imGQxkdoYmMVg7pAz2w40EZAb2","Kinni Corridor Collaborative",29,{"$f":"COUNTIFS(TUDB!$H$8:$H$1855,Use!$B84,TUDB!$F$8:$F$1855,Use!E$44)","v":0},{"$f":"COUNTIFS(TUDB!$H$8:$H$1855,Use!$B84,TUDB!$F$8:$F$1855,Use!F$44)","v":0},{"$f":"COUNTIFS(TUDB!$H$8:$H$1855,Use!$B84,TUDB!$F$8:$F$1855,Use!G$44)","v":0},{"$f":"COUNTIFS(TUDB!$H$8:$H$1855,Use!$B84,TUDB!$F$8:$F$1855,Use!H$44)","v":0},{"$f":"COUNTIFS(TUDB!$H$8:$H$1855,Use!$B84,TUDB!$F$8:$F$1855,Use!I$44)","v":29},null,0,{"$f":"IF(AND(G84>0,SUM($E84:F84)=0),1,0)","v":0},{"$f":"IF(AND(H84>0,SUM($E84:G84)=0),1,0)","v":0},{"$f":"IF(AND(I84>0,SUM($E84:H84)=0),1,0)","v":1},null,null,"Other ",{"$f":"SUM(R85:R88)","v":3},{"$f":"SUM(S85:S88)","v":27},6,34,20,189,33,475]
[null,"xGf42w3UBFa817jAA3vYGVMhqZo2","TCTU",22,{"$f":"COUNTIFS(TUDB!$H$8:$H$1855,Use!$B85,TUDB!$F$8:$F$1855,Use!E$44)","v":0},{"$f":"COUNTIFS(TUDB!$H$8:$H$1855,Use!$B85,TUDB!$F$8:$F$1855,Use!F$44)","v":0},{"$f":"COUNTIFS(TUDB!$H$8:$H$1855,Use!$B85,TUDB!$F$8:$F$1855,Use!G$44)","v":13},{"$f":"COUNTIFS(TUDB!$H$8:$H$1855,Use!$B85,TUDB!$F$8:$F$1855,Use!H$44)","v":4},{"$f":"COUNTIFS(TUDB!$H$8:$H$1855,Use!$B85,TUDB!$F$8:$F$1855,Use!I$44)","v":5},null,0,{"$f":"IF(AND(G85>0,SUM($E85:F85)=0),1,0)","v":1},{"$f":"IF(AND(H85>0,SUM($E85:G85)=0),1,0)","v":0},{"$f":"IF(AND(I85>0,SUM($E85:H85)=0),1,0)","v":0},null,null,"TU Staff",{"$f":"COUNTIFS($C$45:$C$544,$Q85,$F$45:$F$544,\">\"&0)","v":1},{"$f":"SUMIFS($F$45:$F$544,$C$45:$C$544,$Q85)","v":1},{"$f":"COUNTIFS($C$45:$C$544,$Q85,$G$45:$G$544,\">\"&0)","v":0},{"$f":"SUMIFS($G$45:$G$544,$C$45:$C$544,$Q85)","v":0},{"$f":"COUNTIFS($C$45:$C$544,$Q85,$H$45:$H$544,\">\"&0)","v":2},{"$f":"SUMIFS($H$45:$H$544,$C$45:$C$544,$Q85)","v":15},{"$f":"COUNTIFS($C$45:$C$544,$Q85,$I$45:$I$544,\">\"&0)","v":7},{"$f":"SUMIFS($I$45:$I$544,$C$45:$C$544,$Q85)","v":253}]
[null,"DKq8OLTYViaAQZeR9ADiCfs22M63","TU Staff",44,{"$f":"COUNTIFS(TUDB!$H$8:$H$1855,Use!$B86,TUDB!$F$8:$F$1855,Use!E$44)","v":0},{"$f":"COUNTIFS(TUDB!$H$8:$H$1855,Use!$B86,TUDB!$F$8:$F$1855,Use!F$44)","v":0},{"$f":"COUNTIFS(TUDB!$H$8:$H$1855,Use!$B86,TUDB!$F$8:$F$1855,Use!G$44)","v":0},{"$f":"COUNTIFS(TUDB!$H$8:$H$1855,Use!$B86,TUDB!$F$8:$F$1855,Use!H$44)","v":0},{"$f":"COUNTIFS(TUDB!$H$8:$H$1855,Use!$B86,TUDB!$F$8:$F$1855,Use!I$44)","v":44},null,0,{"$f":"IF(AND(G86>0,SUM($E86:F86)=0),1,0)","v":0},{"$f":"IF(AND(H86>0,SUM($E86:G86)=0),1,0)","v":0},{"$f":"IF(AND(I86>0,SUM($E86:H86)=0),1,0)","v":1},null,null,"Kinni Corridor Collaborative",{"$f":"COUNTIFS($C$45:$C$544,$Q86,$F$45:$F$544,\">\"&0)","v":0},{"$f":"SUMIFS($F$45:$F$544,$C$45:$C$544,$Q86)","v":0},{"$f":"COUNTIFS($C$45:$C$544,$Q86,$G$45:$G$544,\">\"&0)","v":0},{"$f":"SUMIFS($G$45:$G$544,$C$45:$C$544,$Q86)","v":0},{"$f":"COUNTIFS($C$45:$C$544,$Q86,$H$45:$H$544,\">\"&0)","v":3},{"$f":"SUMIFS($H$45:$H$544,$C$45:$C$544,$Q86)","v":122},{"$f":"COUNTIFS($C$45:$C$544,$Q86,$I$45:$I$544,\">\"&0)","v":4},{"$f":"SUMIFS($I$45:$I$544,$C$45:$C$544,$Q86)","v":46}]
[null,"Qa8zCFJze3TAFBtRlCzL60f4jez2","Kiap-TU-Wish",4,{"$f":"COUNTIFS(TUDB!$H$8:$H$1855,Use!$B87,TUDB!$F$8:$F$1855,Use!E$44)","v":0},{"$f":"COUNTIFS(TUDB!$H$8:$H$1855,Use!$B87,TUDB!$F$8:$F$1855,Use!F$44)","v":0},{"$f":"COUNTIFS(TUDB!$H$8:$H$1855,Use!$B87,TUDB!$F$8:$F$1855,Use!G$44)","v":0},{"$f":"COUNTIFS(TUDB!$H$8:$H$1855,Use!$B87,TUDB!$F$8:$F$1855,Use!H$44)","v":0},{"$f":"COUNTIFS(TUDB!$H$8:$H$1855,Use!$B87,TUDB!$F$8:$F$1855,Use!I$44)","v":4},null,0,{"$f":"IF(AND(G87>0,SUM($E87:F87)=0),1,0)","v":0},{"$f":"IF(AND(H87>0,SUM($E87:G87)=0),1,0)","v":0},{"$f":"IF(AND(I87>0,SUM($E87:H87)=0),1,0)","v":1},null,null,"Agency/University*",{"$f":"COUNTIFS($C$45:$C$544,$Q87,$F$45:$F$544,\">\"&0)","v":2},{"$f":"SUMIFS($F$45:$F$544,$C$45:$C$544,$Q87)","v":26},{"$f":"COUNTIFS($C$45:$C$544,$Q87,$G$45:$G$544,\">\"&0)","v":1},{"$f":"SUMIFS($G$45:$G$544,$C$45:$C$544,$Q87)","v":16},{"$f":"COUNTIFS($C$45:$C$544,$Q87,$H$45:$H$544,\">\"&0)","v":7},{"$f":"SUMIFS($H$45:$H$544,$C$45:$C$544,$Q87)","v":33},{"$f":"COUNTIFS($C$45:$C$544,$Q87,$I$45:$I$544,\">\"&0)","v":6},{"$f":"SUMIFS($I$45:$I$544,$C$45:$C$544,$Q87)","v":90}]
[null,"c2yLP2VgfvNBOWuOqq6XscGxbVi1","Kinni Corridor Collaborative",15,{"$f":"COUNTIFS(TUDB!$H$8:$H$1855,Use!$B88,TUDB!$F$8:$F$1855,Use!E$44)","v":0},{"$f":"COUNTIFS(TUDB!$H$8:$H$1855,Use!$B88,TUDB!$F$8:$F$1855,Use!F$44)","v":0},{"$f":"COUNTIFS(TUDB!$H$8:$H$1855,Use!$B88,TUDB!$F$8:$F$1855,Use!G$44)","v":0},{"$f":"COUNTIFS(TUDB!$H$8:$H$1855,Use!$B88,TUDB!$F$8:$F$1855,Use!H$44)","v":0},{"$f":"COUNTIFS(TUDB!$H$8:$H$1855,Use!$B88,TUDB!$F$8:$F$1855,Use!I$44)","v":15},null,0,{"$f":"IF(AND(G88>0,SUM($E88:F88)=0),1,0)","v":0},{"$f":"IF(AND(H88>0,SUM($E88:G88)=0),1,0)","v":0},{"$f":"IF(AND(I88>0,SUM($E88:H88)=0),1,0)","v":1},null,null,"Unknown",{"$f":"COUNTIFS($C$45:$C$544,$Q88,$F$45:$F$544,\">\"&0)","v":0},{"$f":"SUMIFS($F$45:$F$544,$C$45:$C$544,$Q88)","v":0},{"$f":"COUNTIFS($C$45:$C$544,$Q88,$G$45:$G$544,\">\"&0)","v":5},{"$f":"SUMIFS($G$45:$G$544,$C$45:$C$544,$Q88)","v":18},{"$f":"COUNTIFS($C$45:$C$544,$Q88,$H$45:$H$544,\">\"&0)","v":8},{"$f":"SUMIFS($H$45:$H$544,$C$45:$C$544,$Q88)","v":19},{"$f":"COUNTIFS($C$45:$C$544,$Q88,$I$45:$I$544,\">\"&0)","v":16},{"$f":"SUMIFS($I$45:$I$544,$C$45:$C$544,$Q88)","v":86}]
[null,"mMKogvdinjOuckB5tkMQrxnYO852","Kiap-TU-Wish",7,{"$f":"COUNTIFS(TUDB!$H$8:$H$1855,Use!$B89,TUDB!$F$8:$F$1855,Use!E$44)","v":0},{"$f":"COUNTIFS(TUDB!$H$8:$H$1855,Use!$B89,TUDB!$F$8:$F$1855,Use!F$44)","v":0},{"$f":"COUNTIFS(TUDB!$H$8:$H$1855,Use!$B89,TUDB!$F$8:$F$1855,Use!G$44)","v":0},{"$f":"COUNTIFS(TUDB!$H$8:$H$1855,Use!$B89,TUDB!$F$8:$F$1855,Use!H$44)","v":5},{"$f":"COUNTIFS(TUDB!$H$8:$H$1855,Use!$B89,TUDB!$F$8:$F$1855,Use!I$44)","v":2},null,0,{"$f":"IF(AND(G89>0,SUM($E89:F89)=0),1,0)","v":0},{"$f":"IF(AND(H89>0,SUM($E89:G89)=0),1,0)","v":1},{"$f":"IF(AND(I89>0,SUM($E89:H89)=0),1,0)","v":0},null,null,"*Includes staff from Minnesota DNR, Wisconsin DNR, USFWS, Saint Marys University, Upper Iowa University, Holmen Middle School "]
[null,"oCltWtS7poTmhdoeies5qt6zlVg1","Agency/University",3,{"$f":"COUNTIFS(TUDB!$H$8:$H$1855,Use!$B90,TUDB!$F$8:$F$1855,Use!E$44)","v":0},{"$f":"COUNTIFS(TUDB!$H$8:$H$1855,Use!$B90,TUDB!$F$8:$F$1855,Use!F$44)","v":0},{"$f":"COUNTIFS(TUDB!$H$8:$H$1855,Use!$B90,TUDB!$F$8:$F$1855,Use!G$44)","v":0},{"$f":"COUNTIFS(TUDB!$H$8:$H$1855,Use!$B90,TUDB!$F$8:$F$1855,Use!H$44)","v":2},{"$f":"COUNTIFS(TUDB!$H$8:$H$1855,Use!$B90,TUDB!$F$8:$F$1855,Use!I$44)","v":1},null,0,{"$f":"IF(AND(G90>0,SUM($E90:F90)=0),1,0)","v":0},{"$f":"IF(AND(H90>0,SUM($E90:G90)=0),1,0)","v":1},{"$f":"IF(AND(I90>0,SUM($E90:H90)=0),1,0)","v":0}]
[null,"ODZAZt42ngf0K8HRsQw4BSqkli42","Agency/University",57,{"$f":"COUNTIFS(TUDB!$H$8:$H$1855,Use!$B91,TUDB!$F$8:$F$1855,Use!E$44)","v":0},{"$f":"COUNTIFS(TUDB!$H$8:$H$1855,Use!$B91,TUDB!$F$8:$F$1855,Use!F$44)","v":0},{"$f":"COUNTIFS(TUDB!$H$8:$H$1855,Use!$B91,TUDB!$F$8:$F$1855,Use!G$44)","v":0},{"$f":"COUNTIFS(TUDB!$H$8:$H$1855,Use!$B91,TUDB!$F$8:$F$1855,Use!H$44)","v":8},{"$f":"COUNTIFS(TUDB!$H$8:$H$1855,Use!$B91,TUDB!$F$8:$F$1855,Use!I$44)","v":49},null,0,{"$f":"IF(AND(G91>0,SUM($E91:F91)=0),1,0)","v":0},{"$f":"IF(AND(H91>0,SUM($E91:G91)=0),1,0)","v":1},{"$f":"IF(AND(I91>0,SUM($E91:H91)=0),1,0)","v":0}]
[null,"jhGh651Hl7cRangRQ2zqYMCZHdv1","TU Staff",66,{"$f":"COUNTIFS(TUDB!$H$8:$H$1855,Use!$B92,TUDB!$F$8:$F$1855,Use!E$44)","v":0},{"$f":"COUNTIFS(TUDB!$H$8:$H$1855,Use!$B92,TUDB!$F$8:$F$1855,Use!F$44)","v":0},{"$f":"COUNTIFS(TUDB!$H$8:$H$1855,Use!$B92,TUDB!$F$8:$F$1855,Use!G$44)","v":0},{"$f":"COUNTIFS(TUDB!$H$8:$H$1855,Use!$B92,TUDB!$F$8:$F$1855,Use!H$44)","v":0},{"$f":"COUNTIFS(TUDB!$H$8:$H$1855,Use!$B92,TUDB!$F$8:$F$1855,Use!I$44)","v":66},null,0,{"$f":"IF(AND(G92>0,SUM($E92:F92)=0),1,0)","v":0},{"$f":"IF(AND(H92>0,SUM($E92:G92)=0),1,0)","v":0},{"$f":"IF(AND(I92>0,SUM($E92:H92)=0),1,0)","v":1},null,null,"Obs per TU Chapter Area"]
[null,"TwGnpUOZyJhOTHOqw2pGQ0maGfh1","Iowa Driftless",1,{"$f":"COUNTIFS(TUDB!$H$8:$H$1855,Use!$B93,TUDB!$F$8:$F$1855,Use!E$44)","v":0},{"$f":"COUNTIFS(TUDB!$H$8:$H$1855,Use!$B93,TUDB!$F$8:$F$1855,Use!F$44)","v":0},{"$f":"COUNTIFS(TUDB!$H$8:$H$1855,Use!$B93,TUDB!$F$8:$F$1855,Use!G$44)","v":0},{"$f":"COUNTIFS(TUDB!$H$8:$H$1855,Use!$B93,TUDB!$F$8:$F$1855,Use!H$44)","v":0},{"$f":"COUNTIFS(TUDB!$H$8:$H$1855,Use!$B93,TUDB!$F$8:$F$1855,Use!I$44)","v":1},null,0,{"$f":"IF(AND(G93>0,SUM($E93:F93)=0),1,0)","v":0},{"$f":"IF(AND(H93>0,SUM($E93:G93)=0),1,0)","v":0},{"$f":"IF(AND(I93>0,SUM($E93:H93)=0),1,0)","v":1}]
[null,"lyrizH9jreV0VG7fAgccBEropRQ2","Unknown",3,{"$f":"COUNTIFS(TUDB!$H$8:$H$1855,Use!$B94,TUDB!$F$8:$F$1855,Use!E$44)","v":0},{"$f":"COUNTIFS(TUDB!$H$8:$H$1855,Use!$B94,TUDB!$F$8:$F$1855,Use!F$44)","v":0},{"$f":"COUNTIFS(TUDB!$H$8:$H$1855,Use!$B94,TUDB!$F$8:$F$1855,Use!G$44)","v":0},{"$f":"COUNTIFS(TUDB!$H$8:$H$1855,Use!$B94,TUDB!$F$8:$F$1855,Use!H$44)","v":2},{"$f":"COUNTIFS(TUDB!$H$8:$H$1855,Use!$B94,TUDB!$F$8:$F$1855,Use!I$44)","v":1},null,0,{"$f":"IF(AND(G94>0,SUM($E94:F94)=0),1,0)","v":0},{"$f":"IF(AND(H94>0,SUM($E94:G94)=0),1,0)","v":1},{"$f":"IF(AND(I94>0,SUM($E94:H94)=0),1,0)","v":0},null,null,"TU Chapters","Total",2020,2021,2022,2023,2024,2025,2026,2027,2028,"DB Labels"]
[null,"MZ8CvOB6bBeEPjwpBrk2zCVH7bk2","TCTU",7,{"$f":"COUNTIFS(TUDB!$H$8:$H$1855,Use!$B95,TUDB!$F$8:$F$1855,Use!E$44)","v":0},{"$f":"COUNTIFS(TUDB!$H$8:$H$1855,Use!$B95,TUDB!$F$8:$F$1855,Use!F$44)","v":0},{"$f":"COUNTIFS(TUDB!$H$8:$H$1855,Use!$B95,TUDB!$F$8:$F$1855,Use!G$44)","v":0},{"$f":"COUNTIFS(TUDB!$H$8:$H$1855,Use!$B95,TUDB!$F$8:$F$1855,Use!H$44)","v":0},{"$f":"COUNTIFS(TUDB!$H$8:$H$1855,Use!$B95,TUDB!$F$8:$F$1855,Use!I$44)","v":7},null,0,{"$f":"IF(AND(G95>0,SUM($E95:F95)=0),1,0)","v":0},{"$f":"IF(AND(H95>0,SUM($E95:G95)=0),1,0)","v":0},{"$f":"IF(AND(I95>0,SUM($E95:H95)=0),1,0)","v":1},null,null,"Aldo Leopold",{"$f":"SUM(S95:AA95)","v":16},{"$f":"COUNTIFS(TU_DB[[TU Chapter Area]:[TU Chapter Area]],$AB95,TU_DB[[Year]:[Year]],S$94)","v":1},{"$f":"COUNTIFS(TU_DB[[TU Chapter Area]:[TU Chapter Area]],$AB95,TU_DB[[Year]:[Year]],T$94)","v":0},{"$f":"COUNTIFS(TU_DB[[TU Chapter Area]:[TU Chapter Area]],$AB95,TU_DB[[Year]:[Year]],U$94)","v":0},{"$f":"COUNTIFS(TU_DB[[TU Chapter Area]:[TU Chapter Area]],$AB95,TU_DB[[Year]:[Year]],V$94)","v":15},{"$f":"COUNTIFS(TU_DB[[TU Chapter Area]:[TU Chapter Area]],$Q95,TU_DB[[Year]:[Year]],W$94)","v":0},{"$f":"COUNTIFS(TU_DB[[TU Chapter Area]:[TU Chapter Area]],$AB95,TU_DB[[Year]:[Year]],X$94)","v":0},{"$f":"COUNTIFS(TU_DB[[TU Chapter Area]:[TU Chapter Area]],$Q95,TU_DB[[Year]:[Year]],Y$94)","v":0},{"$f":"COUNTIFS(TU_DB[[TU Chapter Area]:[TU Chapter Area]],$AB95,TU_DB[[Year]:[Year]],Z$94)","v":0},{"$f":"COUNTIFS(TU_DB[[TU Chapter Area]:[TU Chapter Area]],$Q95,TU_DB[[Year]:[Year]],AA$94)","v":0},"Aldo Leopold"]
[null,"p4yu7gSyP5X56i8vIVA6AxqyR5D2","Iowa Driftless",2,{"$f":"COUNTIFS(TUDB!$H$8:$H$1855,Use!$B96,TUDB!$F$8:$F$1855,Use!E$44)","v":0},{"$f":"COUNTIFS(TUDB!$H$8:$H$1855,Use!$B96,TUDB!$F$8:$F$1855,Use!F$44)","v":0},{"$f":"COUNTIFS(TUDB!$H$8:$H$1855,Use!$B96,TUDB!$F$8:$F$1855,Use!G$44)","v":0},{"$f":"COUNTIFS(TUDB!$H$8:$H$1855,Use!$B96,TUDB!$F$8:$F$1855,Use!H$44)","v":0},{"$f":"COUNTIFS(TUDB!$H$8:$H$1855,Use!$B96,TUDB!$F$8:$F$1855,Use!I$44)","v":2},null,0,{"$f":"IF(AND(G96>0,SUM($E96:F96)=0),1,0)","v":0},{"$f":"IF(AND(H96>0,SUM($E96:G96)=0),1,0)","v":0},{"$f":"IF(AND(I96>0,SUM($E96:H96)=0),1,0)","v":1},null,null,"Blackhawk",{"$f":"SUM(S96:AA96)","v":6},{"$f":"COUNTIFS(TU_DB[[TU Chapter Area]:[TU Chapter Area]],$AB96,TU_DB[[Year]:[Year]],S$94)","v":0},{"$f":"COUNTIFS(TU_DB[[TU Chapter Area]:[TU Chapter Area]],$AB96,TU_DB[[Year]:[Year]],T$94)","v":0},{"$f":"COUNTIFS(TU_DB[[TU Chapter Area]:[TU Chapter Area]],$AB96,TU_DB[[Year]:[Year]],U$94)","v":0},{"$f":"COUNTIFS(TU_DB[[TU Chapter Area]:[TU Chapter Area]],$AB96,TU_DB[[Year]:[Year]],V$94)","v":6},{"$f":"COUNTIFS(TU_DB[[TU Chapter Area]:[TU Chapter Area]],$Q96,TU_DB[[Year]:[Year]],W$94)","v":0},{"$f":"COUNTIFS(TU_DB[[TU Chapter Area]:[TU Chapter Area]],$AB96,TU_DB[[Year]:[Year]],X$94)","v":0},{"$f":"COUNTIFS(TU_DB[[TU Chapter Area]:[TU Chapter Area]],$Q96,TU_DB[[Year]:[Year]],Y$94)","v":0},{"$f":"COUNTIFS(TU_DB[[TU Chapter Area]:[TU Chapter Area]],$AB96,TU_DB[[Year]:[Year]],Z$94)","v":0},{"$f":"COUNTIFS(TU_DB[[TU Chapter Area]:[TU Chapter Area]],$Q96,TU_DB[[Year]:[Year]],AA$94)","v":0},"Blackhawk"]
[null,"3XObfMb7QSfrAYng16E97lQdZ3k1","TU Staff",62,{"$f":"COUNTIFS(TUDB!$H$8:$H$1855,Use!$B97,TUDB!$F$8:$F$1855,Use!E$44)","v":0},{"$f":"COUNTIFS(TUDB!$H$8:$H$1855,Use!$B97,TUDB!$F$8:$F$1855,Use!F$44)","v":0},{"$f":"COUNTIFS(TUDB!$H$8:$H$1855,Use!$B97,TUDB!$F$8:$F$1855,Use!G$44)","v":0},{"$f":"COUNTIFS(TUDB!$H$8:$H$1855,Use!$B97,TUDB!$F$8:$F$1855,Use!H$44)","v":0},{"$f":"COUNTIFS(TUDB!$H$8:$H$1855,Use!$B97,TUDB!$F$8:$F$1855,Use!I$44)","v":62},null,0,{"$f":"IF(AND(G97>0,SUM($E97:F97)=0),1,0)","v":0},{"$f":"IF(AND(H97>0,SUM($E97:G97)=0),1,0)","v":0},{"$f":"IF(AND(I97>0,SUM($E97:H97)=0),1,0)","v":1},null,null,"Coulee Region",199,{"$f":"COUNTIFS(TU_DB[[TU Chapter Area]:[TU Chapter Area]],$AB97,TU_DB[[Year]:[Year]],S$94)","v":11},{"$f":"COUNTIFS(TU_DB[[TU Chapter Area]:[TU Chapter Area]],$AB97,TU_DB[[Year]:[Year]],T$94)","v":14},{"$f":"COUNTIFS(TU_DB[[TU Chapter Area]:[TU Chapter Area]],$AB97,TU_DB[[Year]:[Year]],U$94)","v":13},{"$f":"COUNTIFS(TU_DB[[TU Chapter Area]:[TU Chapter Area]],$AB97,TU_DB[[Year]:[Year]],V$94)","v":161},{"$f":"COUNTIFS(TU_DB[[TU Chapter Area]:[TU Chapter Area]],$Q97,TU_DB[[Year]:[Year]],W$94)","v":0},{"$f":"COUNTIFS(TU_DB[[TU Chapter Area]:[TU Chapter Area]],$AB97,TU_DB[[Year]:[Year]],X$94)","v":0},{"$f":"COUNTIFS(TU_DB[[TU Chapter Area]:[TU Chapter Area]],$Q97,TU_DB[[Year]:[Year]],Y$94)","v":0},{"$f":"COUNTIFS(TU_DB[[TU Chapter Area]:[TU Chapter Area]],$AB97,TU_DB[[Year]:[Year]],Z$94)","v":0},{"$f":"COUNTIFS(TU_DB[[TU Chapter Area]:[TU Chapter Area]],$Q97,TU_DB[[Year]:[Year]],AA$94)","v":0},"Coulee Region"]
[null,"NWIhS2n51yTWxXjbMfTT6jX8rmi1","Unknown",1,{"$f":"COUNTIFS(TUDB!$H$8:$H$1855,Use!$B98,TUDB!$F$8:$F$1855,Use!E$44)","v":0},{"$f":"COUNTIFS(TUDB!$H$8:$H$1855,Use!$B98,TUDB!$F$8:$F$1855,Use!F$44)","v":0},{"$f":"COUNTIFS(TUDB!$H$8:$H$1855,Use!$B98,TUDB!$F$8:$F$1855,Use!G$44)","v":0},{"$f":"COUNTIFS(TUDB!$H$8:$H$1855,Use!$B98,TUDB!$F$8:$F$1855,Use!H$44)","v":0},{"$f":"COUNTIFS(TUDB!$H$8:$H$1855,Use!$B98,TUDB!$F$8:$F$1855,Use!I$44)","v":1},null,0,{"$f":"IF(AND(G98>0,SUM($E98:F98)=0),1,0)","v":0},{"$f":"IF(AND(H98>0,SUM($E98:G98)=0),1,0)","v":0},{"$f":"IF(AND(I98>0,SUM($E98:H98)=0),1,0)","v":1},null,null,"Harry & Laura Nohr",46,{"$f":"COUNTIFS(TU_DB[[TU Chapter Area]:[TU Chapter Area]],$AB98,TU_DB[[Year]:[Year]],S$94)","v":0},{"$f":"COUNTIFS(TU_DB[[TU Chapter Area]:[TU Chapter Area]],$AB98,TU_DB[[Year]:[Year]],T$94)","v":1},{"$f":"COUNTIFS(TU_DB[[TU Chapter Area]:[TU Chapter Area]],$AB98,TU_DB[[Year]:[Year]],U$94)","v":0},{"$f":"COUNTIFS(TU_DB[[TU Chapter Area]:[TU Chapter Area]],$AB98,TU_DB[[Year]:[Year]],V$94)","v":45},{"$f":"COUNTIFS(TU_DB[[TU Chapter Area]:[TU Chapter Area]],$Q98,TU_DB[[Year]:[Year]],W$94)","v":0},{"$f":"COUNTIFS(TU_DB[[TU Chapter Area]:[TU Chapter Area]],$AB98,TU_DB[[Year]:[Year]],X$94)","v":0},{"$f":"COUNTIFS(TU_DB[[TU Chapter Area]:[TU Chapter Area]],$Q98,TU_DB[[Year]:[Year]],Y$94)","v":0},{"$f":"COUNTIFS(TU_DB[[TU Chapter Area]:[TU Chapter Area]],$AB98,TU_DB[[Year]:[Year]],Z$94)","v":0},{"$f":"COUNTIFS(TU_DB[[TU Chapter Area]:[TU Chapter Area]],$Q98,TU_DB[[Year]:[Year]],AA$94)","v":0},"Harry & Laura Nohr"]
[null,"5gmJEp8QCCSFYxglsiszWKzeL1K2","Iowa Driftless",3,{"$f":"COUNTIFS(TUDB!$H$8:$H$1855,Use!$B99,TUDB!$F$8:$F$1855,Use!E$44)","v":0},{"$f":"COUNTIFS(TUDB!$H$8:$H$1855,Use!$B99,TUDB!$F$8:$F$1855,Use!F$44)","v":1},{"$f":"COUNTIFS(TUDB!$H$8:$H$1855,Use!$B99,TUDB!$F$8:$F$1855,Use!G$44)","v":0},{"$f":"COUNTIFS(TUDB!$H$8:$H$1855,Use!$B99,TUDB!$F$8:$F$1855,Use!H$44)","v":0},{"$f":"COUNTIFS(TUDB!$H$8:$H$1855,Use!$B99,TUDB!$F$8:$F$1855,Use!I$44)","v":2},null,1,{"$f":"IF(AND(G99>0,SUM($E99:F99)=0),1,0)","v":0},{"$f":"IF(AND(H99>0,SUM($E99:G99)=0),1,0)","v":0},{"$f":"IF(AND(I99>0,SUM($E99:H99)=0),1,0)","v":0},null,null,"Hiawatha",256,{"$f":"COUNTIFS(TU_DB[[TU Chapter Area]:[TU Chapter Area]],$AB99,TU_DB[[Year]:[Year]],S$94)","v":8},{"$f":"COUNTIFS(TU_DB[[TU Chapter Area]:[TU Chapter Area]],$AB99,TU_DB[[Year]:[Year]],T$94)","v":105},{"$f":"COUNTIFS(TU_DB[[TU Chapter Area]:[TU Chapter Area]],$AB99,TU_DB[[Year]:[Year]],U$94)","v":60},{"$f":"COUNTIFS(TU_DB[[TU Chapter Area]:[TU Chapter Area]],$AB99,TU_DB[[Year]:[Year]],V$94)","v":83},{"$f":"COUNTIFS(TU_DB[[TU Chapter Area]:[TU Chapter Area]],$Q99,TU_DB[[Year]:[Year]],W$94)","v":0},{"$f":"COUNTIFS(TU_DB[[TU Chapter Area]:[TU Chapter Area]],$AB99,TU_DB[[Year]:[Year]],X$94)","v":0},{"$f":"COUNTIFS(TU_DB[[TU Chapter Area]:[TU Chapter Area]],$Q99,TU_DB[[Year]:[Year]],Y$94)","v":0},{"$f":"COUNTIFS(TU_DB[[TU Chapter Area]:[TU Chapter Area]],$AB99,TU_DB[[Year]:[Year]],Z$94)","v":0},{"$f":"COUNTIFS(TU_DB[[TU Chapter Area]:[TU Chapter Area]],$Q99,TU_DB[[Year]:[Year]],AA$94)","v":0},"Hiawatha"]
[null,"k4Pe0JRs4tfWvDzxrT35e1UE1ce2","Unknown",6,{"$f":"COUNTIFS(TUDB!$H$8:$H$1855,Use!$B100,TUDB!$F$8:$F$1855,Use!E$44)","v":0},{"$f":"COUNTIFS(TUDB!$H$8:$H$1855,Use!$B100,TUDB!$F$8:$F$1855,Use!F$44)","v":0},{"$f":"COUNTIFS(TUDB!$H$8:$H$1855,Use!$B100,TUDB!$F$8:$F$1855,Use!G$44)","v":0},{"$f":"COUNTIFS(TUDB!$H$8:$H$1855,Use!$B100,TUDB!$F$8:$F$1855,Use!H$44)","v":4},{"$f":"COUNTIFS(TUDB!$H$8:$H$1855,Use!$B100,TUDB!$F$8:$F$1855,Use!I$44)","v":2},null,0,{"$f":"IF(AND(G100>0,SUM($E100:F100)=0),1,0)","v":0},{"$f":"IF(AND(H100>0,SUM($E100:G100)=0),1,0)","v":1},{"$f":"IF(AND(I100>0,SUM($E100:H100)=0),1,0)","v":0},null,null,"Iowa Driftless",65,{"$f":"COUNTIFS(TU_DB[[TU Chapter Area]:[TU Chapter Area]],$AB100,TU_DB[[Year]:[Year]],S$94)","v":1},{"$f":"COUNTIFS(TU_DB[[TU Chapter Area]:[TU Chapter Area]],$AB100,TU_DB[[Year]:[Year]],T$94)","v":7},{"$f":"COUNTIFS(TU_DB[[TU Chapter Area]:[TU Chapter Area]],$AB100,TU_DB[[Year]:[Year]],U$94)","v":21},{"$f":"COUNTIFS(TU_DB[[TU Chapter Area]:[TU Chapter Area]],$AB100,TU_DB[[Year]:[Year]],V$94)","v":36},{"$f":"COUNTIFS(TU_DB[[TU Chapter Area]:[TU Chapter Area]],$Q100,TU_DB[[Year]:[Year]],W$94)","v":0},{"$f":"COUNTIFS(TU_DB[[TU Chapter Area]:[TU Chapter Area]],$AB100,TU_DB[[Year]:[Year]],X$94)","v":0},{"$f":"COUNTIFS(TU_DB[[TU Chapter Area]:[TU Chapter Area]],$Q100,TU_DB[[Year]:[Year]],Y$94)","v":0},{"$f":"COUNTIFS(TU_DB[[TU Chapter Area]:[TU Chapter Area]],$AB100,TU_DB[[Year]:[Year]],Z$94)","v":0},{"$f":"COUNTIFS(TU_DB[[TU Chapter Area]:[TU Chapter Area]],$Q100,TU_DB[[Year]:[Year]],AA$94)","v":0},"Iowa Driftless"]
[null,"9SWyLZDRS8gsuAD2Vpf6duBiFib2","Hiawatha",11,{"$f":"COUNTIFS(TUDB!$H$8:$H$1855,Use!$B101,TUDB!$F$8:$F$1855,Use!E$44)","v":0},{"$f":"COUNTIFS(TUDB!$H$8:$H$1855,Use!$B101,TUDB!$F$8:$F$1855,Use!F$44)","v":0},{"$f":"COUNTIFS(TUDB!$H$8:$H$1855,Use!$B101,TUDB!$F$8:$F$1855,Use!G$44)","v":9},{"$f":"COUNTIFS(TUDB!$H$8:$H$1855,Use!$B101,TUDB!$F$8:$F$1855,Use!H$44)","v":1},{"$f":"COUNTIFS(TUDB!$H$8:$H$1855,Use!$B101,TUDB!$F$8:$F$1855,Use!I$44)","v":1},null,0,{"$f":"IF(AND(G101>0,SUM($E101:F101)=0),1,0)","v":1},{"$f":"IF(AND(H101>0,SUM($E101:G101)=0),1,0)","v":0},{"$f":"IF(AND(I101>0,SUM($E101:H101)=0),1,0)","v":0},null,null,"Kiap-TU-Wish",439,{"$f":"COUNTIFS(TU_DB[[TU Chapter Area]:[TU Chapter Area]],$AB101,TU_DB[[Year]:[Year]],S$94)","v":65},{"$f":"COUNTIFS(TU_DB[[TU Chapter Area]:[TU Chapter Area]],$AB101,TU_DB[[Year]:[Year]],T$94)","v":91},{"$f":"COUNTIFS(TU_DB[[TU Chapter Area]:[TU Chapter Area]],$AB101,TU_DB[[Year]:[Year]],U$94)","v":184},{"$f":"COUNTIFS(TU_DB[[TU Chapter Area]:[TU Chapter Area]],$AB101,TU_DB[[Year]:[Year]],V$94)","v":99},{"$f":"COUNTIFS(TU_DB[[TU Chapter Area]:[TU Chapter Area]],$Q101,TU_DB[[Year]:[Year]],W$94)","v":0},{"$f":"COUNTIFS(TU_DB[[TU Chapter Area]:[TU Chapter Area]],$AB101,TU_DB[[Year]:[Year]],X$94)","v":0},{"$f":"COUNTIFS(TU_DB[[TU Chapter Area]:[TU Chapter Area]],$Q101,TU_DB[[Year]:[Year]],Y$94)","v":0},{"$f":"COUNTIFS(TU_DB[[TU Chapter Area]:[TU Chapter Area]],$AB101,TU_DB[[Year]:[Year]],Z$94)","v":0},{"$f":"COUNTIFS(TU_DB[[TU Chapter Area]:[TU Chapter Area]],$Q101,TU_DB[[Year]:[Year]],AA$94)","v":0},"Kiap TU Wish"]
[null,"oN50knyfHlSRv38FF1MSKXBSQ6v1","TCTU",6,{"$f":"COUNTIFS(TUDB!$H$8:$H$1855,Use!$B102,TUDB!$F$8:$F$1855,Use!E$44)","v":0},{"$f":"COUNTIFS(TUDB!$H$8:$H$1855,Use!$B102,TUDB!$F$8:$F$1855,Use!F$44)","v":0},{"$f":"COUNTIFS(TUDB!$H$8:$H$1855,Use!$B102,TUDB!$F$8:$F$1855,Use!G$44)","v":0},{"$f":"COUNTIFS(TUDB!$H$8:$H$1855,Use!$B102,TUDB!$F$8:$F$1855,Use!H$44)","v":0},{"$f":"COUNTIFS(TUDB!$H$8:$H$1855,Use!$B102,TUDB!$F$8:$F$1855,Use!I$44)","v":6},null,0,{"$f":"IF(AND(G102>0,SUM($E102:F102)=0),1,0)","v":0},{"$f":"IF(AND(H102>0,SUM($E102:G102)=0),1,0)","v":0},{"$f":"IF(AND(I102>0,SUM($E102:H102)=0),1,0)","v":1},null,null,"Lee Wulff",0,{"$f":"COUNTIFS(TU_DB[[TU Chapter Area]:[TU Chapter Area]],$AB102,TU_DB[[Year]:[Year]],S$94)","v":0},{"$f":"COUNTIFS(TU_DB[[TU Chapter Area]:[TU Chapter Area]],$AB102,TU_DB[[Year]:[Year]],T$94)","v":0},{"$f":"COUNTIFS(TU_DB[[TU Chapter Area]:[TU Chapter Area]],$AB102,TU_DB[[Year]:[Year]],U$94)","v":0},{"$f":"COUNTIFS(TU_DB[[TU Chapter Area]:[TU Chapter Area]],$AB102,TU_DB[[Year]:[Year]],V$94)","v":0},{"$f":"COUNTIFS(TU_DB[[TU Chapter Area]:[TU Chapter Area]],$Q102,TU_DB[[Year]:[Year]],W$94)","v":0},{"$f":"COUNTIFS(TU_DB[[TU Chapter Area]:[TU Chapter Area]],$AB102,TU_DB[[Year]:[Year]],X$94)","v":0},{"$f":"COUNTIFS(TU_DB[[TU Chapter Area]:[TU Chapter Area]],$Q102,TU_DB[[Year]:[Year]],Y$94)","v":0},{"$f":"COUNTIFS(TU_DB[[TU Chapter Area]:[TU Chapter Area]],$AB102,TU_DB[[Year]:[Year]],Z$94)","v":0},{"$f":"COUNTIFS(TU_DB[[TU Chapter Area]:[TU Chapter Area]],$Q102,TU_DB[[Year]:[Year]],AA$94)","v":0},"Lee Wulff"]
[null,"VHRlmHCbVSYpoT7Xubj2OGSvIFl1","Kiap-TU-Wish",33,{"$f":"COUNTIFS(TUDB!$H$8:$H$1855,Use!$B103,TUDB!$F$8:$F$1855,Use!E$44)","v":0},{"$f":"COUNTIFS(TUDB!$H$8:$H$1855,Use!$B103,TUDB!$F$8:$F$1855,Use!F$44)","v":5},{"$f":"COUNTIFS(TUDB!$H$8:$H$1855,Use!$B103,TUDB!$F$8:$F$1855,Use!G$44)","v":15},{"$f":"COUNTIFS(TUDB!$H$8:$H$1855,Use!$B103,TUDB!$F$8:$F$1855,Use!H$44)","v":8},{"$f":"COUNTIFS(TUDB!$H$8:$H$1855,Use!$B103,TUDB!$F$8:$F$1855,Use!I$44)","v":5},null,1,{"$f":"IF(AND(G103>0,SUM($E103:F103)=0),1,0)","v":0},{"$f":"IF(AND(H103>0,SUM($E103:G103)=0),1,0)","v":0},{"$f":"IF(AND(I103>0,SUM($E103:H103)=0),1,0)","v":0},null,null,"North Bear",27,{"$f":"COUNTIFS(TU_DB[[TU Chapter Area]:[TU Chapter Area]],$AB103,TU_DB[[Year]:[Year]],S$94)","v":0},{"$f":"COUNTIFS(TU_DB[[TU Chapter Area]:[TU Chapter Area]],$AB103,TU_DB[[Year]:[Year]],T$94)","v":0},{"$f":"COUNTIFS(TU_DB[[TU Chapter Area]:[TU Chapter Area]],$AB103,TU_DB[[Year]:[Year]],U$94)","v":4},{"$f":"COUNTIFS(TU_DB[[TU Chapter Area]:[TU Chapter Area]],$AB103,TU_DB[[Year]:[Year]],V$94)","v":23},{"$f":"COUNTIFS(TU_DB[[TU Chapter Area]:[TU Chapter Area]],$Q103,TU_DB[[Year]:[Year]],W$94)","v":0},{"$f":"COUNTIFS(TU_DB[[TU Chapter Area]:[TU Chapter Area]],$AB103,TU_DB[[Year]:[Year]],X$94)","v":0},{"$f":"COUNTIFS(TU_DB[[TU Chapter Area]:[TU Chapter Area]],$Q103,TU_DB[[Year]:[Year]],Y$94)","v":0},{"$f":"COUNTIFS(TU_DB[[TU Chapter Area]:[TU Chapter Area]],$AB103,TU_DB[[Year]:[Year]],Z$94)","v":0},{"$f":"COUNTIFS(TU_DB[[TU Chapter Area]:[TU Chapter Area]],$Q103,TU_DB[[Year]:[Year]],AA$94)","v":0},"North Bear"]
[null,"Z67DTJdwHDTq5w1T7TFqGEeoOnI2","Iowa Driftless",1,{"$f":"COUNTIFS(TUDB!$H$8:$H$1855,Use!$B104,TUDB!$F$8:$F$1855,Use!E$44)","v":0},{"$f":"COUNTIFS(TUDB!$H$8:$H$1855,Use!$B104,TUDB!$F$8:$F$1855,Use!F$44)","v":0},{"$f":"COUNTIFS(TUDB!$H$8:$H$1855,Use!$B104,TUDB!$F$8:$F$1855,Use!G$44)","v":0},{"$f":"COUNTIFS(TUDB!$H$8:$H$1855,Use!$B104,TUDB!$F$8:$F$1855,Use!H$44)","v":0},{"$f":"COUNTIFS(TUDB!$H$8:$H$1855,Use!$B104,TUDB!$F$8:$F$1855,Use!I$44)","v":1},null,0,{"$f":"IF(AND(G104>0,SUM($E104:F104)=0),1,0)","v":0},{"$f":"IF(AND(H104>0,SUM($E104:G104)=0),1,0)","v":0},{"$f":"IF(AND(I104>0,SUM($E104:H104)=0),1,0)","v":1},null,null,"Oak Brook",0,{"$f":"COUNTIFS(TU_DB[[TU Chapter Area]:[TU Chapter Area]],$AB104,TU_DB[[Year]:[Year]],S$94)","v":0},{"$f":"COUNTIFS(TU_DB[[TU Chapter Area]:[TU Chapter Area]],$AB104,TU_DB[[Year]:[Year]],T$94)","v":0},{"$f":"COUNTIFS(TU_DB[[TU Chapter Area]:[TU Chapter Area]],$AB104,TU_DB[[Year]:[Year]],U$94)","v":0},{"$f":"COUNTIFS(TU_DB[[TU Chapter Area]:[TU Chapter Area]],$AB104,TU_DB[[Year]:[Year]],V$94)","v":0},{"$f":"COUNTIFS(TU_DB[[TU Chapter Area]:[TU Chapter Area]],$Q104,TU_DB[[Year]:[Year]],W$94)","v":0},{"$f":"COUNTIFS(TU_DB[[TU Chapter Area]:[TU Chapter Area]],$AB104,TU_DB[[Year]:[Year]],X$94)","v":0},{"$f":"COUNTIFS(TU_DB[[TU Chapter Area]:[TU Chapter Area]],$Q104,TU_DB[[Year]:[Year]],Y$94)","v":0},{"$f":"COUNTIFS(TU_DB[[TU Chapter Area]:[TU Chapter Area]],$AB104,TU_DB[[Year]:[Year]],Z$94)","v":0},{"$f":"COUNTIFS(TU_DB[[TU Chapter Area]:[TU Chapter Area]],$Q104,TU_DB[[Year]:[Year]],AA$94)","v":0},"Oak Brook"]
[null,"S4lPzDead3OY4NkJwamlcyYtyN62","TU Staff",24,{"$f":"COUNTIFS(TUDB!$H$8:$H$1855,Use!$B105,TUDB!$F$8:$F$1855,Use!E$44)","v":0},{"$f":"COUNTIFS(TUDB!$H$8:$H$1855,Use!$B105,TUDB!$F$8:$F$1855,Use!F$44)","v":1},{"$f":"COUNTIFS(TUDB!$H$8:$H$1855,Use!$B105,TUDB!$F$8:$F$1855,Use!G$44)","v":0},{"$f":"COUNTIFS(TUDB!$H$8:$H$1855,Use!$B105,TUDB!$F$8:$F$1855,Use!H$44)","v":0},{"$f":"COUNTIFS(TUDB!$H$8:$H$1855,Use!$B105,TUDB!$F$8:$F$1855,Use!I$44)","v":23},null,1,{"$f":"IF(AND(G105>0,SUM($E105:F105)=0),1,0)","v":0},{"$f":"IF(AND(H105>0,SUM($E105:G105)=0),1,0)","v":0},{"$f":"IF(AND(I105>0,SUM($E105:H105)=0),1,0)","v":0},null,null,"Southern Wisconsin",12,{"$f":"COUNTIFS(TU_DB[[TU Chapter Area]:[TU Chapter Area]],$AB105,TU_DB[[Year]:[Year]],S$94)","v":0},{"$f":"COUNTIFS(TU_DB[[TU Chapter Area]:[TU Chapter Area]],$AB105,TU_DB[[Year]:[Year]],T$94)","v":8},{"$f":"COUNTIFS(TU_DB[[TU Chapter Area]:[TU Chapter Area]],$AB105,TU_DB[[Year]:[Year]],U$94)","v":0},{"$f":"COUNTIFS(TU_DB[[TU Chapter Area]:[TU Chapter Area]],$AB105,TU_DB[[Year]:[Year]],V$94)","v":4},{"$f":"COUNTIFS(TU_DB[[TU Chapter Area]:[TU Chapter Area]],$Q105,TU_DB[[Year]:[Year]],W$94)","v":0},{"$f":"COUNTIFS(TU_DB[[TU Chapter Area]:[TU Chapter Area]],$AB105,TU_DB[[Year]:[Year]],X$94)","v":0},{"$f":"COUNTIFS(TU_DB[[TU Chapter Area]:[TU Chapter Area]],$Q105,TU_DB[[Year]:[Year]],Y$94)","v":0},{"$f":"COUNTIFS(TU_DB[[TU Chapter Area]:[TU Chapter Area]],$AB105,TU_DB[[Year]:[Year]],Z$94)","v":0},{"$f":"COUNTIFS(TU_DB[[TU Chapter Area]:[TU Chapter Area]],$Q105,TU_DB[[Year]:[Year]],AA$94)","v":0},"S. Wisconsin"]
[null,"jAZtjti59oWDTa7NaxeDt9luw853","Kinni Corridor Collaborative",31,{"$f":"COUNTIFS(TUDB!$H$8:$H$1855,Use!$B106,TUDB!$F$8:$F$1855,Use!E$44)","v":0},{"$f":"COUNTIFS(TUDB!$H$8:$H$1855,Use!$B106,TUDB!$F$8:$F$1855,Use!F$44)","v":0},{"$f":"COUNTIFS(TUDB!$H$8:$H$1855,Use!$B106,TUDB!$F$8:$F$1855,Use!G$44)","v":0},{"$f":"COUNTIFS(TUDB!$H$8:$H$1855,Use!$B106,TUDB!$F$8:$F$1855,Use!H$44)","v":30},{"$f":"COUNTIFS(TUDB!$H$8:$H$1855,Use!$B106,TUDB!$F$8:$F$1855,Use!I$44)","v":1},null,0,{"$f":"IF(AND(G106>0,SUM($E106:F106)=0),1,0)","v":0},{"$f":"IF(AND(H106>0,SUM($E106:G106)=0),1,0)","v":1},{"$f":"IF(AND(I106>0,SUM($E106:H106)=0),1,0)","v":0},null,null,"Spring Creeks",47,{"$f":"COUNTIFS(TU_DB[[TU Chapter Area]:[TU Chapter Area]],$AB106,TU_DB[[Year]:[Year]],S$94)","v":0},{"$f":"COUNTIFS(TU_DB[[TU Chapter Area]:[TU Chapter Area]],$AB106,TU_DB[[Year]:[Year]],T$94)","v":1},{"$f":"COUNTIFS(TU_DB[[TU Chapter Area]:[TU Chapter Area]],$AB106,TU_DB[[Year]:[Year]],U$94)","v":3},{"$f":"COUNTIFS(TU_DB[[TU Chapter Area]:[TU Chapter Area]],$AB106,TU_DB[[Year]:[Year]],V$94)","v":43},{"$f":"COUNTIFS(TU_DB[[TU Chapter Area]:[TU Chapter Area]],$Q106,TU_DB[[Year]:[Year]],W$94)","v":0},{"$f":"COUNTIFS(TU_DB[[TU Chapter Area]:[TU Chapter Area]],$AB106,TU_DB[[Year]:[Year]],X$94)","v":0},{"$f":"COUNTIFS(TU_DB[[TU Chapter Area]:[TU Chapter Area]],$Q106,TU_DB[[Year]:[Year]],Y$94)","v":0},{"$f":"COUNTIFS(TU_DB[[TU Chapter Area]:[TU Chapter Area]],$AB106,TU_DB[[Year]:[Year]],Z$94)","v":0},{"$f":"COUNTIFS(TU_DB[[TU Chapter Area]:[TU Chapter Area]],$Q106,TU_DB[[Year]:[Year]],AA$94)","v":0},"Spring Creeks"]
[null,"5IkyPqBWi8SVMZuJTeydN0EYnTu1","Agency/University",3,{"$f":"COUNTIFS(TUDB!$H$8:$H$1855,Use!$B107,TUDB!$F$8:$F$1855,Use!E$44)","v":0},{"$f":"COUNTIFS(TUDB!$H$8:$H$1855,Use!$B107,TUDB!$F$8:$F$1855,Use!F$44)","v":0},{"$f":"COUNTIFS(TUDB!$H$8:$H$1855,Use!$B107,TUDB!$F$8:$F$1855,Use!G$44)","v":0},{"$f":"COUNTIFS(TUDB!$H$8:$H$1855,Use!$B107,TUDB!$F$8:$F$1855,Use!H$44)","v":0},{"$f":"COUNTIFS(TUDB!$H$8:$H$1855,Use!$B107,TUDB!$F$8:$F$1855,Use!I$44)","v":3},null,0,{"$f":"IF(AND(G107>0,SUM($E107:F107)=0),1,0)","v":0},{"$f":"IF(AND(H107>0,SUM($E107:G107)=0),1,0)","v":0},{"$f":"IF(AND(I107>0,SUM($E107:H107)=0),1,0)","v":1},null,null,"Twin Cities (TCTU)",309,{"$f":"COUNTIFS(TU_DB[[TU Chapter Area]:[TU Chapter Area]],$AB107,TU_DB[[Year]:[Year]],S$94)","v":4},{"$f":"COUNTIFS(TU_DB[[TU Chapter Area]:[TU Chapter Area]],$AB107,TU_DB[[Year]:[Year]],T$94)","v":109},{"$f":"COUNTIFS(TU_DB[[TU Chapter Area]:[TU Chapter Area]],$AB107,TU_DB[[Year]:[Year]],U$94)","v":111},{"$f":"COUNTIFS(TU_DB[[TU Chapter Area]:[TU Chapter Area]],$AB107,TU_DB[[Year]:[Year]],V$94)","v":85},{"$f":"COUNTIFS(TU_DB[[TU Chapter Area]:[TU Chapter Area]],$Q107,TU_DB[[Year]:[Year]],W$94)","v":0},{"$f":"COUNTIFS(TU_DB[[TU Chapter Area]:[TU Chapter Area]],$AB107,TU_DB[[Year]:[Year]],X$94)","v":0},{"$f":"COUNTIFS(TU_DB[[TU Chapter Area]:[TU Chapter Area]],$Q107,TU_DB[[Year]:[Year]],Y$94)","v":0},{"$f":"COUNTIFS(TU_DB[[TU Chapter Area]:[TU Chapter Area]],$AB107,TU_DB[[Year]:[Year]],Z$94)","v":0},{"$f":"COUNTIFS(TU_DB[[TU Chapter Area]:[TU Chapter Area]],$Q107,TU_DB[[Year]:[Year]],AA$94)","v":0},"Twin Cities"]
[null,"RewertUZwGP359VRxxMfpHZouS52","Unknown",2,{"$f":"COUNTIFS(TUDB!$H$8:$H$1855,Use!$B108,TUDB!$F$8:$F$1855,Use!E$44)","v":0},{"$f":"COUNTIFS(TUDB!$H$8:$H$1855,Use!$B108,TUDB!$F$8:$F$1855,Use!F$44)","v":0},{"$f":"COUNTIFS(TUDB!$H$8:$H$1855,Use!$B108,TUDB!$F$8:$F$1855,Use!G$44)","v":0},{"$f":"COUNTIFS(TUDB!$H$8:$H$1855,Use!$B108,TUDB!$F$8:$F$1855,Use!H$44)","v":0},{"$f":"COUNTIFS(TUDB!$H$8:$H$1855,Use!$B108,TUDB!$F$8:$F$1855,Use!I$44)","v":2},null,0,{"$f":"IF(AND(G108>0,SUM($E108:F108)=0),1,0)","v":0},{"$f":"IF(AND(H108>0,SUM($E108:G108)=0),1,0)","v":0},{"$f":"IF(AND(I108>0,SUM($E108:H108)=0),1,0)","v":1},null,null,"Win Cres",163,{"$f":"COUNTIFS(TU_DB[[TU Chapter Area]:[TU Chapter Area]],$AB108,TU_DB[[Year]:[Year]],S$94)","v":12},{"$f":"COUNTIFS(TU_DB[[TU Chapter Area]:[TU Chapter Area]],$AB108,TU_DB[[Year]:[Year]],T$94)","v":50},{"$f":"COUNTIFS(TU_DB[[TU Chapter Area]:[TU Chapter Area]],$AB108,TU_DB[[Year]:[Year]],U$94)","v":34},{"$f":"COUNTIFS(TU_DB[[TU Chapter Area]:[TU Chapter Area]],$AB108,TU_DB[[Year]:[Year]],V$94)","v":67},{"$f":"COUNTIFS(TU_DB[[TU Chapter Area]:[TU Chapter Area]],$Q109,TU_DB[[Year]:[Year]],W$94)","v":0},{"$f":"COUNTIFS(TU_DB[[TU Chapter Area]:[TU Chapter Area]],$AB108,TU_DB[[Year]:[Year]],X$94)","v":0},{"$f":"COUNTIFS(TU_DB[[TU Chapter Area]:[TU Chapter Area]],$Q109,TU_DB[[Year]:[Year]],Y$94)","v":0},{"$f":"COUNTIFS(TU_DB[[TU Chapter Area]:[TU Chapter Area]],$AB108,TU_DB[[Year]:[Year]],Z$94)","v":0},{"$f":"COUNTIFS(TU_DB[[TU Chapter Area]:[TU Chapter Area]],$Q109,TU_DB[[Year]:[Year]],AA$94)","v":0},"Win Cres"]
[null,"yKUjBvRdnpNbmzga6VHBVkJbTgH2","Hiawatha",1,{"$f":"COUNTIFS(TUDB!$H$8:$H$1855,Use!$B109,TUDB!$F$8:$F$1855,Use!E$44)","v":0},{"$f":"COUNTIFS(TUDB!$H$8:$H$1855,Use!$B109,TUDB!$F$8:$F$1855,Use!F$44)","v":0},{"$f":"COUNTIFS(TUDB!$H$8:$H$1855,Use!$B109,TUDB!$F$8:$F$1855,Use!G$44)","v":0},{"$f":"COUNTIFS(TUDB!$H$8:$H$1855,Use!$B109,TUDB!$F$8:$F$1855,Use!H$44)","v":0},{"$f":"COUNTIFS(TUDB!$H$8:$H$1855,Use!$B109,TUDB!$F$8:$F$1855,Use!I$44)","v":1},null,{"$f":"IF(AND(F109>0,SUM($E109)=0),1,0)","v":0},{"$f":"IF(AND(G109>0,SUM($E109:F109)=0),1,0)","v":0},{"$f":"IF(AND(H109>0,SUM($E109:G109)=0),1,0)","v":0},{"$f":"IF(AND(I109>0,SUM($E109:H109)=0),1,0)","v":1},null,null,"Wisconsin Clear Waters",193,{"$f":"COUNTIFS(TU_DB[[TU Chapter Area]:[TU Chapter Area]],$AB109,TU_DB[[Year]:[Year]],S$94)","v":40},{"$f":"COUNTIFS(TU_DB[[TU Chapter Area]:[TU Chapter Area]],$AB109,TU_DB[[Year]:[Year]],T$94)","v":21},{"$f":"COUNTIFS(TU_DB[[TU Chapter Area]:[TU Chapter Area]],$AB109,TU_DB[[Year]:[Year]],U$94)","v":26},{"$f":"COUNTIFS(TU_DB[[TU Chapter Area]:[TU Chapter Area]],$AB109,TU_DB[[Year]:[Year]],V$94)","v":106},{"$f":"COUNTIFS(TU_DB[[TU Chapter Area]:[TU Chapter Area]],#REF!,TU_DB[[Year]:[Year]],W$94)","v":0},{"$f":"COUNTIFS(TU_DB[[TU Chapter Area]:[TU Chapter Area]],$AB109,TU_DB[[Year]:[Year]],X$94)","v":0},{"$f":"COUNTIFS(TU_DB[[TU Chapter Area]:[TU Chapter Area]],#REF!,TU_DB[[Year]:[Year]],Y$94)","v":0},{"$f":"COUNTIFS(TU_DB[[TU Chapter Area]:[TU Chapter Area]],$AB109,TU_DB[[Year]:[Year]],Z$94)","v":0},{"$f":"COUNTIFS(TU_DB[[TU Chapter Area]:[TU Chapter Area]],#REF!,TU_DB[[Year]:[Year]],AA$94)","v":0},"Wisconsin Clear Water"]
[null,"XLsE0jeCBabIhsFYi4ZuVSWCKI33","Hiawatha",{"$f":"SUM(E110:I110)","v":29},{"$f":"COUNTIFS(TUDB!$H$8:$H$1855,Use!$B110,TUDB!$F$8:$F$1855,Use!E$44)","v":0},{"$f":"COUNTIFS(TUDB!$H$8:$H$1855,Use!$B110,TUDB!$F$8:$F$1855,Use!F$44)","v":0},{"$f":"COUNTIFS(TUDB!$H$8:$H$1855,Use!$B110,TUDB!$F$8:$F$1855,Use!G$44)","v":16},{"$f":"COUNTIFS(TUDB!$H$8:$H$1855,Use!$B110,TUDB!$F$8:$F$1855,Use!H$44)","v":11},{"$f":"COUNTIFS(TUDB!$H$8:$H$1855,Use!$B110,TUDB!$F$8:$F$1855,Use!I$44)","v":2},null,0,{"$f":"IF(AND(G110>0,SUM($E110:F110)=0),1,0)","v":1},{"$f":"IF(AND(H110>0,SUM($E110:G110)=0),1,0)","v":0},{"$f":"IF(AND(I110>0,SUM($E110:H110)=0),1,0)","v":0},null,null,"Other/Unknown Affiliations*",10,{"$f":"COUNTIFS(TU_DB[[TU Chapter Area]:[TU Chapter Area]],$AB110,TU_DB[[Year]:[Year]],S$94)","v":2},{"$f":"COUNTIFS(TU_DB[[TU Chapter Area]:[TU Chapter Area]],$AB110,TU_DB[[Year]:[Year]],T$94)","v":0},{"$f":"COUNTIFS(TU_DB[[TU Chapter Area]:[TU Chapter Area]],$AB110,TU_DB[[Year]:[Year]],U$94)","v":3},{"$f":"COUNTIFS(TU_DB[[TU Chapter Area]:[TU Chapter Area]],$AB110,TU_DB[[Year]:[Year]],V$94)","v":5},{"$f":"COUNTIFS(TU_DB[[TU Chapter Area]:[TU Chapter Area]],$AB110,TU_DB[[Year]:[Year]],W$94)","v":0},{"$f":"COUNTIFS(TU_DB[[TU Chapter Area]:[TU Chapter Area]],$AB110,TU_DB[[Year]:[Year]],X$94)","v":0},{"$f":"COUNTIFS(TU_DB[[TU Chapter Area]:[TU Chapter Area]],$AB110,TU_DB[[Year]:[Year]],Y$94)","v":0},{"$f":"COUNTIFS(TU_DB[[TU Chapter Area]:[TU Chapter Area]],$AB110,TU_DB[[Year]:[Year]],Z$94)","v":0},{"$f":"COUNTIFS(TU_DB[[TU Chapter Area]:[TU Chapter Area]],$AB110,TU_DB[[Year]:[Year]],AA$94)","v":0},0]
[null,"c5waYRQXJYhaoCKyGDL6aix41dp1","Unknown",3,{"$f":"COUNTIFS(TUDB!$H$8:$H$1855,Use!$B111,TUDB!$F$8:$F$1855,Use!E$44)","v":0},{"$f":"COUNTIFS(TUDB!$H$8:$H$1855,Use!$B111,TUDB!$F$8:$F$1855,Use!F$44)","v":0},{"$f":"COUNTIFS(TUDB!$H$8:$H$1855,Use!$B111,TUDB!$F$8:$F$1855,Use!G$44)","v":0},{"$f":"COUNTIFS(TUDB!$H$8:$H$1855,Use!$B111,TUDB!$F$8:$F$1855,Use!H$44)","v":0},{"$f":"COUNTIFS(TUDB!$H$8:$H$1855,Use!$B111,TUDB!$F$8:$F$1855,Use!I$44)","v":3},null,0,{"$f":"IF(AND(G111>0,SUM($E111:F111)=0),1,0)","v":0},{"$f":"IF(AND(H111>0,SUM($E111:G111)=0),1,0)","v":0},{"$f":"IF(AND(I111>0,SUM($E111:H111)=0),1,0)","v":1}]
[null,"SHHjnfPS38YP3LyXaRKatoLEFsB3","Unknown",2,{"$f":"COUNTIFS(TUDB!$H$8:$H$1855,Use!$B112,TUDB!$F$8:$F$1855,Use!E$44)","v":0},{"$f":"COUNTIFS(TUDB!$H$8:$H$1855,Use!$B112,TUDB!$F$8:$F$1855,Use!F$44)","v":0},{"$f":"COUNTIFS(TUDB!$H$8:$H$1855,Use!$B112,TUDB!$F$8:$F$1855,Use!G$44)","v":0},{"$f":"COUNTIFS(TUDB!$H$8:$H$1855,Use!$B112,TUDB!$F$8:$F$1855,Use!H$44)","v":0},{"$f":"COUNTIFS(TUDB!$H$8:$H$1855,Use!$B112,TUDB!$F$8:$F$1855,Use!I$44)","v":2},null,0,{"$f":"IF(AND(G112>0,SUM($E112:F112)=0),1,0)","v":0},{"$f":"IF(AND(H112>0,SUM($E112:G112)=0),1,0)","v":0},{"$f":"IF(AND(I112>0,SUM($E112:H112)=0),1,0)","v":1}]
[null,"bszDaPplS3bm6HaEx9cotZrHB372","Unknown",2,{"$f":"COUNTIFS(TUDB!$H$8:$H$1855,Use!$B113,TUDB!$F$8:$F$1855,Use!E$44)","v":0},{"$f":"COUNTIFS(TUDB!$H$8:$H$1855,Use!$B113,TUDB!$F$8:$F$1855,Use!F$44)","v":0},{"$f":"COUNTIFS(TUDB!$H$8:$H$1855,Use!$B113,TUDB!$F$8:$F$1855,Use!G$44)","v":0},{"$f":"COUNTIFS(TUDB!$H$8:$H$1855,Use!$B113,TUDB!$F$8:$F$1855,Use!H$44)","v":0},{"$f":"COUNTIFS(TUDB!$H$8:$H$1855,Use!$B113,TUDB!$F$8:$F$1855,Use!I$44)","v":2},null,0,{"$f":"IF(AND(G113>0,SUM($E113:F113)=0),1,0)","v":0},{"$f":"IF(AND(H113>0,SUM($E113:G113)=0),1,0)","v":0},{"$f":"IF(AND(I113>0,SUM($E113:H113)=0),1,0)","v":1},null,null,"TU Monitoring Stations"]
[null,"bbfim7Ms9YcQMUCkHsws7eRZSPc2","Unknown",1,{"$f":"COUNTIFS(TUDB!$H$8:$H$1855,Use!$B114,TUDB!$F$8:$F$1855,Use!E$44)","v":0},{"$f":"COUNTIFS(TUDB!$H$8:$H$1855,Use!$B114,TUDB!$F$8:$F$1855,Use!F$44)","v":0},{"$f":"COUNTIFS(TUDB!$H$8:$H$1855,Use!$B114,TUDB!$F$8:$F$1855,Use!G$44)","v":0},{"$f":"COUNTIFS(TUDB!$H$8:$H$1855,Use!$B114,TUDB!$F$8:$F$1855,Use!H$44)","v":0},{"$f":"COUNTIFS(TUDB!$H$8:$H$1855,Use!$B114,TUDB!$F$8:$F$1855,Use!I$44)","v":1},null,0,{"$f":"IF(AND(G114>0,SUM($E114:F114)=0),1,0)","v":0},{"$f":"IF(AND(H114>0,SUM($E114:G114)=0),1,0)","v":0},{"$f":"IF(AND(I114>0,SUM($E114:H114)=0),1,0)","v":1}]
[null,"ZtFtu2k1FaNKvU24GBwk5eY5IU93","Unknown",1,{"$f":"COUNTIFS(TUDB!$H$8:$H$1855,Use!$B115,TUDB!$F$8:$F$1855,Use!E$44)","v":0},{"$f":"COUNTIFS(TUDB!$H$8:$H$1855,Use!$B115,TUDB!$F$8:$F$1855,Use!F$44)","v":0},{"$f":"COUNTIFS(TUDB!$H$8:$H$1855,Use!$B115,TUDB!$F$8:$F$1855,Use!G$44)","v":0},{"$f":"COUNTIFS(TUDB!$H$8:$H$1855,Use!$B115,TUDB!$F$8:$F$1855,Use!H$44)","v":0},{"$f":"COUNTIFS(TUDB!$H$8:$H$1855,Use!$B115,TUDB!$F$8:$F$1855,Use!I$44)","v":1},null,0,{"$f":"IF(AND(G115>0,SUM($E115:F115)=0),1,0)","v":0},{"$f":"IF(AND(H115>0,SUM($E115:G115)=0),1,0)","v":0},{"$f":"IF(AND(I115>0,SUM($E115:H115)=0),1,0)","v":1},null,null,"TU Chapters","Total",2020,2021,2022,2023,2024,2025,2026,2027,2028]
[null,"VqZRaTUPgjWCYY8wjw5nHFqlP4V2","TCTU",9,{"$f":"COUNTIFS(TUDB!$H$8:$H$1855,Use!$B116,TUDB!$F$8:$F$1855,Use!E$44)","v":0},{"$f":"COUNTIFS(TUDB!$H$8:$H$1855,Use!$B116,TUDB!$F$8:$F$1855,Use!F$44)","v":0},{"$f":"COUNTIFS(TUDB!$H$8:$H$1855,Use!$B116,TUDB!$F$8:$F$1855,Use!G$44)","v":5},{"$f":"COUNTIFS(TUDB!$H$8:$H$1855,Use!$B116,TUDB!$F$8:$F$1855,Use!H$44)","v":3},{"$f":"COUNTIFS(TUDB!$H$8:$H$1855,Use!$B116,TUDB!$F$8:$F$1855,Use!I$44)","v":1},null,0,{"$f":"IF(AND(G116>0,SUM($E116:F116)=0),1,0)","v":1},{"$f":"IF(AND(H116>0,SUM($E116:G116)=0),1,0)","v":0},{"$f":"IF(AND(I116>0,SUM($E116:H116)=0),1,0)","v":0},null,null,"Kiat-TU-Wish"]
[null,"zcVm3Fu58OZRbxXQz0rpPUWcwAr2","Iowa Driftless",2,{"$f":"COUNTIFS(TUDB!$H$8:$H$1855,Use!$B117,TUDB!$F$8:$F$1855,Use!E$44)","v":0},{"$f":"COUNTIFS(TUDB!$H$8:$H$1855,Use!$B117,TUDB!$F$8:$F$1855,Use!F$44)","v":0},{"$f":"COUNTIFS(TUDB!$H$8:$H$1855,Use!$B117,TUDB!$F$8:$F$1855,Use!G$44)","v":0},{"$f":"COUNTIFS(TUDB!$H$8:$H$1855,Use!$B117,TUDB!$F$8:$F$1855,Use!H$44)","v":0},{"$f":"COUNTIFS(TUDB!$H$8:$H$1855,Use!$B117,TUDB!$F$8:$F$1855,Use!I$44)","v":2},null,0,{"$f":"IF(AND(G117>0,SUM($E117:F117)=0),1,0)","v":0},{"$f":"IF(AND(H117>0,SUM($E117:G117)=0),1,0)","v":0},{"$f":"IF(AND(I117>0,SUM($E117:H117)=0),1,0)","v":1},null,null,"Cady Creek @ 50th St",{"$f":"SUM(S117:W117)","v":17},{"$f":"COUNTIFS(TU_DB[[Monitoring Site]:[Monitoring Site]],$Q117,TU_DB[[Year]:[Year]],S$115)","v":2},{"$f":"COUNTIFS(TU_DB[[Monitoring Site]:[Monitoring Site]],$Q117,TU_DB[[Year]:[Year]],T$115)","v":6},{"$f":"COUNTIFS(TU_DB[[Monitoring Site]:[Monitoring Site]],$Q117,TU_DB[[Year]:[Year]],U$115)","v":6},{"$f":"COUNTIFS(TU_DB[[Monitoring Site]:[Monitoring Site]],$Q117,TU_DB[[Year]:[Year]],V$115)","v":3},{"$f":"COUNTIFS(TU_DB[[Monitoring Site]:[Monitoring Site]],$Q117,TU_DB[[Year]:[Year]],W$115)","v":0},{"$f":"COUNTIFS(TU_DB[[Monitoring Site]:[Monitoring Site]],$Q117,TU_DB[[Year]:[Year]],X$115)","v":0},{"$f":"COUNTIFS(TU_DB[[Monitoring Site]:[Monitoring Site]],$Q117,TU_DB[[Year]:[Year]],Y$115)","v":0},{"$f":"COUNTIFS(TU_DB[[Monitoring Site]:[Monitoring Site]],$Q117,TU_DB[[Year]:[Year]],Z$115)","v":0},{"$f":"COUNTIFS(TU_DB[[Monitoring Site]:[Monitoring Site]],$Q117,TU_DB[[Year]:[Year]],AA$115)","v":0}]
[null,"7Uv8dHdQAQYzTjnyzkfhfjubWHA3","TCTU",1,{"$f":"COUNTIFS(TUDB!$H$8:$H$1855,Use!$B118,TUDB!$F$8:$F$1855,Use!E$44)","v":0},{"$f":"COUNTIFS(TUDB!$H$8:$H$1855,Use!$B118,TUDB!$F$8:$F$1855,Use!F$44)","v":0},{"$f":"COUNTIFS(TUDB!$H$8:$H$1855,Use!$B118,TUDB!$F$8:$F$1855,Use!G$44)","v":0},{"$f":"COUNTIFS(TUDB!$H$8:$H$1855,Use!$B118,TUDB!$F$8:$F$1855,Use!H$44)","v":0},{"$f":"COUNTIFS(TUDB!$H$8:$H$1855,Use!$B118,TUDB!$F$8:$F$1855,Use!I$44)","v":1},null,0,{"$f":"IF(AND(G118>0,SUM($E118:F118)=0),1,0)","v":0},{"$f":"IF(AND(H118>0,SUM($E118:G118)=0),1,0)","v":0},{"$f":"IF(AND(I118>0,SUM($E118:H118)=0),1,0)","v":1},null,null,"Eau Galle River @ WI Hwy 29",6,{"$f":"COUNTIFS(TU_DB[[Monitoring Site]:[Monitoring Site]],$Q118,TU_DB[[Year]:[Year]],S$115)","v":0},{"$f":"COUNTIFS(TU_DB[[Monitoring Site]:[Monitoring Site]],$Q118,TU_DB[[Year]:[Year]],T$115)","v":1},{"$f":"COUNTIFS(TU_DB[[Monitoring Site]:[Monitoring Site]],$Q118,TU_DB[[Year]:[Year]],U$115)","v":4},{"$f":"COUNTIFS(TU_DB[[Monitoring Site]:[Monitoring Site]],$Q118,TU_DB[[Year]:[Year]],V$115)","v":1},{"$f":"COUNTIFS(TU_DB[[Monitoring Site]:[Monitoring Site]],$Q118,TU_DB[[Year]:[Year]],W$115)","v":0},{"$f":"COUNTIFS(TU_DB[[Monitoring Site]:[Monitoring Site]],$Q118,TU_DB[[Year]:[Year]],X$115)","v":0},{"$f":"COUNTIFS(TU_DB[[Monitoring Site]:[Monitoring Site]],$Q118,TU_DB[[Year]:[Year]],Y$115)","v":0},{"$f":"COUNTIFS(TU_DB[[Monitoring Site]:[Monitoring Site]],$Q118,TU_DB[[Year]:[Year]],Z$115)","v":0},{"$f":"COUNTIFS(TU_DB[[Monitoring Site]:[Monitoring Site]],$Q118,TU_DB[[Year]:[Year]],AA$115)","v":0}]
[null,"OfALN4YJetON0fTYytkHWJCziIw2","Agency/University",6,{"$f":"COUNTIFS(TUDB!$H$8:$H$1855,Use!$B119,TUDB!$F$8:$F$1855,Use!E$44)","v":0},{"$f":"COUNTIFS(TUDB!$H$8:$H$1855,Use!$B119,TUDB!$F$8:$F$1855,Use!F$44)","v":0},{"$f":"COUNTIFS(TUDB!$H$8:$H$1855,Use!$B119,TUDB!$F$8:$F$1855,Use!G$44)","v":0},{"$f":"COUNTIFS(TUDB!$H$8:$H$1855,Use!$B119,TUDB!$F$8:$F$1855,Use!H$44)","v":5},{"$f":"COUNTIFS(TUDB!$H$8:$H$1855,Use!$B119,TUDB!$F$8:$F$1855,Use!I$44)","v":1},null,0,{"$f":"IF(AND(G119>0,SUM($E119:F119)=0),1,0)","v":0},{"$f":"IF(AND(H119>0,SUM($E119:G119)=0),1,0)","v":1},{"$f":"IF(AND(I119>0,SUM($E119:H119)=0),1,0)","v":0},null,null,"Isabelle Creek @ County Rd. EE",19,{"$f":"COUNTIFS(TU_DB[[Monitoring Site]:[Monitoring Site]],$Q119,TU_DB[[Year]:[Year]],S$115)","v":1},{"$f":"COUNTIFS(TU_DB[[Monitoring Site]:[Monitoring Site]],$Q119,TU_DB[[Year]:[Year]],T$115)","v":7},{"$f":"COUNTIFS(TU_DB[[Monitoring Site]:[Monitoring Site]],$Q119,TU_DB[[Year]:[Year]],U$115)","v":4},{"$f":"COUNTIFS(TU_DB[[Monitoring Site]:[Monitoring Site]],$Q119,TU_DB[[Year]:[Year]],V$115)","v":7},{"$f":"COUNTIFS(TU_DB[[Monitoring Site]:[Monitoring Site]],$Q119,TU_DB[[Year]:[Year]],W$115)","v":0},{"$f":"COUNTIFS(TU_DB[[Monitoring Site]:[Monitoring Site]],$Q119,TU_DB[[Year]:[Year]],X$115)","v":0},{"$f":"COUNTIFS(TU_DB[[Monitoring Site]:[Monitoring Site]],$Q119,TU_DB[[Year]:[Year]],Y$115)","v":0},{"$f":"COUNTIFS(TU_DB[[Monitoring Site]:[Monitoring Site]],$Q119,TU_DB[[Year]:[Year]],Z$115)","v":0},{"$f":"COUNTIFS(TU_DB[[Monitoring Site]:[Monitoring Site]],$Q119,TU_DB[[Year]:[Year]],AA$115)","v":0}]
[null,"nyqdkfDdslRNDqAR2Ieel5debpE2","Wisconsin Clear Waters",25,{"$f":"COUNTIFS(TUDB!$H$8:$H$1855,Use!$B120,TUDB!$F$8:$F$1855,Use!E$44)","v":0},{"$f":"COUNTIFS(TUDB!$H$8:$H$1855,Use!$B120,TUDB!$F$8:$F$1855,Use!F$44)","v":0},{"$f":"COUNTIFS(TUDB!$H$8:$H$1855,Use!$B120,TUDB!$F$8:$F$1855,Use!G$44)","v":0},{"$f":"COUNTIFS(TUDB!$H$8:$H$1855,Use!$B120,TUDB!$F$8:$F$1855,Use!H$44)","v":20},{"$f":"COUNTIFS(TUDB!$H$8:$H$1855,Use!$B120,TUDB!$F$8:$F$1855,Use!I$44)","v":5},null,0,{"$f":"IF(AND(G120>0,SUM($E120:F120)=0),1,0)","v":0},{"$f":"IF(AND(H120>0,SUM($E120:G120)=0),1,0)","v":1},{"$f":"IF(AND(I120>0,SUM($E120:H120)=0),1,0)","v":0},null,null,"Kinnickinnic River, Lower Glen Park",0,{"$f":"COUNTIFS(TU_DB[[Monitoring Site]:[Monitoring Site]],$Q120,TU_DB[[Year]:[Year]],S$115)","v":0},{"$f":"COUNTIFS(TU_DB[[Monitoring Site]:[Monitoring Site]],$Q120,TU_DB[[Year]:[Year]],T$115)","v":0},{"$f":"COUNTIFS(TU_DB[[Monitoring Site]:[Monitoring Site]],$Q120,TU_DB[[Year]:[Year]],U$115)","v":0},{"$f":"COUNTIFS(TU_DB[[Monitoring Site]:[Monitoring Site]],$Q120,TU_DB[[Year]:[Year]],V$115)","v":0},{"$f":"COUNTIFS(TU_DB[[Monitoring Site]:[Monitoring Site]],$Q120,TU_DB[[Year]:[Year]],W$115)","v":0},{"$f":"COUNTIFS(TU_DB[[Monitoring Site]:[Monitoring Site]],$Q120,TU_DB[[Year]:[Year]],X$115)","v":0},{"$f":"COUNTIFS(TU_DB[[Monitoring Site]:[Monitoring Site]],$Q120,TU_DB[[Year]:[Year]],Y$115)","v":0},{"$f":"COUNTIFS(TU_DB[[Monitoring Site]:[Monitoring Site]],$Q120,TU_DB[[Year]:[Year]],Z$115)","v":0},{"$f":"COUNTIFS(TU_DB[[Monitoring Site]:[Monitoring Site]],$Q120,TU_DB[[Year]:[Year]],AA$115)","v":0}]
[null,"ZXrDvZ4pF1Qf92cFwnN35PE8grL2","TCTU",20,{"$f":"COUNTIFS(TUDB!$H$8:$H$1855,Use!$B121,TUDB!$F$8:$F$1855,Use!E$44)","v":0},{"$f":"COUNTIFS(TUDB!$H$8:$H$1855,Use!$B121,TUDB!$F$8:$F$1855,Use!F$44)","v":0},{"$f":"COUNTIFS(TUDB!$H$8:$H$1855,Use!$B121,TUDB!$F$8:$F$1855,Use!G$44)","v":15},{"$f":"COUNTIFS(TUDB!$H$8:$H$1855,Use!$B121,TUDB!$F$8:$F$1855,Use!H$44)","v":4},{"$f":"COUNTIFS(TUDB!$H$8:$H$1855,Use!$B121,TUDB!$F$8:$F$1855,Use!I$44)","v":1},null,0,{"$f":"IF(AND(G121>0,SUM($E121:F121)=0),1,0)","v":1},{"$f":"IF(AND(H121>0,SUM($E121:G121)=0),1,0)","v":0},{"$f":"IF(AND(I121>0,SUM($E121:H121)=0),1,0)","v":0},null,null,"Pine Creek @ County Rd. AA",27,{"$f":"COUNTIFS(TU_DB[[Monitoring Site]:[Monitoring Site]],$Q121,TU_DB[[Year]:[Year]],S$115)","v":6},{"$f":"COUNTIFS(TU_DB[[Monitoring Site]:[Monitoring Site]],$Q121,TU_DB[[Year]:[Year]],T$115)","v":9},{"$f":"COUNTIFS(TU_DB[[Monitoring Site]:[Monitoring Site]],$Q121,TU_DB[[Year]:[Year]],U$115)","v":5},{"$f":"COUNTIFS(TU_DB[[Monitoring Site]:[Monitoring Site]],$Q121,TU_DB[[Year]:[Year]],V$115)","v":7},{"$f":"COUNTIFS(TU_DB[[Monitoring Site]:[Monitoring Site]],$Q121,TU_DB[[Year]:[Year]],W$115)","v":0},{"$f":"COUNTIFS(TU_DB[[Monitoring Site]:[Monitoring Site]],$Q121,TU_DB[[Year]:[Year]],X$115)","v":0},{"$f":"COUNTIFS(TU_DB[[Monitoring Site]:[Monitoring Site]],$Q121,TU_DB[[Year]:[Year]],Y$115)","v":0},{"$f":"COUNTIFS(TU_DB[[Monitoring Site]:[Monitoring Site]],$Q121,TU_DB[[Year]:[Year]],Z$115)","v":0},{"$f":"COUNTIFS(TU_DB[[Monitoring Site]:[Monitoring Site]],$Q121,TU_DB[[Year]:[Year]],AA$115)","v":0}]
[null,"aPffmw8BEWfof4TYloC3SpL9sQk1","Hiawatha",6,{"$f":"COUNTIFS(TUDB!$H$8:$H$1855,Use!$B122,TUDB!$F$8:$F$1855,Use!E$44)","v":0},{"$f":"COUNTIFS(TUDB!$H$8:$H$1855,Use!$B122,TUDB!$F$8:$F$1855,Use!F$44)","v":0},{"$f":"COUNTIFS(TUDB!$H$8:$H$1855,Use!$B122,TUDB!$F$8:$F$1855,Use!G$44)","v":5},{"$f":"COUNTIFS(TUDB!$H$8:$H$1855,Use!$B122,TUDB!$F$8:$F$1855,Use!H$44)","v":0},{"$f":"COUNTIFS(TUDB!$H$8:$H$1855,Use!$B122,TUDB!$F$8:$F$1855,Use!I$44)","v":1},null,0,{"$f":"IF(AND(G122>0,SUM($E122:F122)=0),1,0)","v":1},{"$f":"IF(AND(H122>0,SUM($E122:G122)=0),1,0)","v":0},{"$f":"IF(AND(I122>0,SUM($E122:H122)=0),1,0)","v":0},null,null,"Plum Creek @ Plum CIty Park",10,{"$f":"COUNTIFS(TU_DB[[Monitoring Site]:[Monitoring Site]],$Q122,TU_DB[[Year]:[Year]],S$115)","v":1},{"$f":"COUNTIFS(TU_DB[[Monitoring Site]:[Monitoring Site]],$Q122,TU_DB[[Year]:[Year]],T$115)","v":0},{"$f":"COUNTIFS(TU_DB[[Monitoring Site]:[Monitoring Site]],$Q122,TU_DB[[Year]:[Year]],U$115)","v":2},{"$f":"COUNTIFS(TU_DB[[Monitoring Site]:[Monitoring Site]],$Q122,TU_DB[[Year]:[Year]],V$115)","v":7},{"$f":"COUNTIFS(TU_DB[[Monitoring Site]:[Monitoring Site]],$Q122,TU_DB[[Year]:[Year]],W$115)","v":0},{"$f":"COUNTIFS(TU_DB[[Monitoring Site]:[Monitoring Site]],$Q122,TU_DB[[Year]:[Year]],X$115)","v":0},{"$f":"COUNTIFS(TU_DB[[Monitoring Site]:[Monitoring Site]],$Q122,TU_DB[[Year]:[Year]],Y$115)","v":0},{"$f":"COUNTIFS(TU_DB[[Monitoring Site]:[Monitoring Site]],$Q122,TU_DB[[Year]:[Year]],Z$115)","v":0},{"$f":"COUNTIFS(TU_DB[[Monitoring Site]:[Monitoring Site]],$Q122,TU_DB[[Year]:[Year]],AA$115)","v":0}]
[null,"4tNuibWkTzRiJ2pPNwiRDqGPsDZ2","Unknown",2,{"$f":"COUNTIFS(TUDB!$H$8:$H$1855,Use!$B123,TUDB!$F$8:$F$1855,Use!E$44)","v":0},{"$f":"COUNTIFS(TUDB!$H$8:$H$1855,Use!$B123,TUDB!$F$8:$F$1855,Use!F$44)","v":0},{"$f":"COUNTIFS(TUDB!$H$8:$H$1855,Use!$B123,TUDB!$F$8:$F$1855,Use!G$44)","v":0},{"$f":"COUNTIFS(TUDB!$H$8:$H$1855,Use!$B123,TUDB!$F$8:$F$1855,Use!H$44)","v":0},{"$f":"COUNTIFS(TUDB!$H$8:$H$1855,Use!$B123,TUDB!$F$8:$F$1855,Use!I$44)","v":2},null,0,{"$f":"IF(AND(G123>0,SUM($E123:F123)=0),1,0)","v":0},{"$f":"IF(AND(H123>0,SUM($E123:G123)=0),1,0)","v":0},{"$f":"IF(AND(I123>0,SUM($E123:H123)=0),1,0)","v":1},null,null,"Rocky Branch Creek, Lower Glen Park",9,{"$f":"COUNTIFS(TU_DB[[Monitoring Site]:[Monitoring Site]],$Q123,TU_DB[[Year]:[Year]],S$115)","v":1},{"$f":"COUNTIFS(TU_DB[[Monitoring Site]:[Monitoring Site]],$Q123,TU_DB[[Year]:[Year]],T$115)","v":3},{"$f":"COUNTIFS(TU_DB[[Monitoring Site]:[Monitoring Site]],$Q123,TU_DB[[Year]:[Year]],U$115)","v":5},{"$f":"COUNTIFS(TU_DB[[Monitoring Site]:[Monitoring Site]],$Q123,TU_DB[[Year]:[Year]],V$115)","v":0},{"$f":"COUNTIFS(TU_DB[[Monitoring Site]:[Monitoring Site]],$Q123,TU_DB[[Year]:[Year]],W$115)","v":0},{"$f":"COUNTIFS(TU_DB[[Monitoring Site]:[Monitoring Site]],$Q123,TU_DB[[Year]:[Year]],X$115)","v":0},{"$f":"COUNTIFS(TU_DB[[Monitoring Site]:[Monitoring Site]],$Q123,TU_DB[[Year]:[Year]],Y$115)","v":0},{"$f":"COUNTIFS(TU_DB[[Monitoring Site]:[Monitoring Site]],$Q123,TU_DB[[Year]:[Year]],Z$115)","v":0},{"$f":"COUNTIFS(TU_DB[[Monitoring Site]:[Monitoring Site]],$Q123,TU_DB[[Year]:[Year]],AA$115)","v":0}]
[null,"QqbZqyGX2YgKhSKXG0G7AK8gwMH2","Hiawatha",9,{"$f":"COUNTIFS(TUDB!$H$8:$H$1855,Use!$B124,TUDB!$F$8:$F$1855,Use!E$44)","v":0},{"$f":"COUNTIFS(TUDB!$H$8:$H$1855,Use!$B124,TUDB!$F$8:$F$1855,Use!F$44)","v":0},{"$f":"COUNTIFS(TUDB!$H$8:$H$1855,Use!$B124,TUDB!$F$8:$F$1855,Use!G$44)","v":6},{"$f":"COUNTIFS(TUDB!$H$8:$H$1855,Use!$B124,TUDB!$F$8:$F$1855,Use!H$44)","v":1},{"$f":"COUNTIFS(TUDB!$H$8:$H$1855,Use!$B124,TUDB!$F$8:$F$1855,Use!I$44)","v":2},null,0,{"$f":"IF(AND(G124>0,SUM($E124:F124)=0),1,0)","v":1},{"$f":"IF(AND(H124>0,SUM($E124:G124)=0),1,0)","v":0},{"$f":"IF(AND(I124>0,SUM($E124:H124)=0),1,0)","v":0},null,null,"Rush River @ 570th Ave",23,{"$f":"COUNTIFS(TU_DB[[Monitoring Site]:[Monitoring Site]],$Q124,TU_DB[[Year]:[Year]],S$115)","v":12},{"$f":"COUNTIFS(TU_DB[[Monitoring Site]:[Monitoring Site]],$Q124,TU_DB[[Year]:[Year]],T$115)","v":6},{"$f":"COUNTIFS(TU_DB[[Monitoring Site]:[Monitoring Site]],$Q124,TU_DB[[Year]:[Year]],U$115)","v":3},{"$f":"COUNTIFS(TU_DB[[Monitoring Site]:[Monitoring Site]],$Q124,TU_DB[[Year]:[Year]],V$115)","v":2},{"$f":"COUNTIFS(TU_DB[[Monitoring Site]:[Monitoring Site]],$Q124,TU_DB[[Year]:[Year]],W$115)","v":0},{"$f":"COUNTIFS(TU_DB[[Monitoring Site]:[Monitoring Site]],$Q124,TU_DB[[Year]:[Year]],X$115)","v":0},{"$f":"COUNTIFS(TU_DB[[Monitoring Site]:[Monitoring Site]],$Q124,TU_DB[[Year]:[Year]],Y$115)","v":0},{"$f":"COUNTIFS(TU_DB[[Monitoring Site]:[Monitoring Site]],$Q124,TU_DB[[Year]:[Year]],Z$115)","v":0},{"$f":"COUNTIFS(TU_DB[[Monitoring Site]:[Monitoring Site]],$Q124,TU_DB[[Year]:[Year]],AA$115)","v":0}]
[null,"bc0T8Yfie5YQFmysZHxLsNJDJnT2","Kinni Corridor Collaborative",42,{"$f":"COUNTIFS(TUDB!$H$8:$H$1855,Use!$B125,TUDB!$F$8:$F$1855,Use!E$44)","v":0},{"$f":"COUNTIFS(TUDB!$H$8:$H$1855,Use!$B125,TUDB!$F$8:$F$1855,Use!F$44)","v":0},{"$f":"COUNTIFS(TUDB!$H$8:$H$1855,Use!$B125,TUDB!$F$8:$F$1855,Use!G$44)","v":0},{"$f":"COUNTIFS(TUDB!$H$8:$H$1855,Use!$B125,TUDB!$F$8:$F$1855,Use!H$44)","v":42},{"$f":"COUNTIFS(TUDB!$H$8:$H$1855,Use!$B125,TUDB!$F$8:$F$1855,Use!I$44)","v":0},null,0,{"$f":"IF(AND(G125>0,SUM($E125:F125)=0),1,0)","v":0},{"$f":"IF(AND(H125>0,SUM($E125:G125)=0),1,0)","v":1},{"$f":"IF(AND(I125>0,SUM($E125:H125)=0),1,0)","v":0},null,null,"SF Kinnickinnic River @ 900th St",45,{"$f":"COUNTIFS(TU_DB[[Monitoring Site]:[Monitoring Site]],$Q125,TU_DB[[Year]:[Year]],S$115)","v":4},{"$f":"COUNTIFS(TU_DB[[Monitoring Site]:[Monitoring Site]],$Q125,TU_DB[[Year]:[Year]],T$115)","v":13},{"$f":"COUNTIFS(TU_DB[[Monitoring Site]:[Monitoring Site]],$Q125,TU_DB[[Year]:[Year]],U$115)","v":15},{"$f":"COUNTIFS(TU_DB[[Monitoring Site]:[Monitoring Site]],$Q125,TU_DB[[Year]:[Year]],V$115)","v":13},{"$f":"COUNTIFS(TU_DB[[Monitoring Site]:[Monitoring Site]],$Q125,TU_DB[[Year]:[Year]],W$115)","v":0},{"$f":"COUNTIFS(TU_DB[[Monitoring Site]:[Monitoring Site]],$Q125,TU_DB[[Year]:[Year]],X$115)","v":0},{"$f":"COUNTIFS(TU_DB[[Monitoring Site]:[Monitoring Site]],$Q125,TU_DB[[Year]:[Year]],Y$115)","v":0},{"$f":"COUNTIFS(TU_DB[[Monitoring Site]:[Monitoring Site]],$Q125,TU_DB[[Year]:[Year]],Z$115)","v":0},{"$f":"COUNTIFS(TU_DB[[Monitoring Site]:[Monitoring Site]],$Q125,TU_DB[[Year]:[Year]],AA$115)","v":0}]
[null,"HYL1EgVC5kT09iksqoYLhWO3nNa2","Agency/University",2,{"$f":"COUNTIFS(TUDB!$H$8:$H$1855,Use!$B126,TUDB!$F$8:$F$1855,Use!E$44)","v":0},{"$f":"COUNTIFS(TUDB!$H$8:$H$1855,Use!$B126,TUDB!$F$8:$F$1855,Use!F$44)","v":0},{"$f":"COUNTIFS(TUDB!$H$8:$H$1855,Use!$B126,TUDB!$F$8:$F$1855,Use!G$44)","v":0},{"$f":"COUNTIFS(TUDB!$H$8:$H$1855,Use!$B126,TUDB!$F$8:$F$1855,Use!H$44)","v":2},{"$f":"COUNTIFS(TUDB!$H$8:$H$1855,Use!$B126,TUDB!$F$8:$F$1855,Use!I$44)","v":0},null,0,{"$f":"IF(AND(G126>0,SUM($E126:F126)=0),1,0)","v":0},{"$f":"IF(AND(H126>0,SUM($E126:G126)=0),1,0)","v":1},{"$f":"IF(AND(I126>0,SUM($E126:H126)=0),1,0)","v":0},null,null,"Trimbelle River @ County Rd W",9,{"$f":"COUNTIFS(TU_DB[[Monitoring Site]:[Monitoring Site]],$Q126,TU_DB[[Year]:[Year]],S$115)","v":5},{"$f":"COUNTIFS(TU_DB[[Monitoring Site]:[Monitoring Site]],$Q126,TU_DB[[Year]:[Year]],T$115)","v":4},{"$f":"COUNTIFS(TU_DB[[Monitoring Site]:[Monitoring Site]],$Q126,TU_DB[[Year]:[Year]],U$115)","v":0},{"$f":"COUNTIFS(TU_DB[[Monitoring Site]:[Monitoring Site]],$Q126,TU_DB[[Year]:[Year]],V$115)","v":0},{"$f":"COUNTIFS(TU_DB[[Monitoring Site]:[Monitoring Site]],$Q126,TU_DB[[Year]:[Year]],W$115)","v":0},{"$f":"COUNTIFS(TU_DB[[Monitoring Site]:[Monitoring Site]],$Q126,TU_DB[[Year]:[Year]],X$115)","v":0},{"$f":"COUNTIFS(TU_DB[[Monitoring Site]:[Monitoring Site]],$Q126,TU_DB[[Year]:[Year]],Y$115)","v":0},{"$f":"COUNTIFS(TU_DB[[Monitoring Site]:[Monitoring Site]],$Q126,TU_DB[[Year]:[Year]],Z$115)","v":0},{"$f":"COUNTIFS(TU_DB[[Monitoring Site]:[Monitoring Site]],$Q126,TU_DB[[Year]:[Year]],AA$115)","v":0}]
[null,"C0lzNzqTroQvfx3Fn4dxIpHed982","Agency/University",3,{"$f":"COUNTIFS(TUDB!$H$8:$H$1855,Use!$B127,TUDB!$F$8:$F$1855,Use!E$44)","v":0},{"$f":"COUNTIFS(TUDB!$H$8:$H$1855,Use!$B127,TUDB!$F$8:$F$1855,Use!F$44)","v":0},{"$f":"COUNTIFS(TUDB!$H$8:$H$1855,Use!$B127,TUDB!$F$8:$F$1855,Use!G$44)","v":0},{"$f":"COUNTIFS(TUDB!$H$8:$H$1855,Use!$B127,TUDB!$F$8:$F$1855,Use!H$44)","v":3},{"$f":"COUNTIFS(TUDB!$H$8:$H$1855,Use!$B127,TUDB!$F$8:$F$1855,Use!I$44)","v":0},null,0,{"$f":"IF(AND(G127>0,SUM($E127:F127)=0),1,0)","v":0},{"$f":"IF(AND(H127>0,SUM($E127:G127)=0),1,0)","v":1},{"$f":"IF(AND(I127>0,SUM($E127:H127)=0),1,0)","v":0},null,null,"Twin Cities Trout Unlimited"]
[null,"qQOofzMtn7QEFNkor41r51PeJ982","TCTU",12,{"$f":"COUNTIFS(TUDB!$H$8:$H$1855,Use!$B128,TUDB!$F$8:$F$1855,Use!E$44)","v":0},{"$f":"COUNTIFS(TUDB!$H$8:$H$1855,Use!$B128,TUDB!$F$8:$F$1855,Use!F$44)","v":0},{"$f":"COUNTIFS(TUDB!$H$8:$H$1855,Use!$B128,TUDB!$F$8:$F$1855,Use!G$44)","v":9},{"$f":"COUNTIFS(TUDB!$H$8:$H$1855,Use!$B128,TUDB!$F$8:$F$1855,Use!H$44)","v":3},{"$f":"COUNTIFS(TUDB!$H$8:$H$1855,Use!$B128,TUDB!$F$8:$F$1855,Use!I$44)","v":0},null,0,{"$f":"IF(AND(G128>0,SUM($E128:F128)=0),1,0)","v":1},{"$f":"IF(AND(H128>0,SUM($E128:G128)=0),1,0)","v":0},{"$f":"IF(AND(I128>0,SUM($E128:H128)=0),1,0)","v":0},null,null,"Belle Creek",{"$f":"SUM(S128:W128)","v":7},null,{"$f":"COUNTIFS(TU_DB[[Monitoring Site]:[Monitoring Site]],$Q128,TU_DB[[Year]:[Year]],T$115)","v":0},{"$f":"COUNTIFS(TU_DB[[Monitoring Site]:[Monitoring Site]],$Q128,TU_DB[[Year]:[Year]],U$115)","v":2},{"$f":"COUNTIFS(TU_DB[[Monitoring Site]:[Monitoring Site]],$Q128,TU_DB[[Year]:[Year]],V$115)","v":5},{"$f":"COUNTIFS(TU_DB[[Monitoring Site]:[Monitoring Site]],$Q128,TU_DB[[Year]:[Year]],W$115)","v":0},{"$f":"COUNTIFS(TU_DB[[Monitoring Site]:[Monitoring Site]],$Q128,TU_DB[[Year]:[Year]],X$115)","v":0},{"$f":"COUNTIFS(TU_DB[[Monitoring Site]:[Monitoring Site]],$Q128,TU_DB[[Year]:[Year]],Y$115)","v":0},{"$f":"COUNTIFS(TU_DB[[Monitoring Site]:[Monitoring Site]],$Q128,TU_DB[[Year]:[Year]],Z$115)","v":0},{"$f":"COUNTIFS(TU_DB[[Monitoring Site]:[Monitoring Site]],$Q128,TU_DB[[Year]:[Year]],AA$115)","v":0}]
[null,"Bh17xfkYdOOIQvAmgpBbLMoI8Fl1","Unknown",2,{"$f":"COUNTIFS(TUDB!$H$8:$H$1855,Use!$B129,TUDB!$F$8:$F$1855,Use!E$44)","v":0},{"$f":"COUNTIFS(TUDB!$H$8:$H$1855,Use!$B129,TUDB!$F$8:$F$1855,Use!F$44)","v":0},{"$f":"COUNTIFS(TUDB!$H$8:$H$1855,Use!$B129,TUDB!$F$8:$F$1855,Use!G$44)","v":0},{"$f":"COUNTIFS(TUDB!$H$8:$H$1855,Use!$B129,TUDB!$F$8:$F$1855,Use!H$44)","v":2},{"$f":"COUNTIFS(TUDB!$H$8:$H$1855,Use!$B129,TUDB!$F$8:$F$1855,Use!I$44)","v":0},null,0,{"$f":"IF(AND(G129>0,SUM($E129:F129)=0),1,0)","v":0},{"$f":"IF(AND(H129>0,SUM($E129:G129)=0),1,0)","v":1},{"$f":"IF(AND(I129>0,SUM($E129:H129)=0),1,0)","v":0},null,null,"Hay Creek @ 320th St",{"$f":"SUM(S129:W129)","v":22},null,{"$f":"COUNTIFS(TU_DB[[Monitoring Site]:[Monitoring Site]],$Q129,TU_DB[[Year]:[Year]],T$115)","v":1},{"$f":"COUNTIFS(TU_DB[[Monitoring Site]:[Monitoring Site]],$Q129,TU_DB[[Year]:[Year]],U$115)","v":13},{"$f":"COUNTIFS(TU_DB[[Monitoring Site]:[Monitoring Site]],$Q129,TU_DB[[Year]:[Year]],V$115)","v":8},{"$f":"COUNTIFS(TU_DB[[Monitoring Site]:[Monitoring Site]],$Q129,TU_DB[[Year]:[Year]],W$115)","v":0},{"$f":"COUNTIFS(TU_DB[[Monitoring Site]:[Monitoring Site]],$Q129,TU_DB[[Year]:[Year]],X$115)","v":0},{"$f":"COUNTIFS(TU_DB[[Monitoring Site]:[Monitoring Site]],$Q129,TU_DB[[Year]:[Year]],Y$115)","v":0},{"$f":"COUNTIFS(TU_DB[[Monitoring Site]:[Monitoring Site]],$Q129,TU_DB[[Year]:[Year]],Z$115)","v":0},{"$f":"COUNTIFS(TU_DB[[Monitoring Site]:[Monitoring Site]],$Q129,TU_DB[[Year]:[Year]],AA$115)","v":0}]
[null,"IEVOLNEKvbTjBFFIUAn398Du5gu2","Kinni Corridor Collaborative",50,{"$f":"COUNTIFS(TUDB!$H$8:$H$1855,Use!$B130,TUDB!$F$8:$F$1855,Use!E$44)","v":0},{"$f":"COUNTIFS(TUDB!$H$8:$H$1855,Use!$B130,TUDB!$F$8:$F$1855,Use!F$44)","v":0},{"$f":"COUNTIFS(TUDB!$H$8:$H$1855,Use!$B130,TUDB!$F$8:$F$1855,Use!G$44)","v":0},{"$f":"COUNTIFS(TUDB!$H$8:$H$1855,Use!$B130,TUDB!$F$8:$F$1855,Use!H$44)","v":50},{"$f":"COUNTIFS(TUDB!$H$8:$H$1855,Use!$B130,TUDB!$F$8:$F$1855,Use!I$44)","v":0},null,0,{"$f":"IF(AND(G130>0,SUM($E130:F130)=0),1,0)","v":0},{"$f":"IF(AND(H130>0,SUM($E130:G130)=0),1,0)","v":1},{"$f":"IF(AND(I130>0,SUM($E130:H130)=0),1,0)","v":0},null,null,"Hay Creek @ 325th St",{"$f":"SUM(S130:W130)","v":16},null,{"$f":"COUNTIFS(TU_DB[[Monitoring Site]:[Monitoring Site]],$Q130,TU_DB[[Year]:[Year]],T$115)","v":1},{"$f":"COUNTIFS(TU_DB[[Monitoring Site]:[Monitoring Site]],$Q130,TU_DB[[Year]:[Year]],U$115)","v":7},{"$f":"COUNTIFS(TU_DB[[Monitoring Site]:[Monitoring Site]],$Q130,TU_DB[[Year]:[Year]],V$115)","v":8},{"$f":"COUNTIFS(TU_DB[[Monitoring Site]:[Monitoring Site]],$Q130,TU_DB[[Year]:[Year]],W$115)","v":0},{"$f":"COUNTIFS(TU_DB[[Monitoring Site]:[Monitoring Site]],$Q130,TU_DB[[Year]:[Year]],X$115)","v":0},{"$f":"COUNTIFS(TU_DB[[Monitoring Site]:[Monitoring Site]],$Q130,TU_DB[[Year]:[Year]],Y$115)","v":0},{"$f":"COUNTIFS(TU_DB[[Monitoring Site]:[Monitoring Site]],$Q130,TU_DB[[Year]:[Year]],Z$115)","v":0},{"$f":"COUNTIFS(TU_DB[[Monitoring Site]:[Monitoring Site]],$Q130,TU_DB[[Year]:[Year]],AA$115)","v":0}]
[null,"w2H6q2rfnpYnyiqXnRGCkXSAnLg1","Unknown",1,{"$f":"COUNTIFS(TUDB!$H$8:$H$1855,Use!$B131,TUDB!$F$8:$F$1855,Use!E$44)","v":0},{"$f":"COUNTIFS(TUDB!$H$8:$H$1855,Use!$B131,TUDB!$F$8:$F$1855,Use!F$44)","v":0},{"$f":"COUNTIFS(TUDB!$H$8:$H$1855,Use!$B131,TUDB!$F$8:$F$1855,Use!G$44)","v":0},{"$f":"COUNTIFS(TUDB!$H$8:$H$1855,Use!$B131,TUDB!$F$8:$F$1855,Use!H$44)","v":1},{"$f":"COUNTIFS(TUDB!$H$8:$H$1855,Use!$B131,TUDB!$F$8:$F$1855,Use!I$44)","v":0},null,0,{"$f":"IF(AND(G131>0,SUM($E131:F131)=0),1,0)","v":0},{"$f":"IF(AND(H131>0,SUM($E131:G131)=0),1,0)","v":1},{"$f":"IF(AND(I131>0,SUM($E131:H131)=0),1,0)","v":0},null,null,"Eagle Creek",2,null,{"$f":"COUNTIFS(TU_DB[[Monitoring Site]:[Monitoring Site]],$Q131,TU_DB[[Year]:[Year]],T$115)","v":0},{"$f":"COUNTIFS(TU_DB[[Monitoring Site]:[Monitoring Site]],$Q131,TU_DB[[Year]:[Year]],U$115)","v":0},{"$f":"COUNTIFS(TU_DB[[Monitoring Site]:[Monitoring Site]],$Q131,TU_DB[[Year]:[Year]],V$115)","v":2},{"$f":"COUNTIFS(TU_DB[[Monitoring Site]:[Monitoring Site]],$Q131,TU_DB[[Year]:[Year]],W$115)","v":0},{"$f":"COUNTIFS(TU_DB[[Monitoring Site]:[Monitoring Site]],$Q131,TU_DB[[Year]:[Year]],X$115)","v":0},{"$f":"COUNTIFS(TU_DB[[Monitoring Site]:[Monitoring Site]],$Q131,TU_DB[[Year]:[Year]],Y$115)","v":0},{"$f":"COUNTIFS(TU_DB[[Monitoring Site]:[Monitoring Site]],$Q131,TU_DB[[Year]:[Year]],Z$115)","v":0},{"$f":"COUNTIFS(TU_DB[[Monitoring Site]:[Monitoring Site]],$Q131,TU_DB[[Year]:[Year]],AA$115)","v":0}]
[null,"5RQuWak2yTbCLXixyDsqyBCU9CA2","Kiap-TU-Wish",8,{"$f":"COUNTIFS(TUDB!$H$8:$H$1855,Use!$B132,TUDB!$F$8:$F$1855,Use!E$44)","v":0},{"$f":"COUNTIFS(TUDB!$H$8:$H$1855,Use!$B132,TUDB!$F$8:$F$1855,Use!F$44)","v":0},{"$f":"COUNTIFS(TUDB!$H$8:$H$1855,Use!$B132,TUDB!$F$8:$F$1855,Use!G$44)","v":4},{"$f":"COUNTIFS(TUDB!$H$8:$H$1855,Use!$B132,TUDB!$F$8:$F$1855,Use!H$44)","v":4},{"$f":"COUNTIFS(TUDB!$H$8:$H$1855,Use!$B132,TUDB!$F$8:$F$1855,Use!I$44)","v":0},null,0,{"$f":"IF(AND(G132>0,SUM($E132:F132)=0),1,0)","v":1},{"$f":"IF(AND(H132>0,SUM($E132:G132)=0),1,0)","v":0},{"$f":"IF(AND(I132>0,SUM($E132:H132)=0),1,0)","v":0},null,null,"Little Cannon River",2,null,{"$f":"COUNTIFS(TU_DB[[Monitoring Site]:[Monitoring Site]],$Q132,TU_DB[[Year]:[Year]],T$115)","v":0},{"$f":"COUNTIFS(TU_DB[[Monitoring Site]:[Monitoring Site]],$Q132,TU_DB[[Year]:[Year]],U$115)","v":2},{"$f":"COUNTIFS(TU_DB[[Monitoring Site]:[Monitoring Site]],$Q132,TU_DB[[Year]:[Year]],V$115)","v":0},{"$f":"COUNTIFS(TU_DB[[Monitoring Site]:[Monitoring Site]],$Q132,TU_DB[[Year]:[Year]],W$115)","v":0},{"$f":"COUNTIFS(TU_DB[[Monitoring Site]:[Monitoring Site]],$Q132,TU_DB[[Year]:[Year]],X$115)","v":0},{"$f":"COUNTIFS(TU_DB[[Monitoring Site]:[Monitoring Site]],$Q132,TU_DB[[Year]:[Year]],Y$115)","v":0},{"$f":"COUNTIFS(TU_DB[[Monitoring Site]:[Monitoring Site]],$Q132,TU_DB[[Year]:[Year]],Z$115)","v":0},{"$f":"COUNTIFS(TU_DB[[Monitoring Site]:[Monitoring Site]],$Q132,TU_DB[[Year]:[Year]],AA$115)","v":0}]
[null,"UFn0tvcbhgPvJSgEiNtnlwyA9Ch2","Kiap-TU-Wish",11,{"$f":"COUNTIFS(TUDB!$H$8:$H$1855,Use!$B133,TUDB!$F$8:$F$1855,Use!E$44)","v":0},{"$f":"COUNTIFS(TUDB!$H$8:$H$1855,Use!$B133,TUDB!$F$8:$F$1855,Use!F$44)","v":0},{"$f":"COUNTIFS(TUDB!$H$8:$H$1855,Use!$B133,TUDB!$F$8:$F$1855,Use!G$44)","v":10},{"$f":"COUNTIFS(TUDB!$H$8:$H$1855,Use!$B133,TUDB!$F$8:$F$1855,Use!H$44)","v":1},{"$f":"COUNTIFS(TUDB!$H$8:$H$1855,Use!$B133,TUDB!$F$8:$F$1855,Use!I$44)","v":0},null,0,{"$f":"IF(AND(G133>0,SUM($E133:F133)=0),1,0)","v":1},{"$f":"IF(AND(H133>0,SUM($E133:G133)=0),1,0)","v":0},{"$f":"IF(AND(I133>0,SUM($E133:H133)=0),1,0)","v":0},null,null,"MOA Creek",22,null,{"$f":"COUNTIFS(TU_DB[[Monitoring Site]:[Monitoring Site]],$Q133,TU_DB[[Year]:[Year]],T$115)","v":0},{"$f":"COUNTIFS(TU_DB[[Monitoring Site]:[Monitoring Site]],$Q133,TU_DB[[Year]:[Year]],U$115)","v":9},{"$f":"COUNTIFS(TU_DB[[Monitoring Site]:[Monitoring Site]],$Q133,TU_DB[[Year]:[Year]],V$115)","v":13},{"$f":"COUNTIFS(TU_DB[[Monitoring Site]:[Monitoring Site]],$Q133,TU_DB[[Year]:[Year]],W$115)","v":0},{"$f":"COUNTIFS(TU_DB[[Monitoring Site]:[Monitoring Site]],$Q133,TU_DB[[Year]:[Year]],X$115)","v":0},{"$f":"COUNTIFS(TU_DB[[Monitoring Site]:[Monitoring Site]],$Q133,TU_DB[[Year]:[Year]],Y$115)","v":0},{"$f":"COUNTIFS(TU_DB[[Monitoring Site]:[Monitoring Site]],$Q133,TU_DB[[Year]:[Year]],Z$115)","v":0},{"$f":"COUNTIFS(TU_DB[[Monitoring Site]:[Monitoring Site]],$Q133,TU_DB[[Year]:[Year]],AA$115)","v":0}]
[null,"CUjiGQdfaVZfGM3lWBBjUCvnb322","TCTU",15,{"$f":"COUNTIFS(TUDB!$H$8:$H$1855,Use!$B134,TUDB!$F$8:$F$1855,Use!E$44)","v":0},{"$f":"COUNTIFS(TUDB!$H$8:$H$1855,Use!$B134,TUDB!$F$8:$F$1855,Use!F$44)","v":0},{"$f":"COUNTIFS(TUDB!$H$8:$H$1855,Use!$B134,TUDB!$F$8:$F$1855,Use!G$44)","v":2},{"$f":"COUNTIFS(TUDB!$H$8:$H$1855,Use!$B134,TUDB!$F$8:$F$1855,Use!H$44)","v":13},{"$f":"COUNTIFS(TUDB!$H$8:$H$1855,Use!$B134,TUDB!$F$8:$F$1855,Use!I$44)","v":0},null,0,{"$f":"IF(AND(G134>0,SUM($E134:F134)=0),1,0)","v":1},{"$f":"IF(AND(H134>0,SUM($E134:G134)=0),1,0)","v":0},{"$f":"IF(AND(I134>0,SUM($E134:H134)=0),1,0)","v":0},null,null,"Trout Brook",41,null,{"$f":"COUNTIFS(TU_DB[[Monitoring Site]:[Monitoring Site]],$Q134,TU_DB[[Year]:[Year]],T$115)","v":25},{"$f":"COUNTIFS(TU_DB[[Monitoring Site]:[Monitoring Site]],$Q134,TU_DB[[Year]:[Year]],U$115)","v":9},{"$f":"COUNTIFS(TU_DB[[Monitoring Site]:[Monitoring Site]],$Q134,TU_DB[[Year]:[Year]],V$115)","v":7},{"$f":"COUNTIFS(TU_DB[[Monitoring Site]:[Monitoring Site]],$Q134,TU_DB[[Year]:[Year]],W$115)","v":0},{"$f":"COUNTIFS(TU_DB[[Monitoring Site]:[Monitoring Site]],$Q134,TU_DB[[Year]:[Year]],X$115)","v":0},{"$f":"COUNTIFS(TU_DB[[Monitoring Site]:[Monitoring Site]],$Q134,TU_DB[[Year]:[Year]],Y$115)","v":0},{"$f":"COUNTIFS(TU_DB[[Monitoring Site]:[Monitoring Site]],$Q134,TU_DB[[Year]:[Year]],Z$115)","v":0},{"$f":"COUNTIFS(TU_DB[[Monitoring Site]:[Monitoring Site]],$Q134,TU_DB[[Year]:[Year]],AA$115)","v":0}]
[null,"uhi7fcC1CEM9Gzc26fagCyLA1662","TCTU",33,{"$f":"COUNTIFS(TUDB!$H$8:$H$1855,Use!$B135,TUDB!$F$8:$F$1855,Use!E$44)","v":0},{"$f":"COUNTIFS(TUDB!$H$8:$H$1855,Use!$B135,TUDB!$F$8:$F$1855,Use!F$44)","v":0},{"$f":"COUNTIFS(TUDB!$H$8:$H$1855,Use!$B135,TUDB!$F$8:$F$1855,Use!G$44)","v":27},{"$f":"COUNTIFS(TUDB!$H$8:$H$1855,Use!$B135,TUDB!$F$8:$F$1855,Use!H$44)","v":6},{"$f":"COUNTIFS(TUDB!$H$8:$H$1855,Use!$B135,TUDB!$F$8:$F$1855,Use!I$44)","v":0},null,0,{"$f":"IF(AND(G135>0,SUM($E135:F135)=0),1,0)","v":1},{"$f":"IF(AND(H135>0,SUM($E135:G135)=0),1,0)","v":0},{"$f":"IF(AND(I135>0,SUM($E135:H135)=0),1,0)","v":0},null,null,"Vermillion River, South Branch",37,null,{"$f":"COUNTIFS(TU_DB[[Monitoring Site]:[Monitoring Site]],$Q135,TU_DB[[Year]:[Year]],T$115)","v":7},{"$f":"COUNTIFS(TU_DB[[Monitoring Site]:[Monitoring Site]],$Q135,TU_DB[[Year]:[Year]],U$115)","v":16},{"$f":"COUNTIFS(TU_DB[[Monitoring Site]:[Monitoring Site]],$Q135,TU_DB[[Year]:[Year]],V$115)","v":14},{"$f":"COUNTIFS(TU_DB[[Monitoring Site]:[Monitoring Site]],$Q135,TU_DB[[Year]:[Year]],W$115)","v":0},{"$f":"COUNTIFS(TU_DB[[Monitoring Site]:[Monitoring Site]],$Q135,TU_DB[[Year]:[Year]],X$115)","v":0},{"$f":"COUNTIFS(TU_DB[[Monitoring Site]:[Monitoring Site]],$Q135,TU_DB[[Year]:[Year]],Y$115)","v":0},{"$f":"COUNTIFS(TU_DB[[Monitoring Site]:[Monitoring Site]],$Q135,TU_DB[[Year]:[Year]],Z$115)","v":0},{"$f":"COUNTIFS(TU_DB[[Monitoring Site]:[Monitoring Site]],$Q135,TU_DB[[Year]:[Year]],AA$115)","v":0}]
[null,"MaWmkh46vpfB0NKdOC23krQrdH72","TCTU",3,{"$f":"COUNTIFS(TUDB!$H$8:$H$1855,Use!$B136,TUDB!$F$8:$F$1855,Use!E$44)","v":0},{"$f":"COUNTIFS(TUDB!$H$8:$H$1855,Use!$B136,TUDB!$F$8:$F$1855,Use!F$44)","v":0},{"$f":"COUNTIFS(TUDB!$H$8:$H$1855,Use!$B136,TUDB!$F$8:$F$1855,Use!G$44)","v":0},{"$f":"COUNTIFS(TUDB!$H$8:$H$1855,Use!$B136,TUDB!$F$8:$F$1855,Use!H$44)","v":3},{"$f":"COUNTIFS(TUDB!$H$8:$H$1855,Use!$B136,TUDB!$F$8:$F$1855,Use!I$44)","v":0},null,0,{"$f":"IF(AND(G136>0,SUM($E136:F136)=0),1,0)","v":0},{"$f":"IF(AND(H136>0,SUM($E136:G136)=0),1,0)","v":1},{"$f":"IF(AND(I136>0,SUM($E136:H136)=0),1,0)","v":0},null,null,{"$f":"COUNTIF(Q117:Q135,\"<>\"&\"\")","v":19},{"$f":"SUM(S136:AA136)","v":314},{"$f":"SUM(S117:S135)","v":32},{"$f":"SUM(T117:T135)","v":83},{"$f":"SUM(U117:U135)","v":102},{"$f":"SUM(V117:V135)","v":97},{"$f":"SUM(W117:W135)","v":0},{"$f":"SUM(X117:X135)","v":0},0,0,0]
[null,"Tlazf0NRE2UoPEjeblvnepAUAAF3","TCTU",3,{"$f":"COUNTIFS(TUDB!$H$8:$H$1855,Use!$B137,TUDB!$F$8:$F$1855,Use!E$44)","v":0},{"$f":"COUNTIFS(TUDB!$H$8:$H$1855,Use!$B137,TUDB!$F$8:$F$1855,Use!F$44)","v":0},{"$f":"COUNTIFS(TUDB!$H$8:$H$1855,Use!$B137,TUDB!$F$8:$F$1855,Use!G$44)","v":0},{"$f":"COUNTIFS(TUDB!$H$8:$H$1855,Use!$B137,TUDB!$F$8:$F$1855,Use!H$44)","v":3},{"$f":"COUNTIFS(TUDB!$H$8:$H$1855,Use!$B137,TUDB!$F$8:$F$1855,Use!I$44)","v":0},null,0,{"$f":"IF(AND(G137>0,SUM($E137:F137)=0),1,0)","v":0},{"$f":"IF(AND(H137>0,SUM($E137:G137)=0),1,0)","v":1},{"$f":"IF(AND(I137>0,SUM($E137:H137)=0),1,0)","v":0}]
[null,"Z9MSZCpZM4Vs8Cu0QagviPKqee33","Agency/University",1,{"$f":"COUNTIFS(TUDB!$H$8:$H$1855,Use!$B138,TUDB!$F$8:$F$1855,Use!E$44)","v":0},{"$f":"COUNTIFS(TUDB!$H$8:$H$1855,Use!$B138,TUDB!$F$8:$F$1855,Use!F$44)","v":0},{"$f":"COUNTIFS(TUDB!$H$8:$H$1855,Use!$B138,TUDB!$F$8:$F$1855,Use!G$44)","v":0},{"$f":"COUNTIFS(TUDB!$H$8:$H$1855,Use!$B138,TUDB!$F$8:$F$1855,Use!H$44)","v":1},{"$f":"COUNTIFS(TUDB!$H$8:$H$1855,Use!$B138,TUDB!$F$8:$F$1855,Use!I$44)","v":0},null,0,{"$f":"IF(AND(G138>0,SUM($E138:F138)=0),1,0)","v":0},{"$f":"IF(AND(H138>0,SUM($E138:G138)=0),1,0)","v":1},{"$f":"IF(AND(I138>0,SUM($E138:H138)=0),1,0)","v":0}]
[null,"XTciY3yPfYVTb535QHNfPsAPFsu1","Hiawatha",8,{"$f":"COUNTIFS(TUDB!$H$8:$H$1855,Use!$B139,TUDB!$F$8:$F$1855,Use!E$44)","v":0},{"$f":"COUNTIFS(TUDB!$H$8:$H$1855,Use!$B139,TUDB!$F$8:$F$1855,Use!F$44)","v":0},{"$f":"COUNTIFS(TUDB!$H$8:$H$1855,Use!$B139,TUDB!$F$8:$F$1855,Use!G$44)","v":0},{"$f":"COUNTIFS(TUDB!$H$8:$H$1855,Use!$B139,TUDB!$F$8:$F$1855,Use!H$44)","v":8},{"$f":"COUNTIFS(TUDB!$H$8:$H$1855,Use!$B139,TUDB!$F$8:$F$1855,Use!I$44)","v":0},null,0,{"$f":"IF(AND(G139>0,SUM($E139:F139)=0),1,0)","v":0},{"$f":"IF(AND(H139>0,SUM($E139:G139)=0),1,0)","v":1},{"$f":"IF(AND(I139>0,SUM($E139:H139)=0),1,0)","v":0}]
[null,"yd6EWtgkp2OxM0ESjNoOFhFrSZ53","TCTU",4,{"$f":"COUNTIFS(TUDB!$H$8:$H$1855,Use!$B140,TUDB!$F$8:$F$1855,Use!E$44)","v":0},{"$f":"COUNTIFS(TUDB!$H$8:$H$1855,Use!$B140,TUDB!$F$8:$F$1855,Use!F$44)","v":0},{"$f":"COUNTIFS(TUDB!$H$8:$H$1855,Use!$B140,TUDB!$F$8:$F$1855,Use!G$44)","v":0},{"$f":"COUNTIFS(TUDB!$H$8:$H$1855,Use!$B140,TUDB!$F$8:$F$1855,Use!H$44)","v":4},{"$f":"COUNTIFS(TUDB!$H$8:$H$1855,Use!$B140,TUDB!$F$8:$F$1855,Use!I$44)","v":0},null,0,{"$f":"IF(AND(G140>0,SUM($E140:F140)=0),1,0)","v":0},{"$f":"IF(AND(H140>0,SUM($E140:G140)=0),1,0)","v":1},{"$f":"IF(AND(I140>0,SUM($E140:H140)=0),1,0)","v":0}]
[null,"Qp6x6PYXsZQ3OPVMlJMHnfsxzog2","TCTU",3,{"$f":"COUNTIFS(TUDB!$H$8:$H$1855,Use!$B141,TUDB!$F$8:$F$1855,Use!E$44)","v":0},{"$f":"COUNTIFS(TUDB!$H$8:$H$1855,Use!$B141,TUDB!$F$8:$F$1855,Use!F$44)","v":0},{"$f":"COUNTIFS(TUDB!$H$8:$H$1855,Use!$B141,TUDB!$F$8:$F$1855,Use!G$44)","v":2},{"$f":"COUNTIFS(TUDB!$H$8:$H$1855,Use!$B141,TUDB!$F$8:$F$1855,Use!H$44)","v":1},{"$f":"COUNTIFS(TUDB!$H$8:$H$1855,Use!$B141,TUDB!$F$8:$F$1855,Use!I$44)","v":0},null,{"$f":"IF(AND(F141>0,SUM($E141)=0),1,0)","v":0},{"$f":"IF(AND(G141>0,SUM($E141:F141)=0),1,0)","v":1},{"$f":"IF(AND(H141>0,SUM($E141:G141)=0),1,0)","v":0},{"$f":"IF(AND(I141>0,SUM($E141:H141)=0),1,0)","v":0}]
[null,"jj7B66wBA3YQo84792uvWfxjNp83","Spring Creeks",5,{"$f":"COUNTIFS(TUDB!$H$8:$H$1855,Use!$B142,TUDB!$F$8:$F$1855,Use!E$44)","v":0},{"$f":"COUNTIFS(TUDB!$H$8:$H$1855,Use!$B142,TUDB!$F$8:$F$1855,Use!F$44)","v":0},{"$f":"COUNTIFS(TUDB!$H$8:$H$1855,Use!$B142,TUDB!$F$8:$F$1855,Use!G$44)","v":0},{"$f":"COUNTIFS(TUDB!$H$8:$H$1855,Use!$B142,TUDB!$F$8:$F$1855,Use!H$44)","v":5},{"$f":"COUNTIFS(TUDB!$H$8:$H$1855,Use!$B142,TUDB!$F$8:$F$1855,Use!I$44)","v":0},null,0,{"$f":"IF(AND(G142>0,SUM($E142:F142)=0),1,0)","v":0},{"$f":"IF(AND(H142>0,SUM($E142:G142)=0),1,0)","v":1},{"$f":"IF(AND(I142>0,SUM($E142:H142)=0),1,0)","v":0}]
[null,"D17U1veFZVXjEf12Xz7qLJhjKsm2","Oak Brook",3,{"$f":"COUNTIFS(TUDB!$H$8:$H$1855,Use!$B143,TUDB!$F$8:$F$1855,Use!E$44)","v":0},{"$f":"COUNTIFS(TUDB!$H$8:$H$1855,Use!$B143,TUDB!$F$8:$F$1855,Use!F$44)","v":0},{"$f":"COUNTIFS(TUDB!$H$8:$H$1855,Use!$B143,TUDB!$F$8:$F$1855,Use!G$44)","v":0},{"$f":"COUNTIFS(TUDB!$H$8:$H$1855,Use!$B143,TUDB!$F$8:$F$1855,Use!H$44)","v":3},{"$f":"COUNTIFS(TUDB!$H$8:$H$1855,Use!$B143,TUDB!$F$8:$F$1855,Use!I$44)","v":0},null,0,{"$f":"IF(AND(G143>0,SUM($E143:F143)=0),1,0)","v":0},{"$f":"IF(AND(H143>0,SUM($E143:G143)=0),1,0)","v":1},{"$f":"IF(AND(I143>0,SUM($E143:H143)=0),1,0)","v":0}]
[null,"W8BGw5bKR3fOoqYynHo0kID39br2","Hiawatha",26,{"$f":"COUNTIFS(TUDB!$H$8:$H$1855,Use!$B144,TUDB!$F$8:$F$1855,Use!E$44)","v":0},{"$f":"COUNTIFS(TUDB!$H$8:$H$1855,Use!$B144,TUDB!$F$8:$F$1855,Use!F$44)","v":0},{"$f":"COUNTIFS(TUDB!$H$8:$H$1855,Use!$B144,TUDB!$F$8:$F$1855,Use!G$44)","v":25},{"$f":"COUNTIFS(TUDB!$H$8:$H$1855,Use!$B144,TUDB!$F$8:$F$1855,Use!H$44)","v":1},{"$f":"COUNTIFS(TUDB!$H$8:$H$1855,Use!$B144,TUDB!$F$8:$F$1855,Use!I$44)","v":0},null,0,{"$f":"IF(AND(G144>0,SUM($E144:F144)=0),1,0)","v":1},{"$f":"IF(AND(H144>0,SUM($E144:G144)=0),1,0)","v":0},{"$f":"IF(AND(I144>0,SUM($E144:H144)=0),1,0)","v":0}]
[null,"0o0mbNO1EGZHBdeHAgdepC7aYQM2","Unknown",1,{"$f":"COUNTIFS(TUDB!$H$8:$H$1855,Use!$B145,TUDB!$F$8:$F$1855,Use!E$44)","v":0},{"$f":"COUNTIFS(TUDB!$H$8:$H$1855,Use!$B145,TUDB!$F$8:$F$1855,Use!F$44)","v":0},{"$f":"COUNTIFS(TUDB!$H$8:$H$1855,Use!$B145,TUDB!$F$8:$F$1855,Use!G$44)","v":0},{"$f":"COUNTIFS(TUDB!$H$8:$H$1855,Use!$B145,TUDB!$F$8:$F$1855,Use!H$44)","v":1},{"$f":"COUNTIFS(TUDB!$H$8:$H$1855,Use!$B145,TUDB!$F$8:$F$1855,Use!I$44)","v":0},null,0,{"$f":"IF(AND(G145>0,SUM($E145:F145)=0),1,0)","v":0},{"$f":"IF(AND(H145>0,SUM($E145:G145)=0),1,0)","v":1},{"$f":"IF(AND(I145>0,SUM($E145:H145)=0),1,0)","v":0}]
[null,"CXhiIjnaKUQwXlmZdziND741HVA2","Unknown",1,{"$f":"COUNTIFS(TUDB!$H$8:$H$1855,Use!$B146,TUDB!$F$8:$F$1855,Use!E$44)","v":0},{"$f":"COUNTIFS(TUDB!$H$8:$H$1855,Use!$B146,TUDB!$F$8:$F$1855,Use!F$44)","v":0},{"$f":"COUNTIFS(TUDB!$H$8:$H$1855,Use!$B146,TUDB!$F$8:$F$1855,Use!G$44)","v":0},{"$f":"COUNTIFS(TUDB!$H$8:$H$1855,Use!$B146,TUDB!$F$8:$F$1855,Use!H$44)","v":1},{"$f":"COUNTIFS(TUDB!$H$8:$H$1855,Use!$B146,TUDB!$F$8:$F$1855,Use!I$44)","v":0},null,0,{"$f":"IF(AND(G146>0,SUM($E146:F146)=0),1,0)","v":0},{"$f":"IF(AND(H146>0,SUM($E146:G146)=0),1,0)","v":1},{"$f":"IF(AND(I146>0,SUM($E146:H146)=0),1,0)","v":0}]
[null,"s8edId9lg6ZV8gj3qg6ejm7GBUZ2","Unknown",1,{"$f":"COUNTIFS(TUDB!$H$8:$H$1855,Use!$B147,TUDB!$F$8:$F$1855,Use!E$44)","v":0},{"$f":"COUNTIFS(TUDB!$H$8:$H$1855,Use!$B147,TUDB!$F$8:$F$1855,Use!F$44)","v":0},{"$f":"COUNTIFS(TUDB!$H$8:$H$1855,Use!$B147,TUDB!$F$8:$F$1855,Use!G$44)","v":0},{"$f":"COUNTIFS(TUDB!$H$8:$H$1855,Use!$B147,TUDB!$F$8:$F$1855,Use!H$44)","v":1},{"$f":"COUNTIFS(TUDB!$H$8:$H$1855,Use!$B147,TUDB!$F$8:$F$1855,Use!I$44)","v":0},null,0,{"$f":"IF(AND(G147>0,SUM($E147:F147)=0),1,0)","v":0},{"$f":"IF(AND(H147>0,SUM($E147:G147)=0),1,0)","v":1},{"$f":"IF(AND(I147>0,SUM($E147:H147)=0),1,0)","v":0}]
[null,"Dv23oexwEeU2dZrYmoNxokC2lBQ2","Iowa Driftless",4,{"$f":"COUNTIFS(TUDB!$H$8:$H$1855,Use!$B148,TUDB!$F$8:$F$1855,Use!E$44)","v":0},{"$f":"COUNTIFS(TUDB!$H$8:$H$1855,Use!$B148,TUDB!$F$8:$F$1855,Use!F$44)","v":0},{"$f":"COUNTIFS(TUDB!$H$8:$H$1855,Use!$B148,TUDB!$F$8:$F$1855,Use!G$44)","v":3},{"$f":"COUNTIFS(TUDB!$H$8:$H$1855,Use!$B148,TUDB!$F$8:$F$1855,Use!H$44)","v":1},{"$f":"COUNTIFS(TUDB!$H$8:$H$1855,Use!$B148,TUDB!$F$8:$F$1855,Use!I$44)","v":0},null,0,{"$f":"IF(AND(G148>0,SUM($E148:F148)=0),1,0)","v":1},{"$f":"IF(AND(H148>0,SUM($E148:G148)=0),1,0)","v":0},{"$f":"IF(AND(I148>0,SUM($E148:H148)=0),1,0)","v":0}]
[null,"79D4QMcZb1SeulClPI33vBZYFLY2","Kiap-TU-Wish",33,{"$f":"COUNTIFS(TUDB!$H$8:$H$1855,Use!$B149,TUDB!$F$8:$F$1855,Use!E$44)","v":0},{"$f":"COUNTIFS(TUDB!$H$8:$H$1855,Use!$B149,TUDB!$F$8:$F$1855,Use!F$44)","v":15},{"$f":"COUNTIFS(TUDB!$H$8:$H$1855,Use!$B149,TUDB!$F$8:$F$1855,Use!G$44)","v":18},{"$f":"COUNTIFS(TUDB!$H$8:$H$1855,Use!$B149,TUDB!$F$8:$F$1855,Use!H$44)","v":0},{"$f":"COUNTIFS(TUDB!$H$8:$H$1855,Use!$B149,TUDB!$F$8:$F$1855,Use!I$44)","v":0},null,1,{"$f":"IF(AND(G149>0,SUM($E149:F149)=0),1,0)","v":0},{"$f":"IF(AND(H149>0,SUM($E149:G149)=0),1,0)","v":0},{"$f":"IF(AND(I149>0,SUM($E149:H149)=0),1,0)","v":0}]
[null,"dU479eSpCyVTUJTD4yrbsIrDJyi1","Unknown",3,{"$f":"COUNTIFS(TUDB!$H$8:$H$1855,Use!$B150,TUDB!$F$8:$F$1855,Use!E$44)","v":0},{"$f":"COUNTIFS(TUDB!$H$8:$H$1855,Use!$B150,TUDB!$F$8:$F$1855,Use!F$44)","v":0},{"$f":"COUNTIFS(TUDB!$H$8:$H$1855,Use!$B150,TUDB!$F$8:$F$1855,Use!G$44)","v":3},{"$f":"COUNTIFS(TUDB!$H$8:$H$1855,Use!$B150,TUDB!$F$8:$F$1855,Use!H$44)","v":0},{"$f":"COUNTIFS(TUDB!$H$8:$H$1855,Use!$B150,TUDB!$F$8:$F$1855,Use!I$44)","v":0},null,0,{"$f":"IF(AND(G150>0,SUM($E150:F150)=0),1,0)","v":1},{"$f":"IF(AND(H150>0,SUM($E150:G150)=0),1,0)","v":0},{"$f":"IF(AND(I150>0,SUM($E150:H150)=0),1,0)","v":0}]
[null,"n91xZFUxmVPxNFZPd6hBai7YMWy1","TCTU",5,{"$f":"COUNTIFS(TUDB!$H$8:$H$1855,Use!$B151,TUDB!$F$8:$F$1855,Use!E$44)","v":0},{"$f":"COUNTIFS(TUDB!$H$8:$H$1855,Use!$B151,TUDB!$F$8:$F$1855,Use!F$44)","v":0},{"$f":"COUNTIFS(TUDB!$H$8:$H$1855,Use!$B151,TUDB!$F$8:$F$1855,Use!G$44)","v":5},{"$f":"COUNTIFS(TUDB!$H$8:$H$1855,Use!$B151,TUDB!$F$8:$F$1855,Use!H$44)","v":0},{"$f":"COUNTIFS(TUDB!$H$8:$H$1855,Use!$B151,TUDB!$F$8:$F$1855,Use!I$44)","v":0},null,0,{"$f":"IF(AND(G151>0,SUM($E151:F151)=0),1,0)","v":1},{"$f":"IF(AND(H151>0,SUM($E151:G151)=0),1,0)","v":0},{"$f":"IF(AND(I151>0,SUM($E151:H151)=0),1,0)","v":0}]
[null,"02AAKekyGtT6Kuu6m0tQhSFD2XM2",-999,6,{"$f":"COUNTIFS(TUDB!$H$8:$H$1855,Use!$B152,TUDB!$F$8:$F$1855,Use!E$44)","v":0},{"$f":"COUNTIFS(TUDB!$H$8:$H$1855,Use!$B152,TUDB!$F$8:$F$1855,Use!F$44)","v":0},{"$f":"COUNTIFS(TUDB!$H$8:$H$1855,Use!$B152,TUDB!$F$8:$F$1855,Use!G$44)","v":6},{"$f":"COUNTIFS(TUDB!$H$8:$H$1855,Use!$B152,TUDB!$F$8:$F$1855,Use!H$44)","v":0},{"$f":"COUNTIFS(TUDB!$H$8:$H$1855,Use!$B152,TUDB!$F$8:$F$1855,Use!I$44)","v":0},null,{"$f":"IF(AND(F152>0,SUM($E152)=0),1,0)","v":0},{"$f":"IF(AND(G152>0,SUM($E152:F152)=0),1,0)","v":1},{"$f":"IF(AND(H152>0,SUM($E152:G152)=0),1,0)","v":0},{"$f":"IF(AND(I152>0,SUM($E152:H152)=0),1,0)","v":0}]
[null,"a61SOYPc3eOGfrAJu30rsKXhQUA3","Kiap-TU-Wish",8,{"$f":"COUNTIFS(TUDB!$H$8:$H$1855,Use!$B153,TUDB!$F$8:$F$1855,Use!E$44)","v":0},{"$f":"COUNTIFS(TUDB!$H$8:$H$1855,Use!$B153,TUDB!$F$8:$F$1855,Use!F$44)","v":4},{"$f":"COUNTIFS(TUDB!$H$8:$H$1855,Use!$B153,TUDB!$F$8:$F$1855,Use!G$44)","v":4},{"$f":"COUNTIFS(TUDB!$H$8:$H$1855,Use!$B153,TUDB!$F$8:$F$1855,Use!H$44)","v":0},{"$f":"COUNTIFS(TUDB!$H$8:$H$1855,Use!$B153,TUDB!$F$8:$F$1855,Use!I$44)","v":0},null,1,{"$f":"IF(AND(G153>0,SUM($E153:F153)=0),1,0)","v":0},{"$f":"IF(AND(H153>0,SUM($E153:G153)=0),1,0)","v":0},{"$f":"IF(AND(I153>0,SUM($E153:H153)=0),1,0)","v":0}]
[null,"Dn2W1Yjytgb3Z84Zvr69llQjrr63","Southern Wisconsin",7,{"$f":"COUNTIFS(TUDB!$H$8:$H$1855,Use!$B154,TUDB!$F$8:$F$1855,Use!E$44)","v":0},{"$f":"COUNTIFS(TUDB!$H$8:$H$1855,Use!$B154,TUDB!$F$8:$F$1855,Use!F$44)","v":0},{"$f":"COUNTIFS(TUDB!$H$8:$H$1855,Use!$B154,TUDB!$F$8:$F$1855,Use!G$44)","v":7},{"$f":"COUNTIFS(TUDB!$H$8:$H$1855,Use!$B154,TUDB!$F$8:$F$1855,Use!H$44)","v":0},{"$f":"COUNTIFS(TUDB!$H$8:$H$1855,Use!$B154,TUDB!$F$8:$F$1855,Use!I$44)","v":0},null,0,{"$f":"IF(AND(G154>0,SUM($E154:F154)=0),1,0)","v":1},{"$f":"IF(AND(H154>0,SUM($E154:G154)=0),1,0)","v":0},{"$f":"IF(AND(I154>0,SUM($E154:H154)=0),1,0)","v":0}]
[null,"dPJWc9NSyvcS4bE9QNTGsbfuzL23","Kiap-TU-Wish",1,{"$f":"COUNTIFS(TUDB!$H$8:$H$1855,Use!$B155,TUDB!$F$8:$F$1855,Use!E$44)","v":0},{"$f":"COUNTIFS(TUDB!$H$8:$H$1855,Use!$B155,TUDB!$F$8:$F$1855,Use!F$44)","v":0},{"$f":"COUNTIFS(TUDB!$H$8:$H$1855,Use!$B155,TUDB!$F$8:$F$1855,Use!G$44)","v":1},{"$f":"COUNTIFS(TUDB!$H$8:$H$1855,Use!$B155,TUDB!$F$8:$F$1855,Use!H$44)","v":0},{"$f":"COUNTIFS(TUDB!$H$8:$H$1855,Use!$B155,TUDB!$F$8:$F$1855,Use!I$44)","v":0},null,0,{"$f":"IF(AND(G155>0,SUM($E155:F155)=0),1,0)","v":1},{"$f":"IF(AND(H155>0,SUM($E155:G155)=0),1,0)","v":0},{"$f":"IF(AND(I155>0,SUM($E155:H155)=0),1,0)","v":0}]
[null,"9W5BSNKuZHOcTrxqXGkRQxxsPVy1","TCTU",3,{"$f":"COUNTIFS(TUDB!$H$8:$H$1855,Use!$B156,TUDB!$F$8:$F$1855,Use!E$44)","v":0},{"$f":"COUNTIFS(TUDB!$H$8:$H$1855,Use!$B156,TUDB!$F$8:$F$1855,Use!F$44)","v":0},{"$f":"COUNTIFS(TUDB!$H$8:$H$1855,Use!$B156,TUDB!$F$8:$F$1855,Use!G$44)","v":3},{"$f":"COUNTIFS(TUDB!$H$8:$H$1855,Use!$B156,TUDB!$F$8:$F$1855,Use!H$44)","v":0},{"$f":"COUNTIFS(TUDB!$H$8:$H$1855,Use!$B156,TUDB!$F$8:$F$1855,Use!I$44)","v":0},null,0,{"$f":"IF(AND(G156>0,SUM($E156:F156)=0),1,0)","v":1},{"$f":"IF(AND(H156>0,SUM($E156:G156)=0),1,0)","v":0},{"$f":"IF(AND(I156>0,SUM($E156:H156)=0),1,0)","v":0}]
[null,"1EGgnWfh2qRbpNTG5LFnBsUH5Z43","TCTU",18,{"$f":"COUNTIFS(TUDB!$H$8:$H$1855,Use!$B157,TUDB!$F$8:$F$1855,Use!E$44)","v":0},{"$f":"COUNTIFS(TUDB!$H$8:$H$1855,Use!$B157,TUDB!$F$8:$F$1855,Use!F$44)","v":4},{"$f":"COUNTIFS(TUDB!$H$8:$H$1855,Use!$B157,TUDB!$F$8:$F$1855,Use!G$44)","v":14},{"$f":"COUNTIFS(TUDB!$H$8:$H$1855,Use!$B157,TUDB!$F$8:$F$1855,Use!H$44)","v":0},{"$f":"COUNTIFS(TUDB!$H$8:$H$1855,Use!$B157,TUDB!$F$8:$F$1855,Use!I$44)","v":0},null,1,{"$f":"IF(AND(G157>0,SUM($E157:F157)=0),1,0)","v":0},{"$f":"IF(AND(H157>0,SUM($E157:G157)=0),1,0)","v":0},{"$f":"IF(AND(I157>0,SUM($E157:H157)=0),1,0)","v":0}]
[null,"j4FVV2Cn5RPcgsXQGA6cEZ6g0Vk2","Unknown",4,{"$f":"COUNTIFS(TUDB!$H$8:$H$1855,Use!$B158,TUDB!$F$8:$F$1855,Use!E$44)","v":0},{"$f":"COUNTIFS(TUDB!$H$8:$H$1855,Use!$B158,TUDB!$F$8:$F$1855,Use!F$44)","v":0},{"$f":"COUNTIFS(TUDB!$H$8:$H$1855,Use!$B158,TUDB!$F$8:$F$1855,Use!G$44)","v":4},{"$f":"COUNTIFS(TUDB!$H$8:$H$1855,Use!$B158,TUDB!$F$8:$F$1855,Use!H$44)","v":0},{"$f":"COUNTIFS(TUDB!$H$8:$H$1855,Use!$B158,TUDB!$F$8:$F$1855,Use!I$44)","v":0},null,0,{"$f":"IF(AND(G158>0,SUM($E158:F158)=0),1,0)","v":1},{"$f":"IF(AND(H158>0,SUM($E158:G158)=0),1,0)","v":0},{"$f":"IF(AND(I158>0,SUM($E158:H158)=0),1,0)","v":0}]
[null,"OnQxi2VoMPY5EZMXmvNCgpa39dS2","Hiawatha",11,{"$f":"COUNTIFS(TUDB!$H$8:$H$1855,Use!$B159,TUDB!$F$8:$F$1855,Use!E$44)","v":0},{"$f":"COUNTIFS(TUDB!$H$8:$H$1855,Use!$B159,TUDB!$F$8:$F$1855,Use!F$44)","v":0},{"$f":"COUNTIFS(TUDB!$H$8:$H$1855,Use!$B159,TUDB!$F$8:$F$1855,Use!G$44)","v":11},{"$f":"COUNTIFS(TUDB!$H$8:$H$1855,Use!$B159,TUDB!$F$8:$F$1855,Use!H$44)","v":0},{"$f":"COUNTIFS(TUDB!$H$8:$H$1855,Use!$B159,TUDB!$F$8:$F$1855,Use!I$44)","v":0},null,0,{"$f":"IF(AND(G159>0,SUM($E159:F159)=0),1,0)","v":1},{"$f":"IF(AND(H159>0,SUM($E159:G159)=0),1,0)","v":0},{"$f":"IF(AND(I159>0,SUM($E159:H159)=0),1,0)","v":0}]
[null,"F2KCfcDlmPU6IsvVOPR2BgMVHc32","Coulee Region",8,{"$f":"COUNTIFS(TUDB!$H$8:$H$1855,Use!$B160,TUDB!$F$8:$F$1855,Use!E$44)","v":0},{"$f":"COUNTIFS(TUDB!$H$8:$H$1855,Use!$B160,TUDB!$F$8:$F$1855,Use!F$44)","v":0},{"$f":"COUNTIFS(TUDB!$H$8:$H$1855,Use!$B160,TUDB!$F$8:$F$1855,Use!G$44)","v":8},{"$f":"COUNTIFS(TUDB!$H$8:$H$1855,Use!$B160,TUDB!$F$8:$F$1855,Use!H$44)","v":0},{"$f":"COUNTIFS(TUDB!$H$8:$H$1855,Use!$B160,TUDB!$F$8:$F$1855,Use!I$44)","v":0},null,0,{"$f":"IF(AND(G160>0,SUM($E160:F160)=0),1,0)","v":1},{"$f":"IF(AND(H160>0,SUM($E160:G160)=0),1,0)","v":0},{"$f":"IF(AND(I160>0,SUM($E160:H160)=0),1,0)","v":0}]
[null,"r5sO3h7bL7STNrd2WKxA3k9pKv03","TCTU",3,{"$f":"COUNTIFS(TUDB!$H$8:$H$1855,Use!$B161,TUDB!$F$8:$F$1855,Use!E$44)","v":0},{"$f":"COUNTIFS(TUDB!$H$8:$H$1855,Use!$B161,TUDB!$F$8:$F$1855,Use!F$44)","v":0},{"$f":"COUNTIFS(TUDB!$H$8:$H$1855,Use!$B161,TUDB!$F$8:$F$1855,Use!G$44)","v":3},{"$f":"COUNTIFS(TUDB!$H$8:$H$1855,Use!$B161,TUDB!$F$8:$F$1855,Use!H$44)","v":0},{"$f":"COUNTIFS(TUDB!$H$8:$H$1855,Use!$B161,TUDB!$F$8:$F$1855,Use!I$44)","v":0},null,0,{"$f":"IF(AND(G161>0,SUM($E161:F161)=0),1,0)","v":1},{"$f":"IF(AND(H161>0,SUM($E161:G161)=0),1,0)","v":0},{"$f":"IF(AND(I161>0,SUM($E161:H161)=0),1,0)","v":0}]
[null,"yzMNw9t0vSgiYvaAETWMJXNRTyC3","Hiawatha",3,{"$f":"COUNTIFS(TUDB!$H$8:$H$1855,Use!$B162,TUDB!$F$8:$F$1855,Use!E$44)","v":0},{"$f":"COUNTIFS(TUDB!$H$8:$H$1855,Use!$B162,TUDB!$F$8:$F$1855,Use!F$44)","v":0},{"$f":"COUNTIFS(TUDB!$H$8:$H$1855,Use!$B162,TUDB!$F$8:$F$1855,Use!G$44)","v":3},{"$f":"COUNTIFS(TUDB!$H$8:$H$1855,Use!$B162,TUDB!$F$8:$F$1855,Use!H$44)","v":0},{"$f":"COUNTIFS(TUDB!$H$8:$H$1855,Use!$B162,TUDB!$F$8:$F$1855,Use!I$44)","v":0},null,0,{"$f":"IF(AND(G162>0,SUM($E162:F162)=0),1,0)","v":1},{"$f":"IF(AND(H162>0,SUM($E162:G162)=0),1,0)","v":0},{"$f":"IF(AND(I162>0,SUM($E162:H162)=0),1,0)","v":0}]
[null,"ZL2DLndmAQQRpHe8BYu3GQtS33w1","Kiap-TU-Wish",18,{"$f":"COUNTIFS(TUDB!$H$8:$H$1855,Use!$B163,TUDB!$F$8:$F$1855,Use!E$44)","v":0},{"$f":"COUNTIFS(TUDB!$H$8:$H$1855,Use!$B163,TUDB!$F$8:$F$1855,Use!F$44)","v":12},{"$f":"COUNTIFS(TUDB!$H$8:$H$1855,Use!$B163,TUDB!$F$8:$F$1855,Use!G$44)","v":6},{"$f":"COUNTIFS(TUDB!$H$8:$H$1855,Use!$B163,TUDB!$F$8:$F$1855,Use!H$44)","v":0},{"$f":"COUNTIFS(TUDB!$H$8:$H$1855,Use!$B163,TUDB!$F$8:$F$1855,Use!I$44)","v":0},null,1,{"$f":"IF(AND(G163>0,SUM($E163:F163)=0),1,0)","v":0},{"$f":"IF(AND(H163>0,SUM($E163:G163)=0),1,0)","v":0},{"$f":"IF(AND(I163>0,SUM($E163:H163)=0),1,0)","v":0}]
[null,"mllx5XNkVQYSftNQZEGryjSljEE2","Kiap-TU-Wish",1,{"$f":"COUNTIFS(TUDB!$H$8:$H$1855,Use!$B164,TUDB!$F$8:$F$1855,Use!E$44)","v":0},{"$f":"COUNTIFS(TUDB!$H$8:$H$1855,Use!$B164,TUDB!$F$8:$F$1855,Use!F$44)","v":0},{"$f":"COUNTIFS(TUDB!$H$8:$H$1855,Use!$B164,TUDB!$F$8:$F$1855,Use!G$44)","v":1},{"$f":"COUNTIFS(TUDB!$H$8:$H$1855,Use!$B164,TUDB!$F$8:$F$1855,Use!H$44)","v":0},{"$f":"COUNTIFS(TUDB!$H$8:$H$1855,Use!$B164,TUDB!$F$8:$F$1855,Use!I$44)","v":0},null,0,{"$f":"IF(AND(G164>0,SUM($E164:F164)=0),1,0)","v":1},{"$f":"IF(AND(H164>0,SUM($E164:G164)=0),1,0)","v":0},{"$f":"IF(AND(I164>0,SUM($E164:H164)=0),1,0)","v":0}]
[null,"raGk7ZR3GrfMo7yQku4nuriRtsC3","Kiap-TU-Wish",2,{"$f":"COUNTIFS(TUDB!$H$8:$H$1855,Use!$B165,TUDB!$F$8:$F$1855,Use!E$44)","v":0},{"$f":"COUNTIFS(TUDB!$H$8:$H$1855,Use!$B165,TUDB!$F$8:$F$1855,Use!F$44)","v":1},{"$f":"COUNTIFS(TUDB!$H$8:$H$1855,Use!$B165,TUDB!$F$8:$F$1855,Use!G$44)","v":1},{"$f":"COUNTIFS(TUDB!$H$8:$H$1855,Use!$B165,TUDB!$F$8:$F$1855,Use!H$44)","v":0},{"$f":"COUNTIFS(TUDB!$H$8:$H$1855,Use!$B165,TUDB!$F$8:$F$1855,Use!I$44)","v":0},null,1,{"$f":"IF(AND(G165>0,SUM($E165:F165)=0),1,0)","v":0},{"$f":"IF(AND(H165>0,SUM($E165:G165)=0),1,0)","v":0},{"$f":"IF(AND(I165>0,SUM($E165:H165)=0),1,0)","v":0}]
[null,"43tg6vyaAId5rBaxgaLmYZEH83r2","Unknown",2,{"$f":"COUNTIFS(TUDB!$H$8:$H$1855,Use!$B166,TUDB!$F$8:$F$1855,Use!E$44)","v":0},{"$f":"COUNTIFS(TUDB!$H$8:$H$1855,Use!$B166,TUDB!$F$8:$F$1855,Use!F$44)","v":0},{"$f":"COUNTIFS(TUDB!$H$8:$H$1855,Use!$B166,TUDB!$F$8:$F$1855,Use!G$44)","v":2},{"$f":"COUNTIFS(TUDB!$H$8:$H$1855,Use!$B166,TUDB!$F$8:$F$1855,Use!H$44)","v":0},{"$f":"COUNTIFS(TUDB!$H$8:$H$1855,Use!$B166,TUDB!$F$8:$F$1855,Use!I$44)","v":0},null,0,{"$f":"IF(AND(G166>0,SUM($E166:F166)=0),1,0)","v":1},{"$f":"IF(AND(H166>0,SUM($E166:G166)=0),1,0)","v":0},{"$f":"IF(AND(I166>0,SUM($E166:H166)=0),1,0)","v":0}]
[null,"xa6aPj95upgmyNzJ94TF45Va83y1","Unknown",1,{"$f":"COUNTIFS(TUDB!$H$8:$H$1855,Use!$B167,TUDB!$F$8:$F$1855,Use!E$44)","v":0},{"$f":"COUNTIFS(TUDB!$H$8:$H$1855,Use!$B167,TUDB!$F$8:$F$1855,Use!F$44)","v":0},{"$f":"COUNTIFS(TUDB!$H$8:$H$1855,Use!$B167,TUDB!$F$8:$F$1855,Use!G$44)","v":1},{"$f":"COUNTIFS(TUDB!$H$8:$H$1855,Use!$B167,TUDB!$F$8:$F$1855,Use!H$44)","v":0},{"$f":"COUNTIFS(TUDB!$H$8:$H$1855,Use!$B167,TUDB!$F$8:$F$1855,Use!I$44)","v":0},null,0,{"$f":"IF(AND(G167>0,SUM($E167:F167)=0),1,0)","v":1},{"$f":"IF(AND(H167>0,SUM($E167:G167)=0),1,0)","v":0},{"$f":"IF(AND(I167>0,SUM($E167:H167)=0),1,0)","v":0}]
[null,"IdkhcCbPRDSnLW6Juk3sG0F0lD42","Hiawatha",2,{"$f":"COUNTIFS(TUDB!$H$8:$H$1855,Use!$B168,TUDB!$F$8:$F$1855,Use!E$44)","v":0},{"$f":"COUNTIFS(TUDB!$H$8:$H$1855,Use!$B168,TUDB!$F$8:$F$1855,Use!F$44)","v":0},{"$f":"COUNTIFS(TUDB!$H$8:$H$1855,Use!$B168,TUDB!$F$8:$F$1855,Use!G$44)","v":2},{"$f":"COUNTIFS(TUDB!$H$8:$H$1855,Use!$B168,TUDB!$F$8:$F$1855,Use!H$44)","v":0},{"$f":"COUNTIFS(TUDB!$H$8:$H$1855,Use!$B168,TUDB!$F$8:$F$1855,Use!I$44)","v":0},null,0,{"$f":"IF(AND(G168>0,SUM($E168:F168)=0),1,0)","v":1},{"$f":"IF(AND(H168>0,SUM($E168:G168)=0),1,0)","v":0},{"$f":"IF(AND(I168>0,SUM($E168:H168)=0),1,0)","v":0}]
[null,"u1AtqHtS8gftNRbNcp1wppH7VYm2","Oak Brook",1,{"$f":"COUNTIFS(TUDB!$H$8:$H$1855,Use!$B169,TUDB!$F$8:$F$1855,Use!E$44)","v":0},{"$f":"COUNTIFS(TUDB!$H$8:$H$1855,Use!$B169,TUDB!$F$8:$F$1855,Use!F$44)","v":0},{"$f":"COUNTIFS(TUDB!$H$8:$H$1855,Use!$B169,TUDB!$F$8:$F$1855,Use!G$44)","v":1},{"$f":"COUNTIFS(TUDB!$H$8:$H$1855,Use!$B169,TUDB!$F$8:$F$1855,Use!H$44)","v":0},{"$f":"COUNTIFS(TUDB!$H$8:$H$1855,Use!$B169,TUDB!$F$8:$F$1855,Use!I$44)","v":0},null,0,{"$f":"IF(AND(G169>0,SUM($E169:F169)=0),1,0)","v":1},{"$f":"IF(AND(H169>0,SUM($E169:G169)=0),1,0)","v":0},{"$f":"IF(AND(I169>0,SUM($E169:H169)=0),1,0)","v":0}]
[null,"UKNfn5IJCyfnfDCkXIjuP0imo733","Spring Creeks",1,{"$f":"COUNTIFS(TUDB!$H$8:$H$1855,Use!$B170,TUDB!$F$8:$F$1855,Use!E$44)","v":0},{"$f":"COUNTIFS(TUDB!$H$8:$H$1855,Use!$B170,TUDB!$F$8:$F$1855,Use!F$44)","v":0},{"$f":"COUNTIFS(TUDB!$H$8:$H$1855,Use!$B170,TUDB!$F$8:$F$1855,Use!G$44)","v":1},{"$f":"COUNTIFS(TUDB!$H$8:$H$1855,Use!$B170,TUDB!$F$8:$F$1855,Use!H$44)","v":0},{"$f":"COUNTIFS(TUDB!$H$8:$H$1855,Use!$B170,TUDB!$F$8:$F$1855,Use!I$44)","v":0},null,0,{"$f":"IF(AND(G170>0,SUM($E170:F170)=0),1,0)","v":1},{"$f":"IF(AND(H170>0,SUM($E170:G170)=0),1,0)","v":0},{"$f":"IF(AND(I170>0,SUM($E170:H170)=0),1,0)","v":0}]
[null,"hm2Bu8Yk42Y2OrPIkShm045JyM53","TCTU",1,{"$f":"COUNTIFS(TUDB!$H$8:$H$1855,Use!$B171,TUDB!$F$8:$F$1855,Use!E$44)","v":0},{"$f":"COUNTIFS(TUDB!$H$8:$H$1855,Use!$B171,TUDB!$F$8:$F$1855,Use!F$44)","v":0},{"$f":"COUNTIFS(TUDB!$H$8:$H$1855,Use!$B171,TUDB!$F$8:$F$1855,Use!G$44)","v":1},{"$f":"COUNTIFS(TUDB!$H$8:$H$1855,Use!$B171,TUDB!$F$8:$F$1855,Use!H$44)","v":0},{"$f":"COUNTIFS(TUDB!$H$8:$H$1855,Use!$B171,TUDB!$F$8:$F$1855,Use!I$44)","v":0},null,0,{"$f":"IF(AND(G171>0,SUM($E171:F171)=0),1,0)","v":1},{"$f":"IF(AND(H171>0,SUM($E171:G171)=0),1,0)","v":0},{"$f":"IF(AND(I171>0,SUM($E171:H171)=0),1,0)","v":0}]
[null,"ywUFLgiRYPVoUUSi7cN16v6wqzq1","Southern Wisconsin",1,{"$f":"COUNTIFS(TUDB!$H$8:$H$1855,Use!$B172,TUDB!$F$8:$F$1855,Use!E$44)","v":0},{"$f":"COUNTIFS(TUDB!$H$8:$H$1855,Use!$B172,TUDB!$F$8:$F$1855,Use!F$44)","v":0},{"$f":"COUNTIFS(TUDB!$H$8:$H$1855,Use!$B172,TUDB!$F$8:$F$1855,Use!G$44)","v":1},{"$f":"COUNTIFS(TUDB!$H$8:$H$1855,Use!$B172,TUDB!$F$8:$F$1855,Use!H$44)","v":0},{"$f":"COUNTIFS(TUDB!$H$8:$H$1855,Use!$B172,TUDB!$F$8:$F$1855,Use!I$44)","v":0},null,0,{"$f":"IF(AND(G172>0,SUM($E172:F172)=0),1,0)","v":1},{"$f":"IF(AND(H172>0,SUM($E172:G172)=0),1,0)","v":0},{"$f":"IF(AND(I172>0,SUM($E172:H172)=0),1,0)","v":0}]
[null,"QhsIWYhrIqTEP85lM4VNR256zUH2","Wisconsin Clear Waters",5,{"$f":"COUNTIFS(TUDB!$H$8:$H$1855,Use!$B173,TUDB!$F$8:$F$1855,Use!E$44)","v":0},{"$f":"COUNTIFS(TUDB!$H$8:$H$1855,Use!$B173,TUDB!$F$8:$F$1855,Use!F$44)","v":5},{"$f":"COUNTIFS(TUDB!$H$8:$H$1855,Use!$B173,TUDB!$F$8:$F$1855,Use!G$44)","v":0},{"$f":"COUNTIFS(TUDB!$H$8:$H$1855,Use!$B173,TUDB!$F$8:$F$1855,Use!H$44)","v":0},{"$f":"COUNTIFS(TUDB!$H$8:$H$1855,Use!$B173,TUDB!$F$8:$F$1855,Use!I$44)","v":0},null,1,{"$f":"IF(AND(G173>0,SUM($E173:F173)=0),1,0)","v":0},{"$f":"IF(AND(H173>0,SUM($E173:G173)=0),1,0)","v":0},{"$f":"IF(AND(I173>0,SUM($E173:H173)=0),1,0)","v":0}]
[null,"RFOcPacep0e15rSw11dBGOgUM5o1","Southern Wisconsin",{"$f":"SUM(E174:I174)","v":1},{"$f":"COUNTIFS(TUDB!$H$8:$H$1855,Use!$B174,TUDB!$F$8:$F$1855,Use!E$44)","v":0},{"$f":"COUNTIFS(TUDB!$H$8:$H$1855,Use!$B174,TUDB!$F$8:$F$1855,Use!F$44)","v":1},{"$f":"COUNTIFS(TUDB!$H$8:$H$1855,Use!$B174,TUDB!$F$8:$F$1855,Use!G$44)","v":0},{"$f":"COUNTIFS(TUDB!$H$8:$H$1855,Use!$B174,TUDB!$F$8:$F$1855,Use!H$44)","v":0},{"$f":"COUNTIFS(TUDB!$H$8:$H$1855,Use!$B174,TUDB!$F$8:$F$1855,Use!I$44)","v":0},null,1,{"$f":"IF(AND(G174>0,SUM($E174:F174)=0),1,0)","v":0},{"$f":"IF(AND(H174>0,SUM($E174:G174)=0),1,0)","v":0},{"$f":"IF(AND(I174>0,SUM($E174:H174)=0),1,0)","v":0}]
[null,"rpHx3Va4Addyv6ZLeQhGZeANEEF2","Win-Cres",6,{"$f":"COUNTIFS(TUDB!$H$8:$H$1855,Use!$B175,TUDB!$F$8:$F$1855,Use!E$44)","v":0},{"$f":"COUNTIFS(TUDB!$H$8:$H$1855,Use!$B175,TUDB!$F$8:$F$1855,Use!F$44)","v":6},{"$f":"COUNTIFS(TUDB!$H$8:$H$1855,Use!$B175,TUDB!$F$8:$F$1855,Use!G$44)","v":0},{"$f":"COUNTIFS(TUDB!$H$8:$H$1855,Use!$B175,TUDB!$F$8:$F$1855,Use!H$44)","v":0},{"$f":"COUNTIFS(TUDB!$H$8:$H$1855,Use!$B175,TUDB!$F$8:$F$1855,Use!I$44)","v":0},null,1,{"$f":"IF(AND(G175>0,SUM($E175:F175)=0),1,0)","v":0},{"$f":"IF(AND(H175>0,SUM($E175:G175)=0),1,0)","v":0},{"$f":"IF(AND(I175>0,SUM($E175:H175)=0),1,0)","v":0}]
[null,"a2iVDfAZsXbAYw8fNroBpibgO6Y2","Kiap-TU-Wish",2,{"$f":"COUNTIFS(TUDB!$H$8:$H$1855,Use!$B176,TUDB!$F$8:$F$1855,Use!E$44)","v":0},{"$f":"COUNTIFS(TUDB!$H$8:$H$1855,Use!$B176,TUDB!$F$8:$F$1855,Use!F$44)","v":2},{"$f":"COUNTIFS(TUDB!$H$8:$H$1855,Use!$B176,TUDB!$F$8:$F$1855,Use!G$44)","v":0},{"$f":"COUNTIFS(TUDB!$H$8:$H$1855,Use!$B176,TUDB!$F$8:$F$1855,Use!H$44)","v":0},{"$f":"COUNTIFS(TUDB!$H$8:$H$1855,Use!$B176,TUDB!$F$8:$F$1855,Use!I$44)","v":0},null,1,{"$f":"IF(AND(G176>0,SUM($E176:F176)=0),1,0)","v":0},{"$f":"IF(AND(H176>0,SUM($E176:G176)=0),1,0)","v":0},{"$f":"IF(AND(I176>0,SUM($E176:H176)=0),1,0)","v":0}]
[null,"qmROCqQx86UtTueFq7I5ueZyhdl2","Agency/University",17,{"$f":"COUNTIFS(TUDB!$H$8:$H$1855,Use!$B177,TUDB!$F$8:$F$1855,Use!E$44)","v":0},{"$f":"COUNTIFS(TUDB!$H$8:$H$1855,Use!$B177,TUDB!$F$8:$F$1855,Use!F$44)","v":17},{"$f":"COUNTIFS(TUDB!$H$8:$H$1855,Use!$B177,TUDB!$F$8:$F$1855,Use!G$44)","v":0},{"$f":"COUNTIFS(TUDB!$H$8:$H$1855,Use!$B177,TUDB!$F$8:$F$1855,Use!H$44)","v":0},{"$f":"COUNTIFS(TUDB!$H$8:$H$1855,Use!$B177,TUDB!$F$8:$F$1855,Use!I$44)","v":0},null,1,{"$f":"IF(AND(G177>0,SUM($E177:F177)=0),1,0)","v":0},{"$f":"IF(AND(H177>0,SUM($E177:G177)=0),1,0)","v":0},{"$f":"IF(AND(I177>0,SUM($E177:H177)=0),1,0)","v":0}]
[null,"iM6NG2oxmwYGFNqSq6skS4Odguo2","Wisconsin Clear Waters",5,{"$f":"COUNTIFS(TUDB!$H$8:$H$1855,Use!$B178,TUDB!$F$8:$F$1855,Use!E$44)","v":0},{"$f":"COUNTIFS(TUDB!$H$8:$H$1855,Use!$B178,TUDB!$F$8:$F$1855,Use!F$44)","v":5},{"$f":"COUNTIFS(TUDB!$H$8:$H$1855,Use!$B178,TUDB!$F$8:$F$1855,Use!G$44)","v":0},{"$f":"COUNTIFS(TUDB!$H$8:$H$1855,Use!$B178,TUDB!$F$8:$F$1855,Use!H$44)","v":0},{"$f":"COUNTIFS(TUDB!$H$8:$H$1855,Use!$B178,TUDB!$F$8:$F$1855,Use!I$44)","v":0},null,1,{"$f":"IF(AND(G178>0,SUM($E178:F178)=0),1,0)","v":0},{"$f":"IF(AND(H178>0,SUM($E178:G178)=0),1,0)","v":0},{"$f":"IF(AND(I178>0,SUM($E178:H178)=0),1,0)","v":0}]
[null,"BKxKRQr8KiaMAjrJWzKb6GrNJCm1","Kiap-TU-Wish",2,{"$f":"COUNTIFS(TUDB!$H$8:$H$1855,Use!$B179,TUDB!$F$8:$F$1855,Use!E$44)","v":0},{"$f":"COUNTIFS(TUDB!$H$8:$H$1855,Use!$B179,TUDB!$F$8:$F$1855,Use!F$44)","v":2},{"$f":"COUNTIFS(TUDB!$H$8:$H$1855,Use!$B179,TUDB!$F$8:$F$1855,Use!G$44)","v":0},{"$f":"COUNTIFS(TUDB!$H$8:$H$1855,Use!$B179,TUDB!$F$8:$F$1855,Use!H$44)","v":0},{"$f":"COUNTIFS(TUDB!$H$8:$H$1855,Use!$B179,TUDB!$F$8:$F$1855,Use!I$44)","v":0},null,1,{"$f":"IF(AND(G179>0,SUM($E179:F179)=0),1,0)","v":0},{"$f":"IF(AND(H179>0,SUM($E179:G179)=0),1,0)","v":0},{"$f":"IF(AND(I179>0,SUM($E179:H179)=0),1,0)","v":0}]
[null,"GfLB1jD8phNRjx5T5pEyOwWamYz2","Kiap-TU-Wish",2,{"$f":"COUNTIFS(TUDB!$H$8:$H$1855,Use!$B180,TUDB!$F$8:$F$1855,Use!E$44)","v":0},{"$f":"COUNTIFS(TUDB!$H$8:$H$1855,Use!$B180,TUDB!$F$8:$F$1855,Use!F$44)","v":2},{"$f":"COUNTIFS(TUDB!$H$8:$H$1855,Use!$B180,TUDB!$F$8:$F$1855,Use!G$44)","v":0},{"$f":"COUNTIFS(TUDB!$H$8:$H$1855,Use!$B180,TUDB!$F$8:$F$1855,Use!H$44)","v":0},{"$f":"COUNTIFS(TUDB!$H$8:$H$1855,Use!$B180,TUDB!$F$8:$F$1855,Use!I$44)","v":0},null,1,{"$f":"IF(AND(G180>0,SUM($E180:F180)=0),1,0)","v":0},{"$f":"IF(AND(H180>0,SUM($E180:G180)=0),1,0)","v":0},{"$f":"IF(AND(I180>0,SUM($E180:H180)=0),1,0)","v":0}]
[null,"hU1HbEHHdaU8AhuDtzvdtGI8zvo2","Kiap-TU-Wish",2,{"$f":"COUNTIFS(TUDB!$H$8:$H$1855,Use!$B181,TUDB!$F$8:$F$1855,Use!E$44)","v":0},{"$f":"COUNTIFS(TUDB!$H$8:$H$1855,Use!$B181,TUDB!$F$8:$F$1855,Use!F$44)","v":2},{"$f":"COUNTIFS(TUDB!$H$8:$H$1855,Use!$B181,TUDB!$F$8:$F$1855,Use!G$44)","v":0},{"$f":"COUNTIFS(TUDB!$H$8:$H$1855,Use!$B181,TUDB!$F$8:$F$1855,Use!H$44)","v":0},{"$f":"COUNTIFS(TUDB!$H$8:$H$1855,Use!$B181,TUDB!$F$8:$F$1855,Use!I$44)","v":0},null,1,{"$f":"IF(AND(G181>0,SUM($E181:F181)=0),1,0)","v":0},{"$f":"IF(AND(H181>0,SUM($E181:G181)=0),1,0)","v":0},{"$f":"IF(AND(I181>0,SUM($E181:H181)=0),1,0)","v":0}]
[null,"usGRnrTHGsZu6xw2EjMVC52cnqo1","Kiap-TU-Wish",2,{"$f":"COUNTIFS(TUDB!$H$8:$H$1855,Use!$B182,TUDB!$F$8:$F$1855,Use!E$44)","v":0},{"$f":"COUNTIFS(TUDB!$H$8:$H$1855,Use!$B182,TUDB!$F$8:$F$1855,Use!F$44)","v":2},{"$f":"COUNTIFS(TUDB!$H$8:$H$1855,Use!$B182,TUDB!$F$8:$F$1855,Use!G$44)","v":0},{"$f":"COUNTIFS(TUDB!$H$8:$H$1855,Use!$B182,TUDB!$F$8:$F$1855,Use!H$44)","v":0},{"$f":"COUNTIFS(TUDB!$H$8:$H$1855,Use!$B182,TUDB!$F$8:$F$1855,Use!I$44)","v":0},null,1,{"$f":"IF(AND(G182>0,SUM($E182:F182)=0),1,0)","v":0},{"$f":"IF(AND(H182>0,SUM($E182:G182)=0),1,0)","v":0},{"$f":"IF(AND(I182>0,SUM($E182:H182)=0),1,0)","v":0}]
[null,"FYL7YiCe6OdD8bPN31ubH82Xh2u1","Kiap-TU-Wish",1,{"$f":"COUNTIFS(TUDB!$H$8:$H$1855,Use!$B183,TUDB!$F$8:$F$1855,Use!E$44)","v":0},{"$f":"COUNTIFS(TUDB!$H$8:$H$1855,Use!$B183,TUDB!$F$8:$F$1855,Use!F$44)","v":1},{"$f":"COUNTIFS(TUDB!$H$8:$H$1855,Use!$B183,TUDB!$F$8:$F$1855,Use!G$44)","v":0},{"$f":"COUNTIFS(TUDB!$H$8:$H$1855,Use!$B183,TUDB!$F$8:$F$1855,Use!H$44)","v":0},{"$f":"COUNTIFS(TUDB!$H$8:$H$1855,Use!$B183,TUDB!$F$8:$F$1855,Use!I$44)","v":0},null,1,{"$f":"IF(AND(G183>0,SUM($E183:F183)=0),1,0)","v":0},{"$f":"IF(AND(H183>0,SUM($E183:G183)=0),1,0)","v":0},{"$f":"IF(AND(I183>0,SUM($E183:H183)=0),1,0)","v":0}]
[null,"AD6JCNYvElPTWLupARpWInZJ7hI3","Kiap-TU-Wish",1,{"$f":"COUNTIFS(TUDB!$H$8:$H$1855,Use!$B184,TUDB!$F$8:$F$1855,Use!E$44)","v":0},{"$f":"COUNTIFS(TUDB!$H$8:$H$1855,Use!$B184,TUDB!$F$8:$F$1855,Use!F$44)","v":1},{"$f":"COUNTIFS(TUDB!$H$8:$H$1855,Use!$B184,TUDB!$F$8:$F$1855,Use!G$44)","v":0},{"$f":"COUNTIFS(TUDB!$H$8:$H$1855,Use!$B184,TUDB!$F$8:$F$1855,Use!H$44)","v":0},{"$f":"COUNTIFS(TUDB!$H$8:$H$1855,Use!$B184,TUDB!$F$8:$F$1855,Use!I$44)","v":0},null,1,{"$f":"IF(AND(G184>0,SUM($E184:F184)=0),1,0)","v":0},{"$f":"IF(AND(H184>0,SUM($E184:G184)=0),1,0)","v":0},{"$f":"IF(AND(I184>0,SUM($E184:H184)=0),1,0)","v":0}]
[null,"G9YVGsA1pecv7s31GjmicjpOngC3","Kiap-TU-Wish",1,{"$f":"COUNTIFS(TUDB!$H$8:$H$1855,Use!$B185,TUDB!$F$8:$F$1855,Use!E$44)","v":0},{"$f":"COUNTIFS(TUDB!$H$8:$H$1855,Use!$B185,TUDB!$F$8:$F$1855,Use!F$44)","v":1},{"$f":"COUNTIFS(TUDB!$H$8:$H$1855,Use!$B185,TUDB!$F$8:$F$1855,Use!G$44)","v":0},{"$f":"COUNTIFS(TUDB!$H$8:$H$1855,Use!$B185,TUDB!$F$8:$F$1855,Use!H$44)","v":0},{"$f":"COUNTIFS(TUDB!$H$8:$H$1855,Use!$B185,TUDB!$F$8:$F$1855,Use!I$44)","v":0},null,1,{"$f":"IF(AND(G185>0,SUM($E185:F185)=0),1,0)","v":0},{"$f":"IF(AND(H185>0,SUM($E185:G185)=0),1,0)","v":0},{"$f":"IF(AND(I185>0,SUM($E185:H185)=0),1,0)","v":0}]
[null,"MCnVNih9BIN4gi6oNH8FoBSG8Af1","Kiap-TU-Wish",1,{"$f":"COUNTIFS(TUDB!$H$8:$H$1855,Use!$B186,TUDB!$F$8:$F$1855,Use!E$44)","v":0},{"$f":"COUNTIFS(TUDB!$H$8:$H$1855,Use!$B186,TUDB!$F$8:$F$1855,Use!F$44)","v":1},{"$f":"COUNTIFS(TUDB!$H$8:$H$1855,Use!$B186,TUDB!$F$8:$F$1855,Use!G$44)","v":0},{"$f":"COUNTIFS(TUDB!$H$8:$H$1855,Use!$B186,TUDB!$F$8:$F$1855,Use!H$44)","v":0},{"$f":"COUNTIFS(TUDB!$H$8:$H$1855,Use!$B186,TUDB!$F$8:$F$1855,Use!I$44)","v":0},null,1,{"$f":"IF(AND(G186>0,SUM($E186:F186)=0),1,0)","v":0},{"$f":"IF(AND(H186>0,SUM($E186:G186)=0),1,0)","v":0},{"$f":"IF(AND(I186>0,SUM($E186:H186)=0),1,0)","v":0}]
[null,"dV67Pqbk6jbWMNb18ukDVS7XaAU2","Kiap-TU-Wish",1,{"$f":"COUNTIFS(TUDB!$H$8:$H$1855,Use!$B187,TUDB!$F$8:$F$1855,Use!E$44)","v":0},{"$f":"COUNTIFS(TUDB!$H$8:$H$1855,Use!$B187,TUDB!$F$8:$F$1855,Use!F$44)","v":1},{"$f":"COUNTIFS(TUDB!$H$8:$H$1855,Use!$B187,TUDB!$F$8:$F$1855,Use!G$44)","v":0},{"$f":"COUNTIFS(TUDB!$H$8:$H$1855,Use!$B187,TUDB!$F$8:$F$1855,Use!H$44)","v":0},{"$f":"COUNTIFS(TUDB!$H$8:$H$1855,Use!$B187,TUDB!$F$8:$F$1855,Use!I$44)","v":0},null,{"$f":"IF(AND(F187>0,SUM($E187)=0),1,0)","v":1},{"$f":"IF(AND(G187>0,SUM($E187:F187)=0),1,0)","v":0},{"$f":"IF(AND(H187>0,SUM($E187:G187)=0),1,0)","v":0},{"$f":"IF(AND(I187>0,SUM($E187:H187)=0),1,0)","v":0}]
[null,"tBAAR7faosMTQJ2I96zZmmj44ji1","Kiap-TU-Wish",1,{"$f":"COUNTIFS(TUDB!$H$8:$H$1855,Use!$B188,TUDB!$F$8:$F$1855,Use!E$44)","v":0},{"$f":"COUNTIFS(TUDB!$H$8:$H$1855,Use!$B188,TUDB!$F$8:$F$1855,Use!F$44)","v":1},{"$f":"COUNTIFS(TUDB!$H$8:$H$1855,Use!$B188,TUDB!$F$8:$F$1855,Use!G$44)","v":0},{"$f":"COUNTIFS(TUDB!$H$8:$H$1855,Use!$B188,TUDB!$F$8:$F$1855,Use!H$44)","v":0},{"$f":"COUNTIFS(TUDB!$H$8:$H$1855,Use!$B188,TUDB!$F$8:$F$1855,Use!I$44)","v":0},null,1,{"$f":"IF(AND(G188>0,SUM($E188:F188)=0),1,0)","v":0},{"$f":"IF(AND(H188>0,SUM($E188:G188)=0),1,0)","v":0},{"$f":"IF(AND(I188>0,SUM($E188:H188)=0),1,0)","v":0}]
[null,"h8xpRwaPUEcuqR3jFLN2w8s5I7f1","Kiap-TU-Wish",6,{"$f":"COUNTIFS(TUDB!$H$8:$H$1855,Use!$B189,TUDB!$F$8:$F$1855,Use!E$44)","v":4},{"$f":"COUNTIFS(TUDB!$H$8:$H$1855,Use!$B189,TUDB!$F$8:$F$1855,Use!F$44)","v":2},{"$f":"COUNTIFS(TUDB!$H$8:$H$1855,Use!$B189,TUDB!$F$8:$F$1855,Use!G$44)","v":0},{"$f":"COUNTIFS(TUDB!$H$8:$H$1855,Use!$B189,TUDB!$F$8:$F$1855,Use!H$44)","v":0},{"$f":"COUNTIFS(TUDB!$H$8:$H$1855,Use!$B189,TUDB!$F$8:$F$1855,Use!I$44)","v":0},null,0,{"$f":"IF(AND(G189>0,SUM($E189:F189)=0),1,0)","v":0},{"$f":"IF(AND(H189>0,SUM($E189:G189)=0),1,0)","v":0},{"$f":"IF(AND(I189>0,SUM($E189:H189)=0),1,0)","v":0}]
[null,"4Ykk5veXq2hi1RbTNiHDVsXi48I3","Kiap-TU-Wish",3,{"$f":"COUNTIFS(TUDB!$H$8:$H$1855,Use!$B190,TUDB!$F$8:$F$1855,Use!E$44)","v":3},{"$f":"COUNTIFS(TUDB!$H$8:$H$1855,Use!$B190,TUDB!$F$8:$F$1855,Use!F$44)","v":0},{"$f":"COUNTIFS(TUDB!$H$8:$H$1855,Use!$B190,TUDB!$F$8:$F$1855,Use!G$44)","v":0},{"$f":"COUNTIFS(TUDB!$H$8:$H$1855,Use!$B190,TUDB!$F$8:$F$1855,Use!H$44)","v":0},{"$f":"COUNTIFS(TUDB!$H$8:$H$1855,Use!$B190,TUDB!$F$8:$F$1855,Use!I$44)","v":0},null,0,{"$f":"IF(AND(G190>0,SUM($E190:F190)=0),1,0)","v":0},{"$f":"IF(AND(H190>0,SUM($E190:G190)=0),1,0)","v":0},{"$f":"IF(AND(I190>0,SUM($E190:H190)=0),1,0)","v":0}]
[null,"FRZZhEyLR4WADV6UPlIZSKdWUpS2","Kiap-TU-Wish",4,{"$f":"COUNTIFS(TUDB!$H$8:$H$1855,Use!$B191,TUDB!$F$8:$F$1855,Use!E$44)","v":4},{"$f":"COUNTIFS(TUDB!$H$8:$H$1855,Use!$B191,TUDB!$F$8:$F$1855,Use!F$44)","v":0},{"$f":"COUNTIFS(TUDB!$H$8:$H$1855,Use!$B191,TUDB!$F$8:$F$1855,Use!G$44)","v":0},{"$f":"COUNTIFS(TUDB!$H$8:$H$1855,Use!$B191,TUDB!$F$8:$F$1855,Use!H$44)","v":0},{"$f":"COUNTIFS(TUDB!$H$8:$H$1855,Use!$B191,TUDB!$F$8:$F$1855,Use!I$44)","v":0},null,0,{"$f":"IF(AND(G191>0,SUM($E191:F191)=0),1,0)","v":0},{"$f":"IF(AND(H191>0,SUM($E191:G191)=0),1,0)","v":0},{"$f":"IF(AND(I191>0,SUM($E191:H191)=0),1,0)","v":0}]
[null,"D1QmPG2MfNY3WFWFaaT6LZIxAsi1","Kiap-TU-Wish",4,{"$f":"COUNTIFS(TUDB!$H$8:$H$1855,Use!$B192,TUDB!$F$8:$F$1855,Use!E$44)","v":4},{"$f":"COUNTIFS(TUDB!$H$8:$H$1855,Use!$B192,TUDB!$F$8:$F$1855,Use!F$44)","v":0},{"$f":"COUNTIFS(TUDB!$H$8:$H$1855,Use!$B192,TUDB!$F$8:$F$1855,Use!G$44)","v":0},{"$f":"COUNTIFS(TUDB!$H$8:$H$1855,Use!$B192,TUDB!$F$8:$F$1855,Use!H$44)","v":0},{"$f":"COUNTIFS(TUDB!$H$8:$H$1855,Use!$B192,TUDB!$F$8:$F$1855,Use!I$44)","v":0},null,0,{"$f":"IF(AND(G192>0,SUM($E192:F192)=0),1,0)","v":0},{"$f":"IF(AND(H192>0,SUM($E192:G192)=0),1,0)","v":0},{"$f":"IF(AND(I192>0,SUM($E192:H192)=0),1,0)","v":0}]
[null,"5LHjzjwcR3gRpTbduCnw0dDjeNQ2","Kiap-TU-Wish",8,{"$f":"COUNTIFS(TUDB!$H$8:$H$1855,Use!$B193,TUDB!$F$8:$F$1855,Use!E$44)","v":8},{"$f":"COUNTIFS(TUDB!$H$8:$H$1855,Use!$B193,TUDB!$F$8:$F$1855,Use!F$44)","v":0},{"$f":"COUNTIFS(TUDB!$H$8:$H$1855,Use!$B193,TUDB!$F$8:$F$1855,Use!G$44)","v":0},{"$f":"COUNTIFS(TUDB!$H$8:$H$1855,Use!$B193,TUDB!$F$8:$F$1855,Use!H$44)","v":0},{"$f":"COUNTIFS(TUDB!$H$8:$H$1855,Use!$B193,TUDB!$F$8:$F$1855,Use!I$44)","v":0},null,0,{"$f":"IF(AND(G193>0,SUM($E193:F193)=0),1,0)","v":0},{"$f":"IF(AND(H193>0,SUM($E193:G193)=0),1,0)","v":0},{"$f":"IF(AND(I193>0,SUM($E193:H193)=0),1,0)","v":0}]
[null,"YkpWOyDHLcV71TEIgRIoUjroJX33","Kiap-TU-Wish",1,{"$f":"COUNTIFS(TUDB!$H$8:$H$1855,Use!$B194,TUDB!$F$8:$F$1855,Use!E$44)","v":1},{"$f":"COUNTIFS(TUDB!$H$8:$H$1855,Use!$B194,TUDB!$F$8:$F$1855,Use!F$44)","v":0},{"$f":"COUNTIFS(TUDB!$H$8:$H$1855,Use!$B194,TUDB!$F$8:$F$1855,Use!G$44)","v":0},{"$f":"COUNTIFS(TUDB!$H$8:$H$1855,Use!$B194,TUDB!$F$8:$F$1855,Use!H$44)","v":0},{"$f":"COUNTIFS(TUDB!$H$8:$H$1855,Use!$B194,TUDB!$F$8:$F$1855,Use!I$44)","v":0},null,0,{"$f":"IF(AND(G194>0,SUM($E194:F194)=0),1,0)","v":0},{"$f":"IF(AND(H194>0,SUM($E194:G194)=0),1,0)","v":0},{"$f":"IF(AND(I194>0,SUM($E194:H194)=0),1,0)","v":0}]
[null,"hEgRvyxprVMoz5dpBpUBrum6edn1","Kiap-TU-Wish",2,{"$f":"COUNTIFS(TUDB!$H$8:$H$1855,Use!$B195,TUDB!$F$8:$F$1855,Use!E$44)","v":2},{"$f":"COUNTIFS(TUDB!$H$8:$H$1855,Use!$B195,TUDB!$F$8:$F$1855,Use!F$44)","v":0},{"$f":"COUNTIFS(TUDB!$H$8:$H$1855,Use!$B195,TUDB!$F$8:$F$1855,Use!G$44)","v":0},{"$f":"COUNTIFS(TUDB!$H$8:$H$1855,Use!$B195,TUDB!$F$8:$F$1855,Use!H$44)","v":0},{"$f":"COUNTIFS(TUDB!$H$8:$H$1855,Use!$B195,TUDB!$F$8:$F$1855,Use!I$44)","v":0},null,0,{"$f":"IF(AND(G195>0,SUM($E195:F195)=0),1,0)","v":0},{"$f":"IF(AND(H195>0,SUM($E195:G195)=0),1,0)","v":0},{"$f":"IF(AND(I195>0,SUM($E195:H195)=0),1,0)","v":0}]
[null,"RtViMLMtt9UbHrBNbNmeeETsZ9Q2","Kiap-TU-Wish",16,{"$f":"COUNTIFS(TUDB!$H$8:$H$1855,Use!$B196,TUDB!$F$8:$F$1855,Use!E$44)","v":16},{"$f":"COUNTIFS(TUDB!$H$8:$H$1855,Use!$B196,TUDB!$F$8:$F$1855,Use!F$44)","v":0},{"$f":"COUNTIFS(TUDB!$H$8:$H$1855,Use!$B196,TUDB!$F$8:$F$1855,Use!G$44)","v":0},{"$f":"COUNTIFS(TUDB!$H$8:$H$1855,Use!$B196,TUDB!$F$8:$F$1855,Use!H$44)","v":0},{"$f":"COUNTIFS(TUDB!$H$8:$H$1855,Use!$B196,TUDB!$F$8:$F$1855,Use!I$44)","v":0},null,0,{"$f":"IF(AND(G196>0,SUM($E196:F196)=0),1,0)","v":0},{"$f":"IF(AND(H196>0,SUM($E196:G196)=0),1,0)","v":0},{"$f":"IF(AND(I196>0,SUM($E196:H196)=0),1,0)","v":0}]
[null,"Jze49MWrhRTjqve8BWc3L9u44972","Kiap-TU-Wish",2,{"$f":"COUNTIFS(TUDB!$H$8:$H$1855,Use!$B197,TUDB!$F$8:$F$1855,Use!E$44)","v":2},{"$f":"COUNTIFS(TUDB!$H$8:$H$1855,Use!$B197,TUDB!$F$8:$F$1855,Use!F$44)","v":0},{"$f":"COUNTIFS(TUDB!$H$8:$H$1855,Use!$B197,TUDB!$F$8:$F$1855,Use!G$44)","v":0},{"$f":"COUNTIFS(TUDB!$H$8:$H$1855,Use!$B197,TUDB!$F$8:$F$1855,Use!H$44)","v":0},{"$f":"COUNTIFS(TUDB!$H$8:$H$1855,Use!$B197,TUDB!$F$8:$F$1855,Use!I$44)","v":0},null,0,{"$f":"IF(AND(G197>0,SUM($E197:F197)=0),1,0)","v":0},{"$f":"IF(AND(H197>0,SUM($E197:G197)=0),1,0)","v":0},{"$f":"IF(AND(I197>0,SUM($E197:H197)=0),1,0)","v":0}]
[null,"aaZLVG4ULtMFxbMcGh7Du7yv6D53","Kiap-TU-Wish",3,{"$f":"COUNTIFS(TUDB!$H$8:$H$1855,Use!$B198,TUDB!$F$8:$F$1855,Use!E$44)","v":3},{"$f":"COUNTIFS(TUDB!$H$8:$H$1855,Use!$B198,TUDB!$F$8:$F$1855,Use!F$44)","v":0},{"$f":"COUNTIFS(TUDB!$H$8:$H$1855,Use!$B198,TUDB!$F$8:$F$1855,Use!G$44)","v":0},{"$f":"COUNTIFS(TUDB!$H$8:$H$1855,Use!$B198,TUDB!$F$8:$F$1855,Use!H$44)","v":0},{"$f":"COUNTIFS(TUDB!$H$8:$H$1855,Use!$B198,TUDB!$F$8:$F$1855,Use!I$44)","v":0},null,0,{"$f":"IF(AND(G198>0,SUM($E198:F198)=0),1,0)","v":0},{"$f":"IF(AND(H198>0,SUM($E198:G198)=0),1,0)","v":0},{"$f":"IF(AND(I198>0,SUM($E198:H198)=0),1,0)","v":0}]
[null,"x1i9cEQnWOO56OOjDScxQFFBG9z2","Kiap-TU-Wish",1,{"$f":"COUNTIFS(TUDB!$H$8:$H$1855,Use!$B199,TUDB!$F$8:$F$1855,Use!E$44)","v":1},{"$f":"COUNTIFS(TUDB!$H$8:$H$1855,Use!$B199,TUDB!$F$8:$F$1855,Use!F$44)","v":0},{"$f":"COUNTIFS(TUDB!$H$8:$H$1855,Use!$B199,TUDB!$F$8:$F$1855,Use!G$44)","v":0},{"$f":"COUNTIFS(TUDB!$H$8:$H$1855,Use!$B199,TUDB!$F$8:$F$1855,Use!H$44)","v":0},{"$f":"COUNTIFS(TUDB!$H$8:$H$1855,Use!$B199,TUDB!$F$8:$F$1855,Use!I$44)","v":0},null,0,{"$f":"IF(AND(G199>0,SUM($E199:F199)=0),1,0)","v":0},{"$f":"IF(AND(H199>0,SUM($E199:G199)=0),1,0)","v":0},{"$f":"IF(AND(I199>0,SUM($E199:H199)=0),1,0)","v":0}]
[null,"gQ9v9qjFhrTuJwNMhUuOGT7Jl3F2","Kiap-TU-Wish",1,{"$f":"COUNTIFS(TUDB!$H$8:$H$1855,Use!$B200,TUDB!$F$8:$F$1855,Use!E$44)","v":1},{"$f":"COUNTIFS(TUDB!$H$8:$H$1855,Use!$B200,TUDB!$F$8:$F$1855,Use!F$44)","v":0},{"$f":"COUNTIFS(TUDB!$H$8:$H$1855,Use!$B200,TUDB!$F$8:$F$1855,Use!G$44)","v":0},{"$f":"COUNTIFS(TUDB!$H$8:$H$1855,Use!$B200,TUDB!$F$8:$F$1855,Use!H$44)","v":0},{"$f":"COUNTIFS(TUDB!$H$8:$H$1855,Use!$B200,TUDB!$F$8:$F$1855,Use!I$44)","v":0},null,0,{"$f":"IF(AND(G200>0,SUM($E200:F200)=0),1,0)","v":0},{"$f":"IF(AND(H200>0,SUM($E200:G200)=0),1,0)","v":0},{"$f":"IF(AND(I200>0,SUM($E200:H200)=0),1,0)","v":0}]
[null,"pNUOPrVrLAYalyFyEZ8n7pv2NXl1","Kiap-TU-Wish",1,{"$f":"COUNTIFS(TUDB!$H$8:$H$1855,Use!$B201,TUDB!$F$8:$F$1855,Use!E$44)","v":1},{"$f":"COUNTIFS(TUDB!$H$8:$H$1855,Use!$B201,TUDB!$F$8:$F$1855,Use!F$44)","v":0},{"$f":"COUNTIFS(TUDB!$H$8:$H$1855,Use!$B201,TUDB!$F$8:$F$1855,Use!G$44)","v":0},{"$f":"COUNTIFS(TUDB!$H$8:$H$1855,Use!$B201,TUDB!$F$8:$F$1855,Use!H$44)","v":0},{"$f":"COUNTIFS(TUDB!$H$8:$H$1855,Use!$B201,TUDB!$F$8:$F$1855,Use!I$44)","v":0},null,0,{"$f":"IF(AND(G201>0,SUM($E201:F201)=0),1,0)","v":0},{"$f":"IF(AND(H201>0,SUM($E201:G201)=0),1,0)","v":0},{"$f":"IF(AND(I201>0,SUM($E201:H201)=0),1,0)","v":0}]
[null,"ZXA41xzI2eX7P5fFeTzyOsASKfm1","Kiap-TU-Wish",2,{"$f":"COUNTIFS(TUDB!$H$8:$H$1855,Use!$B202,TUDB!$F$8:$F$1855,Use!E$44)","v":2},{"$f":"COUNTIFS(TUDB!$H$8:$H$1855,Use!$B202,TUDB!$F$8:$F$1855,Use!F$44)","v":0},{"$f":"COUNTIFS(TUDB!$H$8:$H$1855,Use!$B202,TUDB!$F$8:$F$1855,Use!G$44)","v":0},{"$f":"COUNTIFS(TUDB!$H$8:$H$1855,Use!$B202,TUDB!$F$8:$F$1855,Use!H$44)","v":0},{"$f":"COUNTIFS(TUDB!$H$8:$H$1855,Use!$B202,TUDB!$F$8:$F$1855,Use!I$44)","v":0},null,0,{"$f":"IF(AND(G202>0,SUM($E202:F202)=0),1,0)","v":0},{"$f":"IF(AND(H202>0,SUM($E202:G202)=0),1,0)","v":0},{"$f":"IF(AND(I202>0,SUM($E202:H202)=0),1,0)","v":0}]
[null,"p19CQ1BbH9PHxeE0VLFdcdKIBUi1","Kiap-TU-Wish",3,{"$f":"COUNTIFS(TUDB!$H$8:$H$1855,Use!$B203,TUDB!$F$8:$F$1855,Use!E$44)","v":3},{"$f":"COUNTIFS(TUDB!$H$8:$H$1855,Use!$B203,TUDB!$F$8:$F$1855,Use!F$44)","v":0},{"$f":"COUNTIFS(TUDB!$H$8:$H$1855,Use!$B203,TUDB!$F$8:$F$1855,Use!G$44)","v":0},{"$f":"COUNTIFS(TUDB!$H$8:$H$1855,Use!$B203,TUDB!$F$8:$F$1855,Use!H$44)","v":0},{"$f":"COUNTIFS(TUDB!$H$8:$H$1855,Use!$B203,TUDB!$F$8:$F$1855,Use!I$44)","v":0},null,0,{"$f":"IF(AND(G203>0,SUM($E203:F203)=0),1,0)","v":0},{"$f":"IF(AND(H203>0,SUM($E203:G203)=0),1,0)","v":0},{"$f":"IF(AND(I203>0,SUM($E203:H203)=0),1,0)","v":0}]
[null,"AhR0j59FntcvgJmYbFkI8vPPHg73","Kiap-TU-Wish",{"$f":"SUM(E204:I204)","v":5},{"$f":"COUNTIFS(TUDB!$H$8:$H$1855,Use!$B204,TUDB!$F$8:$F$1855,Use!E$44)","v":5},{"$f":"COUNTIFS(TUDB!$H$8:$H$1855,Use!$B204,TUDB!$F$8:$F$1855,Use!F$44)","v":0},{"$f":"COUNTIFS(TUDB!$H$8:$H$1855,Use!$B204,TUDB!$F$8:$F$1855,Use!G$44)","v":0},{"$f":"COUNTIFS(TUDB!$H$8:$H$1855,Use!$B204,TUDB!$F$8:$F$1855,Use!H$44)","v":0},{"$f":"COUNTIFS(TUDB!$H$8:$H$1855,Use!$B204,TUDB!$F$8:$F$1855,Use!I$44)","v":0},null,{"$f":"IF(AND(F204>0,SUM($E204)=0),1,0)","v":0},{"$f":"IF(AND(G204>0,SUM($E204:F204)=0),1,0)","v":0},{"$f":"IF(AND(H204>0,SUM($E204:G204)=0),1,0)","v":0},{"$f":"IF(AND(I204>0,SUM($E204:H204)=0),1,0)","v":0}]

{"sheet":"ALK","index":2,"n_rows":87,"n_cols":19,"rows_kept":87,"cut":false,"hidden":false,"merged":[[1,2,1,3],[17,10,18,10],[61,13,61,16]]}
["TU DARE Angler Science DB"]
[null,"Water Analysis","Alkalinity"]
[null,"Download",{"$f":"TUDB!B3","v":"3023-10-31"}]
[]
[null,"Overview Stats"]
[null,"Alkalinity \n[ppm CaCO3]","Observations","% Total Obs.","Cum. %",2019,2020,2021,2022,2023]
[null,0,{"$f":"COUNTIFS(TU_DB[ALK Bin (ppm)],B7)","v":2},{"$f":"C7/$C$13","v":1.2787723785166241E-3},{"$f":"D7","v":1.2787723785166241E-3},{"$f":"COUNTIFS(TU_DB[[ALK Bin (ppm)]:[ALK Bin (ppm)]],$B7,TU_DB[[Year]:[Year]],F$6)","v":0},{"$f":"COUNTIFS(TU_DB[[ALK Bin (ppm)]:[ALK Bin (ppm)]],$B7,TU_DB[[Year]:[Year]],G$6)","v":0},{"$f":"COUNTIFS(TU_DB[[ALK Bin (ppm)]:[ALK Bin (ppm)]],$B7,TU_DB[[Year]:[Year]],H$6)","v":1},{"$f":"COUNTIFS(TU_DB[[ALK Bin (ppm)]:[ALK Bin (ppm)]],$B7,TU_DB[[Year]:[Year]],I$6)","v":0},{"$f":"COUNTIFS(TU_DB[[ALK Bin (ppm)]:[ALK Bin (ppm)]],$B7,TU_DB[[Year]:[Year]],J$6)","v":1}]
[null,40,{"$f":"COUNTIFS(TU_DB[ALK Bin (ppm)],B8)","v":2},1.2787723785166241E-3,{"$f":"D8+E7","v":2.5575447570332483E-3},{"$f":"COUNTIFS(TU_DB[[ALK Bin (ppm)]:[ALK Bin (ppm)]],$B8,TU_DB[[Year]:[Year]],F$6)","v":0},{"$f":"COUNTIFS(TU_DB[[ALK Bin (ppm)]:[ALK Bin (ppm)]],$B8,TU_DB[[Year]:[Year]],G$6)","v":1},{"$f":"COUNTIFS(TU_DB[[ALK Bin (ppm)]:[ALK Bin (ppm)]],$B8,TU_DB[[Year]:[Year]],H$6)","v":0},{"$f":"COUNTIFS(TU_DB[[ALK Bin (ppm)]:[ALK Bin (ppm)]],$B8,TU_DB[[Year]:[Year]],I$6)","v":1},{"$f":"COUNTIFS(TU_DB[[ALK Bin (ppm)]:[ALK Bin (ppm)]],$B8,TU_DB[[Year]:[Year]],J$6)","v":0}]
[null,80,{"$f":"COUNTIFS(TU_DB[ALK Bin (ppm)],B9)","v":9},5.7544757033248083E-3,{"$f":"D9+E8","v":8.3120204603580571E-3},{"$f":"COUNTIFS(TU_DB[[ALK Bin (ppm)]:[ALK Bin (ppm)]],$B9,TU_DB[[Year]:[Year]],F$6)","v":0},{"$f":"COUNTIFS(TU_DB[[ALK Bin (ppm)]:[ALK Bin (ppm)]],$B9,TU_DB[[Year]:[Year]],G$6)","v":0},{"$f":"COUNTIFS(TU_DB[[ALK Bin (ppm)]:[ALK Bin (ppm)]],$B9,TU_DB[[Year]:[Year]],H$6)","v":1},{"$f":"COUNTIFS(TU_DB[[ALK Bin (ppm)]:[ALK Bin (ppm)]],$B9,TU_DB[[Year]:[Year]],I$6)","v":3},{"$f":"COUNTIFS(TU_DB[[ALK Bin (ppm)]:[ALK Bin (ppm)]],$B9,TU_DB[[Year]:[Year]],J$6)","v":5}]
[null,120,{"$f":"COUNTIFS(TU_DB[ALK Bin (ppm)],B10)","v":11},7.0332480818414318E-3,{"$f":"D10+E9","v":1.5345268542199489E-2},{"$f":"COUNTIFS(TU_DB[[ALK Bin (ppm)]:[ALK Bin (ppm)]],$B10,TU_DB[[Year]:[Year]],F$6)","v":0},{"$f":"COUNTIFS(TU_DB[[ALK Bin (ppm)]:[ALK Bin (ppm)]],$B10,TU_DB[[Year]:[Year]],G$6)","v":0},{"$f":"COUNTIFS(TU_DB[[ALK Bin (ppm)]:[ALK Bin (ppm)]],$B10,TU_DB[[Year]:[Year]],H$6)","v":6},{"$f":"COUNTIFS(TU_DB[[ALK Bin (ppm)]:[ALK Bin (ppm)]],$B10,TU_DB[[Year]:[Year]],I$6)","v":2},{"$f":"COUNTIFS(TU_DB[[ALK Bin (ppm)]:[ALK Bin (ppm)]],$B10,TU_DB[[Year]:[Year]],J$6)","v":3}]
[null,180,{"$f":"COUNTIFS(TU_DB[ALK Bin (ppm)],B11)","v":154},9.8465473145780052E-2,{"$f":"D11+E10","v":0.11381074168797954},{"$f":"COUNTIFS(TU_DB[[ALK Bin (ppm)]:[ALK Bin (ppm)]],$B11,TU_DB[[Year]:[Year]],F$6)","v":0},{"$f":"COUNTIFS(TU_DB[[ALK Bin (ppm)]:[ALK Bin (ppm)]],$B11,TU_DB[[Year]:[Year]],G$6)","v":13},{"$f":"COUNTIFS(TU_DB[[ALK Bin (ppm)]:[ALK Bin (ppm)]],$B11,TU_DB[[Year]:[Year]],H$6)","v":14},{"$f":"COUNTIFS(TU_DB[[ALK Bin (ppm)]:[ALK Bin (ppm)]],$B11,TU_DB[[Year]:[Year]],I$6)","v":37},{"$f":"COUNTIFS(TU_DB[[ALK Bin (ppm)]:[ALK Bin (ppm)]],$B11,TU_DB[[Year]:[Year]],J$6)","v":90}]
[null,240,{"$f":"COUNTIFS(TU_DB[ALK Bin (ppm)],B12)","v":1386},0.88618925831202044,{"$f":"D12+E11","v":1},{"$f":"COUNTIFS(TU_DB[[ALK Bin (ppm)]:[ALK Bin (ppm)]],$B12,TU_DB[[Year]:[Year]],F$6)","v":0},{"$f":"COUNTIFS(TU_DB[[ALK Bin (ppm)]:[ALK Bin (ppm)]],$B12,TU_DB[[Year]:[Year]],G$6)","v":91},{"$f":"COUNTIFS(TU_DB[[ALK Bin (ppm)]:[ALK Bin (ppm)]],$B12,TU_DB[[Year]:[Year]],H$6)","v":330},{"$f":"COUNTIFS(TU_DB[[ALK Bin (ppm)]:[ALK Bin (ppm)]],$B12,TU_DB[[Year]:[Year]],I$6)","v":375},{"$f":"COUNTIFS(TU_DB[[ALK Bin (ppm)]:[ALK Bin (ppm)]],$B12,TU_DB[[Year]:[Year]],J$6)","v":590}]
[null,"Total",{"$f":"SUM(C7:C12)","v":1564},null,null,{"$f":"SUM(F7:F12)","v":0},{"$f":"SUM(G7:G12)","v":105},352,418,689]
[]
[]
[]
[null,"Weather Conditions"]
[null,null,"Alkalinity [ppm CaCO3]",null,null,null,null,null,null,null,"Table Labels"]
[null,"Weather Conditions",0,40,80,120,180,240,"Sum","% Total"]
[null,"Local Thunderstorm",{"$f":"COUNTIFS(TU_DB[[ALK Bin (ppm)]:[ALK Bin (ppm)]],C$19,TU_DB[[Weather]:[Weather]],$B20)","v":0},{"$f":"COUNTIFS(TU_DB[[ALK Bin (ppm)]:[ALK Bin (ppm)]],D$19,TU_DB[[Weather]:[Weather]],$B20)","v":0},{"$f":"COUNTIFS(TU_DB[[ALK Bin (ppm)]:[ALK Bin (ppm)]],E$19,TU_DB[[Weather]:[Weather]],$B20)","v":2},{"$f":"COUNTIFS(TU_DB[[ALK Bin (ppm)]:[ALK Bin (ppm)]],F$19,TU_DB[[Weather]:[Weather]],$B20)","v":0},{"$f":"COUNTIFS(TU_DB[[ALK Bin (ppm)]:[ALK Bin (ppm)]],G$19,TU_DB[[Weather]:[Weather]],$B20)","v":4},{"$f":"COUNTIFS(TU_DB[[ALK Bin (ppm)]:[ALK Bin (ppm)]],H$19,TU_DB[[Weather]:[Weather]],$B20)","v":37},{"$f":"SUM(C20:H20)","v":43},{"$f":"SUM(I20)/SUM($I$20:$I$25)","v":3.1386861313868614E-2},"LT"]
[null,"Regional Rainfall",{"$f":"COUNTIFS(TU_DB[[ALK Bin (ppm)]:[ALK Bin (ppm)]],C$19,TU_DB[[Weather]:[Weather]],$B21)","v":2},{"$f":"COUNTIFS(TU_DB[[ALK Bin (ppm)]:[ALK Bin (ppm)]],D$19,TU_DB[[Weather]:[Weather]],$B21)","v":0},{"$f":"COUNTIFS(TU_DB[[ALK Bin (ppm)]:[ALK Bin (ppm)]],E$19,TU_DB[[Weather]:[Weather]],$B21)","v":0},{"$f":"COUNTIFS(TU_DB[[ALK Bin (ppm)]:[ALK Bin (ppm)]],F$19,TU_DB[[Weather]:[Weather]],$B21)","v":0},{"$f":"COUNTIFS(TU_DB[[ALK Bin (ppm)]:[ALK Bin (ppm)]],G$19,TU_DB[[Weather]:[Weather]],$B21)","v":10},{"$f":"COUNTIFS(TU_DB[[ALK Bin (ppm)]:[ALK Bin (ppm)]],H$19,TU_DB[[Weather]:[Weather]],$B21)","v":143},155,0.11313868613138686,"RR"]
[null,"Regional Rainfall,Local Thunderstorm",{"$f":"COUNTIFS(TU_DB[[ALK Bin (ppm)]:[ALK Bin (ppm)]],C$19,TU_DB[[Weather]:[Weather]],$B22)","v":0},{"$f":"COUNTIFS(TU_DB[[ALK Bin (ppm)]:[ALK Bin (ppm)]],D$19,TU_DB[[Weather]:[Weather]],$B22)","v":0},{"$f":"COUNTIFS(TU_DB[[ALK Bin (ppm)]:[ALK Bin (ppm)]],E$19,TU_DB[[Weather]:[Weather]],$B22)","v":0},{"$f":"COUNTIFS(TU_DB[[ALK Bin (ppm)]:[ALK Bin (ppm)]],F$19,TU_DB[[Weather]:[Weather]],$B22)","v":0},{"$f":"COUNTIFS(TU_DB[[ALK Bin (ppm)]:[ALK Bin (ppm)]],G$19,TU_DB[[Weather]:[Weather]],$B22)","v":1},{"$f":"COUNTIFS(TU_DB[[ALK Bin (ppm)]:[ALK Bin (ppm)]],H$19,TU_DB[[Weather]:[Weather]],$B22)","v":7},8,5.8394160583941602E-3,"RR, LT"]
[null,"Regional Rainfall,Warmth Causing Snowmelt",{"$f":"COUNTIFS(TU_DB[[ALK Bin (ppm)]:[ALK Bin (ppm)]],C$19,TU_DB[[Weather]:[Weather]],$B23)","v":0},{"$f":"COUNTIFS(TU_DB[[ALK Bin (ppm)]:[ALK Bin (ppm)]],D$19,TU_DB[[Weather]:[Weather]],$B23)","v":0},{"$f":"COUNTIFS(TU_DB[[ALK Bin (ppm)]:[ALK Bin (ppm)]],E$19,TU_DB[[Weather]:[Weather]],$B23)","v":0},{"$f":"COUNTIFS(TU_DB[[ALK Bin (ppm)]:[ALK Bin (ppm)]],F$19,TU_DB[[Weather]:[Weather]],$B23)","v":0},{"$f":"COUNTIFS(TU_DB[[ALK Bin (ppm)]:[ALK Bin (ppm)]],G$19,TU_DB[[Weather]:[Weather]],$B23)","v":0},{"$f":"COUNTIFS(TU_DB[[ALK Bin (ppm)]:[ALK Bin (ppm)]],H$19,TU_DB[[Weather]:[Weather]],$B23)","v":3},3,2.1897810218978104E-3,"RR, SM"]
[null,"Warmth Causing Snowmelt",{"$f":"COUNTIFS(TU_DB[[ALK Bin (ppm)]:[ALK Bin (ppm)]],C$19,TU_DB[[Weather]:[Weather]],$B24)","v":0},{"$f":"COUNTIFS(TU_DB[[ALK Bin (ppm)]:[ALK Bin (ppm)]],D$19,TU_DB[[Weather]:[Weather]],$B24)","v":0},{"$f":"COUNTIFS(TU_DB[[ALK Bin (ppm)]:[ALK Bin (ppm)]],E$19,TU_DB[[Weather]:[Weather]],$B24)","v":1},{"$f":"COUNTIFS(TU_DB[[ALK Bin (ppm)]:[ALK Bin (ppm)]],F$19,TU_DB[[Weather]:[Weather]],$B24)","v":0},{"$f":"COUNTIFS(TU_DB[[ALK Bin (ppm)]:[ALK Bin (ppm)]],G$19,TU_DB[[Weather]:[Weather]],$B24)","v":0},{"$f":"COUNTIFS(TU_DB[[ALK Bin (ppm)]:[ALK Bin (ppm)]],H$19,TU_DB[[Weather]:[Weather]],$B24)","v":16},17,1.2408759124087591E-2,"SM"]
[null,"None",{"$f":"COUNTIFS(TU_DB[[ALK Bin (ppm)]:[ALK Bin (ppm)]],C$19,TU_DB[[Weather]:[Weather]],$B25)","v":0},{"$f":"COUNTIFS(TU_DB[[ALK Bin (ppm)]:[ALK Bin (ppm)]],D$19,TU_DB[[Weather]:[Weather]],$B25)","v":2},{"$f":"COUNTIFS(TU_DB[[ALK Bin (ppm)]:[ALK Bin (ppm)]],E$19,TU_DB[[Weather]:[Weather]],$B25)","v":6},{"$f":"COUNTIFS(TU_DB[[ALK Bin (ppm)]:[ALK Bin (ppm)]],F$19,TU_DB[[Weather]:[Weather]],$B25)","v":8},{"$f":"COUNTIFS(TU_DB[[ALK Bin (ppm)]:[ALK Bin (ppm)]],G$19,TU_DB[[Weather]:[Weather]],$B25)","v":119},{"$f":"COUNTIFS(TU_DB[[ALK Bin (ppm)]:[ALK Bin (ppm)]],H$19,TU_DB[[Weather]:[Weather]],$B25)","v":1009},1144,0.83503649635036492,"None"]
[null,"Total",{"$f":"SUM(C20:C25)","v":2},2,9,8,134,1215,1370]
[]
[null,"Water Level"]
[null,null,"Alkalinity [ppm CaCO3]"]
[null,"Water Level",0,40,80,120,180,240,"Sum","% Total"]
[null,"Baseflow",{"$f":"COUNTIFS(TU_DB[[ALK Bin (ppm)]:[ALK Bin (ppm)]],C$19,TU_DB[[Water Level]:[Water Level]],$B31)","v":1},{"$f":"COUNTIFS(TU_DB[[ALK Bin (ppm)]:[ALK Bin (ppm)]],D$19,TU_DB[[Water Level]:[Water Level]],$B31)","v":1},{"$f":"COUNTIFS(TU_DB[[ALK Bin (ppm)]:[ALK Bin (ppm)]],E$19,TU_DB[[Water Level]:[Water Level]],$B31)","v":6},{"$f":"COUNTIFS(TU_DB[[ALK Bin (ppm)]:[ALK Bin (ppm)]],F$19,TU_DB[[Water Level]:[Water Level]],$B31)","v":7},{"$f":"COUNTIFS(TU_DB[[ALK Bin (ppm)]:[ALK Bin (ppm)]],G$19,TU_DB[[Water Level]:[Water Level]],$B31)","v":114},{"$f":"COUNTIFS(TU_DB[[ALK Bin (ppm)]:[ALK Bin (ppm)]],H$19,TU_DB[[Water Level]:[Water Level]],$B31)","v":957},{"$f":"SUM(C31:H31)","v":1086},{"$f":"SUM(I31)/SUM($I$31:$I$34)","v":0.77021276595744681}]
[null,"Mid-Stage",{"$f":"COUNTIFS(TU_DB[[ALK Bin (ppm)]:[ALK Bin (ppm)]],C$19,TU_DB[[Water Level]:[Water Level]],$B32)","v":0},{"$f":"COUNTIFS(TU_DB[[ALK Bin (ppm)]:[ALK Bin (ppm)]],D$19,TU_DB[[Water Level]:[Water Level]],$B32)","v":1},{"$f":"COUNTIFS(TU_DB[[ALK Bin (ppm)]:[ALK Bin (ppm)]],E$19,TU_DB[[Water Level]:[Water Level]],$B32)","v":2},{"$f":"COUNTIFS(TU_DB[[ALK Bin (ppm)]:[ALK Bin (ppm)]],F$19,TU_DB[[Water Level]:[Water Level]],$B32)","v":1},{"$f":"COUNTIFS(TU_DB[[ALK Bin (ppm)]:[ALK Bin (ppm)]],G$19,TU_DB[[Water Level]:[Water Level]],$B32)","v":22},{"$f":"COUNTIFS(TU_DB[[ALK Bin (ppm)]:[ALK Bin (ppm)]],H$19,TU_DB[[Water Level]:[Water Level]],$B32)","v":229},{"$f":"SUM(C32:H32)","v":255},{"$f":"SUM(I32)/SUM($I$31:$I$34)","v":0.18085106382978725}]
[null,"Bankfull Stage",{"$f":"COUNTIFS(TU_DB[[ALK Bin (ppm)]:[ALK Bin (ppm)]],C$19,TU_DB[[Water Level]:[Water Level]],$B33)","v":1},{"$f":"COUNTIFS(TU_DB[[ALK Bin (ppm)]:[ALK Bin (ppm)]],D$19,TU_DB[[Water Level]:[Water Level]],$B33)","v":0},{"$f":"COUNTIFS(TU_DB[[ALK Bin (ppm)]:[ALK Bin (ppm)]],E$19,TU_DB[[Water Level]:[Water Level]],$B33)","v":0},{"$f":"COUNTIFS(TU_DB[[ALK Bin (ppm)]:[ALK Bin (ppm)]],F$19,TU_DB[[Water Level]:[Water Level]],$B33)","v":0},{"$f":"COUNTIFS(TU_DB[[ALK Bin (ppm)]:[ALK Bin (ppm)]],G$19,TU_DB[[Water Level]:[Water Level]],$B33)","v":4},{"$f":"COUNTIFS(TU_DB[[ALK Bin (ppm)]:[ALK Bin (ppm)]],H$19,TU_DB[[Water Level]:[Water Level]],$B33)","v":58},{"$f":"SUM(C33:H33)","v":63},{"$f":"SUM(I33)/SUM($I$31:$I$34)","v":4.4680851063829789E-2}]
[null,"Overbank Flooding",1,1,1,1,2,0,6,{"$f":"SUM(I34)/SUM($I$31:$I$34)","v":4.2553191489361703E-3}]
[null,"Total",{"$f":"SUM(C31:C34)","v":3},3,9,9,142,1244,1410]
[]
[]
[]
[]
[]
[]
[]
[]
[null,"Water Clarity"]
[null,null,"Alkalinity [ppm CaCO3]"]
[null,"Water Clarity",0,40,80,120,180,240,"Sum","% Total"]
[null,"Clear",{"$f":"COUNTIFS(TU_DB[[ALK Bin (ppm)]:[ALK Bin (ppm)]],C$19,TU_DB[[Clarity]:[Clarity]],$B47)","v":1},{"$f":"COUNTIFS(TU_DB[[ALK Bin (ppm)]:[ALK Bin (ppm)]],D$19,TU_DB[[Clarity]:[Clarity]],$B47)","v":1},{"$f":"COUNTIFS(TU_DB[[ALK Bin (ppm)]:[ALK Bin (ppm)]],E$19,TU_DB[[Clarity]:[Clarity]],$B47)","v":4},{"$f":"COUNTIFS(TU_DB[[ALK Bin (ppm)]:[ALK Bin (ppm)]],F$19,TU_DB[[Clarity]:[Clarity]],$B47)","v":7},{"$f":"COUNTIFS(TU_DB[[ALK Bin (ppm)]:[ALK Bin (ppm)]],G$19,TU_DB[[Clarity]:[Clarity]],$B47)","v":106},{"$f":"COUNTIFS(TU_DB[[ALK Bin (ppm)]:[ALK Bin (ppm)]],H$19,TU_DB[[Clarity]:[Clarity]],$B47)","v":1025},{"$f":"SUM(C47:H47)","v":1144},{"$f":"SUM(I47)/SUM($I$47:$I$49)","v":0.80168185003503856}]
[null,"Muddy",{"$f":"COUNTIFS(TU_DB[[ALK Bin (ppm)]:[ALK Bin (ppm)]],C$19,TU_DB[[Clarity]:[Clarity]],$B48)","v":0},{"$f":"COUNTIFS(TU_DB[[ALK Bin (ppm)]:[ALK Bin (ppm)]],D$19,TU_DB[[Clarity]:[Clarity]],$B48)","v":0},{"$f":"COUNTIFS(TU_DB[[ALK Bin (ppm)]:[ALK Bin (ppm)]],E$19,TU_DB[[Clarity]:[Clarity]],$B48)","v":1},{"$f":"COUNTIFS(TU_DB[[ALK Bin (ppm)]:[ALK Bin (ppm)]],F$19,TU_DB[[Clarity]:[Clarity]],$B48)","v":0},{"$f":"COUNTIFS(TU_DB[[ALK Bin (ppm)]:[ALK Bin (ppm)]],G$19,TU_DB[[Clarity]:[Clarity]],$B48)","v":6},{"$f":"COUNTIFS(TU_DB[[ALK Bin (ppm)]:[ALK Bin (ppm)]],H$19,TU_DB[[Clarity]:[Clarity]],$B48)","v":50},{"$f":"SUM(C48:H48)","v":57},{"$f":"SUM(I48)/SUM($I$47:$I$49)","v":3.9943938332165384E-2}]
[null,"Murky",{"$f":"COUNTIFS(TU_DB[[ALK Bin (ppm)]:[ALK Bin (ppm)]],C$19,TU_DB[[Clarity]:[Clarity]],$B49)","v":1},{"$f":"COUNTIFS(TU_DB[[ALK Bin (ppm)]:[ALK Bin (ppm)]],D$19,TU_DB[[Clarity]:[Clarity]],$B49)","v":1},{"$f":"COUNTIFS(TU_DB[[ALK Bin (ppm)]:[ALK Bin (ppm)]],E$19,TU_DB[[Clarity]:[Clarity]],$B49)","v":4},{"$f":"COUNTIFS(TU_DB[[ALK Bin (ppm)]:[ALK Bin (ppm)]],F$19,TU_DB[[Clarity]:[Clarity]],$B49)","v":1},{"$f":"COUNTIFS(TU_DB[[ALK Bin (ppm)]:[ALK Bin (ppm)]],G$19,TU_DB[[Clarity]:[Clarity]],$B49)","v":30},{"$f":"COUNTIFS(TU_DB[[ALK Bin (ppm)]:[ALK Bin (ppm)]],H$19,TU_DB[[Clarity]:[Clarity]],$B49)","v":189},{"$f":"SUM(C49:H49)","v":226},{"$f":"SUM(I49)/SUM($I$47:$I$49)","v":0.15837421163279608}]
[null,"Total",{"$f":"SUM(C47:C49)","v":2},2,9,8,142,1264,1427]
[]
[]
[]
[]
[]
[]
[]
[]
[]
[]
[null,"Monitoring Stations"]
[null,null,"Alkalinity [ppm CaCO3]",null,null,null,null,null,null,null,null,null,"Station to Plot","Kiat-TU-Wish"]
[null,"Monitoring Site",0,40,80,120,180,240,"Sum","% Total"]
[null,"Kiat-TU-Wish",{"$f":"SUM(C65:C74)","v":0},{"$f":"SUM(D65:D74)","v":0},1,0,6,138,145]
[null,"Cady Creek @ 50th St",{"$f":"COUNTIFS(TU_DB[[ALK Bin (ppm)]:[ALK Bin (ppm)]],C$19,TU_DB[[Monitoring Site]:[Monitoring Site]],$B65)","v":0},{"$f":"COUNTIFS(TU_DB[[ALK Bin (ppm)]:[ALK Bin (ppm)]],D$19,TU_DB[[Monitoring Site]:[Monitoring Site]],$B65)","v":0},{"$f":"COUNTIFS(TU_DB[[ALK Bin (ppm)]:[ALK Bin (ppm)]],E$19,TU_DB[[Monitoring Site]:[Monitoring Site]],$B65)","v":1},{"$f":"COUNTIFS(TU_DB[[ALK Bin (ppm)]:[ALK Bin (ppm)]],F$19,TU_DB[[Monitoring Site]:[Monitoring Site]],$B65)","v":0},{"$f":"COUNTIFS(TU_DB[[ALK Bin (ppm)]:[ALK Bin (ppm)]],G$19,TU_DB[[Monitoring Site]:[Monitoring Site]],$B65)","v":1},{"$f":"COUNTIFS(TU_DB[[ALK Bin (ppm)]:[ALK Bin (ppm)]],H$19,TU_DB[[Monitoring Site]:[Monitoring Site]],$B65)","v":13},{"$f":"SUM(C65:H65)","v":15},{"$f":"SUM(I65)/$I$64","v":0.10344827586206896}]
[null,{"$f":"Use!Q118","v":"Eau Galle River @ WI Hwy 29"},{"$f":"COUNTIFS(TU_DB[[ALK Bin (ppm)]:[ALK Bin (ppm)]],C$19,TU_DB[[Monitoring Site]:[Monitoring Site]],$B66)","v":0},{"$f":"COUNTIFS(TU_DB[[ALK Bin (ppm)]:[ALK Bin (ppm)]],D$19,TU_DB[[Monitoring Site]:[Monitoring Site]],$B66)","v":0},{"$f":"COUNTIFS(TU_DB[[ALK Bin (ppm)]:[ALK Bin (ppm)]],E$19,TU_DB[[Monitoring Site]:[Monitoring Site]],$B66)","v":0},{"$f":"COUNTIFS(TU_DB[[ALK Bin (ppm)]:[ALK Bin (ppm)]],F$19,TU_DB[[Monitoring Site]:[Monitoring Site]],$B66)","v":0},{"$f":"COUNTIFS(TU_DB[[ALK Bin (ppm)]:[ALK Bin (ppm)]],G$19,TU_DB[[Monitoring Site]:[Monitoring Site]],$B66)","v":0},{"$f":"COUNTIFS(TU_DB[[ALK Bin (ppm)]:[ALK Bin (ppm)]],H$19,TU_DB[[Monitoring Site]:[Monitoring Site]],$B66)","v":6},6,{"$f":"SUM(I66)/$I$64","v":4.1379310344827586E-2}]
[null,{"$f":"Use!Q119","v":"Isabelle Creek @ County Rd. EE"},{"$f":"COUNTIFS(TU_DB[[ALK Bin (ppm)]:[ALK Bin (ppm)]],C$19,TU_DB[[Monitoring Site]:[Monitoring Site]],$B67)","v":0},{"$f":"COUNTIFS(TU_DB[[ALK Bin (ppm)]:[ALK Bin (ppm)]],D$19,TU_DB[[Monitoring Site]:[Monitoring Site]],$B67)","v":0},{"$f":"COUNTIFS(TU_DB[[ALK Bin (ppm)]:[ALK Bin (ppm)]],E$19,TU_DB[[Monitoring Site]:[Monitoring Site]],$B67)","v":0},{"$f":"COUNTIFS(TU_DB[[ALK Bin (ppm)]:[ALK Bin (ppm)]],F$19,TU_DB[[Monitoring Site]:[Monitoring Site]],$B67)","v":0},{"$f":"COUNTIFS(TU_DB[[ALK Bin (ppm)]:[ALK Bin (ppm)]],G$19,TU_DB[[Monitoring Site]:[Monitoring Site]],$B67)","v":0},{"$f":"COUNTIFS(TU_DB[[ALK Bin (ppm)]:[ALK Bin (ppm)]],H$19,TU_DB[[Monitoring Site]:[Monitoring Site]],$B67)","v":16},16,0.1103448275862069]
[null,{"$f":"Use!Q120","v":"Kinnickinnic River, Lower Glen Park"},{"$f":"COUNTIFS(TU_DB[[ALK Bin (ppm)]:[ALK Bin (ppm)]],C$19,TU_DB[[Monitoring Site]:[Monitoring Site]],$B68)","v":0},{"$f":"COUNTIFS(TU_DB[[ALK Bin (ppm)]:[ALK Bin (ppm)]],D$19,TU_DB[[Monitoring Site]:[Monitoring Site]],$B68)","v":0},{"$f":"COUNTIFS(TU_DB[[ALK Bin (ppm)]:[ALK Bin (ppm)]],E$19,TU_DB[[Monitoring Site]:[Monitoring Site]],$B68)","v":0},{"$f":"COUNTIFS(TU_DB[[ALK Bin (ppm)]:[ALK Bin (ppm)]],F$19,TU_DB[[Monitoring Site]:[Monitoring Site]],$B68)","v":0},{"$f":"COUNTIFS(TU_DB[[ALK Bin (ppm)]:[ALK Bin (ppm)]],G$19,TU_DB[[Monitoring Site]:[Monitoring Site]],$B68)","v":0},{"$f":"COUNTIFS(TU_DB[[ALK Bin (ppm)]:[ALK Bin (ppm)]],H$19,TU_DB[[Monitoring Site]:[Monitoring Site]],$B68)","v":0},0,0]
[null,{"$f":"Use!Q121","v":"Pine Creek @ County Rd. AA"},{"$f":"COUNTIFS(TU_DB[[ALK Bin (ppm)]:[ALK Bin (ppm)]],C$19,TU_DB[[Monitoring Site]:[Monitoring Site]],$B69)","v":0},{"$f":"COUNTIFS(TU_DB[[ALK Bin (ppm)]:[ALK Bin (ppm)]],D$19,TU_DB[[Monitoring Site]:[Monitoring Site]],$B69)","v":0},{"$f":"COUNTIFS(TU_DB[[ALK Bin (ppm)]:[ALK Bin (ppm)]],E$19,TU_DB[[Monitoring Site]:[Monitoring Site]],$B69)","v":0},{"$f":"COUNTIFS(TU_DB[[ALK Bin (ppm)]:[ALK Bin (ppm)]],F$19,TU_DB[[Monitoring Site]:[Monitoring Site]],$B69)","v":0},{"$f":"COUNTIFS(TU_DB[[ALK Bin (ppm)]:[ALK Bin (ppm)]],G$19,TU_DB[[Monitoring Site]:[Monitoring Site]],$B69)","v":1},{"$f":"COUNTIFS(TU_DB[[ALK Bin (ppm)]:[ALK Bin (ppm)]],H$19,TU_DB[[Monitoring Site]:[Monitoring Site]],$B69)","v":22},23,0.15862068965517243]
[null,{"$f":"Use!Q122","v":"Plum Creek @ Plum CIty Park"},{"$f":"COUNTIFS(TU_DB[[ALK Bin (ppm)]:[ALK Bin (ppm)]],C$19,TU_DB[[Monitoring Site]:[Monitoring Site]],$B70)","v":0},{"$f":"COUNTIFS(TU_DB[[ALK Bin (ppm)]:[ALK Bin (ppm)]],D$19,TU_DB[[Monitoring Site]:[Monitoring Site]],$B70)","v":0},{"$f":"COUNTIFS(TU_DB[[ALK Bin (ppm)]:[ALK Bin (ppm)]],E$19,TU_DB[[Monitoring Site]:[Monitoring Site]],$B70)","v":0},{"$f":"COUNTIFS(TU_DB[[ALK Bin (ppm)]:[ALK Bin (ppm)]],F$19,TU_DB[[Monitoring Site]:[Monitoring Site]],$B70)","v":0},{"$f":"COUNTIFS(TU_DB[[ALK Bin (ppm)]:[ALK Bin (ppm)]],G$19,TU_DB[[Monitoring Site]:[Monitoring Site]],$B70)","v":0},{"$f":"COUNTIFS(TU_DB[[ALK Bin (ppm)]:[ALK Bin (ppm)]],H$19,TU_DB[[Monitoring Site]:[Monitoring Site]],$B70)","v":10},10,6.8965517241379309E-2]
[null,{"$f":"Use!Q123","v":"Rocky Branch Creek, Lower Glen Park"},{"$f":"COUNTIFS(TU_DB[[ALK Bin (ppm)]:[ALK Bin (ppm)]],C$19,TU_DB[[Monitoring Site]:[Monitoring Site]],$B71)","v":0},{"$f":"COUNTIFS(TU_DB[[ALK Bin (ppm)]:[ALK Bin (ppm)]],D$19,TU_DB[[Monitoring Site]:[Monitoring Site]],$B71)","v":0},{"$f":"COUNTIFS(TU_DB[[ALK Bin (ppm)]:[ALK Bin (ppm)]],E$19,TU_DB[[Monitoring Site]:[Monitoring Site]],$B71)","v":0},{"$f":"COUNTIFS(TU_DB[[ALK Bin (ppm)]:[ALK Bin (ppm)]],F$19,TU_DB[[Monitoring Site]:[Monitoring Site]],$B71)","v":0},{"$f":"COUNTIFS(TU_DB[[ALK Bin (ppm)]:[ALK Bin (ppm)]],G$19,TU_DB[[Monitoring Site]:[Monitoring Site]],$B71)","v":0},{"$f":"COUNTIFS(TU_DB[[ALK Bin (ppm)]:[ALK Bin (ppm)]],H$19,TU_DB[[Monitoring Site]:[Monitoring Site]],$B71)","v":9},9,6.2068965517241378E-2]
[null,{"$f":"Use!Q124","v":"Rush River @ 570th Ave"},{"$f":"COUNTIFS(TU_DB[[ALK Bin (ppm)]:[ALK Bin (ppm)]],C$19,TU_DB[[Monitoring Site]:[Monitoring Site]],$B72)","v":0},{"$f":"COUNTIFS(TU_DB[[ALK Bin (ppm)]:[ALK Bin (ppm)]],D$19,TU_DB[[Monitoring Site]:[Monitoring Site]],$B72)","v":0},{"$f":"COUNTIFS(TU_DB[[ALK Bin (ppm)]:[ALK Bin (ppm)]],E$19,TU_DB[[Monitoring Site]:[Monitoring Site]],$B72)","v":0},{"$f":"COUNTIFS(TU_DB[[ALK Bin (ppm)]:[ALK Bin (ppm)]],F$19,TU_DB[[Monitoring Site]:[Monitoring Site]],$B72)","v":0},{"$f":"COUNTIFS(TU_DB[[ALK Bin (ppm)]:[ALK Bin (ppm)]],G$19,TU_DB[[Monitoring Site]:[Monitoring Site]],$B72)","v":3},{"$f":"COUNTIFS(TU_DB[[ALK Bin (ppm)]:[ALK Bin (ppm)]],H$19,TU_DB[[Monitoring Site]:[Monitoring Site]],$B72)","v":15},18,0.12413793103448276]
[null,{"$f":"Use!Q125","v":"SF Kinnickinnic River @ 900th St"},{"$f":"COUNTIFS(TU_DB[[ALK Bin (ppm)]:[ALK Bin (ppm)]],C$19,TU_DB[[Monitoring Site]:[Monitoring Site]],$B73)","v":0},{"$f":"COUNTIFS(TU_DB[[ALK Bin (ppm)]:[ALK Bin (ppm)]],D$19,TU_DB[[Monitoring Site]:[Monitoring Site]],$B73)","v":0},{"$f":"COUNTIFS(TU_DB[[ALK Bin (ppm)]:[ALK Bin (ppm)]],E$19,TU_DB[[Monitoring Site]:[Monitoring Site]],$B73)","v":0},{"$f":"COUNTIFS(TU_DB[[ALK Bin (ppm)]:[ALK Bin (ppm)]],F$19,TU_DB[[Monitoring Site]:[Monitoring Site]],$B73)","v":0},{"$f":"COUNTIFS(TU_DB[[ALK Bin (ppm)]:[ALK Bin (ppm)]],G$19,TU_DB[[Monitoring Site]:[Monitoring Site]],$B73)","v":1},{"$f":"COUNTIFS(TU_DB[[ALK Bin (ppm)]:[ALK Bin (ppm)]],H$19,TU_DB[[Monitoring Site]:[Monitoring Site]],$B73)","v":41},42,0.28965517241379313]
[null,{"$f":"Use!Q126","v":"Trimbelle River @ County Rd W"},{"$f":"COUNTIFS(TU_DB[[ALK Bin (ppm)]:[ALK Bin (ppm)]],C$19,TU_DB[[Monitoring Site]:[Monitoring Site]],$B74)","v":0},{"$f":"COUNTIFS(TU_DB[[ALK Bin (ppm)]:[ALK Bin (ppm)]],D$19,TU_DB[[Monitoring Site]:[Monitoring Site]],$B74)","v":0},{"$f":"COUNTIFS(TU_DB[[ALK Bin (ppm)]:[ALK Bin (ppm)]],E$19,TU_DB[[Monitoring Site]:[Monitoring Site]],$B74)","v":0},{"$f":"COUNTIFS(TU_DB[[ALK Bin (ppm)]:[ALK Bin (ppm)]],F$19,TU_DB[[Monitoring Site]:[Monitoring Site]],$B74)","v":0},{"$f":"COUNTIFS(TU_DB[[ALK Bin (ppm)]:[ALK Bin (ppm)]],G$19,TU_DB[[Monitoring Site]:[Monitoring Site]],$B74)","v":0},{"$f":"COUNTIFS(TU_DB[[ALK Bin (ppm)]:[ALK Bin (ppm)]],H$19,TU_DB[[Monitoring Site]:[Monitoring Site]],$B74)","v":6},6,4.1379310344827586E-2]
[null,"Twin Cities Trout Unlimited",{"$f":"SUM(C76:C85)","v":0},{"$f":"SUM(D76:D85)","v":0},{"$f":"SUM(E76:E85)","v":0},{"$f":"SUM(F76:F85)","v":0},{"$f":"SUM(G76:G85)","v":4},{"$f":"SUM(H76:H85)","v":137},{"$f":"SUM(I76:I83)","v":141}]
[null,{"$f":"Use!Q128","v":"Belle Creek"},{"$f":"COUNTIFS(TU_DB[[ALK Bin (ppm)]:[ALK Bin (ppm)]],C$19,TU_DB[[Monitoring Site]:[Monitoring Site]],$B76)","v":0},{"$f":"COUNTIFS(TU_DB[[ALK Bin (ppm)]:[ALK Bin (ppm)]],D$19,TU_DB[[Monitoring Site]:[Monitoring Site]],$B76)","v":0},{"$f":"COUNTIFS(TU_DB[[ALK Bin (ppm)]:[ALK Bin (ppm)]],E$19,TU_DB[[Monitoring Site]:[Monitoring Site]],$B76)","v":0},{"$f":"COUNTIFS(TU_DB[[ALK Bin (ppm)]:[ALK Bin (ppm)]],F$19,TU_DB[[Monitoring Site]:[Monitoring Site]],$B76)","v":0},{"$f":"COUNTIFS(TU_DB[[ALK Bin (ppm)]:[ALK Bin (ppm)]],G$19,TU_DB[[Monitoring Site]:[Monitoring Site]],$B76)","v":0},{"$f":"COUNTIFS(TU_DB[[ALK Bin (ppm)]:[ALK Bin (ppm)]],H$19,TU_DB[[Monitoring Site]:[Monitoring Site]],$B76)","v":7},7,{"$f":"SUM(I76)/$I$75","v":4.9645390070921988E-2}]
[null,{"$f":"Use!Q129","v":"Hay Creek @ 320th St"},{"$f":"COUNTIFS(TU_DB[[ALK Bin (ppm)]:[ALK Bin (ppm)]],C$19,TU_DB[[Monitoring Site]:[Monitoring Site]],$B77)","v":0},{"$f":"COUNTIFS(TU_DB[[ALK Bin (ppm)]:[ALK Bin (ppm)]],D$19,TU_DB[[Monitoring Site]:[Monitoring Site]],$B77)","v":0},{"$f":"COUNTIFS(TU_DB[[ALK Bin (ppm)]:[ALK Bin (ppm)]],E$19,TU_DB[[Monitoring Site]:[Monitoring Site]],$B77)","v":0},{"$f":"COUNTIFS(TU_DB[[ALK Bin (ppm)]:[ALK Bin (ppm)]],F$19,TU_DB[[Monitoring Site]:[Monitoring Site]],$B77)","v":0},{"$f":"COUNTIFS(TU_DB[[ALK Bin (ppm)]:[ALK Bin (ppm)]],G$19,TU_DB[[Monitoring Site]:[Monitoring Site]],$B77)","v":0},{"$f":"COUNTIFS(TU_DB[[ALK Bin (ppm)]:[ALK Bin (ppm)]],H$19,TU_DB[[Monitoring Site]:[Monitoring Site]],$B77)","v":21},21,{"$f":"SUM(I77)/$I$75","v":0.14893617021276595}]
[null,{"$f":"Use!Q130","v":"Hay Creek @ 325th St"},{"$f":"COUNTIFS(TU_DB[[ALK Bin (ppm)]:[ALK Bin (ppm)]],C$19,TU_DB[[Monitoring Site]:[Monitoring Site]],$B78)","v":0},{"$f":"COUNTIFS(TU_DB[[ALK Bin (ppm)]:[ALK Bin (ppm)]],D$19,TU_DB[[Monitoring Site]:[Monitoring Site]],$B78)","v":0},{"$f":"COUNTIFS(TU_DB[[ALK Bin (ppm)]:[ALK Bin (ppm)]],E$19,TU_DB[[Monitoring Site]:[Monitoring Site]],$B78)","v":0},{"$f":"COUNTIFS(TU_DB[[ALK Bin (ppm)]:[ALK Bin (ppm)]],F$19,TU_DB[[Monitoring Site]:[Monitoring Site]],$B78)","v":0},{"$f":"COUNTIFS(TU_DB[[ALK Bin (ppm)]:[ALK Bin (ppm)]],G$19,TU_DB[[Monitoring Site]:[Monitoring Site]],$B78)","v":1},{"$f":"COUNTIFS(TU_DB[[ALK Bin (ppm)]:[ALK Bin (ppm)]],H$19,TU_DB[[Monitoring Site]:[Monitoring Site]],$B78)","v":14},15,0.10638297872340426]
[null,{"$f":"Use!Q131","v":"Eagle Creek"},{"$f":"COUNTIFS(TU_DB[[ALK Bin (ppm)]:[ALK Bin (ppm)]],C$19,TU_DB[[Monitoring Site]:[Monitoring Site]],$B79)","v":0},{"$f":"COUNTIFS(TU_DB[[ALK Bin (ppm)]:[ALK Bin (ppm)]],D$19,TU_DB[[Monitoring Site]:[Monitoring Site]],$B79)","v":0},{"$f":"COUNTIFS(TU_DB[[ALK Bin (ppm)]:[ALK Bin (ppm)]],E$19,TU_DB[[Monitoring Site]:[Monitoring Site]],$B79)","v":0},{"$f":"COUNTIFS(TU_DB[[ALK Bin (ppm)]:[ALK Bin (ppm)]],F$19,TU_DB[[Monitoring Site]:[Monitoring Site]],$B79)","v":0},{"$f":"COUNTIFS(TU_DB[[ALK Bin (ppm)]:[ALK Bin (ppm)]],G$19,TU_DB[[Monitoring Site]:[Monitoring Site]],$B79)","v":0},{"$f":"COUNTIFS(TU_DB[[ALK Bin (ppm)]:[ALK Bin (ppm)]],H$19,TU_DB[[Monitoring Site]:[Monitoring Site]],$B79)","v":2},2,1.4184397163120567E-2]
[null,{"$f":"Use!Q132","v":"Little Cannon River"},{"$f":"COUNTIFS(TU_DB[[ALK Bin (ppm)]:[ALK Bin (ppm)]],C$19,TU_DB[[Monitoring Site]:[Monitoring Site]],$B80)","v":0},{"$f":"COUNTIFS(TU_DB[[ALK Bin (ppm)]:[ALK Bin (ppm)]],D$19,TU_DB[[Monitoring Site]:[Monitoring Site]],$B80)","v":0},{"$f":"COUNTIFS(TU_DB[[ALK Bin (ppm)]:[ALK Bin (ppm)]],E$19,TU_DB[[Monitoring Site]:[Monitoring Site]],$B80)","v":0},{"$f":"COUNTIFS(TU_DB[[ALK Bin (ppm)]:[ALK Bin (ppm)]],F$19,TU_DB[[Monitoring Site]:[Monitoring Site]],$B80)","v":0},{"$f":"COUNTIFS(TU_DB[[ALK Bin (ppm)]:[ALK Bin (ppm)]],G$19,TU_DB[[Monitoring Site]:[Monitoring Site]],$B80)","v":0},{"$f":"COUNTIFS(TU_DB[[ALK Bin (ppm)]:[ALK Bin (ppm)]],H$19,TU_DB[[Monitoring Site]:[Monitoring Site]],$B80)","v":2},2,1.4184397163120567E-2]
[null,{"$f":"Use!Q133","v":"MOA Creek"},{"$f":"COUNTIFS(TU_DB[[ALK Bin (ppm)]:[ALK Bin (ppm)]],C$19,TU_DB[[Monitoring Site]:[Monitoring Site]],$B81)","v":0},{"$f":"COUNTIFS(TU_DB[[ALK Bin (ppm)]:[ALK Bin (ppm)]],D$19,TU_DB[[Monitoring Site]:[Monitoring Site]],$B81)","v":0},{"$f":"COUNTIFS(TU_DB[[ALK Bin (ppm)]:[ALK Bin (ppm)]],E$19,TU_DB[[Monitoring Site]:[Monitoring Site]],$B81)","v":0},{"$f":"COUNTIFS(TU_DB[[ALK Bin (ppm)]:[ALK Bin (ppm)]],F$19,TU_DB[[Monitoring Site]:[Monitoring Site]],$B81)","v":0},{"$f":"COUNTIFS(TU_DB[[ALK Bin (ppm)]:[ALK Bin (ppm)]],G$19,TU_DB[[Monitoring Site]:[Monitoring Site]],$B81)","v":0},{"$f":"COUNTIFS(TU_DB[[ALK Bin (ppm)]:[ALK Bin (ppm)]],H$19,TU_DB[[Monitoring Site]:[Monitoring Site]],$B81)","v":21},21,0.14893617021276595]
[null,{"$f":"Use!Q134","v":"Trout Brook"},{"$f":"COUNTIFS(TU_DB[[ALK Bin (ppm)]:[ALK Bin (ppm)]],C$19,TU_DB[[Monitoring Site]:[Monitoring Site]],$B82)","v":0},{"$f":"COUNTIFS(TU_DB[[ALK Bin (ppm)]:[ALK Bin (ppm)]],D$19,TU_DB[[Monitoring Site]:[Monitoring Site]],$B82)","v":0},{"$f":"COUNTIFS(TU_DB[[ALK Bin (ppm)]:[ALK Bin (ppm)]],E$19,TU_DB[[Monitoring Site]:[Monitoring Site]],$B82)","v":0},{"$f":"COUNTIFS(TU_DB[[ALK Bin (ppm)]:[ALK Bin (ppm)]],F$19,TU_DB[[Monitoring Site]:[Monitoring Site]],$B82)","v":0},{"$f":"COUNTIFS(TU_DB[[ALK Bin (ppm)]:[ALK Bin (ppm)]],G$19,TU_DB[[Monitoring Site]:[Monitoring Site]],$B82)","v":1},{"$f":"COUNTIFS(TU_DB[[ALK Bin (ppm)]:[ALK Bin (ppm)]],H$19,TU_DB[[Monitoring Site]:[Monitoring Site]],$B82)","v":37},{"$f":"SUM(C82:H82)","v":38},0.26950354609929078]
[null,{"$f":"Use!Q135","v":"Vermillion River, South Branch"},{"$f":"COUNTIFS(TU_DB[[ALK Bin (ppm)]:[ALK Bin (ppm)]],C$19,TU_DB[[Monitoring Site]:[Monitoring Site]],$B83)","v":0},{"$f":"COUNTIFS(TU_DB[[ALK Bin (ppm)]:[ALK Bin (ppm)]],D$19,TU_DB[[Monitoring Site]:[Monitoring Site]],$B83)","v":0},{"$f":"COUNTIFS(TU_DB[[ALK Bin (ppm)]:[ALK Bin (ppm)]],E$19,TU_DB[[Monitoring Site]:[Monitoring Site]],$B83)","v":0},{"$f":"COUNTIFS(TU_DB[[ALK Bin (ppm)]:[ALK Bin (ppm)]],F$19,TU_DB[[Monitoring Site]:[Monitoring Site]],$B83)","v":0},{"$f":"COUNTIFS(TU_DB[[ALK Bin (ppm)]:[ALK Bin (ppm)]],G$19,TU_DB[[Monitoring Site]:[Monitoring Site]],$B83)","v":2},{"$f":"COUNTIFS(TU_DB[[ALK Bin (ppm)]:[ALK Bin (ppm)]],H$19,TU_DB[[Monitoring Site]:[Monitoring Site]],$B83)","v":33},{"$f":"SUM(C83:H83)","v":35},0.24822695035460993]
[]
[]
[null,null,null,null,null,null,null,null,null,null,null,null,"Plotting Data",0,40,80,120,180,240]
[null,null,null,null,null,null,null,null,null,null,null,null,{"$f":"INDEX(B65:B82,MATCH($N$62,$B$65:$B$82,0))","v":{"$error":"#N/A"}},{"$f":"INDEX(C64:C83,MATCH($N$62,$B$64:$B$83,0))","v":0},{"$f":"INDEX(D64:D83,MATCH($N$62,$B$64:$B$83,0))","v":0},1,0,6,138]

{"sheet":"HRD","index":3,"n_rows":86,"n_cols":17,"rows_kept":86,"cut":false,"hidden":false,"merged":[[1,2,1,3],[17,9,18,9],[61,12,61,15]]}
["TU DARE Angler Science DB"]
[null,"Water Analysis","Hardness"]
[null,"Download",{"$f":"TUDB!B3","v":"3023-10-31"}]
[]
[null,"Overview Stats"]
[null,"Hardness \n[ppm CaCO3]","Observations","% Total Obs.","Cum. %",2019,2020,2021,2022,2023]
[null,0,{"$f":"COUNTIFS(TU_DB[HRD Bin (ppm)],B7)","v":91},{"$f":"C7/$C$12","v":5.7558507273877291E-2},{"$f":"D7","v":5.7558507273877291E-2},{"$f":"COUNTIFS(TU_DB[[HRD Bin (ppm)]:[HRD Bin (ppm)]],$B7,TU_DB[[Year]:[Year]],F$6)","v":0},{"$f":"COUNTIFS(TU_DB[[HRD Bin (ppm)]:[HRD Bin (ppm)]],$B7,TU_DB[[Year]:[Year]],G$6)","v":8},{"$f":"COUNTIFS(TU_DB[[HRD Bin (ppm)]:[HRD Bin (ppm)]],$B7,TU_DB[[Year]:[Year]],H$6)","v":20},{"$f":"COUNTIFS(TU_DB[[HRD Bin (ppm)]:[HRD Bin (ppm)]],$B7,TU_DB[[Year]:[Year]],I$6)","v":24},{"$f":"COUNTIFS(TU_DB[[HRD Bin (ppm)]:[HRD Bin (ppm)]],$B7,TU_DB[[Year]:[Year]],J$6)","v":39}]
[null,30,{"$f":"COUNTIFS(TU_DB[HRD Bin (ppm)],B8)","v":123},{"$f":"C8/$C$12","v":7.7798861480075907E-2},{"$f":"D8+E7","v":0.13535736875395321},{"$f":"COUNTIFS(TU_DB[[HRD Bin (ppm)]:[HRD Bin (ppm)]],$B8,TU_DB[[Year]:[Year]],F$6)","v":0},{"$f":"COUNTIFS(TU_DB[[HRD Bin (ppm)]:[HRD Bin (ppm)]],$B8,TU_DB[[Year]:[Year]],G$6)","v":18},{"$f":"COUNTIFS(TU_DB[[HRD Bin (ppm)]:[HRD Bin (ppm)]],$B8,TU_DB[[Year]:[Year]],H$6)","v":28},{"$f":"COUNTIFS(TU_DB[[HRD Bin (ppm)]:[HRD Bin (ppm)]],$B8,TU_DB[[Year]:[Year]],I$6)","v":31},{"$f":"COUNTIFS(TU_DB[[HRD Bin (ppm)]:[HRD Bin (ppm)]],$B8,TU_DB[[Year]:[Year]],J$6)","v":46}]
[null,60,{"$f":"COUNTIFS(TU_DB[HRD Bin (ppm)],B9)","v":169},{"$f":"C9/$C$12","v":0.1068943706514864},{"$f":"D9+E8","v":0.24225173940543959},{"$f":"COUNTIFS(TU_DB[[HRD Bin (ppm)]:[HRD Bin (ppm)]],$B9,TU_DB[[Year]:[Year]],F$6)","v":0},{"$f":"COUNTIFS(TU_DB[[HRD Bin (ppm)]:[HRD Bin (ppm)]],$B9,TU_DB[[Year]:[Year]],G$6)","v":23},{"$f":"COUNTIFS(TU_DB[[HRD Bin (ppm)]:[HRD Bin (ppm)]],$B9,TU_DB[[Year]:[Year]],H$6)","v":35},{"$f":"COUNTIFS(TU_DB[[HRD Bin (ppm)]:[HRD Bin (ppm)]],$B9,TU_DB[[Year]:[Year]],I$6)","v":31},{"$f":"COUNTIFS(TU_DB[[HRD Bin (ppm)]:[HRD Bin (ppm)]],$B9,TU_DB[[Year]:[Year]],J$6)","v":80}]
[null,120,{"$f":"COUNTIFS(TU_DB[HRD Bin (ppm)],B10)","v":534},{"$f":"C10/$C$12","v":0.33776091081593929},{"$f":"D10+E9","v":0.58001265022137893},{"$f":"COUNTIFS(TU_DB[[HRD Bin (ppm)]:[HRD Bin (ppm)]],$B10,TU_DB[[Year]:[Year]],F$6)","v":1},{"$f":"COUNTIFS(TU_DB[[HRD Bin (ppm)]:[HRD Bin (ppm)]],$B10,TU_DB[[Year]:[Year]],G$6)","v":35},{"$f":"COUNTIFS(TU_DB[[HRD Bin (ppm)]:[HRD Bin (ppm)]],$B10,TU_DB[[Year]:[Year]],H$6)","v":139},{"$f":"COUNTIFS(TU_DB[[HRD Bin (ppm)]:[HRD Bin (ppm)]],$B10,TU_DB[[Year]:[Year]],I$6)","v":140},{"$f":"COUNTIFS(TU_DB[[HRD Bin (ppm)]:[HRD Bin (ppm)]],$B10,TU_DB[[Year]:[Year]],J$6)","v":219}]
[null,180,{"$f":"COUNTIFS(TU_DB[HRD Bin (ppm)],B11)","v":664},{"$f":"C11/$C$12","v":0.41998734977862112},{"$f":"D11+E10","v":1},{"$f":"COUNTIFS(TU_DB[[HRD Bin (ppm)]:[HRD Bin (ppm)]],$B11,TU_DB[[Year]:[Year]],F$6)","v":3},{"$f":"COUNTIFS(TU_DB[[HRD Bin (ppm)]:[HRD Bin (ppm)]],$B11,TU_DB[[Year]:[Year]],G$6)","v":24},{"$f":"COUNTIFS(TU_DB[[HRD Bin (ppm)]:[HRD Bin (ppm)]],$B11,TU_DB[[Year]:[Year]],H$6)","v":139},{"$f":"COUNTIFS(TU_DB[[HRD Bin (ppm)]:[HRD Bin (ppm)]],$B11,TU_DB[[Year]:[Year]],I$6)","v":193},{"$f":"COUNTIFS(TU_DB[[HRD Bin (ppm)]:[HRD Bin (ppm)]],$B11,TU_DB[[Year]:[Year]],J$6)","v":305}]
[null,"Total",{"$f":"SUM(C7:C11)","v":1581},null,null,{"$f":"SUM(F7:F11)","v":4},{"$f":"SUM(G7:G11)","v":108},{"$f":"SUM(H7:H11)","v":361},419,689]
[]
[]
[]
[]
[null,"Weather Conditions"]
[null,null,"Hardness [ppm CaCO3]",null,null,null,null,null,null,"Table Labels"]
[null,"Weather Conditions",0,30,60,120,180,"Sum","% Total"]
[null,"Local Thunderstorm",{"$f":"COUNTIFS(TU_DB[[HRD Bin (ppm)]:[HRD Bin (ppm)]],C$19,TU_DB[[Weather]:[Weather]],$B20)","v":0},{"$f":"COUNTIFS(TU_DB[[HRD Bin (ppm)]:[HRD Bin (ppm)]],D$19,TU_DB[[Weather]:[Weather]],$B20)","v":3},{"$f":"COUNTIFS(TU_DB[[HRD Bin (ppm)]:[HRD Bin (ppm)]],E$19,TU_DB[[Weather]:[Weather]],$B20)","v":12},{"$f":"COUNTIFS(TU_DB[[HRD Bin (ppm)]:[HRD Bin (ppm)]],F$19,TU_DB[[Weather]:[Weather]],$B20)","v":13},{"$f":"COUNTIFS(TU_DB[[HRD Bin (ppm)]:[HRD Bin (ppm)]],G$19,TU_DB[[Weather]:[Weather]],$B20)","v":15},{"$f":"SUM(C20:G20)","v":43},{"$f":"SUM(H20)/SUM($H$20:$H$25)","v":3.1024531024531024E-2},"LT"]
[null,"Regional Rainfall",{"$f":"COUNTIFS(TU_DB[[HRD Bin (ppm)]:[HRD Bin (ppm)]],C$19,TU_DB[[Weather]:[Weather]],$B21)","v":12},{"$f":"COUNTIFS(TU_DB[[HRD Bin (ppm)]:[HRD Bin (ppm)]],D$19,TU_DB[[Weather]:[Weather]],$B21)","v":14},{"$f":"COUNTIFS(TU_DB[[HRD Bin (ppm)]:[HRD Bin (ppm)]],E$19,TU_DB[[Weather]:[Weather]],$B21)","v":29},{"$f":"COUNTIFS(TU_DB[[HRD Bin (ppm)]:[HRD Bin (ppm)]],F$19,TU_DB[[Weather]:[Weather]],$B21)","v":48},{"$f":"COUNTIFS(TU_DB[[HRD Bin (ppm)]:[HRD Bin (ppm)]],G$19,TU_DB[[Weather]:[Weather]],$B21)","v":52},155,0.11183261183261184,"RR"]
[null,"Regional Rainfall,Local Thunderstorm",{"$f":"COUNTIFS(TU_DB[[HRD Bin (ppm)]:[HRD Bin (ppm)]],C$19,TU_DB[[Weather]:[Weather]],$B22)","v":0},{"$f":"COUNTIFS(TU_DB[[HRD Bin (ppm)]:[HRD Bin (ppm)]],D$19,TU_DB[[Weather]:[Weather]],$B22)","v":0},{"$f":"COUNTIFS(TU_DB[[HRD Bin (ppm)]:[HRD Bin (ppm)]],E$19,TU_DB[[Weather]:[Weather]],$B22)","v":0},{"$f":"COUNTIFS(TU_DB[[HRD Bin (ppm)]:[HRD Bin (ppm)]],F$19,TU_DB[[Weather]:[Weather]],$B22)","v":5},{"$f":"COUNTIFS(TU_DB[[HRD Bin (ppm)]:[HRD Bin (ppm)]],G$19,TU_DB[[Weather]:[Weather]],$B22)","v":3},8,5.772005772005772E-3,"RR, LT"]
[null,"Regional Rainfall,Warmth Causing Snowmelt",{"$f":"COUNTIFS(TU_DB[[HRD Bin (ppm)]:[HRD Bin (ppm)]],C$19,TU_DB[[Weather]:[Weather]],$B23)","v":0},{"$f":"COUNTIFS(TU_DB[[HRD Bin (ppm)]:[HRD Bin (ppm)]],D$19,TU_DB[[Weather]:[Weather]],$B23)","v":0},{"$f":"COUNTIFS(TU_DB[[HRD Bin (ppm)]:[HRD Bin (ppm)]],E$19,TU_DB[[Weather]:[Weather]],$B23)","v":1},{"$f":"COUNTIFS(TU_DB[[HRD Bin (ppm)]:[HRD Bin (ppm)]],F$19,TU_DB[[Weather]:[Weather]],$B23)","v":2},{"$f":"COUNTIFS(TU_DB[[HRD Bin (ppm)]:[HRD Bin (ppm)]],G$19,TU_DB[[Weather]:[Weather]],$B23)","v":1},4,2.886002886002886E-3,"RR, SM"]
[null,"Warmth Causing Snowmelt",{"$f":"COUNTIFS(TU_DB[[HRD Bin (ppm)]:[HRD Bin (ppm)]],C$19,TU_DB[[Weather]:[Weather]],$B24)","v":0},{"$f":"COUNTIFS(TU_DB[[HRD Bin (ppm)]:[HRD Bin (ppm)]],D$19,TU_DB[[Weather]:[Weather]],$B24)","v":1},{"$f":"COUNTIFS(TU_DB[[HRD Bin (ppm)]:[HRD Bin (ppm)]],E$19,TU_DB[[Weather]:[Weather]],$B24)","v":6},{"$f":"COUNTIFS(TU_DB[[HRD Bin (ppm)]:[HRD Bin (ppm)]],F$19,TU_DB[[Weather]:[Weather]],$B24)","v":5},{"$f":"COUNTIFS(TU_DB[[HRD Bin (ppm)]:[HRD Bin (ppm)]],G$19,TU_DB[[Weather]:[Weather]],$B24)","v":5},17,1.2265512265512266E-2,"SM"]
[null,"None",{"$f":"COUNTIFS(TU_DB[[HRD Bin (ppm)]:[HRD Bin (ppm)]],C$19,TU_DB[[Weather]:[Weather]],$B25)","v":62},{"$f":"COUNTIFS(TU_DB[[HRD Bin (ppm)]:[HRD Bin (ppm)]],D$19,TU_DB[[Weather]:[Weather]],$B25)","v":82},{"$f":"COUNTIFS(TU_DB[[HRD Bin (ppm)]:[HRD Bin (ppm)]],E$19,TU_DB[[Weather]:[Weather]],$B25)","v":98},{"$f":"COUNTIFS(TU_DB[[HRD Bin (ppm)]:[HRD Bin (ppm)]],F$19,TU_DB[[Weather]:[Weather]],$B25)","v":417},{"$f":"COUNTIFS(TU_DB[[HRD Bin (ppm)]:[HRD Bin (ppm)]],G$19,TU_DB[[Weather]:[Weather]],$B25)","v":500},1159,0.8362193362193362,"None"]
[null,"Total",{"$f":"SUM(C20:C25)","v":74},100,146,490,576,1386]
[]
[null,"Water Level"]
[null,null,"Hardness [ppm CaCO3]"]
[null,"Water Level",0,30,60,120,180,"Sum","% Total"]
[null,"Baseflow",{"$f":"COUNTIFS(TU_DB[[HRD Bin (ppm)]:[HRD Bin (ppm)]],C$19,TU_DB[[Water Level]:[Water Level]],$B31)","v":54},{"$f":"COUNTIFS(TU_DB[[HRD Bin (ppm)]:[HRD Bin (ppm)]],D$19,TU_DB[[Water Level]:[Water Level]],$B31)","v":74},{"$f":"COUNTIFS(TU_DB[[HRD Bin (ppm)]:[HRD Bin (ppm)]],E$19,TU_DB[[Water Level]:[Water Level]],$B31)","v":107},{"$f":"COUNTIFS(TU_DB[[HRD Bin (ppm)]:[HRD Bin (ppm)]],F$19,TU_DB[[Water Level]:[Water Level]],$B31)","v":394},{"$f":"COUNTIFS(TU_DB[[HRD Bin (ppm)]:[HRD Bin (ppm)]],G$19,TU_DB[[Water Level]:[Water Level]],$B31)","v":473},{"$f":"SUM(C31:G31)","v":1102},{"$f":"SUM(H31)/SUM($H$31:$H$34)","v":0.7727910238429172}]
[null,"Mid-Stage",{"$f":"COUNTIFS(TU_DB[[HRD Bin (ppm)]:[HRD Bin (ppm)]],C$19,TU_DB[[Water Level]:[Water Level]],$B32)","v":19},{"$f":"COUNTIFS(TU_DB[[HRD Bin (ppm)]:[HRD Bin (ppm)]],D$19,TU_DB[[Water Level]:[Water Level]],$B32)","v":22},{"$f":"COUNTIFS(TU_DB[[HRD Bin (ppm)]:[HRD Bin (ppm)]],E$19,TU_DB[[Water Level]:[Water Level]],$B32)","v":25},{"$f":"COUNTIFS(TU_DB[[HRD Bin (ppm)]:[HRD Bin (ppm)]],F$19,TU_DB[[Water Level]:[Water Level]],$B32)","v":83},{"$f":"COUNTIFS(TU_DB[[HRD Bin (ppm)]:[HRD Bin (ppm)]],G$19,TU_DB[[Water Level]:[Water Level]],$B32)","v":106},{"$f":"SUM(C32:G32)","v":255},{"$f":"SUM(H32)/SUM($H$31:$H$34)","v":0.17882187938288921}]
[null,"Bankfull Stage",{"$f":"COUNTIFS(TU_DB[[HRD Bin (ppm)]:[HRD Bin (ppm)]],C$19,TU_DB[[Water Level]:[Water Level]],$B33)","v":2},{"$f":"COUNTIFS(TU_DB[[HRD Bin (ppm)]:[HRD Bin (ppm)]],D$19,TU_DB[[Water Level]:[Water Level]],$B33)","v":3},{"$f":"COUNTIFS(TU_DB[[HRD Bin (ppm)]:[HRD Bin (ppm)]],E$19,TU_DB[[Water Level]:[Water Level]],$B33)","v":11},{"$f":"COUNTIFS(TU_DB[[HRD Bin (ppm)]:[HRD Bin (ppm)]],F$19,TU_DB[[Water Level]:[Water Level]],$B33)","v":18},{"$f":"COUNTIFS(TU_DB[[HRD Bin (ppm)]:[HRD Bin (ppm)]],G$19,TU_DB[[Water Level]:[Water Level]],$B33)","v":29},{"$f":"SUM(C33:G33)","v":63},{"$f":"SUM(H33)/SUM($H$31:$H$34)","v":4.4179523141654978E-2}]
[null,"Overbank Flooding",1,1,1,1,2,6,{"$f":"SUM(H34)/SUM($H$31:$H$34)","v":4.2075736325385693E-3}]
[null,"Total",{"$f":"SUM(C31:C34)","v":76},100,144,496,610,1426]
[]
[]
[]
[]
[]
[]
[]
[]
[null,"Water Clarity"]
[null,null,"Hardness [ppm CaCO3]"]
[null,"Water Clarity",0,30,60,120,180,"Sum","% Total"]
[null,"Clear",{"$f":"COUNTIFS(TU_DB[[HRD Bin (ppm)]:[HRD Bin (ppm)]],C$19,TU_DB[[Clarity]:[Clarity]],$B47)","v":66},{"$f":"COUNTIFS(TU_DB[[HRD Bin (ppm)]:[HRD Bin (ppm)]],D$19,TU_DB[[Clarity]:[Clarity]],$B47)","v":72},{"$f":"COUNTIFS(TU_DB[[HRD Bin (ppm)]:[HRD Bin (ppm)]],E$19,TU_DB[[Clarity]:[Clarity]],$B47)","v":105},{"$f":"COUNTIFS(TU_DB[[HRD Bin (ppm)]:[HRD Bin (ppm)]],F$19,TU_DB[[Clarity]:[Clarity]],$B47)","v":413},{"$f":"COUNTIFS(TU_DB[[HRD Bin (ppm)]:[HRD Bin (ppm)]],G$19,TU_DB[[Clarity]:[Clarity]],$B47)","v":503},{"$f":"SUM(C47:G47)","v":1159},{"$f":"SUM(H47)/SUM($H$47:$H$49)","v":0.80318780318780314}]
[null,"Muddy",{"$f":"COUNTIFS(TU_DB[[HRD Bin (ppm)]:[HRD Bin (ppm)]],C$19,TU_DB[[Clarity]:[Clarity]],$B48)","v":1},{"$f":"COUNTIFS(TU_DB[[HRD Bin (ppm)]:[HRD Bin (ppm)]],D$19,TU_DB[[Clarity]:[Clarity]],$B48)","v":3},{"$f":"COUNTIFS(TU_DB[[HRD Bin (ppm)]:[HRD Bin (ppm)]],E$19,TU_DB[[Clarity]:[Clarity]],$B48)","v":18},{"$f":"COUNTIFS(TU_DB[[HRD Bin (ppm)]:[HRD Bin (ppm)]],F$19,TU_DB[[Clarity]:[Clarity]],$B48)","v":19},{"$f":"COUNTIFS(TU_DB[[HRD Bin (ppm)]:[HRD Bin (ppm)]],G$19,TU_DB[[Clarity]:[Clarity]],$B48)","v":16},{"$f":"SUM(C48:G48)","v":57},{"$f":"SUM(H48)/SUM($H$47:$H$49)","v":3.9501039501039503E-2}]
[null,"Murky",{"$f":"COUNTIFS(TU_DB[[HRD Bin (ppm)]:[HRD Bin (ppm)]],C$19,TU_DB[[Clarity]:[Clarity]],$B49)","v":9},{"$f":"COUNTIFS(TU_DB[[HRD Bin (ppm)]:[HRD Bin (ppm)]],D$19,TU_DB[[Clarity]:[Clarity]],$B49)","v":24},{"$f":"COUNTIFS(TU_DB[[HRD Bin (ppm)]:[HRD Bin (ppm)]],E$19,TU_DB[[Clarity]:[Clarity]],$B49)","v":27},{"$f":"COUNTIFS(TU_DB[[HRD Bin (ppm)]:[HRD Bin (ppm)]],F$19,TU_DB[[Clarity]:[Clarity]],$B49)","v":69},{"$f":"COUNTIFS(TU_DB[[HRD Bin (ppm)]:[HRD Bin (ppm)]],G$19,TU_DB[[Clarity]:[Clarity]],$B49)","v":98},{"$f":"SUM(C49:G49)","v":227},{"$f":"SUM(H49)/SUM($H$47:$H$49)","v":0.1573111573111573}]
[null,"Total",{"$f":"SUM(C47:C49)","v":76},99,150,501,617,1443]
[]
[]
[]
[]
[]
[]
[]
[]
[]
[]
[null,"Monitoring Stations"]
[null,null,"Alkalinity [ppm CaCO3]",null,null,null,null,null,null,null,null,"Station to Plot","Kiat-TU-Wish"]
[null,"Monitoring Site",0,30,60,120,180,"Sum","% Total"]
[null,"Kiat-TU-Wish",{"$f":"SUM(C65:C74)","v":2},{"$f":"SUM(D65:D74)","v":21},14,66,46,{"$f":"SUM(H65:H74)","v":149}]
[null,"Cady Creek @ 50th St",{"$f":"COUNTIFS(TU_DB[[HRD Bin (ppm)]:[HRD Bin (ppm)]],C$19,TU_DB[[Monitoring Site]:[Monitoring Site]],$B65)","v":1},{"$f":"COUNTIFS(TU_DB[[HRD Bin (ppm)]:[HRD Bin (ppm)]],D$19,TU_DB[[Monitoring Site]:[Monitoring Site]],$B65)","v":4},{"$f":"COUNTIFS(TU_DB[[HRD Bin (ppm)]:[HRD Bin (ppm)]],E$19,TU_DB[[Monitoring Site]:[Monitoring Site]],$B65)","v":1},{"$f":"COUNTIFS(TU_DB[[HRD Bin (ppm)]:[HRD Bin (ppm)]],F$19,TU_DB[[Monitoring Site]:[Monitoring Site]],$B65)","v":7},{"$f":"COUNTIFS(TU_DB[[HRD Bin (ppm)]:[HRD Bin (ppm)]],G$19,TU_DB[[Monitoring Site]:[Monitoring Site]],$B65)","v":2},{"$f":"SUM(C65:G65)","v":15},{"$f":"SUM(H65)/$H$64","v":0.10067114093959731}]
[null,{"$f":"Use!Q118","v":"Eau Galle River @ WI Hwy 29"},{"$f":"COUNTIFS(TU_DB[[HRD Bin (ppm)]:[HRD Bin (ppm)]],C$19,TU_DB[[Monitoring Site]:[Monitoring Site]],$B66)","v":0},{"$f":"COUNTIFS(TU_DB[[HRD Bin (ppm)]:[HRD Bin (ppm)]],D$19,TU_DB[[Monitoring Site]:[Monitoring Site]],$B66)","v":0},{"$f":"COUNTIFS(TU_DB[[HRD Bin (ppm)]:[HRD Bin (ppm)]],E$19,TU_DB[[Monitoring Site]:[Monitoring Site]],$B66)","v":2},{"$f":"COUNTIFS(TU_DB[[HRD Bin (ppm)]:[HRD Bin (ppm)]],F$19,TU_DB[[Monitoring Site]:[Monitoring Site]],$B66)","v":4},{"$f":"COUNTIFS(TU_DB[[HRD Bin (ppm)]:[HRD Bin (ppm)]],G$19,TU_DB[[Monitoring Site]:[Monitoring Site]],$B66)","v":0},6,4.0268456375838924E-2]
[null,{"$f":"Use!Q119","v":"Isabelle Creek @ County Rd. EE"},{"$f":"COUNTIFS(TU_DB[[HRD Bin (ppm)]:[HRD Bin (ppm)]],C$19,TU_DB[[Monitoring Site]:[Monitoring Site]],$B67)","v":1},{"$f":"COUNTIFS(TU_DB[[HRD Bin (ppm)]:[HRD Bin (ppm)]],D$19,TU_DB[[Monitoring Site]:[Monitoring Site]],$B67)","v":1},{"$f":"COUNTIFS(TU_DB[[HRD Bin (ppm)]:[HRD Bin (ppm)]],E$19,TU_DB[[Monitoring Site]:[Monitoring Site]],$B67)","v":2},{"$f":"COUNTIFS(TU_DB[[HRD Bin (ppm)]:[HRD Bin (ppm)]],F$19,TU_DB[[Monitoring Site]:[Monitoring Site]],$B67)","v":9},{"$f":"COUNTIFS(TU_DB[[HRD Bin (ppm)]:[HRD Bin (ppm)]],G$19,TU_DB[[Monitoring Site]:[Monitoring Site]],$B67)","v":3},16,0.10738255033557047]
[null,{"$f":"Use!Q120","v":"Kinnickinnic River, Lower Glen Park"},{"$f":"COUNTIFS(TU_DB[[HRD Bin (ppm)]:[HRD Bin (ppm)]],C$19,TU_DB[[Monitoring Site]:[Monitoring Site]],$B68)","v":0},{"$f":"COUNTIFS(TU_DB[[HRD Bin (ppm)]:[HRD Bin (ppm)]],D$19,TU_DB[[Monitoring Site]:[Monitoring Site]],$B68)","v":0},{"$f":"COUNTIFS(TU_DB[[HRD Bin (ppm)]:[HRD Bin (ppm)]],E$19,TU_DB[[Monitoring Site]:[Monitoring Site]],$B68)","v":0},{"$f":"COUNTIFS(TU_DB[[HRD Bin (ppm)]:[HRD Bin (ppm)]],F$19,TU_DB[[Monitoring Site]:[Monitoring Site]],$B68)","v":0},{"$f":"COUNTIFS(TU_DB[[HRD Bin (ppm)]:[HRD Bin (ppm)]],G$19,TU_DB[[Monitoring Site]:[Monitoring Site]],$B68)","v":0},0,0]
[null,{"$f":"Use!Q121","v":"Pine Creek @ County Rd. AA"},{"$f":"COUNTIFS(TU_DB[[HRD Bin (ppm)]:[HRD Bin (ppm)]],C$19,TU_DB[[Monitoring Site]:[Monitoring Site]],$B69)","v":0},{"$f":"COUNTIFS(TU_DB[[HRD Bin (ppm)]:[HRD Bin (ppm)]],D$19,TU_DB[[Monitoring Site]:[Monitoring Site]],$B69)","v":0},{"$f":"COUNTIFS(TU_DB[[HRD Bin (ppm)]:[HRD Bin (ppm)]],E$19,TU_DB[[Monitoring Site]:[Monitoring Site]],$B69)","v":2},{"$f":"COUNTIFS(TU_DB[[HRD Bin (ppm)]:[HRD Bin (ppm)]],F$19,TU_DB[[Monitoring Site]:[Monitoring Site]],$B69)","v":14},{"$f":"COUNTIFS(TU_DB[[HRD Bin (ppm)]:[HRD Bin (ppm)]],G$19,TU_DB[[Monitoring Site]:[Monitoring Site]],$B69)","v":8},24,0.16107382550335569]
[null,{"$f":"Use!Q122","v":"Plum Creek @ Plum CIty Park"},{"$f":"COUNTIFS(TU_DB[[HRD Bin (ppm)]:[HRD Bin (ppm)]],C$19,TU_DB[[Monitoring Site]:[Monitoring Site]],$B70)","v":0},{"$f":"COUNTIFS(TU_DB[[HRD Bin (ppm)]:[HRD Bin (ppm)]],D$19,TU_DB[[Monitoring Site]:[Monitoring Site]],$B70)","v":0},{"$f":"COUNTIFS(TU_DB[[HRD Bin (ppm)]:[HRD Bin (ppm)]],E$19,TU_DB[[Monitoring Site]:[Monitoring Site]],$B70)","v":1},{"$f":"COUNTIFS(TU_DB[[HRD Bin (ppm)]:[HRD Bin (ppm)]],F$19,TU_DB[[Monitoring Site]:[Monitoring Site]],$B70)","v":6},{"$f":"COUNTIFS(TU_DB[[HRD Bin (ppm)]:[HRD Bin (ppm)]],G$19,TU_DB[[Monitoring Site]:[Monitoring Site]],$B70)","v":3},10,6.7114093959731544E-2]
[null,{"$f":"Use!Q123","v":"Rocky Branch Creek, Lower Glen Park"},{"$f":"COUNTIFS(TU_DB[[HRD Bin (ppm)]:[HRD Bin (ppm)]],C$19,TU_DB[[Monitoring Site]:[Monitoring Site]],$B71)","v":0},{"$f":"COUNTIFS(TU_DB[[HRD Bin (ppm)]:[HRD Bin (ppm)]],D$19,TU_DB[[Monitoring Site]:[Monitoring Site]],$B71)","v":2},{"$f":"COUNTIFS(TU_DB[[HRD Bin (ppm)]:[HRD Bin (ppm)]],E$19,TU_DB[[Monitoring Site]:[Monitoring Site]],$B71)","v":1},{"$f":"COUNTIFS(TU_DB[[HRD Bin (ppm)]:[HRD Bin (ppm)]],F$19,TU_DB[[Monitoring Site]:[Monitoring Site]],$B71)","v":5},{"$f":"COUNTIFS(TU_DB[[HRD Bin (ppm)]:[HRD Bin (ppm)]],G$19,TU_DB[[Monitoring Site]:[Monitoring Site]],$B71)","v":1},9,6.0402684563758392E-2]
[null,{"$f":"Use!Q124","v":"Rush River @ 570th Ave"},{"$f":"COUNTIFS(TU_DB[[HRD Bin (ppm)]:[HRD Bin (ppm)]],C$19,TU_DB[[Monitoring Site]:[Monitoring Site]],$B72)","v":0},{"$f":"COUNTIFS(TU_DB[[HRD Bin (ppm)]:[HRD Bin (ppm)]],D$19,TU_DB[[Monitoring Site]:[Monitoring Site]],$B72)","v":4},{"$f":"COUNTIFS(TU_DB[[HRD Bin (ppm)]:[HRD Bin (ppm)]],E$19,TU_DB[[Monitoring Site]:[Monitoring Site]],$B72)","v":2},{"$f":"COUNTIFS(TU_DB[[HRD Bin (ppm)]:[HRD Bin (ppm)]],F$19,TU_DB[[Monitoring Site]:[Monitoring Site]],$B72)","v":7},{"$f":"COUNTIFS(TU_DB[[HRD Bin (ppm)]:[HRD Bin (ppm)]],G$19,TU_DB[[Monitoring Site]:[Monitoring Site]],$B72)","v":7},20,0.13422818791946309]
[null,{"$f":"Use!Q125","v":"SF Kinnickinnic River @ 900th St"},{"$f":"COUNTIFS(TU_DB[[HRD Bin (ppm)]:[HRD Bin (ppm)]],C$19,TU_DB[[Monitoring Site]:[Monitoring Site]],$B73)","v":0},{"$f":"COUNTIFS(TU_DB[[HRD Bin (ppm)]:[HRD Bin (ppm)]],D$19,TU_DB[[Monitoring Site]:[Monitoring Site]],$B73)","v":10},{"$f":"COUNTIFS(TU_DB[[HRD Bin (ppm)]:[HRD Bin (ppm)]],E$19,TU_DB[[Monitoring Site]:[Monitoring Site]],$B73)","v":2},{"$f":"COUNTIFS(TU_DB[[HRD Bin (ppm)]:[HRD Bin (ppm)]],F$19,TU_DB[[Monitoring Site]:[Monitoring Site]],$B73)","v":14},{"$f":"COUNTIFS(TU_DB[[HRD Bin (ppm)]:[HRD Bin (ppm)]],G$19,TU_DB[[Monitoring Site]:[Monitoring Site]],$B73)","v":16},42,0.28187919463087246]
[null,{"$f":"Use!Q126","v":"Trimbelle River @ County Rd W"},{"$f":"COUNTIFS(TU_DB[[HRD Bin (ppm)]:[HRD Bin (ppm)]],C$19,TU_DB[[Monitoring Site]:[Monitoring Site]],$B74)","v":0},{"$f":"COUNTIFS(TU_DB[[HRD Bin (ppm)]:[HRD Bin (ppm)]],D$19,TU_DB[[Monitoring Site]:[Monitoring Site]],$B74)","v":0},{"$f":"COUNTIFS(TU_DB[[HRD Bin (ppm)]:[HRD Bin (ppm)]],E$19,TU_DB[[Monitoring Site]:[Monitoring Site]],$B74)","v":1},{"$f":"COUNTIFS(TU_DB[[HRD Bin (ppm)]:[HRD Bin (ppm)]],F$19,TU_DB[[Monitoring Site]:[Monitoring Site]],$B74)","v":0},{"$f":"COUNTIFS(TU_DB[[HRD Bin (ppm)]:[HRD Bin (ppm)]],G$19,TU_DB[[Monitoring Site]:[Monitoring Site]],$B74)","v":6},7,4.6979865771812082E-2]
[null,"Twin Cities Trout Unlimited",{"$f":"SUM(C76:C85)","v":16},{"$f":"SUM(D76:D85)","v":5},14,49,57,{"$f":"SUM(H76:H83)","v":141}]
[null,{"$f":"Use!Q128","v":"Belle Creek"},{"$f":"COUNTIFS(TU_DB[[HRD Bin (ppm)]:[HRD Bin (ppm)]],C$19,TU_DB[[Monitoring Site]:[Monitoring Site]],$B76)","v":1},{"$f":"COUNTIFS(TU_DB[[HRD Bin (ppm)]:[HRD Bin (ppm)]],D$19,TU_DB[[Monitoring Site]:[Monitoring Site]],$B76)","v":1},{"$f":"COUNTIFS(TU_DB[[HRD Bin (ppm)]:[HRD Bin (ppm)]],E$19,TU_DB[[Monitoring Site]:[Monitoring Site]],$B76)","v":5},{"$f":"COUNTIFS(TU_DB[[HRD Bin (ppm)]:[HRD Bin (ppm)]],F$19,TU_DB[[Monitoring Site]:[Monitoring Site]],$B76)","v":0},{"$f":"COUNTIFS(TU_DB[[HRD Bin (ppm)]:[HRD Bin (ppm)]],G$19,TU_DB[[Monitoring Site]:[Monitoring Site]],$B76)","v":0},{"$f":"SUM(C76:G76)","v":7},{"$f":"SUM(H76)/$H$75","v":4.9645390070921988E-2}]
[null,{"$f":"Use!Q129","v":"Hay Creek @ 320th St"},{"$f":"COUNTIFS(TU_DB[[HRD Bin (ppm)]:[HRD Bin (ppm)]],C$19,TU_DB[[Monitoring Site]:[Monitoring Site]],$B77)","v":6},{"$f":"COUNTIFS(TU_DB[[HRD Bin (ppm)]:[HRD Bin (ppm)]],D$19,TU_DB[[Monitoring Site]:[Monitoring Site]],$B77)","v":0},{"$f":"COUNTIFS(TU_DB[[HRD Bin (ppm)]:[HRD Bin (ppm)]],E$19,TU_DB[[Monitoring Site]:[Monitoring Site]],$B77)","v":2},{"$f":"COUNTIFS(TU_DB[[HRD Bin (ppm)]:[HRD Bin (ppm)]],F$19,TU_DB[[Monitoring Site]:[Monitoring Site]],$B77)","v":6},{"$f":"COUNTIFS(TU_DB[[HRD Bin (ppm)]:[HRD Bin (ppm)]],G$19,TU_DB[[Monitoring Site]:[Monitoring Site]],$B77)","v":7},21,0.14893617021276595]
[null,{"$f":"Use!Q130","v":"Hay Creek @ 325th St"},{"$f":"COUNTIFS(TU_DB[[HRD Bin (ppm)]:[HRD Bin (ppm)]],C$19,TU_DB[[Monitoring Site]:[Monitoring Site]],$B78)","v":3},{"$f":"COUNTIFS(TU_DB[[HRD Bin (ppm)]:[HRD Bin (ppm)]],D$19,TU_DB[[Monitoring Site]:[Monitoring Site]],$B78)","v":0},{"$f":"COUNTIFS(TU_DB[[HRD Bin (ppm)]:[HRD Bin (ppm)]],E$19,TU_DB[[Monitoring Site]:[Monitoring Site]],$B78)","v":1},{"$f":"COUNTIFS(TU_DB[[HRD Bin (ppm)]:[HRD Bin (ppm)]],F$19,TU_DB[[Monitoring Site]:[Monitoring Site]],$B78)","v":6},{"$f":"COUNTIFS(TU_DB[[HRD Bin (ppm)]:[HRD Bin (ppm)]],G$19,TU_DB[[Monitoring Site]:[Monitoring Site]],$B78)","v":5},15,0.10638297872340426]
[null,{"$f":"Use!Q131","v":"Eagle Creek"},{"$f":"COUNTIFS(TU_DB[[HRD Bin (ppm)]:[HRD Bin (ppm)]],C$19,TU_DB[[Monitoring Site]:[Monitoring Site]],$B79)","v":0},{"$f":"COUNTIFS(TU_DB[[HRD Bin (ppm)]:[HRD Bin (ppm)]],D$19,TU_DB[[Monitoring Site]:[Monitoring Site]],$B79)","v":0},{"$f":"COUNTIFS(TU_DB[[HRD Bin (ppm)]:[HRD Bin (ppm)]],E$19,TU_DB[[Monitoring Site]:[Monitoring Site]],$B79)","v":0},{"$f":"COUNTIFS(TU_DB[[HRD Bin (ppm)]:[HRD Bin (ppm)]],F$19,TU_DB[[Monitoring Site]:[Monitoring Site]],$B79)","v":1},{"$f":"COUNTIFS(TU_DB[[HRD Bin (ppm)]:[HRD Bin (ppm)]],G$19,TU_DB[[Monitoring Site]:[Monitoring Site]],$B79)","v":1},2,1.4184397163120567E-2]
[null,{"$f":"Use!Q132","v":"Little Cannon River"},{"$f":"COUNTIFS(TU_DB[[HRD Bin (ppm)]:[HRD Bin (ppm)]],C$19,TU_DB[[Monitoring Site]:[Monitoring Site]],$B80)","v":0},{"$f":"COUNTIFS(TU_DB[[HRD Bin (ppm)]:[HRD Bin (ppm)]],D$19,TU_DB[[Monitoring Site]:[Monitoring Site]],$B80)","v":0},{"$f":"COUNTIFS(TU_DB[[HRD Bin (ppm)]:[HRD Bin (ppm)]],E$19,TU_DB[[Monitoring Site]:[Monitoring Site]],$B80)","v":0},{"$f":"COUNTIFS(TU_DB[[HRD Bin (ppm)]:[HRD Bin (ppm)]],F$19,TU_DB[[Monitoring Site]:[Monitoring Site]],$B80)","v":0},{"$f":"COUNTIFS(TU_DB[[HRD Bin (ppm)]:[HRD Bin (ppm)]],G$19,TU_DB[[Monitoring Site]:[Monitoring Site]],$B80)","v":2},2,1.4184397163120567E-2]
[null,{"$f":"Use!Q133","v":"MOA Creek"},{"$f":"COUNTIFS(TU_DB[[HRD Bin (ppm)]:[HRD Bin (ppm)]],C$19,TU_DB[[Monitoring Site]:[Monitoring Site]],$B81)","v":0},{"$f":"COUNTIFS(TU_DB[[HRD Bin (ppm)]:[HRD Bin (ppm)]],D$19,TU_DB[[Monitoring Site]:[Monitoring Site]],$B81)","v":2},{"$f":"COUNTIFS(TU_DB[[HRD Bin (ppm)]:[HRD Bin (ppm)]],E$19,TU_DB[[Monitoring Site]:[Monitoring Site]],$B81)","v":1},{"$f":"COUNTIFS(TU_DB[[HRD Bin (ppm)]:[HRD Bin (ppm)]],F$19,TU_DB[[Monitoring Site]:[Monitoring Site]],$B81)","v":4},{"$f":"COUNTIFS(TU_DB[[HRD Bin (ppm)]:[HRD Bin (ppm)]],G$19,TU_DB[[Monitoring Site]:[Monitoring Site]],$B81)","v":14},21,0.14893617021276595]
[null,{"$f":"Use!Q134","v":"Trout Brook"},{"$f":"COUNTIFS(TU_DB[[HRD Bin (ppm)]:[HRD Bin (ppm)]],C$19,TU_DB[[Monitoring Site]:[Monitoring Site]],$B82)","v":3},{"$f":"COUNTIFS(TU_DB[[HRD Bin (ppm)]:[HRD Bin (ppm)]],D$19,TU_DB[[Monitoring Site]:[Monitoring Site]],$B82)","v":0},{"$f":"COUNTIFS(TU_DB[[HRD Bin (ppm)]:[HRD Bin (ppm)]],E$19,TU_DB[[Monitoring Site]:[Monitoring Site]],$B82)","v":1},{"$f":"COUNTIFS(TU_DB[[HRD Bin (ppm)]:[HRD Bin (ppm)]],F$19,TU_DB[[Monitoring Site]:[Monitoring Site]],$B82)","v":22},{"$f":"COUNTIFS(TU_DB[[HRD Bin (ppm)]:[HRD Bin (ppm)]],G$19,TU_DB[[Monitoring Site]:[Monitoring Site]],$B82)","v":12},38,0.26950354609929078]
[null,{"$f":"Use!Q135","v":"Vermillion River, South Branch"},{"$f":"COUNTIFS(TU_DB[[HRD Bin (ppm)]:[HRD Bin (ppm)]],C$19,TU_DB[[Monitoring Site]:[Monitoring Site]],$B83)","v":3},{"$f":"COUNTIFS(TU_DB[[HRD Bin (ppm)]:[HRD Bin (ppm)]],D$19,TU_DB[[Monitoring Site]:[Monitoring Site]],$B83)","v":2},{"$f":"COUNTIFS(TU_DB[[HRD Bin (ppm)]:[HRD Bin (ppm)]],E$19,TU_DB[[Monitoring Site]:[Monitoring Site]],$B83)","v":4},{"$f":"COUNTIFS(TU_DB[[HRD Bin (ppm)]:[HRD Bin (ppm)]],F$19,TU_DB[[Monitoring Site]:[Monitoring Site]],$B83)","v":10},{"$f":"COUNTIFS(TU_DB[[HRD Bin (ppm)]:[HRD Bin (ppm)]],G$19,TU_DB[[Monitoring Site]:[Monitoring Site]],$B83)","v":16},35,0.24822695035460993]
[]
[null,null,null,null,null,null,null,null,null,null,null,"Plotting Data",0,30,60,120,180]
[null,null,null,null,null,null,null,null,null,null,null,{"$f":"INDEX(C64:C83,MATCH($M$62,$B$64:$B$83,0))","v":2},{"$f":"INDEX(D64:D83,MATCH($M$62,$B$64:$B$83,0))","v":21},14,66,46,{"$f":"INDEX(#REF!,MATCH($M$62,$B$64:$B$83,0))","v":{"$error":"#REF!"}}]

{"sheet":"pH","index":4,"n_rows":86,"n_cols":22,"rows_kept":86,"cut":false,"hidden":false,"merged":[[1,2,1,3],[17,11,18,11],[61,14,61,17]]}
["TU DARE Angler Science DB"]
[null,"Water Analysis","pH"]
[null,"Download",{"$f":"TUDB!B3","v":"3023-10-31"}]
[]
[null,"Overview Stats"]
[null,"pH","Observations","% Total Obs.","Cum. %",2019,2020,2021,2022,2023]
[null,6,{"$f":"COUNTIFS(TU_DB[pH Bin],B7)","v":63},{"$f":"C7/$C$14","v":3.9848197343453511E-2},{"$f":"D7","v":3.9848197343453511E-2},{"$f":"COUNTIFS(TU_DB[[pH Bin]:[pH Bin]],$B7,TU_DB[[Year]:[Year]],F$6)","v":0},{"$f":"COUNTIFS(TU_DB[[pH Bin]:[pH Bin]],$B7,TU_DB[[Year]:[Year]],G$6)","v":18},{"$f":"COUNTIFS(TU_DB[[pH Bin]:[pH Bin]],$B7,TU_DB[[Year]:[Year]],H$6)","v":3},{"$f":"COUNTIFS(TU_DB[[pH Bin]:[pH Bin]],$B7,TU_DB[[Year]:[Year]],I$6)","v":17},{"$f":"COUNTIFS(TU_DB[[pH Bin]:[pH Bin]],$B7,TU_DB[[Year]:[Year]],J$6)","v":25}]
[null,6.5,{"$f":"COUNTIFS(TU_DB[pH Bin],B8)","v":47},2.9728020240354206E-2,{"$f":"D8+E7","v":6.957621758380772E-2},{"$f":"COUNTIFS(TU_DB[[pH Bin]:[pH Bin]],$B8,TU_DB[[Year]:[Year]],F$6)","v":0},{"$f":"COUNTIFS(TU_DB[[pH Bin]:[pH Bin]],$B8,TU_DB[[Year]:[Year]],G$6)","v":5},{"$f":"COUNTIFS(TU_DB[[pH Bin]:[pH Bin]],$B8,TU_DB[[Year]:[Year]],H$6)","v":7},{"$f":"COUNTIFS(TU_DB[[pH Bin]:[pH Bin]],$B8,TU_DB[[Year]:[Year]],I$6)","v":5},{"$f":"COUNTIFS(TU_DB[[pH Bin]:[pH Bin]],$B8,TU_DB[[Year]:[Year]],J$6)","v":30}]
[null,7,{"$f":"COUNTIFS(TU_DB[pH Bin],B9)","v":466},0.29475015812776723,0.36432637571157495,{"$f":"COUNTIFS(TU_DB[[pH Bin]:[pH Bin]],$B9,TU_DB[[Year]:[Year]],F$6)","v":0},{"$f":"COUNTIFS(TU_DB[[pH Bin]:[pH Bin]],$B9,TU_DB[[Year]:[Year]],G$6)","v":27},{"$f":"COUNTIFS(TU_DB[[pH Bin]:[pH Bin]],$B9,TU_DB[[Year]:[Year]],H$6)","v":126},{"$f":"COUNTIFS(TU_DB[[pH Bin]:[pH Bin]],$B9,TU_DB[[Year]:[Year]],I$6)","v":124},{"$f":"COUNTIFS(TU_DB[[pH Bin]:[pH Bin]],$B9,TU_DB[[Year]:[Year]],J$6)","v":189}]
[null,7.5,{"$f":"COUNTIFS(TU_DB[pH Bin],B10)","v":496},0.31372549019607843,0.67805186590765332,{"$f":"COUNTIFS(TU_DB[[pH Bin]:[pH Bin]],$B10,TU_DB[[Year]:[Year]],F$6)","v":3},{"$f":"COUNTIFS(TU_DB[[pH Bin]:[pH Bin]],$B10,TU_DB[[Year]:[Year]],G$6)","v":28},{"$f":"COUNTIFS(TU_DB[[pH Bin]:[pH Bin]],$B10,TU_DB[[Year]:[Year]],H$6)","v":124},{"$f":"COUNTIFS(TU_DB[[pH Bin]:[pH Bin]],$B10,TU_DB[[Year]:[Year]],I$6)","v":136},{"$f":"COUNTIFS(TU_DB[[pH Bin]:[pH Bin]],$B10,TU_DB[[Year]:[Year]],J$6)","v":205}]
[null,8,{"$f":"COUNTIFS(TU_DB[pH Bin],B11)","v":449},0.28399746995572422,0.96204933586337749,{"$f":"COUNTIFS(TU_DB[[pH Bin]:[pH Bin]],$B11,TU_DB[[Year]:[Year]],F$6)","v":0},{"$f":"COUNTIFS(TU_DB[[pH Bin]:[pH Bin]],$B11,TU_DB[[Year]:[Year]],G$6)","v":27},{"$f":"COUNTIFS(TU_DB[[pH Bin]:[pH Bin]],$B11,TU_DB[[Year]:[Year]],H$6)","v":93},{"$f":"COUNTIFS(TU_DB[[pH Bin]:[pH Bin]],$B11,TU_DB[[Year]:[Year]],I$6)","v":129},{"$f":"COUNTIFS(TU_DB[[pH Bin]:[pH Bin]],$B11,TU_DB[[Year]:[Year]],J$6)","v":200}]
[null,8.5,{"$f":"COUNTIFS(TU_DB[pH Bin],B12)","v":13},8.2226438962681846E-3,0.97027197975964563,{"$f":"COUNTIFS(TU_DB[[pH Bin]:[pH Bin]],$B12,TU_DB[[Year]:[Year]],F$6)","v":1},{"$f":"COUNTIFS(TU_DB[[pH Bin]:[pH Bin]],$B12,TU_DB[[Year]:[Year]],G$6)","v":1},{"$f":"COUNTIFS(TU_DB[[pH Bin]:[pH Bin]],$B12,TU_DB[[Year]:[Year]],H$6)","v":2},{"$f":"COUNTIFS(TU_DB[[pH Bin]:[pH Bin]],$B12,TU_DB[[Year]:[Year]],I$6)","v":1},{"$f":"COUNTIFS(TU_DB[[pH Bin]:[pH Bin]],$B12,TU_DB[[Year]:[Year]],J$6)","v":8}]
[null,9,{"$f":"COUNTIFS(TU_DB[pH Bin],B13)","v":47},2.9728020240354206E-2,0.99999999999999989,{"$f":"COUNTIFS(TU_DB[[pH Bin]:[pH Bin]],$B13,TU_DB[[Year]:[Year]],F$6)","v":0},{"$f":"COUNTIFS(TU_DB[[pH Bin]:[pH Bin]],$B13,TU_DB[[Year]:[Year]],G$6)","v":2},{"$f":"COUNTIFS(TU_DB[[pH Bin]:[pH Bin]],$B13,TU_DB[[Year]:[Year]],H$6)","v":6},{"$f":"COUNTIFS(TU_DB[[pH Bin]:[pH Bin]],$B13,TU_DB[[Year]:[Year]],I$6)","v":7},{"$f":"COUNTIFS(TU_DB[[pH Bin]:[pH Bin]],$B13,TU_DB[[Year]:[Year]],J$6)","v":32}]
[null,"Total",{"$f":"SUM(C7:C13)","v":1581},null,null,{"$f":"SUM(F7:F13)","v":4},108,361,419,689]
[]
[]
[null,"Weather Conditions"]
[null,null,"pH",null,null,null,null,null,null,null,null,"Table Labels"]
[null,"Weather Conditions",6,6.5,7,7.5,8,8.5,9,"Sum","% Total"]
[null,"Local Thunderstorm",{"$f":"COUNTIFS(TU_DB[[pH Bin]:[pH Bin]],C$19,TU_DB[[Weather]:[Weather]],$B20)","v":0},{"$f":"COUNTIFS(TU_DB[[pH Bin]:[pH Bin]],D$19,TU_DB[[Weather]:[Weather]],$B20)","v":1},{"$f":"COUNTIFS(TU_DB[[pH Bin]:[pH Bin]],E$19,TU_DB[[Weather]:[Weather]],$B20)","v":14},{"$f":"COUNTIFS(TU_DB[[pH Bin]:[pH Bin]],F$19,TU_DB[[Weather]:[Weather]],$B20)","v":18},{"$f":"COUNTIFS(TU_DB[[pH Bin]:[pH Bin]],G$19,TU_DB[[Weather]:[Weather]],$B20)","v":10},{"$f":"COUNTIFS(TU_DB[[pH Bin]:[pH Bin]],H$19,TU_DB[[Weather]:[Weather]],$B20)","v":0},{"$f":"COUNTIFS(TU_DB[[pH Bin]:[pH Bin]],I$19,TU_DB[[Weather]:[Weather]],$B20)","v":0},{"$f":"SUM(C20:I20)","v":43},{"$f":"SUM(J20)/SUM($J$20:$J$25)","v":3.1899109792284865E-2},"LT"]
[null,"Regional Rainfall",{"$f":"COUNTIFS(TU_DB[[pH Bin]:[pH Bin]],C$19,TU_DB[[Weather]:[Weather]],$B21)","v":4},{"$f":"COUNTIFS(TU_DB[[pH Bin]:[pH Bin]],D$19,TU_DB[[Weather]:[Weather]],$B21)","v":3},{"$f":"COUNTIFS(TU_DB[[pH Bin]:[pH Bin]],E$19,TU_DB[[Weather]:[Weather]],$B21)","v":65},{"$f":"COUNTIFS(TU_DB[[pH Bin]:[pH Bin]],F$19,TU_DB[[Weather]:[Weather]],$B21)","v":54},{"$f":"COUNTIFS(TU_DB[[pH Bin]:[pH Bin]],G$19,TU_DB[[Weather]:[Weather]],$B21)","v":25},{"$f":"COUNTIFS(TU_DB[[pH Bin]:[pH Bin]],H$19,TU_DB[[Weather]:[Weather]],$B21)","v":0},{"$f":"COUNTIFS(TU_DB[[pH Bin]:[pH Bin]],I$19,TU_DB[[Weather]:[Weather]],$B21)","v":4},{"$f":"SUM(C21:H21)","v":151},0.11201780415430267,"RR"]
[null,"Regional Rainfall,Local Thunderstorm",{"$f":"COUNTIFS(TU_DB[[pH Bin]:[pH Bin]],C$19,TU_DB[[Weather]:[Weather]],$B22)","v":0},{"$f":"COUNTIFS(TU_DB[[pH Bin]:[pH Bin]],D$19,TU_DB[[Weather]:[Weather]],$B22)","v":0},{"$f":"COUNTIFS(TU_DB[[pH Bin]:[pH Bin]],E$19,TU_DB[[Weather]:[Weather]],$B22)","v":0},{"$f":"COUNTIFS(TU_DB[[pH Bin]:[pH Bin]],F$19,TU_DB[[Weather]:[Weather]],$B22)","v":8},{"$f":"COUNTIFS(TU_DB[[pH Bin]:[pH Bin]],G$19,TU_DB[[Weather]:[Weather]],$B22)","v":0},{"$f":"COUNTIFS(TU_DB[[pH Bin]:[pH Bin]],H$19,TU_DB[[Weather]:[Weather]],$B22)","v":0},{"$f":"COUNTIFS(TU_DB[[pH Bin]:[pH Bin]],I$19,TU_DB[[Weather]:[Weather]],$B22)","v":0},8,5.9347181008902079E-3,"RR, LT"]
[null,"Regional Rainfall,Warmth Causing Snowmelt",{"$f":"COUNTIFS(TU_DB[[pH Bin]:[pH Bin]],C$19,TU_DB[[Weather]:[Weather]],$B23)","v":0},{"$f":"COUNTIFS(TU_DB[[pH Bin]:[pH Bin]],D$19,TU_DB[[Weather]:[Weather]],$B23)","v":3},{"$f":"COUNTIFS(TU_DB[[pH Bin]:[pH Bin]],E$19,TU_DB[[Weather]:[Weather]],$B23)","v":1},{"$f":"COUNTIFS(TU_DB[[pH Bin]:[pH Bin]],F$19,TU_DB[[Weather]:[Weather]],$B23)","v":0},{"$f":"COUNTIFS(TU_DB[[pH Bin]:[pH Bin]],G$19,TU_DB[[Weather]:[Weather]],$B23)","v":0},{"$f":"COUNTIFS(TU_DB[[pH Bin]:[pH Bin]],H$19,TU_DB[[Weather]:[Weather]],$B23)","v":0},{"$f":"COUNTIFS(TU_DB[[pH Bin]:[pH Bin]],I$19,TU_DB[[Weather]:[Weather]],$B23)","v":0},4,2.967359050445104E-3,"RR, SM"]
[null,"Warmth Causing Snowmelt",{"$f":"COUNTIFS(TU_DB[[pH Bin]:[pH Bin]],C$19,TU_DB[[Weather]:[Weather]],$B24)","v":0},{"$f":"COUNTIFS(TU_DB[[pH Bin]:[pH Bin]],D$19,TU_DB[[Weather]:[Weather]],$B24)","v":0},{"$f":"COUNTIFS(TU_DB[[pH Bin]:[pH Bin]],E$19,TU_DB[[Weather]:[Weather]],$B24)","v":8},{"$f":"COUNTIFS(TU_DB[[pH Bin]:[pH Bin]],F$19,TU_DB[[Weather]:[Weather]],$B24)","v":7},{"$f":"COUNTIFS(TU_DB[[pH Bin]:[pH Bin]],G$19,TU_DB[[Weather]:[Weather]],$B24)","v":2},{"$f":"COUNTIFS(TU_DB[[pH Bin]:[pH Bin]],H$19,TU_DB[[Weather]:[Weather]],$B24)","v":0},{"$f":"COUNTIFS(TU_DB[[pH Bin]:[pH Bin]],I$19,TU_DB[[Weather]:[Weather]],$B24)","v":0},17,1.2611275964391691E-2,"SM"]
[null,"None",{"$f":"COUNTIFS(TU_DB[[pH Bin]:[pH Bin]],C$19,TU_DB[[Weather]:[Weather]],$B25)","v":49},{"$f":"COUNTIFS(TU_DB[[pH Bin]:[pH Bin]],D$19,TU_DB[[Weather]:[Weather]],$B25)","v":38},{"$f":"COUNTIFS(TU_DB[[pH Bin]:[pH Bin]],E$19,TU_DB[[Weather]:[Weather]],$B25)","v":314},{"$f":"COUNTIFS(TU_DB[[pH Bin]:[pH Bin]],F$19,TU_DB[[Weather]:[Weather]],$B25)","v":356},{"$f":"COUNTIFS(TU_DB[[pH Bin]:[pH Bin]],G$19,TU_DB[[Weather]:[Weather]],$B25)","v":356},{"$f":"COUNTIFS(TU_DB[[pH Bin]:[pH Bin]],H$19,TU_DB[[Weather]:[Weather]],$B25)","v":12},{"$f":"COUNTIFS(TU_DB[[pH Bin]:[pH Bin]],I$19,TU_DB[[Weather]:[Weather]],$B25)","v":34},1125,0.83456973293768544,"None"]
[null,"Total",{"$f":"SUM(C20:C25)","v":53},45,402,443,393,12,null,1348]
[]
[null,"Water Level"]
[null,null,"pH"]
[null,"Water Level",6,6.5,7,7.5,8,8.5,9,"Sum","% Total"]
[null,"Baseflow",{"$f":"COUNTIFS(TU_DB[[pH Bin]:[pH Bin]],C$19,TU_DB[[Water Level]:[Water Level]],$B31)","v":43},{"$f":"COUNTIFS(TU_DB[[pH Bin]:[pH Bin]],D$19,TU_DB[[Water Level]:[Water Level]],$B31)","v":38},{"$f":"COUNTIFS(TU_DB[[pH Bin]:[pH Bin]],E$19,TU_DB[[Water Level]:[Water Level]],$B31)","v":299},{"$f":"COUNTIFS(TU_DB[[pH Bin]:[pH Bin]],F$19,TU_DB[[Water Level]:[Water Level]],$B31)","v":356},{"$f":"COUNTIFS(TU_DB[[pH Bin]:[pH Bin]],G$19,TU_DB[[Water Level]:[Water Level]],$B31)","v":332},{"$f":"COUNTIFS(TU_DB[[pH Bin]:[pH Bin]],H$19,TU_DB[[Water Level]:[Water Level]],$B31)","v":8},{"$f":"COUNTIFS(TU_DB[[pH Bin]:[pH Bin]],I$19,TU_DB[[Water Level]:[Water Level]],$B31)","v":26},{"$f":"SUM(C31:H31)","v":1076},{"$f":"SUM(J31)/SUM($J$31:$J$34)","v":0.7774566473988439}]
[null,"Mid-Stage",{"$f":"COUNTIFS(TU_DB[[pH Bin]:[pH Bin]],C$19,TU_DB[[Water Level]:[Water Level]],$B32)","v":11},{"$f":"COUNTIFS(TU_DB[[pH Bin]:[pH Bin]],D$19,TU_DB[[Water Level]:[Water Level]],$B32)","v":5},{"$f":"COUNTIFS(TU_DB[[pH Bin]:[pH Bin]],E$19,TU_DB[[Water Level]:[Water Level]],$B32)","v":83},{"$f":"COUNTIFS(TU_DB[[pH Bin]:[pH Bin]],F$19,TU_DB[[Water Level]:[Water Level]],$B32)","v":82},{"$f":"COUNTIFS(TU_DB[[pH Bin]:[pH Bin]],G$19,TU_DB[[Water Level]:[Water Level]],$B32)","v":57},{"$f":"COUNTIFS(TU_DB[[pH Bin]:[pH Bin]],H$19,TU_DB[[Water Level]:[Water Level]],$B32)","v":4},{"$f":"COUNTIFS(TU_DB[[pH Bin]:[pH Bin]],I$19,TU_DB[[Water Level]:[Water Level]],$B32)","v":13},{"$f":"SUM(C32:H32)","v":242},{"$f":"SUM(J32)/SUM($J$31:$J$34)","v":0.17485549132947978}]
[null,"Bankfull Stage",{"$f":"COUNTIFS(TU_DB[[pH Bin]:[pH Bin]],C$19,TU_DB[[Water Level]:[Water Level]],$B33)","v":1},{"$f":"COUNTIFS(TU_DB[[pH Bin]:[pH Bin]],D$19,TU_DB[[Water Level]:[Water Level]],$B33)","v":2},{"$f":"COUNTIFS(TU_DB[[pH Bin]:[pH Bin]],E$19,TU_DB[[Water Level]:[Water Level]],$B33)","v":21},{"$f":"COUNTIFS(TU_DB[[pH Bin]:[pH Bin]],F$19,TU_DB[[Water Level]:[Water Level]],$B33)","v":20},{"$f":"COUNTIFS(TU_DB[[pH Bin]:[pH Bin]],G$19,TU_DB[[Water Level]:[Water Level]],$B33)","v":16},{"$f":"COUNTIFS(TU_DB[[pH Bin]:[pH Bin]],H$19,TU_DB[[Water Level]:[Water Level]],$B33)","v":0},{"$f":"COUNTIFS(TU_DB[[pH Bin]:[pH Bin]],I$19,TU_DB[[Water Level]:[Water Level]],$B33)","v":3},{"$f":"SUM(C33:H33)","v":60},{"$f":"SUM(J33)/SUM($J$31:$J$34)","v":4.3352601156069363E-2}]
[null,"Overbank Flooding",1,1,1,1,2,0,1,6,{"$f":"SUM(J34)/SUM($J$31:$J$34)","v":4.335260115606936E-3}]
[null,"Total",{"$f":"SUM(C31:C34)","v":56},46,404,459,407,12,null,1384]
[]
[]
[]
[]
[]
[]
[]
[]
[null,"Water Clarity"]
[null,null,"pH"]
[null,"Water Clarity",6,6.5,7,7.5,8,8.5,9,"Sum","% Total"]
[null,"Clear",{"$f":"COUNTIFS(TU_DB[[pH Bin]:[pH Bin]],C$19,TU_DB[[Clarity]:[Clarity]],$B47)","v":44},{"$f":"COUNTIFS(TU_DB[[pH Bin]:[pH Bin]],D$19,TU_DB[[Clarity]:[Clarity]],$B47)","v":30},{"$f":"COUNTIFS(TU_DB[[pH Bin]:[pH Bin]],E$19,TU_DB[[Clarity]:[Clarity]],$B47)","v":312},{"$f":"COUNTIFS(TU_DB[[pH Bin]:[pH Bin]],F$19,TU_DB[[Clarity]:[Clarity]],$B47)","v":382},{"$f":"COUNTIFS(TU_DB[[pH Bin]:[pH Bin]],G$19,TU_DB[[Clarity]:[Clarity]],$B47)","v":349},{"$f":"COUNTIFS(TU_DB[[pH Bin]:[pH Bin]],H$19,TU_DB[[Clarity]:[Clarity]],$B47)","v":11},{"$f":"COUNTIFS(TU_DB[[pH Bin]:[pH Bin]],I$19,TU_DB[[Clarity]:[Clarity]],$B47)","v":31},{"$f":"SUM(C47:H47)","v":1128},{"$f":"SUM(J47)/SUM($J$47:$J$49)","v":0.80513918629550318}]
[null,"Muddy",{"$f":"COUNTIFS(TU_DB[[pH Bin]:[pH Bin]],C$19,TU_DB[[Clarity]:[Clarity]],$B48)","v":0},{"$f":"COUNTIFS(TU_DB[[pH Bin]:[pH Bin]],D$19,TU_DB[[Clarity]:[Clarity]],$B48)","v":1},{"$f":"COUNTIFS(TU_DB[[pH Bin]:[pH Bin]],E$19,TU_DB[[Clarity]:[Clarity]],$B48)","v":20},{"$f":"COUNTIFS(TU_DB[[pH Bin]:[pH Bin]],F$19,TU_DB[[Clarity]:[Clarity]],$B48)","v":24},{"$f":"COUNTIFS(TU_DB[[pH Bin]:[pH Bin]],G$19,TU_DB[[Clarity]:[Clarity]],$B48)","v":11},{"$f":"COUNTIFS(TU_DB[[pH Bin]:[pH Bin]],H$19,TU_DB[[Clarity]:[Clarity]],$B48)","v":0},{"$f":"COUNTIFS(TU_DB[[pH Bin]:[pH Bin]],I$19,TU_DB[[Clarity]:[Clarity]],$B48)","v":1},{"$f":"SUM(C48:H48)","v":56},{"$f":"SUM(J48)/SUM($J$47:$J$49)","v":3.9971448965024983E-2}]
[null,"Murky",{"$f":"COUNTIFS(TU_DB[[pH Bin]:[pH Bin]],C$19,TU_DB[[Clarity]:[Clarity]],$B49)","v":13},{"$f":"COUNTIFS(TU_DB[[pH Bin]:[pH Bin]],D$19,TU_DB[[Clarity]:[Clarity]],$B49)","v":14},{"$f":"COUNTIFS(TU_DB[[pH Bin]:[pH Bin]],E$19,TU_DB[[Clarity]:[Clarity]],$B49)","v":74},{"$f":"COUNTIFS(TU_DB[[pH Bin]:[pH Bin]],F$19,TU_DB[[Clarity]:[Clarity]],$B49)","v":61},{"$f":"COUNTIFS(TU_DB[[pH Bin]:[pH Bin]],G$19,TU_DB[[Clarity]:[Clarity]],$B49)","v":54},{"$f":"COUNTIFS(TU_DB[[pH Bin]:[pH Bin]],H$19,TU_DB[[Clarity]:[Clarity]],$B49)","v":1},{"$f":"COUNTIFS(TU_DB[[pH Bin]:[pH Bin]],I$19,TU_DB[[Clarity]:[Clarity]],$B49)","v":10},{"$f":"SUM(C49:H49)","v":217},{"$f":"SUM(J49)/SUM($J$47:$J$49)","v":0.15488936473947182}]
[null,"Total",{"$f":"SUM(C47:C49)","v":57},45,406,467,414,12,null,1401]
[]
[]
[]
[]
[]
[]
[]
[]
[]
[]
[null,"Monitoring Stations"]
[null,null,"pH",null,null,null,null,null,null,null,null,null,null,"Station to Plot","Hay Creek @ 320th St"]
[null,"Monitoring Site",6,6.5,7,7.5,8,8.5,9,"Sum","% Total"]
[null,"Kiat-TU-Wish",{"$f":"SUM(C65:C74)","v":1},{"$f":"SUM(D65:D74)","v":5},48,47,46,1,1,{"$f":"SUM(J65:J74)","v":149}]
[null,"Cady Creek @ 50th St",{"$f":"COUNTIFS(TU_DB[[pH Bin]:[pH Bin]],C$19,TU_DB[[Monitoring Site]:[Monitoring Site]],$B65)","v":1},{"$f":"COUNTIFS(TU_DB[[pH Bin]:[pH Bin]],D$19,TU_DB[[Monitoring Site]:[Monitoring Site]],$B65)","v":0},{"$f":"COUNTIFS(TU_DB[[pH Bin]:[pH Bin]],E$19,TU_DB[[Monitoring Site]:[Monitoring Site]],$B65)","v":8},{"$f":"COUNTIFS(TU_DB[[pH Bin]:[pH Bin]],F$19,TU_DB[[Monitoring Site]:[Monitoring Site]],$B65)","v":5},{"$f":"COUNTIFS(TU_DB[[pH Bin]:[pH Bin]],G$19,TU_DB[[Monitoring Site]:[Monitoring Site]],$B65)","v":1},{"$f":"COUNTIFS(TU_DB[[pH Bin]:[pH Bin]],H$19,TU_DB[[Monitoring Site]:[Monitoring Site]],$B65)","v":0},{"$f":"COUNTIFS(TU_DB[[pH Bin]:[pH Bin]],I$19,TU_DB[[Monitoring Site]:[Monitoring Site]],$B65)","v":0},{"$f":"SUM(C65:I65)","v":15},{"$f":"SUM(J65)/$J$64","v":0.10067114093959731}]
[null,{"$f":"Use!Q118","v":"Eau Galle River @ WI Hwy 29"},{"$f":"COUNTIFS(TU_DB[[pH Bin]:[pH Bin]],C$19,TU_DB[[Monitoring Site]:[Monitoring Site]],$B66)","v":0},{"$f":"COUNTIFS(TU_DB[[pH Bin]:[pH Bin]],D$19,TU_DB[[Monitoring Site]:[Monitoring Site]],$B66)","v":0},{"$f":"COUNTIFS(TU_DB[[pH Bin]:[pH Bin]],E$19,TU_DB[[Monitoring Site]:[Monitoring Site]],$B66)","v":2},{"$f":"COUNTIFS(TU_DB[[pH Bin]:[pH Bin]],F$19,TU_DB[[Monitoring Site]:[Monitoring Site]],$B66)","v":2},{"$f":"COUNTIFS(TU_DB[[pH Bin]:[pH Bin]],G$19,TU_DB[[Monitoring Site]:[Monitoring Site]],$B66)","v":2},{"$f":"COUNTIFS(TU_DB[[pH Bin]:[pH Bin]],H$19,TU_DB[[Monitoring Site]:[Monitoring Site]],$B66)","v":0},{"$f":"COUNTIFS(TU_DB[[pH Bin]:[pH Bin]],I$19,TU_DB[[Monitoring Site]:[Monitoring Site]],$B66)","v":0},{"$f":"SUM(C66:I66)","v":6},4.0268456375838924E-2]
[null,{"$f":"Use!Q119","v":"Isabelle Creek @ County Rd. EE"},{"$f":"COUNTIFS(TU_DB[[pH Bin]:[pH Bin]],C$19,TU_DB[[Monitoring Site]:[Monitoring Site]],$B67)","v":0},{"$f":"COUNTIFS(TU_DB[[pH Bin]:[pH Bin]],D$19,TU_DB[[Monitoring Site]:[Monitoring Site]],$B67)","v":0},{"$f":"COUNTIFS(TU_DB[[pH Bin]:[pH Bin]],E$19,TU_DB[[Monitoring Site]:[Monitoring Site]],$B67)","v":0},{"$f":"COUNTIFS(TU_DB[[pH Bin]:[pH Bin]],F$19,TU_DB[[Monitoring Site]:[Monitoring Site]],$B67)","v":5},{"$f":"COUNTIFS(TU_DB[[pH Bin]:[pH Bin]],G$19,TU_DB[[Monitoring Site]:[Monitoring Site]],$B67)","v":11},{"$f":"COUNTIFS(TU_DB[[pH Bin]:[pH Bin]],H$19,TU_DB[[Monitoring Site]:[Monitoring Site]],$B67)","v":0},{"$f":"COUNTIFS(TU_DB[[pH Bin]:[pH Bin]],I$19,TU_DB[[Monitoring Site]:[Monitoring Site]],$B67)","v":0},16,0.10738255033557047]
[null,{"$f":"Use!Q120","v":"Kinnickinnic River, Lower Glen Park"},{"$f":"COUNTIFS(TU_DB[[pH Bin]:[pH Bin]],C$19,TU_DB[[Monitoring Site]:[Monitoring Site]],$B68)","v":0},{"$f":"COUNTIFS(TU_DB[[pH Bin]:[pH Bin]],D$19,TU_DB[[Monitoring Site]:[Monitoring Site]],$B68)","v":0},{"$f":"COUNTIFS(TU_DB[[pH Bin]:[pH Bin]],E$19,TU_DB[[Monitoring Site]:[Monitoring Site]],$B68)","v":0},{"$f":"COUNTIFS(TU_DB[[pH Bin]:[pH Bin]],F$19,TU_DB[[Monitoring Site]:[Monitoring Site]],$B68)","v":0},{"$f":"COUNTIFS(TU_DB[[pH Bin]:[pH Bin]],G$19,TU_DB[[Monitoring Site]:[Monitoring Site]],$B68)","v":0},{"$f":"COUNTIFS(TU_DB[[pH Bin]:[pH Bin]],H$19,TU_DB[[Monitoring Site]:[Monitoring Site]],$B68)","v":0},{"$f":"COUNTIFS(TU_DB[[pH Bin]:[pH Bin]],I$19,TU_DB[[Monitoring Site]:[Monitoring Site]],$B68)","v":0},0,0]
[null,{"$f":"Use!Q121","v":"Pine Creek @ County Rd. AA"},{"$f":"COUNTIFS(TU_DB[[pH Bin]:[pH Bin]],C$19,TU_DB[[Monitoring Site]:[Monitoring Site]],$B69)","v":0},{"$f":"COUNTIFS(TU_DB[[pH Bin]:[pH Bin]],D$19,TU_DB[[Monitoring Site]:[Monitoring Site]],$B69)","v":0},{"$f":"COUNTIFS(TU_DB[[pH Bin]:[pH Bin]],E$19,TU_DB[[Monitoring Site]:[Monitoring Site]],$B69)","v":7},{"$f":"COUNTIFS(TU_DB[[pH Bin]:[pH Bin]],F$19,TU_DB[[Monitoring Site]:[Monitoring Site]],$B69)","v":10},{"$f":"COUNTIFS(TU_DB[[pH Bin]:[pH Bin]],G$19,TU_DB[[Monitoring Site]:[Monitoring Site]],$B69)","v":6},{"$f":"COUNTIFS(TU_DB[[pH Bin]:[pH Bin]],H$19,TU_DB[[Monitoring Site]:[Monitoring Site]],$B69)","v":1},{"$f":"COUNTIFS(TU_DB[[pH Bin]:[pH Bin]],I$19,TU_DB[[Monitoring Site]:[Monitoring Site]],$B69)","v":0},24,0.16107382550335569]
[null,{"$f":"Use!Q122","v":"Plum Creek @ Plum CIty Park"},{"$f":"COUNTIFS(TU_DB[[pH Bin]:[pH Bin]],C$19,TU_DB[[Monitoring Site]:[Monitoring Site]],$B70)","v":0},{"$f":"COUNTIFS(TU_DB[[pH Bin]:[pH Bin]],D$19,TU_DB[[Monitoring Site]:[Monitoring Site]],$B70)","v":0},{"$f":"COUNTIFS(TU_DB[[pH Bin]:[pH Bin]],E$19,TU_DB[[Monitoring Site]:[Monitoring Site]],$B70)","v":4},{"$f":"COUNTIFS(TU_DB[[pH Bin]:[pH Bin]],F$19,TU_DB[[Monitoring Site]:[Monitoring Site]],$B70)","v":2},{"$f":"COUNTIFS(TU_DB[[pH Bin]:[pH Bin]],G$19,TU_DB[[Monitoring Site]:[Monitoring Site]],$B70)","v":4},{"$f":"COUNTIFS(TU_DB[[pH Bin]:[pH Bin]],H$19,TU_DB[[Monitoring Site]:[Monitoring Site]],$B70)","v":0},{"$f":"COUNTIFS(TU_DB[[pH Bin]:[pH Bin]],I$19,TU_DB[[Monitoring Site]:[Monitoring Site]],$B70)","v":0},10,6.7114093959731544E-2]
[null,{"$f":"Use!Q123","v":"Rocky Branch Creek, Lower Glen Park"},{"$f":"COUNTIFS(TU_DB[[pH Bin]:[pH Bin]],C$19,TU_DB[[Monitoring Site]:[Monitoring Site]],$B71)","v":0},{"$f":"COUNTIFS(TU_DB[[pH Bin]:[pH Bin]],D$19,TU_DB[[Monitoring Site]:[Monitoring Site]],$B71)","v":0},{"$f":"COUNTIFS(TU_DB[[pH Bin]:[pH Bin]],E$19,TU_DB[[Monitoring Site]:[Monitoring Site]],$B71)","v":2},{"$f":"COUNTIFS(TU_DB[[pH Bin]:[pH Bin]],F$19,TU_DB[[Monitoring Site]:[Monitoring Site]],$B71)","v":7},{"$f":"COUNTIFS(TU_DB[[pH Bin]:[pH Bin]],G$19,TU_DB[[Monitoring Site]:[Monitoring Site]],$B71)","v":0},{"$f":"COUNTIFS(TU_DB[[pH Bin]:[pH Bin]],H$19,TU_DB[[Monitoring Site]:[Monitoring Site]],$B71)","v":0},{"$f":"COUNTIFS(TU_DB[[pH Bin]:[pH Bin]],I$19,TU_DB[[Monitoring Site]:[Monitoring Site]],$B71)","v":0},9,6.0402684563758392E-2]
[null,{"$f":"Use!Q124","v":"Rush River @ 570th Ave"},{"$f":"COUNTIFS(TU_DB[[pH Bin]:[pH Bin]],C$19,TU_DB[[Monitoring Site]:[Monitoring Site]],$B72)","v":0},{"$f":"COUNTIFS(TU_DB[[pH Bin]:[pH Bin]],D$19,TU_DB[[Monitoring Site]:[Monitoring Site]],$B72)","v":4},{"$f":"COUNTIFS(TU_DB[[pH Bin]:[pH Bin]],E$19,TU_DB[[Monitoring Site]:[Monitoring Site]],$B72)","v":7},{"$f":"COUNTIFS(TU_DB[[pH Bin]:[pH Bin]],F$19,TU_DB[[Monitoring Site]:[Monitoring Site]],$B72)","v":6},{"$f":"COUNTIFS(TU_DB[[pH Bin]:[pH Bin]],G$19,TU_DB[[Monitoring Site]:[Monitoring Site]],$B72)","v":3},{"$f":"COUNTIFS(TU_DB[[pH Bin]:[pH Bin]],H$19,TU_DB[[Monitoring Site]:[Monitoring Site]],$B72)","v":0},{"$f":"COUNTIFS(TU_DB[[pH Bin]:[pH Bin]],I$19,TU_DB[[Monitoring Site]:[Monitoring Site]],$B72)","v":0},20,0.13422818791946309]
[null,{"$f":"Use!Q125","v":"SF Kinnickinnic River @ 900th St"},{"$f":"COUNTIFS(TU_DB[[pH Bin]:[pH Bin]],C$19,TU_DB[[Monitoring Site]:[Monitoring Site]],$B73)","v":0},{"$f":"COUNTIFS(TU_DB[[pH Bin]:[pH Bin]],D$19,TU_DB[[Monitoring Site]:[Monitoring Site]],$B73)","v":0},{"$f":"COUNTIFS(TU_DB[[pH Bin]:[pH Bin]],E$19,TU_DB[[Monitoring Site]:[Monitoring Site]],$B73)","v":16},{"$f":"COUNTIFS(TU_DB[[pH Bin]:[pH Bin]],F$19,TU_DB[[Monitoring Site]:[Monitoring Site]],$B73)","v":8},{"$f":"COUNTIFS(TU_DB[[pH Bin]:[pH Bin]],G$19,TU_DB[[Monitoring Site]:[Monitoring Site]],$B73)","v":17},{"$f":"COUNTIFS(TU_DB[[pH Bin]:[pH Bin]],H$19,TU_DB[[Monitoring Site]:[Monitoring Site]],$B73)","v":0},{"$f":"COUNTIFS(TU_DB[[pH Bin]:[pH Bin]],I$19,TU_DB[[Monitoring Site]:[Monitoring Site]],$B73)","v":1},42,0.28187919463087246]
[null,{"$f":"Use!Q126","v":"Trimbelle River @ County Rd W"},{"$f":"COUNTIFS(TU_DB[[pH Bin]:[pH Bin]],C$19,TU_DB[[Monitoring Site]:[Monitoring Site]],$B74)","v":0},{"$f":"COUNTIFS(TU_DB[[pH Bin]:[pH Bin]],D$19,TU_DB[[Monitoring Site]:[Monitoring Site]],$B74)","v":1},{"$f":"COUNTIFS(TU_DB[[pH Bin]:[pH Bin]],E$19,TU_DB[[Monitoring Site]:[Monitoring Site]],$B74)","v":2},{"$f":"COUNTIFS(TU_DB[[pH Bin]:[pH Bin]],F$19,TU_DB[[Monitoring Site]:[Monitoring Site]],$B74)","v":2},{"$f":"COUNTIFS(TU_DB[[pH Bin]:[pH Bin]],G$19,TU_DB[[Monitoring Site]:[Monitoring Site]],$B74)","v":2},{"$f":"COUNTIFS(TU_DB[[pH Bin]:[pH Bin]],H$19,TU_DB[[Monitoring Site]:[Monitoring Site]],$B74)","v":0},{"$f":"COUNTIFS(TU_DB[[pH Bin]:[pH Bin]],I$19,TU_DB[[Monitoring Site]:[Monitoring Site]],$B74)","v":0},7,4.6979865771812082E-2]
[null,"Twin Cities Trout Unlimited",{"$f":"SUM(C76:C85)","v":0},{"$f":"SUM(D76:D85)","v":1},45,54,34,3,4,{"$f":"SUM(J76:J83)","v":141}]
[null,{"$f":"Use!Q128","v":"Belle Creek"},{"$f":"COUNTIFS(TU_DB[[pH Bin]:[pH Bin]],C$19,TU_DB[[Monitoring Site]:[Monitoring Site]],$B76)","v":0},{"$f":"COUNTIFS(TU_DB[[pH Bin]:[pH Bin]],D$19,TU_DB[[Monitoring Site]:[Monitoring Site]],$B76)","v":1},{"$f":"COUNTIFS(TU_DB[[pH Bin]:[pH Bin]],E$19,TU_DB[[Monitoring Site]:[Monitoring Site]],$B76)","v":3},{"$f":"COUNTIFS(TU_DB[[pH Bin]:[pH Bin]],F$19,TU_DB[[Monitoring Site]:[Monitoring Site]],$B76)","v":3},{"$f":"COUNTIFS(TU_DB[[pH Bin]:[pH Bin]],G$19,TU_DB[[Monitoring Site]:[Monitoring Site]],$B76)","v":0},{"$f":"COUNTIFS(TU_DB[[pH Bin]:[pH Bin]],H$19,TU_DB[[Monitoring Site]:[Monitoring Site]],$B76)","v":0},{"$f":"COUNTIFS(TU_DB[[pH Bin]:[pH Bin]],I$19,TU_DB[[Monitoring Site]:[Monitoring Site]],$B76)","v":0},{"$f":"SUM(C76:I76)","v":7},{"$f":"SUM(J76)/$J$75","v":4.9645390070921988E-2}]
[null,{"$f":"Use!Q129","v":"Hay Creek @ 320th St"},{"$f":"COUNTIFS(TU_DB[[pH Bin]:[pH Bin]],C$19,TU_DB[[Monitoring Site]:[Monitoring Site]],$B77)","v":0},{"$f":"COUNTIFS(TU_DB[[pH Bin]:[pH Bin]],D$19,TU_DB[[Monitoring Site]:[Monitoring Site]],$B77)","v":0},{"$f":"COUNTIFS(TU_DB[[pH Bin]:[pH Bin]],E$19,TU_DB[[Monitoring Site]:[Monitoring Site]],$B77)","v":10},{"$f":"COUNTIFS(TU_DB[[pH Bin]:[pH Bin]],F$19,TU_DB[[Monitoring Site]:[Monitoring Site]],$B77)","v":5},{"$f":"COUNTIFS(TU_DB[[pH Bin]:[pH Bin]],G$19,TU_DB[[Monitoring Site]:[Monitoring Site]],$B77)","v":2},{"$f":"COUNTIFS(TU_DB[[pH Bin]:[pH Bin]],H$19,TU_DB[[Monitoring Site]:[Monitoring Site]],$B77)","v":3},{"$f":"COUNTIFS(TU_DB[[pH Bin]:[pH Bin]],I$19,TU_DB[[Monitoring Site]:[Monitoring Site]],$B77)","v":1},21,0.14893617021276595]
[null,{"$f":"Use!Q130","v":"Hay Creek @ 325th St"},{"$f":"COUNTIFS(TU_DB[[pH Bin]:[pH Bin]],C$19,TU_DB[[Monitoring Site]:[Monitoring Site]],$B78)","v":0},{"$f":"COUNTIFS(TU_DB[[pH Bin]:[pH Bin]],D$19,TU_DB[[Monitoring Site]:[Monitoring Site]],$B78)","v":0},{"$f":"COUNTIFS(TU_DB[[pH Bin]:[pH Bin]],E$19,TU_DB[[Monitoring Site]:[Monitoring Site]],$B78)","v":4},{"$f":"COUNTIFS(TU_DB[[pH Bin]:[pH Bin]],F$19,TU_DB[[Monitoring Site]:[Monitoring Site]],$B78)","v":9},{"$f":"COUNTIFS(TU_DB[[pH Bin]:[pH Bin]],G$19,TU_DB[[Monitoring Site]:[Monitoring Site]],$B78)","v":2},{"$f":"COUNTIFS(TU_DB[[pH Bin]:[pH Bin]],H$19,TU_DB[[Monitoring Site]:[Monitoring Site]],$B78)","v":0},{"$f":"COUNTIFS(TU_DB[[pH Bin]:[pH Bin]],I$19,TU_DB[[Monitoring Site]:[Monitoring Site]],$B78)","v":0},15,0.10638297872340426]
[null,{"$f":"Use!Q131","v":"Eagle Creek"},{"$f":"COUNTIFS(TU_DB[[pH Bin]:[pH Bin]],C$19,TU_DB[[Monitoring Site]:[Monitoring Site]],$B79)","v":0},{"$f":"COUNTIFS(TU_DB[[pH Bin]:[pH Bin]],D$19,TU_DB[[Monitoring Site]:[Monitoring Site]],$B79)","v":0},{"$f":"COUNTIFS(TU_DB[[pH Bin]:[pH Bin]],E$19,TU_DB[[Monitoring Site]:[Monitoring Site]],$B79)","v":0},{"$f":"COUNTIFS(TU_DB[[pH Bin]:[pH Bin]],F$19,TU_DB[[Monitoring Site]:[Monitoring Site]],$B79)","v":2},{"$f":"COUNTIFS(TU_DB[[pH Bin]:[pH Bin]],G$19,TU_DB[[Monitoring Site]:[Monitoring Site]],$B79)","v":0},{"$f":"COUNTIFS(TU_DB[[pH Bin]:[pH Bin]],H$19,TU_DB[[Monitoring Site]:[Monitoring Site]],$B79)","v":0},{"$f":"COUNTIFS(TU_DB[[pH Bin]:[pH Bin]],I$19,TU_DB[[Monitoring Site]:[Monitoring Site]],$B79)","v":0},2,1.4184397163120567E-2]
[null,{"$f":"Use!Q132","v":"Little Cannon River"},{"$f":"COUNTIFS(TU_DB[[pH Bin]:[pH Bin]],C$19,TU_DB[[Monitoring Site]:[Monitoring Site]],$B80)","v":0},{"$f":"COUNTIFS(TU_DB[[pH Bin]:[pH Bin]],D$19,TU_DB[[Monitoring Site]:[Monitoring Site]],$B80)","v":0},{"$f":"COUNTIFS(TU_DB[[pH Bin]:[pH Bin]],E$19,TU_DB[[Monitoring Site]:[Monitoring Site]],$B80)","v":0},{"$f":"COUNTIFS(TU_DB[[pH Bin]:[pH Bin]],F$19,TU_DB[[Monitoring Site]:[Monitoring Site]],$B80)","v":0},{"$f":"COUNTIFS(TU_DB[[pH Bin]:[pH Bin]],G$19,TU_DB[[Monitoring Site]:[Monitoring Site]],$B80)","v":2},{"$f":"COUNTIFS(TU_DB[[pH Bin]:[pH Bin]],H$19,TU_DB[[Monitoring Site]:[Monitoring Site]],$B80)","v":0},{"$f":"COUNTIFS(TU_DB[[pH Bin]:[pH Bin]],I$19,TU_DB[[Monitoring Site]:[Monitoring Site]],$B80)","v":0},2,1.4184397163120567E-2]
[null,{"$f":"Use!Q133","v":"MOA Creek"},{"$f":"COUNTIFS(TU_DB[[pH Bin]:[pH Bin]],C$19,TU_DB[[Monitoring Site]:[Monitoring Site]],$B81)","v":0},{"$f":"COUNTIFS(TU_DB[[pH Bin]:[pH Bin]],D$19,TU_DB[[Monitoring Site]:[Monitoring Site]],$B81)","v":0},{"$f":"COUNTIFS(TU_DB[[pH Bin]:[pH Bin]],E$19,TU_DB[[Monitoring Site]:[Monitoring Site]],$B81)","v":5},{"$f":"COUNTIFS(TU_DB[[pH Bin]:[pH Bin]],F$19,TU_DB[[Monitoring Site]:[Monitoring Site]],$B81)","v":4},{"$f":"COUNTIFS(TU_DB[[pH Bin]:[pH Bin]],G$19,TU_DB[[Monitoring Site]:[Monitoring Site]],$B81)","v":12},{"$f":"COUNTIFS(TU_DB[[pH Bin]:[pH Bin]],H$19,TU_DB[[Monitoring Site]:[Monitoring Site]],$B81)","v":0},{"$f":"COUNTIFS(TU_DB[[pH Bin]:[pH Bin]],I$19,TU_DB[[Monitoring Site]:[Monitoring Site]],$B81)","v":0},21,0.14893617021276595]
[null,{"$f":"Use!Q134","v":"Trout Brook"},{"$f":"COUNTIFS(TU_DB[[pH Bin]:[pH Bin]],C$19,TU_DB[[Monitoring Site]:[Monitoring Site]],$B82)","v":0},{"$f":"COUNTIFS(TU_DB[[pH Bin]:[pH Bin]],D$19,TU_DB[[Monitoring Site]:[Monitoring Site]],$B82)","v":0},{"$f":"COUNTIFS(TU_DB[[pH Bin]:[pH Bin]],E$19,TU_DB[[Monitoring Site]:[Monitoring Site]],$B82)","v":8},{"$f":"COUNTIFS(TU_DB[[pH Bin]:[pH Bin]],F$19,TU_DB[[Monitoring Site]:[Monitoring Site]],$B82)","v":26},{"$f":"COUNTIFS(TU_DB[[pH Bin]:[pH Bin]],G$19,TU_DB[[Monitoring Site]:[Monitoring Site]],$B82)","v":3},{"$f":"COUNTIFS(TU_DB[[pH Bin]:[pH Bin]],H$19,TU_DB[[Monitoring Site]:[Monitoring Site]],$B82)","v":0},{"$f":"COUNTIFS(TU_DB[[pH Bin]:[pH Bin]],I$19,TU_DB[[Monitoring Site]:[Monitoring Site]],$B82)","v":1},38,0.26950354609929078]
[null,{"$f":"Use!Q135","v":"Vermillion River, South Branch"},{"$f":"COUNTIFS(TU_DB[[pH Bin]:[pH Bin]],C$19,TU_DB[[Monitoring Site]:[Monitoring Site]],$B83)","v":0},{"$f":"COUNTIFS(TU_DB[[pH Bin]:[pH Bin]],D$19,TU_DB[[Monitoring Site]:[Monitoring Site]],$B83)","v":0},{"$f":"COUNTIFS(TU_DB[[pH Bin]:[pH Bin]],E$19,TU_DB[[Monitoring Site]:[Monitoring Site]],$B83)","v":15},{"$f":"COUNTIFS(TU_DB[[pH Bin]:[pH Bin]],F$19,TU_DB[[Monitoring Site]:[Monitoring Site]],$B83)","v":5},{"$f":"COUNTIFS(TU_DB[[pH Bin]:[pH Bin]],G$19,TU_DB[[Monitoring Site]:[Monitoring Site]],$B83)","v":13},{"$f":"COUNTIFS(TU_DB[[pH Bin]:[pH Bin]],H$19,TU_DB[[Monitoring Site]:[Monitoring Site]],$B83)","v":0},{"$f":"COUNTIFS(TU_DB[[pH Bin]:[pH Bin]],I$19,TU_DB[[Monitoring Site]:[Monitoring Site]],$B83)","v":2},35,0.24822695035460993]
[]
[null,null,null,null,null,null,null,null,null,null,null,null,null,null,"Plotting Data",6,6.5,7,7.5,8,8.5,9]
[null,null,null,null,null,null,null,null,null,null,null,null,null,null,{"$f":"INDEX(B64:B82,MATCH($O$62,$B$64:$B$82,0))","v":"Hay Creek @ 320th St"},{"$f":"INDEX(C64:C83,MATCH($O$62,$B$64:$B$83,0))","v":0},{"$f":"INDEX(D64:D83,MATCH($O$62,$B$64:$B$83,0))","v":0},10,5,2,3,1]

{"sheet":"NO2","index":5,"n_rows":87,"n_cols":19,"rows_kept":87,"cut":false,"hidden":false,"merged":[[1,2,1,3],[17,10,18,10],[61,13,61,16]]}
["TU DARE Angler Science DB"]
[null,"Water Analysis","Nitrite (NO2)"]
[null,"Download",{"$f":"TUDB!B3","v":"3023-10-31"}]
[]
[null,"Overview Stats"]
[null,"Nitrite (NO2) \n[ppm]","Observations","% Total Obs.","Cum. %",2019,2020,2021,2022,2023]
[null,0,{"$f":"COUNTIFS(TU_DB[NO2 Bin (2n1) (ppm)],B7)","v":1259},{"$f":"C7/$C$13","v":0.85879945429740789},{"$f":"D7","v":0.85879945429740789},{"$f":"COUNTIFS(TU_DB[[NO2 Bin (2n1) (ppm)]:[NO2 Bin (2n1) (ppm)]],$B7,TU_DB[[Year]:[Year]],F$6)","v":0},{"$f":"COUNTIFS(TU_DB[[NO2 Bin (2n1) (ppm)]:[NO2 Bin (2n1) (ppm)]],$B7,TU_DB[[Year]:[Year]],G$6)","v":68},{"$f":"COUNTIFS(TU_DB[[NO2 Bin (2n1) (ppm)]:[NO2 Bin (2n1) (ppm)]],$B7,TU_DB[[Year]:[Year]],H$6)","v":255},{"$f":"COUNTIFS(TU_DB[[NO2 Bin (2n1) (ppm)]:[NO2 Bin (2n1) (ppm)]],$B7,TU_DB[[Year]:[Year]],I$6)","v":340},{"$f":"COUNTIFS(TU_DB[[NO2 Bin (2n1) (ppm)]:[NO2 Bin (2n1) (ppm)]],$B7,TU_DB[[Year]:[Year]],J$6)","v":596}]
[null,0.15,{"$f":"COUNTIFS(TU_DB[NO2 Bin (2n1) (ppm)],B8)","v":203},0.13847203274215553,{"$f":"D8+E7","v":0.99727148703956336},{"$f":"COUNTIFS(TU_DB[[NO2 Bin (2n1) (ppm)]:[NO2 Bin (2n1) (ppm)]],$B8,TU_DB[[Year]:[Year]],F$6)","v":0},{"$f":"COUNTIFS(TU_DB[[NO2 Bin (2n1) (ppm)]:[NO2 Bin (2n1) (ppm)]],$B8,TU_DB[[Year]:[Year]],G$6)","v":24},{"$f":"COUNTIFS(TU_DB[[NO2 Bin (2n1) (ppm)]:[NO2 Bin (2n1) (ppm)]],$B8,TU_DB[[Year]:[Year]],H$6)","v":52},{"$f":"COUNTIFS(TU_DB[[NO2 Bin (2n1) (ppm)]:[NO2 Bin (2n1) (ppm)]],$B8,TU_DB[[Year]:[Year]],I$6)","v":41},{"$f":"COUNTIFS(TU_DB[[NO2 Bin (2n1) (ppm)]:[NO2 Bin (2n1) (ppm)]],$B8,TU_DB[[Year]:[Year]],J$6)","v":86}]
[null,0.3,{"$f":"COUNTIFS(TU_DB[NO2 Bin (2n1) (ppm)],B9)","v":4},2.7285129604365621E-3,{"$f":"D9+E8","v":0.99999999999999989},{"$f":"COUNTIFS(TU_DB[[NO2 Bin (2n1) (ppm)]:[NO2 Bin (2n1) (ppm)]],$B9,TU_DB[[Year]:[Year]],F$6)","v":0},{"$f":"COUNTIFS(TU_DB[[NO2 Bin (2n1) (ppm)]:[NO2 Bin (2n1) (ppm)]],$B9,TU_DB[[Year]:[Year]],G$6)","v":0},{"$f":"COUNTIFS(TU_DB[[NO2 Bin (2n1) (ppm)]:[NO2 Bin (2n1) (ppm)]],$B9,TU_DB[[Year]:[Year]],H$6)","v":2},{"$f":"COUNTIFS(TU_DB[[NO2 Bin (2n1) (ppm)]:[NO2 Bin (2n1) (ppm)]],$B9,TU_DB[[Year]:[Year]],I$6)","v":0},{"$f":"COUNTIFS(TU_DB[[NO2 Bin (2n1) (ppm)]:[NO2 Bin (2n1) (ppm)]],$B9,TU_DB[[Year]:[Year]],J$6)","v":2}]
[null,1,{"$f":"COUNTIFS(TU_DB[NO2 Bin (2n1) (ppm)],B10)","v":0},0,{"$f":"D10+E9","v":0.99999999999999989},{"$f":"COUNTIFS(TU_DB[[NO2 Bin (2n1) (ppm)]:[NO2 Bin (2n1) (ppm)]],$B10,TU_DB[[Year]:[Year]],F$6)","v":0},{"$f":"COUNTIFS(TU_DB[[NO2 Bin (2n1) (ppm)]:[NO2 Bin (2n1) (ppm)]],$B10,TU_DB[[Year]:[Year]],G$6)","v":0},{"$f":"COUNTIFS(TU_DB[[NO2 Bin (2n1) (ppm)]:[NO2 Bin (2n1) (ppm)]],$B10,TU_DB[[Year]:[Year]],H$6)","v":0},{"$f":"COUNTIFS(TU_DB[[NO2 Bin (2n1) (ppm)]:[NO2 Bin (2n1) (ppm)]],$B10,TU_DB[[Year]:[Year]],I$6)","v":0},{"$f":"COUNTIFS(TU_DB[[NO2 Bin (2n1) (ppm)]:[NO2 Bin (2n1) (ppm)]],$B10,TU_DB[[Year]:[Year]],J$6)","v":0}]
[null,1.5,{"$f":"COUNTIFS(TU_DB[NO2 Bin (2n1) (ppm)],B11)","v":0},0,{"$f":"D11+E10","v":0.99999999999999989},{"$f":"COUNTIFS(TU_DB[[NO2 Bin (2n1) (ppm)]:[NO2 Bin (2n1) (ppm)]],$B11,TU_DB[[Year]:[Year]],F$6)","v":0},{"$f":"COUNTIFS(TU_DB[[NO2 Bin (2n1) (ppm)]:[NO2 Bin (2n1) (ppm)]],$B11,TU_DB[[Year]:[Year]],G$6)","v":0},{"$f":"COUNTIFS(TU_DB[[NO2 Bin (2n1) (ppm)]:[NO2 Bin (2n1) (ppm)]],$B11,TU_DB[[Year]:[Year]],H$6)","v":0},{"$f":"COUNTIFS(TU_DB[[NO2 Bin (2n1) (ppm)]:[NO2 Bin (2n1) (ppm)]],$B11,TU_DB[[Year]:[Year]],I$6)","v":0},{"$f":"COUNTIFS(TU_DB[[NO2 Bin (2n1) (ppm)]:[NO2 Bin (2n1) (ppm)]],$B11,TU_DB[[Year]:[Year]],J$6)","v":0}]
[null,3,{"$f":"COUNTIFS(TU_DB[NO2 Bin (2n1) (ppm)],B12)","v":0},0,{"$f":"D12+E11","v":0.99999999999999989},{"$f":"COUNTIFS(TU_DB[[NO2 Bin (2n1) (ppm)]:[NO2 Bin (2n1) (ppm)]],$B12,TU_DB[[Year]:[Year]],F$6)","v":0},{"$f":"COUNTIFS(TU_DB[[NO2 Bin (2n1) (ppm)]:[NO2 Bin (2n1) (ppm)]],$B12,TU_DB[[Year]:[Year]],G$6)","v":0},{"$f":"COUNTIFS(TU_DB[[NO2 Bin (2n1) (ppm)]:[NO2 Bin (2n1) (ppm)]],$B12,TU_DB[[Year]:[Year]],H$6)","v":0},{"$f":"COUNTIFS(TU_DB[[NO2 Bin (2n1) (ppm)]:[NO2 Bin (2n1) (ppm)]],$B12,TU_DB[[Year]:[Year]],I$6)","v":0},{"$f":"COUNTIFS(TU_DB[[NO2 Bin (2n1) (ppm)]:[NO2 Bin (2n1) (ppm)]],$B12,TU_DB[[Year]:[Year]],J$6)","v":0}]
[null,"Total",{"$f":"SUM(C7:C12)","v":1466},null,null,{"$f":"SUM(F7:F12)","v":0},{"$f":"SUM(G7:G12)","v":92},309,381,684]
[]
[]
[]
[null,"Weather Conditions"]
[null,null,"Nitrite (NO2) [ppm]",null,null,null,null,null,null,null,"Table Labels"]
[null,"Weather Conditions",0,0.15,0.3,1,1.5,3,"Sum","% Total"]
[null,"Local Thunderstorm",{"$f":"COUNTIFS(TU_DB[[NO2 Bin (2n1) (ppm)]:[NO2 Bin (2n1) (ppm)]],C$19,TU_DB[[Weather]:[Weather]],$B20)","v":39},{"$f":"COUNTIFS(TU_DB[[NO2 Bin (2n1) (ppm)]:[NO2 Bin (2n1) (ppm)]],D$19,TU_DB[[Weather]:[Weather]],$B20)","v":4},{"$f":"COUNTIFS(TU_DB[[NO2 Bin (2n1) (ppm)]:[NO2 Bin (2n1) (ppm)]],E$19,TU_DB[[Weather]:[Weather]],$B20)","v":0},{"$f":"COUNTIFS(TU_DB[[NO2 Bin (2n1) (ppm)]:[NO2 Bin (2n1) (ppm)]],F$19,TU_DB[[Weather]:[Weather]],$B20)","v":0},{"$f":"COUNTIFS(TU_DB[[NO2 Bin (2n1) (ppm)]:[NO2 Bin (2n1) (ppm)]],G$19,TU_DB[[Weather]:[Weather]],$B20)","v":0},{"$f":"COUNTIFS(TU_DB[[NO2 Bin (2n1) (ppm)]:[NO2 Bin (2n1) (ppm)]],H$19,TU_DB[[Weather]:[Weather]],$B20)","v":0},{"$f":"SUM(C20:H20)","v":43},{"$f":"SUM(I20)/SUM($I$20:$I$25)","v":3.2975460122699383E-2},"LT"]
[null,"Regional Rainfall",{"$f":"COUNTIFS(TU_DB[[NO2 Bin (2n1) (ppm)]:[NO2 Bin (2n1) (ppm)]],C$19,TU_DB[[Weather]:[Weather]],$B21)","v":130},{"$f":"COUNTIFS(TU_DB[[NO2 Bin (2n1) (ppm)]:[NO2 Bin (2n1) (ppm)]],D$19,TU_DB[[Weather]:[Weather]],$B21)","v":16},{"$f":"COUNTIFS(TU_DB[[NO2 Bin (2n1) (ppm)]:[NO2 Bin (2n1) (ppm)]],E$19,TU_DB[[Weather]:[Weather]],$B21)","v":2},{"$f":"COUNTIFS(TU_DB[[NO2 Bin (2n1) (ppm)]:[NO2 Bin (2n1) (ppm)]],F$19,TU_DB[[Weather]:[Weather]],$B21)","v":0},{"$f":"COUNTIFS(TU_DB[[NO2 Bin (2n1) (ppm)]:[NO2 Bin (2n1) (ppm)]],G$19,TU_DB[[Weather]:[Weather]],$B21)","v":0},{"$f":"COUNTIFS(TU_DB[[NO2 Bin (2n1) (ppm)]:[NO2 Bin (2n1) (ppm)]],H$19,TU_DB[[Weather]:[Weather]],$B21)","v":0},148,0.11349693251533742,"RR"]
[null,"Regional Rainfall,Local Thunderstorm",{"$f":"COUNTIFS(TU_DB[[NO2 Bin (2n1) (ppm)]:[NO2 Bin (2n1) (ppm)]],C$19,TU_DB[[Weather]:[Weather]],$B22)","v":7},{"$f":"COUNTIFS(TU_DB[[NO2 Bin (2n1) (ppm)]:[NO2 Bin (2n1) (ppm)]],D$19,TU_DB[[Weather]:[Weather]],$B22)","v":0},{"$f":"COUNTIFS(TU_DB[[NO2 Bin (2n1) (ppm)]:[NO2 Bin (2n1) (ppm)]],E$19,TU_DB[[Weather]:[Weather]],$B22)","v":0},{"$f":"COUNTIFS(TU_DB[[NO2 Bin (2n1) (ppm)]:[NO2 Bin (2n1) (ppm)]],F$19,TU_DB[[Weather]:[Weather]],$B22)","v":0},{"$f":"COUNTIFS(TU_DB[[NO2 Bin (2n1) (ppm)]:[NO2 Bin (2n1) (ppm)]],G$19,TU_DB[[Weather]:[Weather]],$B22)","v":0},{"$f":"COUNTIFS(TU_DB[[NO2 Bin (2n1) (ppm)]:[NO2 Bin (2n1) (ppm)]],H$19,TU_DB[[Weather]:[Weather]],$B22)","v":0},7,5.3680981595092027E-3,"RR, LT"]
[null,"Regional Rainfall,Warmth Causing Snowmelt",{"$f":"COUNTIFS(TU_DB[[NO2 Bin (2n1) (ppm)]:[NO2 Bin (2n1) (ppm)]],C$19,TU_DB[[Weather]:[Weather]],$B23)","v":3},{"$f":"COUNTIFS(TU_DB[[NO2 Bin (2n1) (ppm)]:[NO2 Bin (2n1) (ppm)]],D$19,TU_DB[[Weather]:[Weather]],$B23)","v":0},{"$f":"COUNTIFS(TU_DB[[NO2 Bin (2n1) (ppm)]:[NO2 Bin (2n1) (ppm)]],E$19,TU_DB[[Weather]:[Weather]],$B23)","v":0},{"$f":"COUNTIFS(TU_DB[[NO2 Bin (2n1) (ppm)]:[NO2 Bin (2n1) (ppm)]],F$19,TU_DB[[Weather]:[Weather]],$B23)","v":0},{"$f":"COUNTIFS(TU_DB[[NO2 Bin (2n1) (ppm)]:[NO2 Bin (2n1) (ppm)]],G$19,TU_DB[[Weather]:[Weather]],$B23)","v":0},{"$f":"COUNTIFS(TU_DB[[NO2 Bin (2n1) (ppm)]:[NO2 Bin (2n1) (ppm)]],H$19,TU_DB[[Weather]:[Weather]],$B23)","v":0},3,2.3006134969325155E-3,"RR, SM"]
[null,"Warmth Causing Snowmelt",{"$f":"COUNTIFS(TU_DB[[NO2 Bin (2n1) (ppm)]:[NO2 Bin (2n1) (ppm)]],C$19,TU_DB[[Weather]:[Weather]],$B24)","v":8},{"$f":"COUNTIFS(TU_DB[[NO2 Bin (2n1) (ppm)]:[NO2 Bin (2n1) (ppm)]],D$19,TU_DB[[Weather]:[Weather]],$B24)","v":4},{"$f":"COUNTIFS(TU_DB[[NO2 Bin (2n1) (ppm)]:[NO2 Bin (2n1) (ppm)]],E$19,TU_DB[[Weather]:[Weather]],$B24)","v":0},{"$f":"COUNTIFS(TU_DB[[NO2 Bin (2n1) (ppm)]:[NO2 Bin (2n1) (ppm)]],F$19,TU_DB[[Weather]:[Weather]],$B24)","v":0},{"$f":"COUNTIFS(TU_DB[[NO2 Bin (2n1) (ppm)]:[NO2 Bin (2n1) (ppm)]],G$19,TU_DB[[Weather]:[Weather]],$B24)","v":0},{"$f":"COUNTIFS(TU_DB[[NO2 Bin (2n1) (ppm)]:[NO2 Bin (2n1) (ppm)]],H$19,TU_DB[[Weather]:[Weather]],$B24)","v":0},12,9.202453987730062E-3,"SM"]
[null,"None",{"$f":"COUNTIFS(TU_DB[[NO2 Bin (2n1) (ppm)]:[NO2 Bin (2n1) (ppm)]],C$19,TU_DB[[Weather]:[Weather]],$B25)","v":949},{"$f":"COUNTIFS(TU_DB[[NO2 Bin (2n1) (ppm)]:[NO2 Bin (2n1) (ppm)]],D$19,TU_DB[[Weather]:[Weather]],$B25)","v":140},{"$f":"COUNTIFS(TU_DB[[NO2 Bin (2n1) (ppm)]:[NO2 Bin (2n1) (ppm)]],E$19,TU_DB[[Weather]:[Weather]],$B25)","v":2},{"$f":"COUNTIFS(TU_DB[[NO2 Bin (2n1) (ppm)]:[NO2 Bin (2n1) (ppm)]],F$19,TU_DB[[Weather]:[Weather]],$B25)","v":0},{"$f":"COUNTIFS(TU_DB[[NO2 Bin (2n1) (ppm)]:[NO2 Bin (2n1) (ppm)]],G$19,TU_DB[[Weather]:[Weather]],$B25)","v":0},{"$f":"COUNTIFS(TU_DB[[NO2 Bin (2n1) (ppm)]:[NO2 Bin (2n1) (ppm)]],H$19,TU_DB[[Weather]:[Weather]],$B25)","v":0},1091,0.83665644171779141,"None"]
[null,"Total",{"$f":"SUM(C20:C25)","v":1136},164,4,0,0,0,1304]
[]
[null,"Water Level"]
[null,null,"Nitrite (NO2) [ppm]"]
[null,"Water Level",0,0.15,0.3,1,1.5,3,"Sum","% Total"]
[null,"Baseflow",{"$f":"COUNTIFS(TU_DB[[NO2 Bin (2n1) (ppm)]:[NO2 Bin (2n1) (ppm)]],C$19,TU_DB[[Water Level]:[Water Level]],$B31)","v":918},{"$f":"COUNTIFS(TU_DB[[NO2 Bin (2n1) (ppm)]:[NO2 Bin (2n1) (ppm)]],D$19,TU_DB[[Water Level]:[Water Level]],$B31)","v":121},{"$f":"COUNTIFS(TU_DB[[NO2 Bin (2n1) (ppm)]:[NO2 Bin (2n1) (ppm)]],E$19,TU_DB[[Water Level]:[Water Level]],$B31)","v":2},{"$f":"COUNTIFS(TU_DB[[NO2 Bin (2n1) (ppm)]:[NO2 Bin (2n1) (ppm)]],F$19,TU_DB[[Water Level]:[Water Level]],$B31)","v":0},{"$f":"COUNTIFS(TU_DB[[NO2 Bin (2n1) (ppm)]:[NO2 Bin (2n1) (ppm)]],G$19,TU_DB[[Water Level]:[Water Level]],$B31)","v":0},{"$f":"COUNTIFS(TU_DB[[NO2 Bin (2n1) (ppm)]:[NO2 Bin (2n1) (ppm)]],H$19,TU_DB[[Water Level]:[Water Level]],$B31)","v":0},{"$f":"SUM(C31:H31)","v":1041},{"$f":"SUM(I31)/SUM($I$31:$I$34)","v":0.77513030528667159}]
[null,"Mid-Stage",{"$f":"COUNTIFS(TU_DB[[NO2 Bin (2n1) (ppm)]:[NO2 Bin (2n1) (ppm)]],C$19,TU_DB[[Water Level]:[Water Level]],$B32)","v":187},{"$f":"COUNTIFS(TU_DB[[NO2 Bin (2n1) (ppm)]:[NO2 Bin (2n1) (ppm)]],D$19,TU_DB[[Water Level]:[Water Level]],$B32)","v":42},{"$f":"COUNTIFS(TU_DB[[NO2 Bin (2n1) (ppm)]:[NO2 Bin (2n1) (ppm)]],E$19,TU_DB[[Water Level]:[Water Level]],$B32)","v":2},{"$f":"COUNTIFS(TU_DB[[NO2 Bin (2n1) (ppm)]:[NO2 Bin (2n1) (ppm)]],F$19,TU_DB[[Water Level]:[Water Level]],$B32)","v":0},{"$f":"COUNTIFS(TU_DB[[NO2 Bin (2n1) (ppm)]:[NO2 Bin (2n1) (ppm)]],G$19,TU_DB[[Water Level]:[Water Level]],$B32)","v":0},{"$f":"COUNTIFS(TU_DB[[NO2 Bin (2n1) (ppm)]:[NO2 Bin (2n1) (ppm)]],H$19,TU_DB[[Water Level]:[Water Level]],$B32)","v":0},{"$f":"SUM(C32:H32)","v":231},{"$f":"SUM(I32)/SUM($I$31:$I$34)","v":0.17200297840655249}]
[null,"Bankfull Stage",{"$f":"COUNTIFS(TU_DB[[NO2 Bin (2n1) (ppm)]:[NO2 Bin (2n1) (ppm)]],C$19,TU_DB[[Water Level]:[Water Level]],$B33)","v":57},{"$f":"COUNTIFS(TU_DB[[NO2 Bin (2n1) (ppm)]:[NO2 Bin (2n1) (ppm)]],D$19,TU_DB[[Water Level]:[Water Level]],$B33)","v":8},{"$f":"COUNTIFS(TU_DB[[NO2 Bin (2n1) (ppm)]:[NO2 Bin (2n1) (ppm)]],E$19,TU_DB[[Water Level]:[Water Level]],$B33)","v":0},{"$f":"COUNTIFS(TU_DB[[NO2 Bin (2n1) (ppm)]:[NO2 Bin (2n1) (ppm)]],F$19,TU_DB[[Water Level]:[Water Level]],$B33)","v":0},{"$f":"COUNTIFS(TU_DB[[NO2 Bin (2n1) (ppm)]:[NO2 Bin (2n1) (ppm)]],G$19,TU_DB[[Water Level]:[Water Level]],$B33)","v":0},{"$f":"COUNTIFS(TU_DB[[NO2 Bin (2n1) (ppm)]:[NO2 Bin (2n1) (ppm)]],H$19,TU_DB[[Water Level]:[Water Level]],$B33)","v":0},{"$f":"SUM(C33:H33)","v":65},{"$f":"SUM(I33)/SUM($I$31:$I$34)","v":4.8399106478034248E-2}]
[null,"Overbank Flooding",1,1,1,1,2,0,6,{"$f":"SUM(I34)/SUM($I$31:$I$34)","v":4.4676098287416231E-3}]
[null,"Total",{"$f":"SUM(C31:C34)","v":1163},172,5,1,2,0,1343]
[]
[]
[]
[]
[]
[]
[]
[]
[null,"Water Clarity"]
[null,null,"Nitrite (NO2) [ppm]"]
[null,"Water Clarity",0,0.15,0.3,1,1.5,3,"Sum","% Total"]
[null,"Clear",{"$f":"COUNTIFS(TU_DB[[NO2 Bin (2n1) (ppm)]:[NO2 Bin (2n1) (ppm)]],C$19,TU_DB[[Clarity]:[Clarity]],$B47)","v":954},{"$f":"COUNTIFS(TU_DB[[NO2 Bin (2n1) (ppm)]:[NO2 Bin (2n1) (ppm)]],D$19,TU_DB[[Clarity]:[Clarity]],$B47)","v":135},{"$f":"COUNTIFS(TU_DB[[NO2 Bin (2n1) (ppm)]:[NO2 Bin (2n1) (ppm)]],E$19,TU_DB[[Clarity]:[Clarity]],$B47)","v":2},{"$f":"COUNTIFS(TU_DB[[NO2 Bin (2n1) (ppm)]:[NO2 Bin (2n1) (ppm)]],F$19,TU_DB[[Clarity]:[Clarity]],$B47)","v":0},{"$f":"COUNTIFS(TU_DB[[NO2 Bin (2n1) (ppm)]:[NO2 Bin (2n1) (ppm)]],G$19,TU_DB[[Clarity]:[Clarity]],$B47)","v":0},{"$f":"COUNTIFS(TU_DB[[NO2 Bin (2n1) (ppm)]:[NO2 Bin (2n1) (ppm)]],H$19,TU_DB[[Clarity]:[Clarity]],$B47)","v":0},{"$f":"SUM(C47:H47)","v":1091},{"$f":"SUM(I47)/SUM($I$47:$I$49)","v":0.80161645848640706}]
[null,"Muddy",{"$f":"COUNTIFS(TU_DB[[NO2 Bin (2n1) (ppm)]:[NO2 Bin (2n1) (ppm)]],C$19,TU_DB[[Clarity]:[Clarity]],$B48)","v":44},{"$f":"COUNTIFS(TU_DB[[NO2 Bin (2n1) (ppm)]:[NO2 Bin (2n1) (ppm)]],D$19,TU_DB[[Clarity]:[Clarity]],$B48)","v":10},{"$f":"COUNTIFS(TU_DB[[NO2 Bin (2n1) (ppm)]:[NO2 Bin (2n1) (ppm)]],E$19,TU_DB[[Clarity]:[Clarity]],$B48)","v":0},{"$f":"COUNTIFS(TU_DB[[NO2 Bin (2n1) (ppm)]:[NO2 Bin (2n1) (ppm)]],F$19,TU_DB[[Clarity]:[Clarity]],$B48)","v":0},{"$f":"COUNTIFS(TU_DB[[NO2 Bin (2n1) (ppm)]:[NO2 Bin (2n1) (ppm)]],G$19,TU_DB[[Clarity]:[Clarity]],$B48)","v":0},{"$f":"COUNTIFS(TU_DB[[NO2 Bin (2n1) (ppm)]:[NO2 Bin (2n1) (ppm)]],H$19,TU_DB[[Clarity]:[Clarity]],$B48)","v":0},{"$f":"SUM(C48:H48)","v":54},{"$f":"SUM(I48)/SUM($I$47:$I$49)","v":3.9676708302718591E-2}]
[null,"Murky",{"$f":"COUNTIFS(TU_DB[[NO2 Bin (2n1) (ppm)]:[NO2 Bin (2n1) (ppm)]],C$19,TU_DB[[Clarity]:[Clarity]],$B49)","v":182},{"$f":"COUNTIFS(TU_DB[[NO2 Bin (2n1) (ppm)]:[NO2 Bin (2n1) (ppm)]],D$19,TU_DB[[Clarity]:[Clarity]],$B49)","v":32},{"$f":"COUNTIFS(TU_DB[[NO2 Bin (2n1) (ppm)]:[NO2 Bin (2n1) (ppm)]],E$19,TU_DB[[Clarity]:[Clarity]],$B49)","v":2},{"$f":"COUNTIFS(TU_DB[[NO2 Bin (2n1) (ppm)]:[NO2 Bin (2n1) (ppm)]],F$19,TU_DB[[Clarity]:[Clarity]],$B49)","v":0},{"$f":"COUNTIFS(TU_DB[[NO2 Bin (2n1) (ppm)]:[NO2 Bin (2n1) (ppm)]],G$19,TU_DB[[Clarity]:[Clarity]],$B49)","v":0},{"$f":"COUNTIFS(TU_DB[[NO2 Bin (2n1) (ppm)]:[NO2 Bin (2n1) (ppm)]],H$19,TU_DB[[Clarity]:[Clarity]],$B49)","v":0},{"$f":"SUM(C49:H49)","v":216},{"$f":"SUM(I49)/SUM($I$47:$I$49)","v":0.15870683321087437}]
[null,"Total",{"$f":"SUM(C47:C49)","v":1180},177,4,0,0,0,1361]
[]
[]
[]
[]
[]
[]
[]
[]
[]
[]
[null,"Monitoring Stations"]
[null,null,"Nitrite (NO2) [ppm]",null,null,null,null,null,null,null,null,null,"Station to Plot","Rush River @ 570th Ave"]
[null,"Monitoring Site",0,0.15,0.3,1,1.5,3,"Sum","% Total"]
[null,"Kiat-TU-Wish",{"$f":"SUM(C65:C74)","v":104},{"$f":"SUM(D65:D74)","v":33},0,0,0,0,137]
[null,"Cady Creek @ 50th St",{"$f":"COUNTIFS(TU_DB[[NO2 Bin (2n1) (ppm)]:[NO2 Bin (2n1) (ppm)]],C$19,TU_DB[[Monitoring Site]:[Monitoring Site]],$B65)","v":14},{"$f":"COUNTIFS(TU_DB[[NO2 Bin (2n1) (ppm)]:[NO2 Bin (2n1) (ppm)]],D$19,TU_DB[[Monitoring Site]:[Monitoring Site]],$B65)","v":0},{"$f":"COUNTIFS(TU_DB[[NO2 Bin (2n1) (ppm)]:[NO2 Bin (2n1) (ppm)]],E$19,TU_DB[[Monitoring Site]:[Monitoring Site]],$B65)","v":0},{"$f":"COUNTIFS(TU_DB[[NO2 Bin (2n1) (ppm)]:[NO2 Bin (2n1) (ppm)]],F$19,TU_DB[[Monitoring Site]:[Monitoring Site]],$B65)","v":0},{"$f":"COUNTIFS(TU_DB[[NO2 Bin (2n1) (ppm)]:[NO2 Bin (2n1) (ppm)]],G$19,TU_DB[[Monitoring Site]:[Monitoring Site]],$B65)","v":0},{"$f":"COUNTIFS(TU_DB[[NO2 Bin (2n1) (ppm)]:[NO2 Bin (2n1) (ppm)]],H$19,TU_DB[[Monitoring Site]:[Monitoring Site]],$B65)","v":0},{"$f":"SUM(C65:H65)","v":14},{"$f":"SUM(I65)/$I$64","v":0.10218978102189781}]
[null,{"$f":"Use!Q118","v":"Eau Galle River @ WI Hwy 29"},{"$f":"COUNTIFS(TU_DB[[NO2 Bin (2n1) (ppm)]:[NO2 Bin (2n1) (ppm)]],C$19,TU_DB[[Monitoring Site]:[Monitoring Site]],$B66)","v":6},{"$f":"COUNTIFS(TU_DB[[NO2 Bin (2n1) (ppm)]:[NO2 Bin (2n1) (ppm)]],D$19,TU_DB[[Monitoring Site]:[Monitoring Site]],$B66)","v":0},{"$f":"COUNTIFS(TU_DB[[NO2 Bin (2n1) (ppm)]:[NO2 Bin (2n1) (ppm)]],E$19,TU_DB[[Monitoring Site]:[Monitoring Site]],$B66)","v":0},{"$f":"COUNTIFS(TU_DB[[NO2 Bin (2n1) (ppm)]:[NO2 Bin (2n1) (ppm)]],F$19,TU_DB[[Monitoring Site]:[Monitoring Site]],$B66)","v":0},{"$f":"COUNTIFS(TU_DB[[NO2 Bin (2n1) (ppm)]:[NO2 Bin (2n1) (ppm)]],G$19,TU_DB[[Monitoring Site]:[Monitoring Site]],$B66)","v":0},{"$f":"COUNTIFS(TU_DB[[NO2 Bin (2n1) (ppm)]:[NO2 Bin (2n1) (ppm)]],H$19,TU_DB[[Monitoring Site]:[Monitoring Site]],$B66)","v":0},6,{"$f":"SUM(I66)/$I$64","v":4.3795620437956206E-2}]
[null,{"$f":"Use!Q119","v":"Isabelle Creek @ County Rd. EE"},{"$f":"COUNTIFS(TU_DB[[NO2 Bin (2n1) (ppm)]:[NO2 Bin (2n1) (ppm)]],C$19,TU_DB[[Monitoring Site]:[Monitoring Site]],$B67)","v":9},{"$f":"COUNTIFS(TU_DB[[NO2 Bin (2n1) (ppm)]:[NO2 Bin (2n1) (ppm)]],D$19,TU_DB[[Monitoring Site]:[Monitoring Site]],$B67)","v":8},{"$f":"COUNTIFS(TU_DB[[NO2 Bin (2n1) (ppm)]:[NO2 Bin (2n1) (ppm)]],E$19,TU_DB[[Monitoring Site]:[Monitoring Site]],$B67)","v":0},{"$f":"COUNTIFS(TU_DB[[NO2 Bin (2n1) (ppm)]:[NO2 Bin (2n1) (ppm)]],F$19,TU_DB[[Monitoring Site]:[Monitoring Site]],$B67)","v":0},{"$f":"COUNTIFS(TU_DB[[NO2 Bin (2n1) (ppm)]:[NO2 Bin (2n1) (ppm)]],G$19,TU_DB[[Monitoring Site]:[Monitoring Site]],$B67)","v":0},{"$f":"COUNTIFS(TU_DB[[NO2 Bin (2n1) (ppm)]:[NO2 Bin (2n1) (ppm)]],H$19,TU_DB[[Monitoring Site]:[Monitoring Site]],$B67)","v":0},17,0.12408759124087591]
[null,{"$f":"Use!Q120","v":"Kinnickinnic River, Lower Glen Park"},{"$f":"COUNTIFS(TU_DB[[NO2 Bin (2n1) (ppm)]:[NO2 Bin (2n1) (ppm)]],C$19,TU_DB[[Monitoring Site]:[Monitoring Site]],$B68)","v":0},{"$f":"COUNTIFS(TU_DB[[NO2 Bin (2n1) (ppm)]:[NO2 Bin (2n1) (ppm)]],D$19,TU_DB[[Monitoring Site]:[Monitoring Site]],$B68)","v":0},{"$f":"COUNTIFS(TU_DB[[NO2 Bin (2n1) (ppm)]:[NO2 Bin (2n1) (ppm)]],E$19,TU_DB[[Monitoring Site]:[Monitoring Site]],$B68)","v":0},{"$f":"COUNTIFS(TU_DB[[NO2 Bin (2n1) (ppm)]:[NO2 Bin (2n1) (ppm)]],F$19,TU_DB[[Monitoring Site]:[Monitoring Site]],$B68)","v":0},{"$f":"COUNTIFS(TU_DB[[NO2 Bin (2n1) (ppm)]:[NO2 Bin (2n1) (ppm)]],G$19,TU_DB[[Monitoring Site]:[Monitoring Site]],$B68)","v":0},{"$f":"COUNTIFS(TU_DB[[NO2 Bin (2n1) (ppm)]:[NO2 Bin (2n1) (ppm)]],H$19,TU_DB[[Monitoring Site]:[Monitoring Site]],$B68)","v":0},0,0]
[null,{"$f":"Use!Q121","v":"Pine Creek @ County Rd. AA"},{"$f":"COUNTIFS(TU_DB[[NO2 Bin (2n1) (ppm)]:[NO2 Bin (2n1) (ppm)]],C$19,TU_DB[[Monitoring Site]:[Monitoring Site]],$B69)","v":14},{"$f":"COUNTIFS(TU_DB[[NO2 Bin (2n1) (ppm)]:[NO2 Bin (2n1) (ppm)]],D$19,TU_DB[[Monitoring Site]:[Monitoring Site]],$B69)","v":8},{"$f":"COUNTIFS(TU_DB[[NO2 Bin (2n1) (ppm)]:[NO2 Bin (2n1) (ppm)]],E$19,TU_DB[[Monitoring Site]:[Monitoring Site]],$B69)","v":0},{"$f":"COUNTIFS(TU_DB[[NO2 Bin (2n1) (ppm)]:[NO2 Bin (2n1) (ppm)]],F$19,TU_DB[[Monitoring Site]:[Monitoring Site]],$B69)","v":0},{"$f":"COUNTIFS(TU_DB[[NO2 Bin (2n1) (ppm)]:[NO2 Bin (2n1) (ppm)]],G$19,TU_DB[[Monitoring Site]:[Monitoring Site]],$B69)","v":0},{"$f":"COUNTIFS(TU_DB[[NO2 Bin (2n1) (ppm)]:[NO2 Bin (2n1) (ppm)]],H$19,TU_DB[[Monitoring Site]:[Monitoring Site]],$B69)","v":0},22,0.16058394160583941]
[null,{"$f":"Use!Q122","v":"Plum Creek @ Plum CIty Park"},{"$f":"COUNTIFS(TU_DB[[NO2 Bin (2n1) (ppm)]:[NO2 Bin (2n1) (ppm)]],C$19,TU_DB[[Monitoring Site]:[Monitoring Site]],$B70)","v":5},{"$f":"COUNTIFS(TU_DB[[NO2 Bin (2n1) (ppm)]:[NO2 Bin (2n1) (ppm)]],D$19,TU_DB[[Monitoring Site]:[Monitoring Site]],$B70)","v":2},{"$f":"COUNTIFS(TU_DB[[NO2 Bin (2n1) (ppm)]:[NO2 Bin (2n1) (ppm)]],E$19,TU_DB[[Monitoring Site]:[Monitoring Site]],$B70)","v":0},{"$f":"COUNTIFS(TU_DB[[NO2 Bin (2n1) (ppm)]:[NO2 Bin (2n1) (ppm)]],F$19,TU_DB[[Monitoring Site]:[Monitoring Site]],$B70)","v":0},{"$f":"COUNTIFS(TU_DB[[NO2 Bin (2n1) (ppm)]:[NO2 Bin (2n1) (ppm)]],G$19,TU_DB[[Monitoring Site]:[Monitoring Site]],$B70)","v":0},{"$f":"COUNTIFS(TU_DB[[NO2 Bin (2n1) (ppm)]:[NO2 Bin (2n1) (ppm)]],H$19,TU_DB[[Monitoring Site]:[Monitoring Site]],$B70)","v":0},7,5.1094890510948905E-2]
[null,{"$f":"Use!Q123","v":"Rocky Branch Creek, Lower Glen Park"},{"$f":"COUNTIFS(TU_DB[[NO2 Bin (2n1) (ppm)]:[NO2 Bin (2n1) (ppm)]],C$19,TU_DB[[Monitoring Site]:[Monitoring Site]],$B71)","v":1},{"$f":"COUNTIFS(TU_DB[[NO2 Bin (2n1) (ppm)]:[NO2 Bin (2n1) (ppm)]],D$19,TU_DB[[Monitoring Site]:[Monitoring Site]],$B71)","v":2},{"$f":"COUNTIFS(TU_DB[[NO2 Bin (2n1) (ppm)]:[NO2 Bin (2n1) (ppm)]],E$19,TU_DB[[Monitoring Site]:[Monitoring Site]],$B71)","v":0},{"$f":"COUNTIFS(TU_DB[[NO2 Bin (2n1) (ppm)]:[NO2 Bin (2n1) (ppm)]],F$19,TU_DB[[Monitoring Site]:[Monitoring Site]],$B71)","v":0},{"$f":"COUNTIFS(TU_DB[[NO2 Bin (2n1) (ppm)]:[NO2 Bin (2n1) (ppm)]],G$19,TU_DB[[Monitoring Site]:[Monitoring Site]],$B71)","v":0},{"$f":"COUNTIFS(TU_DB[[NO2 Bin (2n1) (ppm)]:[NO2 Bin (2n1) (ppm)]],H$19,TU_DB[[Monitoring Site]:[Monitoring Site]],$B71)","v":0},3,2.1897810218978103E-2]
[null,{"$f":"Use!Q124","v":"Rush River @ 570th Ave"},{"$f":"COUNTIFS(TU_DB[[NO2 Bin (2n1) (ppm)]:[NO2 Bin (2n1) (ppm)]],C$19,TU_DB[[Monitoring Site]:[Monitoring Site]],$B72)","v":10},{"$f":"COUNTIFS(TU_DB[[NO2 Bin (2n1) (ppm)]:[NO2 Bin (2n1) (ppm)]],D$19,TU_DB[[Monitoring Site]:[Monitoring Site]],$B72)","v":7},{"$f":"COUNTIFS(TU_DB[[NO2 Bin (2n1) (ppm)]:[NO2 Bin (2n1) (ppm)]],E$19,TU_DB[[Monitoring Site]:[Monitoring Site]],$B72)","v":0},{"$f":"COUNTIFS(TU_DB[[NO2 Bin (2n1) (ppm)]:[NO2 Bin (2n1) (ppm)]],F$19,TU_DB[[Monitoring Site]:[Monitoring Site]],$B72)","v":0},{"$f":"COUNTIFS(TU_DB[[NO2 Bin (2n1) (ppm)]:[NO2 Bin (2n1) (ppm)]],G$19,TU_DB[[Monitoring Site]:[Monitoring Site]],$B72)","v":0},{"$f":"COUNTIFS(TU_DB[[NO2 Bin (2n1) (ppm)]:[NO2 Bin (2n1) (ppm)]],H$19,TU_DB[[Monitoring Site]:[Monitoring Site]],$B72)","v":0},17,0.12408759124087591]
[null,{"$f":"Use!Q125","v":"SF Kinnickinnic River @ 900th St"},{"$f":"COUNTIFS(TU_DB[[NO2 Bin (2n1) (ppm)]:[NO2 Bin (2n1) (ppm)]],C$19,TU_DB[[Monitoring Site]:[Monitoring Site]],$B73)","v":38},{"$f":"COUNTIFS(TU_DB[[NO2 Bin (2n1) (ppm)]:[NO2 Bin (2n1) (ppm)]],D$19,TU_DB[[Monitoring Site]:[Monitoring Site]],$B73)","v":6},{"$f":"COUNTIFS(TU_DB[[NO2 Bin (2n1) (ppm)]:[NO2 Bin (2n1) (ppm)]],E$19,TU_DB[[Monitoring Site]:[Monitoring Site]],$B73)","v":0},{"$f":"COUNTIFS(TU_DB[[NO2 Bin (2n1) (ppm)]:[NO2 Bin (2n1) (ppm)]],F$19,TU_DB[[Monitoring Site]:[Monitoring Site]],$B73)","v":0},{"$f":"COUNTIFS(TU_DB[[NO2 Bin (2n1) (ppm)]:[NO2 Bin (2n1) (ppm)]],G$19,TU_DB[[Monitoring Site]:[Monitoring Site]],$B73)","v":0},{"$f":"COUNTIFS(TU_DB[[NO2 Bin (2n1) (ppm)]:[NO2 Bin (2n1) (ppm)]],H$19,TU_DB[[Monitoring Site]:[Monitoring Site]],$B73)","v":0},44,0.32116788321167883]
[null,{"$f":"Use!Q126","v":"Trimbelle River @ County Rd W"},{"$f":"COUNTIFS(TU_DB[[NO2 Bin (2n1) (ppm)]:[NO2 Bin (2n1) (ppm)]],C$19,TU_DB[[Monitoring Site]:[Monitoring Site]],$B74)","v":7},{"$f":"COUNTIFS(TU_DB[[NO2 Bin (2n1) (ppm)]:[NO2 Bin (2n1) (ppm)]],D$19,TU_DB[[Monitoring Site]:[Monitoring Site]],$B74)","v":0},{"$f":"COUNTIFS(TU_DB[[NO2 Bin (2n1) (ppm)]:[NO2 Bin (2n1) (ppm)]],E$19,TU_DB[[Monitoring Site]:[Monitoring Site]],$B74)","v":0},{"$f":"COUNTIFS(TU_DB[[NO2 Bin (2n1) (ppm)]:[NO2 Bin (2n1) (ppm)]],F$19,TU_DB[[Monitoring Site]:[Monitoring Site]],$B74)","v":0},{"$f":"COUNTIFS(TU_DB[[NO2 Bin (2n1) (ppm)]:[NO2 Bin (2n1) (ppm)]],G$19,TU_DB[[Monitoring Site]:[Monitoring Site]],$B74)","v":0},{"$f":"COUNTIFS(TU_DB[[NO2 Bin (2n1) (ppm)]:[NO2 Bin (2n1) (ppm)]],H$19,TU_DB[[Monitoring Site]:[Monitoring Site]],$B74)","v":0},7,5.1094890510948905E-2]
[null,"Twin Cities Trout Unlimited",{"$f":"SUM(C76:C85)","v":120},{"$f":"SUM(D76:D85)","v":13},0,0,0,0,{"$f":"SUM(I76:I83)","v":133}]
[null,{"$f":"Use!Q128","v":"Belle Creek"},{"$f":"COUNTIFS(TU_DB[[NO2 Bin (2n1) (ppm)]:[NO2 Bin (2n1) (ppm)]],C$19,TU_DB[[Monitoring Site]:[Monitoring Site]],$B76)","v":3},{"$f":"COUNTIFS(TU_DB[[NO2 Bin (2n1) (ppm)]:[NO2 Bin (2n1) (ppm)]],D$19,TU_DB[[Monitoring Site]:[Monitoring Site]],$B76)","v":1},{"$f":"COUNTIFS(TU_DB[[NO2 Bin (2n1) (ppm)]:[NO2 Bin (2n1) (ppm)]],E$19,TU_DB[[Monitoring Site]:[Monitoring Site]],$B76)","v":0},{"$f":"COUNTIFS(TU_DB[[NO2 Bin (2n1) (ppm)]:[NO2 Bin (2n1) (ppm)]],F$19,TU_DB[[Monitoring Site]:[Monitoring Site]],$B76)","v":0},{"$f":"COUNTIFS(TU_DB[[NO2 Bin (2n1) (ppm)]:[NO2 Bin (2n1) (ppm)]],G$19,TU_DB[[Monitoring Site]:[Monitoring Site]],$B76)","v":0},{"$f":"COUNTIFS(TU_DB[[NO2 Bin (2n1) (ppm)]:[NO2 Bin (2n1) (ppm)]],H$19,TU_DB[[Monitoring Site]:[Monitoring Site]],$B76)","v":0},4,{"$f":"SUM(I76)/$I$75","v":3.007518796992481E-2}]
[null,{"$f":"Use!Q129","v":"Hay Creek @ 320th St"},{"$f":"COUNTIFS(TU_DB[[NO2 Bin (2n1) (ppm)]:[NO2 Bin (2n1) (ppm)]],C$19,TU_DB[[Monitoring Site]:[Monitoring Site]],$B77)","v":15},{"$f":"COUNTIFS(TU_DB[[NO2 Bin (2n1) (ppm)]:[NO2 Bin (2n1) (ppm)]],D$19,TU_DB[[Monitoring Site]:[Monitoring Site]],$B77)","v":5},{"$f":"COUNTIFS(TU_DB[[NO2 Bin (2n1) (ppm)]:[NO2 Bin (2n1) (ppm)]],E$19,TU_DB[[Monitoring Site]:[Monitoring Site]],$B77)","v":0},{"$f":"COUNTIFS(TU_DB[[NO2 Bin (2n1) (ppm)]:[NO2 Bin (2n1) (ppm)]],F$19,TU_DB[[Monitoring Site]:[Monitoring Site]],$B77)","v":0},{"$f":"COUNTIFS(TU_DB[[NO2 Bin (2n1) (ppm)]:[NO2 Bin (2n1) (ppm)]],G$19,TU_DB[[Monitoring Site]:[Monitoring Site]],$B77)","v":0},{"$f":"COUNTIFS(TU_DB[[NO2 Bin (2n1) (ppm)]:[NO2 Bin (2n1) (ppm)]],H$19,TU_DB[[Monitoring Site]:[Monitoring Site]],$B77)","v":0},20,{"$f":"SUM(I77)/$I$75","v":0.15037593984962405}]
[null,{"$f":"Use!Q130","v":"Hay Creek @ 325th St"},{"$f":"COUNTIFS(TU_DB[[NO2 Bin (2n1) (ppm)]:[NO2 Bin (2n1) (ppm)]],C$19,TU_DB[[Monitoring Site]:[Monitoring Site]],$B78)","v":12},{"$f":"COUNTIFS(TU_DB[[NO2 Bin (2n1) (ppm)]:[NO2 Bin (2n1) (ppm)]],D$19,TU_DB[[Monitoring Site]:[Monitoring Site]],$B78)","v":4},{"$f":"COUNTIFS(TU_DB[[NO2 Bin (2n1) (ppm)]:[NO2 Bin (2n1) (ppm)]],E$19,TU_DB[[Monitoring Site]:[Monitoring Site]],$B78)","v":0},{"$f":"COUNTIFS(TU_DB[[NO2 Bin (2n1) (ppm)]:[NO2 Bin (2n1) (ppm)]],F$19,TU_DB[[Monitoring Site]:[Monitoring Site]],$B78)","v":0},{"$f":"COUNTIFS(TU_DB[[NO2 Bin (2n1) (ppm)]:[NO2 Bin (2n1) (ppm)]],G$19,TU_DB[[Monitoring Site]:[Monitoring Site]],$B78)","v":0},{"$f":"COUNTIFS(TU_DB[[NO2 Bin (2n1) (ppm)]:[NO2 Bin (2n1) (ppm)]],H$19,TU_DB[[Monitoring Site]:[Monitoring Site]],$B78)","v":0},16,0.12030075187969924]
[null,{"$f":"Use!Q131","v":"Eagle Creek"},{"$f":"COUNTIFS(TU_DB[[NO2 Bin (2n1) (ppm)]:[NO2 Bin (2n1) (ppm)]],C$19,TU_DB[[Monitoring Site]:[Monitoring Site]],$B79)","v":0},{"$f":"COUNTIFS(TU_DB[[NO2 Bin (2n1) (ppm)]:[NO2 Bin (2n1) (ppm)]],D$19,TU_DB[[Monitoring Site]:[Monitoring Site]],$B79)","v":0},{"$f":"COUNTIFS(TU_DB[[NO2 Bin (2n1) (ppm)]:[NO2 Bin (2n1) (ppm)]],E$19,TU_DB[[Monitoring Site]:[Monitoring Site]],$B79)","v":0},{"$f":"COUNTIFS(TU_DB[[NO2 Bin (2n1) (ppm)]:[NO2 Bin (2n1) (ppm)]],F$19,TU_DB[[Monitoring Site]:[Monitoring Site]],$B79)","v":0},{"$f":"COUNTIFS(TU_DB[[NO2 Bin (2n1) (ppm)]:[NO2 Bin (2n1) (ppm)]],G$19,TU_DB[[Monitoring Site]:[Monitoring Site]],$B79)","v":0},{"$f":"COUNTIFS(TU_DB[[NO2 Bin (2n1) (ppm)]:[NO2 Bin (2n1) (ppm)]],H$19,TU_DB[[Monitoring Site]:[Monitoring Site]],$B79)","v":0},0,0]
[null,{"$f":"Use!Q132","v":"Little Cannon River"},{"$f":"COUNTIFS(TU_DB[[NO2 Bin (2n1) (ppm)]:[NO2 Bin (2n1) (ppm)]],C$19,TU_DB[[Monitoring Site]:[Monitoring Site]],$B80)","v":1},{"$f":"COUNTIFS(TU_DB[[NO2 Bin (2n1) (ppm)]:[NO2 Bin (2n1) (ppm)]],D$19,TU_DB[[Monitoring Site]:[Monitoring Site]],$B80)","v":0},{"$f":"COUNTIFS(TU_DB[[NO2 Bin (2n1) (ppm)]:[NO2 Bin (2n1) (ppm)]],E$19,TU_DB[[Monitoring Site]:[Monitoring Site]],$B80)","v":0},{"$f":"COUNTIFS(TU_DB[[NO2 Bin (2n1) (ppm)]:[NO2 Bin (2n1) (ppm)]],F$19,TU_DB[[Monitoring Site]:[Monitoring Site]],$B80)","v":0},{"$f":"COUNTIFS(TU_DB[[NO2 Bin (2n1) (ppm)]:[NO2 Bin (2n1) (ppm)]],G$19,TU_DB[[Monitoring Site]:[Monitoring Site]],$B80)","v":0},{"$f":"COUNTIFS(TU_DB[[NO2 Bin (2n1) (ppm)]:[NO2 Bin (2n1) (ppm)]],H$19,TU_DB[[Monitoring Site]:[Monitoring Site]],$B80)","v":0},1,7.5187969924812026E-3]
[null,{"$f":"Use!Q133","v":"MOA Creek"},{"$f":"COUNTIFS(TU_DB[[NO2 Bin (2n1) (ppm)]:[NO2 Bin (2n1) (ppm)]],C$19,TU_DB[[Monitoring Site]:[Monitoring Site]],$B81)","v":21},{"$f":"COUNTIFS(TU_DB[[NO2 Bin (2n1) (ppm)]:[NO2 Bin (2n1) (ppm)]],D$19,TU_DB[[Monitoring Site]:[Monitoring Site]],$B81)","v":0},{"$f":"COUNTIFS(TU_DB[[NO2 Bin (2n1) (ppm)]:[NO2 Bin (2n1) (ppm)]],E$19,TU_DB[[Monitoring Site]:[Monitoring Site]],$B81)","v":0},{"$f":"COUNTIFS(TU_DB[[NO2 Bin (2n1) (ppm)]:[NO2 Bin (2n1) (ppm)]],F$19,TU_DB[[Monitoring Site]:[Monitoring Site]],$B81)","v":0},{"$f":"COUNTIFS(TU_DB[[NO2 Bin (2n1) (ppm)]:[NO2 Bin (2n1) (ppm)]],G$19,TU_DB[[Monitoring Site]:[Monitoring Site]],$B81)","v":0},{"$f":"COUNTIFS(TU_DB[[NO2 Bin (2n1) (ppm)]:[NO2 Bin (2n1) (ppm)]],H$19,TU_DB[[Monitoring Site]:[Monitoring Site]],$B81)","v":0},21,0.15789473684210525]
[null,{"$f":"Use!Q134","v":"Trout Brook"},{"$f":"COUNTIFS(TU_DB[[NO2 Bin (2n1) (ppm)]:[NO2 Bin (2n1) (ppm)]],C$19,TU_DB[[Monitoring Site]:[Monitoring Site]],$B82)","v":36},{"$f":"COUNTIFS(TU_DB[[NO2 Bin (2n1) (ppm)]:[NO2 Bin (2n1) (ppm)]],D$19,TU_DB[[Monitoring Site]:[Monitoring Site]],$B82)","v":0},{"$f":"COUNTIFS(TU_DB[[NO2 Bin (2n1) (ppm)]:[NO2 Bin (2n1) (ppm)]],E$19,TU_DB[[Monitoring Site]:[Monitoring Site]],$B82)","v":0},{"$f":"COUNTIFS(TU_DB[[NO2 Bin (2n1) (ppm)]:[NO2 Bin (2n1) (ppm)]],F$19,TU_DB[[Monitoring Site]:[Monitoring Site]],$B82)","v":0},{"$f":"COUNTIFS(TU_DB[[NO2 Bin (2n1) (ppm)]:[NO2 Bin (2n1) (ppm)]],G$19,TU_DB[[Monitoring Site]:[Monitoring Site]],$B82)","v":0},{"$f":"COUNTIFS(TU_DB[[NO2 Bin (2n1) (ppm)]:[NO2 Bin (2n1) (ppm)]],H$19,TU_DB[[Monitoring Site]:[Monitoring Site]],$B82)","v":0},{"$f":"SUM(C82:H82)","v":36},0.27067669172932329]
[null,{"$f":"Use!Q135","v":"Vermillion River, South Branch"},{"$f":"COUNTIFS(TU_DB[[NO2 Bin (2n1) (ppm)]:[NO2 Bin (2n1) (ppm)]],C$19,TU_DB[[Monitoring Site]:[Monitoring Site]],$B83)","v":32},{"$f":"COUNTIFS(TU_DB[[NO2 Bin (2n1) (ppm)]:[NO2 Bin (2n1) (ppm)]],D$19,TU_DB[[Monitoring Site]:[Monitoring Site]],$B83)","v":3},{"$f":"COUNTIFS(TU_DB[[NO2 Bin (2n1) (ppm)]:[NO2 Bin (2n1) (ppm)]],E$19,TU_DB[[Monitoring Site]:[Monitoring Site]],$B83)","v":0},{"$f":"COUNTIFS(TU_DB[[NO2 Bin (2n1) (ppm)]:[NO2 Bin (2n1) (ppm)]],F$19,TU_DB[[Monitoring Site]:[Monitoring Site]],$B83)","v":0},{"$f":"COUNTIFS(TU_DB[[NO2 Bin (2n1) (ppm)]:[NO2 Bin (2n1) (ppm)]],G$19,TU_DB[[Monitoring Site]:[Monitoring Site]],$B83)","v":0},{"$f":"COUNTIFS(TU_DB[[NO2 Bin (2n1) (ppm)]:[NO2 Bin (2n1) (ppm)]],H$19,TU_DB[[Monitoring Site]:[Monitoring Site]],$B83)","v":0},{"$f":"SUM(C83:H83)","v":35},0.26315789473684209]
[]
[]
[null,null,null,null,null,null,null,null,null,null,null,null,"Plotting Data",0,0.15,0.3,1,1.5,3]
[null,null,null,null,null,null,null,null,null,null,null,null,{"$f":"INDEX(B64:B82,MATCH($N$62,$B$64:$B$82,0))","v":"Rush River @ 570th Ave"},{"$f":"INDEX(C64:C83,MATCH($N$62,$B$64:$B$83,0))","v":10},{"$f":"INDEX(D64:D83,MATCH($N$62,$B$64:$B$83,0))","v":7},0,0,0,0]

{"sheet":"NO3","index":6,"n_rows":86,"n_cols":22,"rows_kept":86,"cut":false,"hidden":false,"merged":[[1,2,1,3],[17,11,18,11],[61,14,61,17]]}
["TU DARE Angler Science DB"]
[null,"Water Analysis","Nitrate (NO3)"]
[null,"Download",{"$f":"TUDB!B3","v":"3023-10-31"}]
[]
[null,"Overview Stats"]
[null,"Nitrate (NO3) [ppm]","Observations","% Total Obs.","Cum. %",2019,2020,2021,2022,2023]
[null,0,{"$f":"COUNTIFS(TU_DB[NO3 Bin (2n1) (ppm)],B7)","v":381},{"$f":"C7/$C$14","v":0.25989085948158253},{"$f":"D7","v":0.25989085948158253},{"$f":"COUNTIFS(TU_DB[[NO3 Bin (2n1) (ppm)]:[NO3 Bin (2n1) (ppm)]],$B7,TU_DB[[Year]:[Year]],F$6)","v":0},{"$f":"COUNTIFS(TU_DB[[NO3 Bin (2n1) (ppm)]:[NO3 Bin (2n1) (ppm)]],$B7,TU_DB[[Year]:[Year]],G$6)","v":30},{"$f":"COUNTIFS(TU_DB[[NO3 Bin (2n1) (ppm)]:[NO3 Bin (2n1) (ppm)]],$B7,TU_DB[[Year]:[Year]],H$6)","v":88},{"$f":"COUNTIFS(TU_DB[[NO3 Bin (2n1) (ppm)]:[NO3 Bin (2n1) (ppm)]],$B7,TU_DB[[Year]:[Year]],I$6)","v":86},{"$f":"COUNTIFS(TU_DB[[NO3 Bin (2n1) (ppm)]:[NO3 Bin (2n1) (ppm)]],$B7,TU_DB[[Year]:[Year]],J$6)","v":177}]
[null,1,{"$f":"COUNTIFS(TU_DB[NO3 Bin (2n1) (ppm)],B8)","v":211},0.14392905866302866,{"$f":"D8+E7","v":0.40381991814461116},{"$f":"COUNTIFS(TU_DB[[NO3 Bin (2n1) (ppm)]:[NO3 Bin (2n1) (ppm)]],$B8,TU_DB[[Year]:[Year]],F$6)","v":0},{"$f":"COUNTIFS(TU_DB[[NO3 Bin (2n1) (ppm)]:[NO3 Bin (2n1) (ppm)]],$B8,TU_DB[[Year]:[Year]],G$6)","v":8},{"$f":"COUNTIFS(TU_DB[[NO3 Bin (2n1) (ppm)]:[NO3 Bin (2n1) (ppm)]],$B8,TU_DB[[Year]:[Year]],H$6)","v":35},{"$f":"COUNTIFS(TU_DB[[NO3 Bin (2n1) (ppm)]:[NO3 Bin (2n1) (ppm)]],$B8,TU_DB[[Year]:[Year]],I$6)","v":41},{"$f":"COUNTIFS(TU_DB[[NO3 Bin (2n1) (ppm)]:[NO3 Bin (2n1) (ppm)]],$B8,TU_DB[[Year]:[Year]],J$6)","v":127}]
[null,2,{"$f":"COUNTIFS(TU_DB[NO3 Bin (2n1) (ppm)],B9)","v":522},0.35607094133697137,0.75989085948158253,{"$f":"COUNTIFS(TU_DB[[NO3 Bin (2n1) (ppm)]:[NO3 Bin (2n1) (ppm)]],$B9,TU_DB[[Year]:[Year]],F$6)","v":0},{"$f":"COUNTIFS(TU_DB[[NO3 Bin (2n1) (ppm)]:[NO3 Bin (2n1) (ppm)]],$B9,TU_DB[[Year]:[Year]],G$6)","v":35},{"$f":"COUNTIFS(TU_DB[[NO3 Bin (2n1) (ppm)]:[NO3 Bin (2n1) (ppm)]],$B9,TU_DB[[Year]:[Year]],H$6)","v":102},{"$f":"COUNTIFS(TU_DB[[NO3 Bin (2n1) (ppm)]:[NO3 Bin (2n1) (ppm)]],$B9,TU_DB[[Year]:[Year]],I$6)","v":150},{"$f":"COUNTIFS(TU_DB[[NO3 Bin (2n1) (ppm)]:[NO3 Bin (2n1) (ppm)]],$B9,TU_DB[[Year]:[Year]],J$6)","v":235}]
[null,5,{"$f":"COUNTIFS(TU_DB[NO3 Bin (2n1) (ppm)],B10)","v":348},0.23738062755798089,0.99727148703956336,{"$f":"COUNTIFS(TU_DB[[NO3 Bin (2n1) (ppm)]:[NO3 Bin (2n1) (ppm)]],$B10,TU_DB[[Year]:[Year]],F$6)","v":0},{"$f":"COUNTIFS(TU_DB[[NO3 Bin (2n1) (ppm)]:[NO3 Bin (2n1) (ppm)]],$B10,TU_DB[[Year]:[Year]],G$6)","v":19},{"$f":"COUNTIFS(TU_DB[[NO3 Bin (2n1) (ppm)]:[NO3 Bin (2n1) (ppm)]],$B10,TU_DB[[Year]:[Year]],H$6)","v":83},{"$f":"COUNTIFS(TU_DB[[NO3 Bin (2n1) (ppm)]:[NO3 Bin (2n1) (ppm)]],$B10,TU_DB[[Year]:[Year]],I$6)","v":103},{"$f":"COUNTIFS(TU_DB[[NO3 Bin (2n1) (ppm)]:[NO3 Bin (2n1) (ppm)]],$B10,TU_DB[[Year]:[Year]],J$6)","v":143}]
[null,10,{"$f":"COUNTIFS(TU_DB[NO3 Bin (2n1) (ppm)],B11)","v":4},2.7285129604365621E-3,0.99999999999999989,{"$f":"COUNTIFS(TU_DB[[NO3 Bin (2n1) (ppm)]:[NO3 Bin (2n1) (ppm)]],$B11,TU_DB[[Year]:[Year]],F$6)","v":0},{"$f":"COUNTIFS(TU_DB[[NO3 Bin (2n1) (ppm)]:[NO3 Bin (2n1) (ppm)]],$B11,TU_DB[[Year]:[Year]],G$6)","v":0},{"$f":"COUNTIFS(TU_DB[[NO3 Bin (2n1) (ppm)]:[NO3 Bin (2n1) (ppm)]],$B11,TU_DB[[Year]:[Year]],H$6)","v":1},{"$f":"COUNTIFS(TU_DB[[NO3 Bin (2n1) (ppm)]:[NO3 Bin (2n1) (ppm)]],$B11,TU_DB[[Year]:[Year]],I$6)","v":1},{"$f":"COUNTIFS(TU_DB[[NO3 Bin (2n1) (ppm)]:[NO3 Bin (2n1) (ppm)]],$B11,TU_DB[[Year]:[Year]],J$6)","v":2}]
[null,20,{"$f":"COUNTIFS(TU_DB[NO3 Bin (2n1) (ppm)],B12)","v":0},0,0.99999999999999989,{"$f":"COUNTIFS(TU_DB[[NO3 Bin (2n1) (ppm)]:[NO3 Bin (2n1) (ppm)]],$B12,TU_DB[[Year]:[Year]],F$6)","v":0},{"$f":"COUNTIFS(TU_DB[[NO3 Bin (2n1) (ppm)]:[NO3 Bin (2n1) (ppm)]],$B12,TU_DB[[Year]:[Year]],G$6)","v":0},{"$f":"COUNTIFS(TU_DB[[NO3 Bin (2n1) (ppm)]:[NO3 Bin (2n1) (ppm)]],$B12,TU_DB[[Year]:[Year]],H$6)","v":0},{"$f":"COUNTIFS(TU_DB[[NO3 Bin (2n1) (ppm)]:[NO3 Bin (2n1) (ppm)]],$B12,TU_DB[[Year]:[Year]],I$6)","v":0},{"$f":"COUNTIFS(TU_DB[[NO3 Bin (2n1) (ppm)]:[NO3 Bin (2n1) (ppm)]],$B12,TU_DB[[Year]:[Year]],J$6)","v":0}]
[null,50,{"$f":"COUNTIFS(TU_DB[NO3 Bin (2n1) (ppm)],B13)","v":0},0,0.99999999999999989,{"$f":"COUNTIFS(TU_DB[[NO3 Bin (2n1) (ppm)]:[NO3 Bin (2n1) (ppm)]],$B13,TU_DB[[Year]:[Year]],F$6)","v":0},{"$f":"COUNTIFS(TU_DB[[NO3 Bin (2n1) (ppm)]:[NO3 Bin (2n1) (ppm)]],$B13,TU_DB[[Year]:[Year]],G$6)","v":0},{"$f":"COUNTIFS(TU_DB[[NO3 Bin (2n1) (ppm)]:[NO3 Bin (2n1) (ppm)]],$B13,TU_DB[[Year]:[Year]],H$6)","v":0},{"$f":"COUNTIFS(TU_DB[[NO3 Bin (2n1) (ppm)]:[NO3 Bin (2n1) (ppm)]],$B13,TU_DB[[Year]:[Year]],I$6)","v":0},{"$f":"COUNTIFS(TU_DB[[NO3 Bin (2n1) (ppm)]:[NO3 Bin (2n1) (ppm)]],$B13,TU_DB[[Year]:[Year]],J$6)","v":0}]
[null,"Total",{"$f":"SUM(C7:C13)","v":1466},null,null,{"$f":"SUM(F7:F13)","v":0},92,309,381,684]
[]
[]
[null,"Weather Conditions"]
[null,null,"Nitrate (NO3) [ppm]",null,null,null,null,null,null,null,null,"Table Labels"]
[null,"Weather Conditions",0,1,2,5,10,20,50,"Sum","% Total"]
[null,"Local Thunderstorm",{"$f":"COUNTIFS(TU_DB[[NO3 Bin (2n1) (ppm)]:[NO3 Bin (2n1) (ppm)]],C$19,TU_DB[[Weather]:[Weather]],$B20)","v":12},{"$f":"COUNTIFS(TU_DB[[NO3 Bin (2n1) (ppm)]:[NO3 Bin (2n1) (ppm)]],D$19,TU_DB[[Weather]:[Weather]],$B20)","v":9},{"$f":"COUNTIFS(TU_DB[[NO3 Bin (2n1) (ppm)]:[NO3 Bin (2n1) (ppm)]],E$19,TU_DB[[Weather]:[Weather]],$B20)","v":14},{"$f":"COUNTIFS(TU_DB[[NO3 Bin (2n1) (ppm)]:[NO3 Bin (2n1) (ppm)]],F$19,TU_DB[[Weather]:[Weather]],$B20)","v":8},{"$f":"COUNTIFS(TU_DB[[NO3 Bin (2n1) (ppm)]:[NO3 Bin (2n1) (ppm)]],G$19,TU_DB[[Weather]:[Weather]],$B20)","v":0},{"$f":"COUNTIFS(TU_DB[[NO3 Bin (2n1) (ppm)]:[NO3 Bin (2n1) (ppm)]],H$19,TU_DB[[Weather]:[Weather]],$B20)","v":0},{"$f":"COUNTIFS(TU_DB[[NO3 Bin (2n1) (ppm)]:[NO3 Bin (2n1) (ppm)]],I$19,TU_DB[[Weather]:[Weather]],$B20)","v":0},{"$f":"SUM(C20:I20)","v":43},{"$f":"SUM(J20)/SUM($J$20:$J$25)","v":3.2975460122699383E-2},"LT"]
[null,"Regional Rainfall",{"$f":"COUNTIFS(TU_DB[[NO3 Bin (2n1) (ppm)]:[NO3 Bin (2n1) (ppm)]],C$19,TU_DB[[Weather]:[Weather]],$B21)","v":39},{"$f":"COUNTIFS(TU_DB[[NO3 Bin (2n1) (ppm)]:[NO3 Bin (2n1) (ppm)]],D$19,TU_DB[[Weather]:[Weather]],$B21)","v":22},{"$f":"COUNTIFS(TU_DB[[NO3 Bin (2n1) (ppm)]:[NO3 Bin (2n1) (ppm)]],E$19,TU_DB[[Weather]:[Weather]],$B21)","v":55},{"$f":"COUNTIFS(TU_DB[[NO3 Bin (2n1) (ppm)]:[NO3 Bin (2n1) (ppm)]],F$19,TU_DB[[Weather]:[Weather]],$B21)","v":32},{"$f":"COUNTIFS(TU_DB[[NO3 Bin (2n1) (ppm)]:[NO3 Bin (2n1) (ppm)]],G$19,TU_DB[[Weather]:[Weather]],$B21)","v":0},{"$f":"COUNTIFS(TU_DB[[NO3 Bin (2n1) (ppm)]:[NO3 Bin (2n1) (ppm)]],H$19,TU_DB[[Weather]:[Weather]],$B21)","v":0},{"$f":"COUNTIFS(TU_DB[[NO3 Bin (2n1) (ppm)]:[NO3 Bin (2n1) (ppm)]],I$19,TU_DB[[Weather]:[Weather]],$B21)","v":0},{"$f":"SUM(C21:H21)","v":148},0.11349693251533742,"RR"]
[null,"Regional Rainfall,Local Thunderstorm",{"$f":"COUNTIFS(TU_DB[[NO3 Bin (2n1) (ppm)]:[NO3 Bin (2n1) (ppm)]],C$19,TU_DB[[Weather]:[Weather]],$B22)","v":1},{"$f":"COUNTIFS(TU_DB[[NO3 Bin (2n1) (ppm)]:[NO3 Bin (2n1) (ppm)]],D$19,TU_DB[[Weather]:[Weather]],$B22)","v":0},{"$f":"COUNTIFS(TU_DB[[NO3 Bin (2n1) (ppm)]:[NO3 Bin (2n1) (ppm)]],E$19,TU_DB[[Weather]:[Weather]],$B22)","v":2},{"$f":"COUNTIFS(TU_DB[[NO3 Bin (2n1) (ppm)]:[NO3 Bin (2n1) (ppm)]],F$19,TU_DB[[Weather]:[Weather]],$B22)","v":4},{"$f":"COUNTIFS(TU_DB[[NO3 Bin (2n1) (ppm)]:[NO3 Bin (2n1) (ppm)]],G$19,TU_DB[[Weather]:[Weather]],$B22)","v":0},{"$f":"COUNTIFS(TU_DB[[NO3 Bin (2n1) (ppm)]:[NO3 Bin (2n1) (ppm)]],H$19,TU_DB[[Weather]:[Weather]],$B22)","v":0},{"$f":"COUNTIFS(TU_DB[[NO3 Bin (2n1) (ppm)]:[NO3 Bin (2n1) (ppm)]],I$19,TU_DB[[Weather]:[Weather]],$B22)","v":0},7,5.3680981595092027E-3,"RR, LT"]
[null,"Regional Rainfall,Warmth Causing Snowmelt",{"$f":"COUNTIFS(TU_DB[[NO3 Bin (2n1) (ppm)]:[NO3 Bin (2n1) (ppm)]],C$19,TU_DB[[Weather]:[Weather]],$B23)","v":1},{"$f":"COUNTIFS(TU_DB[[NO3 Bin (2n1) (ppm)]:[NO3 Bin (2n1) (ppm)]],D$19,TU_DB[[Weather]:[Weather]],$B23)","v":1},{"$f":"COUNTIFS(TU_DB[[NO3 Bin (2n1) (ppm)]:[NO3 Bin (2n1) (ppm)]],E$19,TU_DB[[Weather]:[Weather]],$B23)","v":1},{"$f":"COUNTIFS(TU_DB[[NO3 Bin (2n1) (ppm)]:[NO3 Bin (2n1) (ppm)]],F$19,TU_DB[[Weather]:[Weather]],$B23)","v":0},{"$f":"COUNTIFS(TU_DB[[NO3 Bin (2n1) (ppm)]:[NO3 Bin (2n1) (ppm)]],G$19,TU_DB[[Weather]:[Weather]],$B23)","v":0},{"$f":"COUNTIFS(TU_DB[[NO3 Bin (2n1) (ppm)]:[NO3 Bin (2n1) (ppm)]],H$19,TU_DB[[Weather]:[Weather]],$B23)","v":0},{"$f":"COUNTIFS(TU_DB[[NO3 Bin (2n1) (ppm)]:[NO3 Bin (2n1) (ppm)]],I$19,TU_DB[[Weather]:[Weather]],$B23)","v":0},3,2.3006134969325155E-3,"RR, SM"]
[null,"Warmth Causing Snowmelt",{"$f":"COUNTIFS(TU_DB[[NO3 Bin (2n1) (ppm)]:[NO3 Bin (2n1) (ppm)]],C$19,TU_DB[[Weather]:[Weather]],$B24)","v":2},{"$f":"COUNTIFS(TU_DB[[NO3 Bin (2n1) (ppm)]:[NO3 Bin (2n1) (ppm)]],D$19,TU_DB[[Weather]:[Weather]],$B24)","v":3},{"$f":"COUNTIFS(TU_DB[[NO3 Bin (2n1) (ppm)]:[NO3 Bin (2n1) (ppm)]],E$19,TU_DB[[Weather]:[Weather]],$B24)","v":6},{"$f":"COUNTIFS(TU_DB[[NO3 Bin (2n1) (ppm)]:[NO3 Bin (2n1) (ppm)]],F$19,TU_DB[[Weather]:[Weather]],$B24)","v":1},{"$f":"COUNTIFS(TU_DB[[NO3 Bin (2n1) (ppm)]:[NO3 Bin (2n1) (ppm)]],G$19,TU_DB[[Weather]:[Weather]],$B24)","v":0},{"$f":"COUNTIFS(TU_DB[[NO3 Bin (2n1) (ppm)]:[NO3 Bin (2n1) (ppm)]],H$19,TU_DB[[Weather]:[Weather]],$B24)","v":0},{"$f":"COUNTIFS(TU_DB[[NO3 Bin (2n1) (ppm)]:[NO3 Bin (2n1) (ppm)]],I$19,TU_DB[[Weather]:[Weather]],$B24)","v":0},12,9.202453987730062E-3,"SM"]
[null,"None",{"$f":"COUNTIFS(TU_DB[[NO3 Bin (2n1) (ppm)]:[NO3 Bin (2n1) (ppm)]],C$19,TU_DB[[Weather]:[Weather]],$B25)","v":281},{"$f":"COUNTIFS(TU_DB[[NO3 Bin (2n1) (ppm)]:[NO3 Bin (2n1) (ppm)]],D$19,TU_DB[[Weather]:[Weather]],$B25)","v":139},{"$f":"COUNTIFS(TU_DB[[NO3 Bin (2n1) (ppm)]:[NO3 Bin (2n1) (ppm)]],E$19,TU_DB[[Weather]:[Weather]],$B25)","v":394},{"$f":"COUNTIFS(TU_DB[[NO3 Bin (2n1) (ppm)]:[NO3 Bin (2n1) (ppm)]],F$19,TU_DB[[Weather]:[Weather]],$B25)","v":273},{"$f":"COUNTIFS(TU_DB[[NO3 Bin (2n1) (ppm)]:[NO3 Bin (2n1) (ppm)]],G$19,TU_DB[[Weather]:[Weather]],$B25)","v":4},{"$f":"COUNTIFS(TU_DB[[NO3 Bin (2n1) (ppm)]:[NO3 Bin (2n1) (ppm)]],H$19,TU_DB[[Weather]:[Weather]],$B25)","v":0},{"$f":"COUNTIFS(TU_DB[[NO3 Bin (2n1) (ppm)]:[NO3 Bin (2n1) (ppm)]],I$19,TU_DB[[Weather]:[Weather]],$B25)","v":0},1091,0.83665644171779141,"None"]
[null,"Total",{"$f":"SUM(C20:C25)","v":336},174,472,318,4,0,null,1304]
[]
[null,"Water Level"]
[null,null,"Nitrate (NO3) [ppm]"]
[null,"Water Level",0,1,2,5,10,20,50,"Sum","% Total"]
[null,"Baseflow",{"$f":"COUNTIFS(TU_DB[[NO3 Bin (2n1) (ppm)]:[NO3 Bin (2n1) (ppm)]],C$19,TU_DB[[Water Level]:[Water Level]],$B31)","v":259},{"$f":"COUNTIFS(TU_DB[[NO3 Bin (2n1) (ppm)]:[NO3 Bin (2n1) (ppm)]],D$19,TU_DB[[Water Level]:[Water Level]],$B31)","v":132},{"$f":"COUNTIFS(TU_DB[[NO3 Bin (2n1) (ppm)]:[NO3 Bin (2n1) (ppm)]],E$19,TU_DB[[Water Level]:[Water Level]],$B31)","v":365},{"$f":"COUNTIFS(TU_DB[[NO3 Bin (2n1) (ppm)]:[NO3 Bin (2n1) (ppm)]],F$19,TU_DB[[Water Level]:[Water Level]],$B31)","v":282},{"$f":"COUNTIFS(TU_DB[[NO3 Bin (2n1) (ppm)]:[NO3 Bin (2n1) (ppm)]],G$19,TU_DB[[Water Level]:[Water Level]],$B31)","v":3},{"$f":"COUNTIFS(TU_DB[[NO3 Bin (2n1) (ppm)]:[NO3 Bin (2n1) (ppm)]],H$19,TU_DB[[Water Level]:[Water Level]],$B31)","v":0},{"$f":"COUNTIFS(TU_DB[[NO3 Bin (2n1) (ppm)]:[NO3 Bin (2n1) (ppm)]],I$19,TU_DB[[Water Level]:[Water Level]],$B31)","v":0},{"$f":"SUM(C31:H31)","v":1041},{"$f":"SUM(J31)/SUM($J$31:$J$34)","v":0.77513030528667159}]
[null,"Mid-Stage",{"$f":"COUNTIFS(TU_DB[[NO3 Bin (2n1) (ppm)]:[NO3 Bin (2n1) (ppm)]],C$19,TU_DB[[Water Level]:[Water Level]],$B32)","v":68},{"$f":"COUNTIFS(TU_DB[[NO3 Bin (2n1) (ppm)]:[NO3 Bin (2n1) (ppm)]],D$19,TU_DB[[Water Level]:[Water Level]],$B32)","v":39},{"$f":"COUNTIFS(TU_DB[[NO3 Bin (2n1) (ppm)]:[NO3 Bin (2n1) (ppm)]],E$19,TU_DB[[Water Level]:[Water Level]],$B32)","v":86},{"$f":"COUNTIFS(TU_DB[[NO3 Bin (2n1) (ppm)]:[NO3 Bin (2n1) (ppm)]],F$19,TU_DB[[Water Level]:[Water Level]],$B32)","v":37},{"$f":"COUNTIFS(TU_DB[[NO3 Bin (2n1) (ppm)]:[NO3 Bin (2n1) (ppm)]],G$19,TU_DB[[Water Level]:[Water Level]],$B32)","v":1},{"$f":"COUNTIFS(TU_DB[[NO3 Bin (2n1) (ppm)]:[NO3 Bin (2n1) (ppm)]],H$19,TU_DB[[Water Level]:[Water Level]],$B32)","v":0},{"$f":"COUNTIFS(TU_DB[[NO3 Bin (2n1) (ppm)]:[NO3 Bin (2n1) (ppm)]],I$19,TU_DB[[Water Level]:[Water Level]],$B32)","v":0},{"$f":"SUM(C32:H32)","v":231},{"$f":"SUM(J32)/SUM($J$31:$J$34)","v":0.17200297840655249}]
[null,"Bankfull Stage",{"$f":"COUNTIFS(TU_DB[[NO3 Bin (2n1) (ppm)]:[NO3 Bin (2n1) (ppm)]],C$19,TU_DB[[Water Level]:[Water Level]],$B33)","v":21},{"$f":"COUNTIFS(TU_DB[[NO3 Bin (2n1) (ppm)]:[NO3 Bin (2n1) (ppm)]],D$19,TU_DB[[Water Level]:[Water Level]],$B33)","v":10},{"$f":"COUNTIFS(TU_DB[[NO3 Bin (2n1) (ppm)]:[NO3 Bin (2n1) (ppm)]],E$19,TU_DB[[Water Level]:[Water Level]],$B33)","v":21},{"$f":"COUNTIFS(TU_DB[[NO3 Bin (2n1) (ppm)]:[NO3 Bin (2n1) (ppm)]],F$19,TU_DB[[Water Level]:[Water Level]],$B33)","v":13},{"$f":"COUNTIFS(TU_DB[[NO3 Bin (2n1) (ppm)]:[NO3 Bin (2n1) (ppm)]],G$19,TU_DB[[Water Level]:[Water Level]],$B33)","v":0},{"$f":"COUNTIFS(TU_DB[[NO3 Bin (2n1) (ppm)]:[NO3 Bin (2n1) (ppm)]],H$19,TU_DB[[Water Level]:[Water Level]],$B33)","v":0},{"$f":"COUNTIFS(TU_DB[[NO3 Bin (2n1) (ppm)]:[NO3 Bin (2n1) (ppm)]],I$19,TU_DB[[Water Level]:[Water Level]],$B33)","v":0},{"$f":"SUM(C33:H33)","v":65},{"$f":"SUM(J33)/SUM($J$31:$J$34)","v":4.8399106478034248E-2}]
[null,"Overbank Flooding",1,1,1,1,2,0,1,6,{"$f":"SUM(J34)/SUM($J$31:$J$34)","v":4.4676098287416231E-3}]
[null,"Total",{"$f":"SUM(C31:C34)","v":349},182,473,333,6,0,null,1343]
[]
[]
[]
[]
[]
[]
[]
[]
[null,"Water Clarity"]
[null,null,"Nitrate (NO3) [ppm]"]
[null,"Water Clarity",0,1,2,5,10,20,50,"Sum","% Total"]
[null,"Clear",{"$f":"COUNTIFS(TU_DB[[NO3 Bin (2n1) (ppm)]:[NO3 Bin (2n1) (ppm)]],C$19,TU_DB[[Clarity]:[Clarity]],$B47)","v":286},{"$f":"COUNTIFS(TU_DB[[NO3 Bin (2n1) (ppm)]:[NO3 Bin (2n1) (ppm)]],D$19,TU_DB[[Clarity]:[Clarity]],$B47)","v":133},{"$f":"COUNTIFS(TU_DB[[NO3 Bin (2n1) (ppm)]:[NO3 Bin (2n1) (ppm)]],E$19,TU_DB[[Clarity]:[Clarity]],$B47)","v":385},{"$f":"COUNTIFS(TU_DB[[NO3 Bin (2n1) (ppm)]:[NO3 Bin (2n1) (ppm)]],F$19,TU_DB[[Clarity]:[Clarity]],$B47)","v":284},{"$f":"COUNTIFS(TU_DB[[NO3 Bin (2n1) (ppm)]:[NO3 Bin (2n1) (ppm)]],G$19,TU_DB[[Clarity]:[Clarity]],$B47)","v":3},{"$f":"COUNTIFS(TU_DB[[NO3 Bin (2n1) (ppm)]:[NO3 Bin (2n1) (ppm)]],H$19,TU_DB[[Clarity]:[Clarity]],$B47)","v":0},{"$f":"COUNTIFS(TU_DB[[NO3 Bin (2n1) (ppm)]:[NO3 Bin (2n1) (ppm)]],I$19,TU_DB[[Clarity]:[Clarity]],$B47)","v":0},{"$f":"SUM(C47:H47)","v":1091},{"$f":"SUM(J47)/SUM($J$47:$J$49)","v":0.80161645848640706}]
[null,"Muddy",{"$f":"COUNTIFS(TU_DB[[NO3 Bin (2n1) (ppm)]:[NO3 Bin (2n1) (ppm)]],C$19,TU_DB[[Clarity]:[Clarity]],$B48)","v":12},{"$f":"COUNTIFS(TU_DB[[NO3 Bin (2n1) (ppm)]:[NO3 Bin (2n1) (ppm)]],D$19,TU_DB[[Clarity]:[Clarity]],$B48)","v":10},{"$f":"COUNTIFS(TU_DB[[NO3 Bin (2n1) (ppm)]:[NO3 Bin (2n1) (ppm)]],E$19,TU_DB[[Clarity]:[Clarity]],$B48)","v":27},{"$f":"COUNTIFS(TU_DB[[NO3 Bin (2n1) (ppm)]:[NO3 Bin (2n1) (ppm)]],F$19,TU_DB[[Clarity]:[Clarity]],$B48)","v":5},{"$f":"COUNTIFS(TU_DB[[NO3 Bin (2n1) (ppm)]:[NO3 Bin (2n1) (ppm)]],G$19,TU_DB[[Clarity]:[Clarity]],$B48)","v":0},{"$f":"COUNTIFS(TU_DB[[NO3 Bin (2n1) (ppm)]:[NO3 Bin (2n1) (ppm)]],H$19,TU_DB[[Clarity]:[Clarity]],$B48)","v":0},{"$f":"COUNTIFS(TU_DB[[NO3 Bin (2n1) (ppm)]:[NO3 Bin (2n1) (ppm)]],I$19,TU_DB[[Clarity]:[Clarity]],$B48)","v":0},{"$f":"SUM(C48:H48)","v":54},{"$f":"SUM(J48)/SUM($J$47:$J$49)","v":3.9676708302718591E-2}]
[null,"Murky",{"$f":"COUNTIFS(TU_DB[[NO3 Bin (2n1) (ppm)]:[NO3 Bin (2n1) (ppm)]],C$19,TU_DB[[Clarity]:[Clarity]],$B49)","v":57},{"$f":"COUNTIFS(TU_DB[[NO3 Bin (2n1) (ppm)]:[NO3 Bin (2n1) (ppm)]],D$19,TU_DB[[Clarity]:[Clarity]],$B49)","v":43},{"$f":"COUNTIFS(TU_DB[[NO3 Bin (2n1) (ppm)]:[NO3 Bin (2n1) (ppm)]],E$19,TU_DB[[Clarity]:[Clarity]],$B49)","v":72},{"$f":"COUNTIFS(TU_DB[[NO3 Bin (2n1) (ppm)]:[NO3 Bin (2n1) (ppm)]],F$19,TU_DB[[Clarity]:[Clarity]],$B49)","v":43},{"$f":"COUNTIFS(TU_DB[[NO3 Bin (2n1) (ppm)]:[NO3 Bin (2n1) (ppm)]],G$19,TU_DB[[Clarity]:[Clarity]],$B49)","v":1},{"$f":"COUNTIFS(TU_DB[[NO3 Bin (2n1) (ppm)]:[NO3 Bin (2n1) (ppm)]],H$19,TU_DB[[Clarity]:[Clarity]],$B49)","v":0},{"$f":"COUNTIFS(TU_DB[[NO3 Bin (2n1) (ppm)]:[NO3 Bin (2n1) (ppm)]],I$19,TU_DB[[Clarity]:[Clarity]],$B49)","v":0},{"$f":"SUM(C49:H49)","v":216},{"$f":"SUM(J49)/SUM($J$47:$J$49)","v":0.15870683321087437}]
[null,"Total",{"$f":"SUM(C47:C49)","v":355},186,484,332,4,0,null,1361]
[]
[]
[]
[]
[]
[]
[]
[]
[]
[]
[null,"Monitoring Stations"]
[null,null,"Nitrate (NO3) [ppm]",null,null,null,null,null,null,null,null,null,null,"Station to Plot","Hay Creek @ 320th St"]
[null,"Monitoring Site",0,1,2,5,10,20,50,"Sum","% Total"]
[null,"Kiat-TU-Wish",{"$f":"SUM(C65:C74)","v":40},{"$f":"SUM(D65:D74)","v":11},67,19,0,0,0,{"$f":"SUM(J65:J74)","v":137}]
[null,"Cady Creek @ 50th St",{"$f":"COUNTIFS(TU_DB[[NO3 Bin (2n1) (ppm)]:[NO3 Bin (2n1) (ppm)]],C$19,TU_DB[[Monitoring Site]:[Monitoring Site]],$B65)","v":3},{"$f":"COUNTIFS(TU_DB[[NO3 Bin (2n1) (ppm)]:[NO3 Bin (2n1) (ppm)]],D$19,TU_DB[[Monitoring Site]:[Monitoring Site]],$B65)","v":3},{"$f":"COUNTIFS(TU_DB[[NO3 Bin (2n1) (ppm)]:[NO3 Bin (2n1) (ppm)]],E$19,TU_DB[[Monitoring Site]:[Monitoring Site]],$B65)","v":7},{"$f":"COUNTIFS(TU_DB[[NO3 Bin (2n1) (ppm)]:[NO3 Bin (2n1) (ppm)]],F$19,TU_DB[[Monitoring Site]:[Monitoring Site]],$B65)","v":1},{"$f":"COUNTIFS(TU_DB[[NO3 Bin (2n1) (ppm)]:[NO3 Bin (2n1) (ppm)]],G$19,TU_DB[[Monitoring Site]:[Monitoring Site]],$B65)","v":0},{"$f":"COUNTIFS(TU_DB[[NO3 Bin (2n1) (ppm)]:[NO3 Bin (2n1) (ppm)]],H$19,TU_DB[[Monitoring Site]:[Monitoring Site]],$B65)","v":0},{"$f":"COUNTIFS(TU_DB[[NO3 Bin (2n1) (ppm)]:[NO3 Bin (2n1) (ppm)]],I$19,TU_DB[[Monitoring Site]:[Monitoring Site]],$B65)","v":0},{"$f":"SUM(C65:I65)","v":14},{"$f":"SUM(J65)/$J$64","v":0.10218978102189781}]
[null,{"$f":"Use!Q118","v":"Eau Galle River @ WI Hwy 29"},{"$f":"COUNTIFS(TU_DB[[NO3 Bin (2n1) (ppm)]:[NO3 Bin (2n1) (ppm)]],C$19,TU_DB[[Monitoring Site]:[Monitoring Site]],$B66)","v":3},{"$f":"COUNTIFS(TU_DB[[NO3 Bin (2n1) (ppm)]:[NO3 Bin (2n1) (ppm)]],D$19,TU_DB[[Monitoring Site]:[Monitoring Site]],$B66)","v":3},{"$f":"COUNTIFS(TU_DB[[NO3 Bin (2n1) (ppm)]:[NO3 Bin (2n1) (ppm)]],E$19,TU_DB[[Monitoring Site]:[Monitoring Site]],$B66)","v":0},{"$f":"COUNTIFS(TU_DB[[NO3 Bin (2n1) (ppm)]:[NO3 Bin (2n1) (ppm)]],F$19,TU_DB[[Monitoring Site]:[Monitoring Site]],$B66)","v":0},{"$f":"COUNTIFS(TU_DB[[NO3 Bin (2n1) (ppm)]:[NO3 Bin (2n1) (ppm)]],G$19,TU_DB[[Monitoring Site]:[Monitoring Site]],$B66)","v":0},{"$f":"COUNTIFS(TU_DB[[NO3 Bin (2n1) (ppm)]:[NO3 Bin (2n1) (ppm)]],H$19,TU_DB[[Monitoring Site]:[Monitoring Site]],$B66)","v":0},{"$f":"COUNTIFS(TU_DB[[NO3 Bin (2n1) (ppm)]:[NO3 Bin (2n1) (ppm)]],I$19,TU_DB[[Monitoring Site]:[Monitoring Site]],$B66)","v":0},{"$f":"SUM(C66:I66)","v":6},4.3795620437956206E-2]
[null,{"$f":"Use!Q119","v":"Isabelle Creek @ County Rd. EE"},{"$f":"COUNTIFS(TU_DB[[NO3 Bin (2n1) (ppm)]:[NO3 Bin (2n1) (ppm)]],C$19,TU_DB[[Monitoring Site]:[Monitoring Site]],$B67)","v":4},{"$f":"COUNTIFS(TU_DB[[NO3 Bin (2n1) (ppm)]:[NO3 Bin (2n1) (ppm)]],D$19,TU_DB[[Monitoring Site]:[Monitoring Site]],$B67)","v":1},{"$f":"COUNTIFS(TU_DB[[NO3 Bin (2n1) (ppm)]:[NO3 Bin (2n1) (ppm)]],E$19,TU_DB[[Monitoring Site]:[Monitoring Site]],$B67)","v":8},{"$f":"COUNTIFS(TU_DB[[NO3 Bin (2n1) (ppm)]:[NO3 Bin (2n1) (ppm)]],F$19,TU_DB[[Monitoring Site]:[Monitoring Site]],$B67)","v":4},{"$f":"COUNTIFS(TU_DB[[NO3 Bin (2n1) (ppm)]:[NO3 Bin (2n1) (ppm)]],G$19,TU_DB[[Monitoring Site]:[Monitoring Site]],$B67)","v":0},{"$f":"COUNTIFS(TU_DB[[NO3 Bin (2n1) (ppm)]:[NO3 Bin (2n1) (ppm)]],H$19,TU_DB[[Monitoring Site]:[Monitoring Site]],$B67)","v":0},{"$f":"COUNTIFS(TU_DB[[NO3 Bin (2n1) (ppm)]:[NO3 Bin (2n1) (ppm)]],I$19,TU_DB[[Monitoring Site]:[Monitoring Site]],$B67)","v":0},17,0.12408759124087591]
[null,{"$f":"Use!Q120","v":"Kinnickinnic River, Lower Glen Park"},{"$f":"COUNTIFS(TU_DB[[NO3 Bin (2n1) (ppm)]:[NO3 Bin (2n1) (ppm)]],C$19,TU_DB[[Monitoring Site]:[Monitoring Site]],$B68)","v":0},{"$f":"COUNTIFS(TU_DB[[NO3 Bin (2n1) (ppm)]:[NO3 Bin (2n1) (ppm)]],D$19,TU_DB[[Monitoring Site]:[Monitoring Site]],$B68)","v":0},{"$f":"COUNTIFS(TU_DB[[NO3 Bin (2n1) (ppm)]:[NO3 Bin (2n1) (ppm)]],E$19,TU_DB[[Monitoring Site]:[Monitoring Site]],$B68)","v":0},{"$f":"COUNTIFS(TU_DB[[NO3 Bin (2n1) (ppm)]:[NO3 Bin (2n1) (ppm)]],F$19,TU_DB[[Monitoring Site]:[Monitoring Site]],$B68)","v":0},{"$f":"COUNTIFS(TU_DB[[NO3 Bin (2n1) (ppm)]:[NO3 Bin (2n1) (ppm)]],G$19,TU_DB[[Monitoring Site]:[Monitoring Site]],$B68)","v":0},{"$f":"COUNTIFS(TU_DB[[NO3 Bin (2n1) (ppm)]:[NO3 Bin (2n1) (ppm)]],H$19,TU_DB[[Monitoring Site]:[Monitoring Site]],$B68)","v":0},{"$f":"COUNTIFS(TU_DB[[NO3 Bin (2n1) (ppm)]:[NO3 Bin (2n1) (ppm)]],I$19,TU_DB[[Monitoring Site]:[Monitoring Site]],$B68)","v":0},0,0]
[null,{"$f":"Use!Q121","v":"Pine Creek @ County Rd. AA"},{"$f":"COUNTIFS(TU_DB[[NO3 Bin (2n1) (ppm)]:[NO3 Bin (2n1) (ppm)]],C$19,TU_DB[[Monitoring Site]:[Monitoring Site]],$B69)","v":6},{"$f":"COUNTIFS(TU_DB[[NO3 Bin (2n1) (ppm)]:[NO3 Bin (2n1) (ppm)]],D$19,TU_DB[[Monitoring Site]:[Monitoring Site]],$B69)","v":0},{"$f":"COUNTIFS(TU_DB[[NO3 Bin (2n1) (ppm)]:[NO3 Bin (2n1) (ppm)]],E$19,TU_DB[[Monitoring Site]:[Monitoring Site]],$B69)","v":15},{"$f":"COUNTIFS(TU_DB[[NO3 Bin (2n1) (ppm)]:[NO3 Bin (2n1) (ppm)]],F$19,TU_DB[[Monitoring Site]:[Monitoring Site]],$B69)","v":1},{"$f":"COUNTIFS(TU_DB[[NO3 Bin (2n1) (ppm)]:[NO3 Bin (2n1) (ppm)]],G$19,TU_DB[[Monitoring Site]:[Monitoring Site]],$B69)","v":0},{"$f":"COUNTIFS(TU_DB[[NO3 Bin (2n1) (ppm)]:[NO3 Bin (2n1) (ppm)]],H$19,TU_DB[[Monitoring Site]:[Monitoring Site]],$B69)","v":0},{"$f":"COUNTIFS(TU_DB[[NO3 Bin (2n1) (ppm)]:[NO3 Bin (2n1) (ppm)]],I$19,TU_DB[[Monitoring Site]:[Monitoring Site]],$B69)","v":0},22,0.16058394160583941]
[null,{"$f":"Use!Q122","v":"Plum Creek @ Plum CIty Park"},{"$f":"COUNTIFS(TU_DB[[NO3 Bin (2n1) (ppm)]:[NO3 Bin (2n1) (ppm)]],C$19,TU_DB[[Monitoring Site]:[Monitoring Site]],$B70)","v":3},{"$f":"COUNTIFS(TU_DB[[NO3 Bin (2n1) (ppm)]:[NO3 Bin (2n1) (ppm)]],D$19,TU_DB[[Monitoring Site]:[Monitoring Site]],$B70)","v":0},{"$f":"COUNTIFS(TU_DB[[NO3 Bin (2n1) (ppm)]:[NO3 Bin (2n1) (ppm)]],E$19,TU_DB[[Monitoring Site]:[Monitoring Site]],$B70)","v":4},{"$f":"COUNTIFS(TU_DB[[NO3 Bin (2n1) (ppm)]:[NO3 Bin (2n1) (ppm)]],F$19,TU_DB[[Monitoring Site]:[Monitoring Site]],$B70)","v":0},{"$f":"COUNTIFS(TU_DB[[NO3 Bin (2n1) (ppm)]:[NO3 Bin (2n1) (ppm)]],G$19,TU_DB[[Monitoring Site]:[Monitoring Site]],$B70)","v":0},{"$f":"COUNTIFS(TU_DB[[NO3 Bin (2n1) (ppm)]:[NO3 Bin (2n1) (ppm)]],H$19,TU_DB[[Monitoring Site]:[Monitoring Site]],$B70)","v":0},{"$f":"COUNTIFS(TU_DB[[NO3 Bin (2n1) (ppm)]:[NO3 Bin (2n1) (ppm)]],I$19,TU_DB[[Monitoring Site]:[Monitoring Site]],$B70)","v":0},7,5.1094890510948905E-2]
[null,{"$f":"Use!Q123","v":"Rocky Branch Creek, Lower Glen Park"},{"$f":"COUNTIFS(TU_DB[[NO3 Bin (2n1) (ppm)]:[NO3 Bin (2n1) (ppm)]],C$19,TU_DB[[Monitoring Site]:[Monitoring Site]],$B71)","v":0},{"$f":"COUNTIFS(TU_DB[[NO3 Bin (2n1) (ppm)]:[NO3 Bin (2n1) (ppm)]],D$19,TU_DB[[Monitoring Site]:[Monitoring Site]],$B71)","v":1},{"$f":"COUNTIFS(TU_DB[[NO3 Bin (2n1) (ppm)]:[NO3 Bin (2n1) (ppm)]],E$19,TU_DB[[Monitoring Site]:[Monitoring Site]],$B71)","v":2},{"$f":"COUNTIFS(TU_DB[[NO3 Bin (2n1) (ppm)]:[NO3 Bin (2n1) (ppm)]],F$19,TU_DB[[Monitoring Site]:[Monitoring Site]],$B71)","v":0},{"$f":"COUNTIFS(TU_DB[[NO3 Bin (2n1) (ppm)]:[NO3 Bin (2n1) (ppm)]],G$19,TU_DB[[Monitoring Site]:[Monitoring Site]],$B71)","v":0},{"$f":"COUNTIFS(TU_DB[[NO3 Bin (2n1) (ppm)]:[NO3 Bin (2n1) (ppm)]],H$19,TU_DB[[Monitoring Site]:[Monitoring Site]],$B71)","v":0},{"$f":"COUNTIFS(TU_DB[[NO3 Bin (2n1) (ppm)]:[NO3 Bin (2n1) (ppm)]],I$19,TU_DB[[Monitoring Site]:[Monitoring Site]],$B71)","v":0},3,2.1897810218978103E-2]
[null,{"$f":"Use!Q124","v":"Rush River @ 570th Ave"},{"$f":"COUNTIFS(TU_DB[[NO3 Bin (2n1) (ppm)]:[NO3 Bin (2n1) (ppm)]],C$19,TU_DB[[Monitoring Site]:[Monitoring Site]],$B72)","v":6},{"$f":"COUNTIFS(TU_DB[[NO3 Bin (2n1) (ppm)]:[NO3 Bin (2n1) (ppm)]],D$19,TU_DB[[Monitoring Site]:[Monitoring Site]],$B72)","v":2},{"$f":"COUNTIFS(TU_DB[[NO3 Bin (2n1) (ppm)]:[NO3 Bin (2n1) (ppm)]],E$19,TU_DB[[Monitoring Site]:[Monitoring Site]],$B72)","v":7},{"$f":"COUNTIFS(TU_DB[[NO3 Bin (2n1) (ppm)]:[NO3 Bin (2n1) (ppm)]],F$19,TU_DB[[Monitoring Site]:[Monitoring Site]],$B72)","v":2},{"$f":"COUNTIFS(TU_DB[[NO3 Bin (2n1) (ppm)]:[NO3 Bin (2n1) (ppm)]],G$19,TU_DB[[Monitoring Site]:[Monitoring Site]],$B72)","v":0},{"$f":"COUNTIFS(TU_DB[[NO3 Bin (2n1) (ppm)]:[NO3 Bin (2n1) (ppm)]],H$19,TU_DB[[Monitoring Site]:[Monitoring Site]],$B72)","v":0},{"$f":"COUNTIFS(TU_DB[[NO3 Bin (2n1) (ppm)]:[NO3 Bin (2n1) (ppm)]],I$19,TU_DB[[Monitoring Site]:[Monitoring Site]],$B72)","v":0},17,0.12408759124087591]
[null,{"$f":"Use!Q125","v":"SF Kinnickinnic River @ 900th St"},{"$f":"COUNTIFS(TU_DB[[NO3 Bin (2n1) (ppm)]:[NO3 Bin (2n1) (ppm)]],C$19,TU_DB[[Monitoring Site]:[Monitoring Site]],$B73)","v":13},{"$f":"COUNTIFS(TU_DB[[NO3 Bin (2n1) (ppm)]:[NO3 Bin (2n1) (ppm)]],D$19,TU_DB[[Monitoring Site]:[Monitoring Site]],$B73)","v":0},{"$f":"COUNTIFS(TU_DB[[NO3 Bin (2n1) (ppm)]:[NO3 Bin (2n1) (ppm)]],E$19,TU_DB[[Monitoring Site]:[Monitoring Site]],$B73)","v":20},{"$f":"COUNTIFS(TU_DB[[NO3 Bin (2n1) (ppm)]:[NO3 Bin (2n1) (ppm)]],F$19,TU_DB[[Monitoring Site]:[Monitoring Site]],$B73)","v":11},{"$f":"COUNTIFS(TU_DB[[NO3 Bin (2n1) (ppm)]:[NO3 Bin (2n1) (ppm)]],G$19,TU_DB[[Monitoring Site]:[Monitoring Site]],$B73)","v":0},{"$f":"COUNTIFS(TU_DB[[NO3 Bin (2n1) (ppm)]:[NO3 Bin (2n1) (ppm)]],H$19,TU_DB[[Monitoring Site]:[Monitoring Site]],$B73)","v":0},{"$f":"COUNTIFS(TU_DB[[NO3 Bin (2n1) (ppm)]:[NO3 Bin (2n1) (ppm)]],I$19,TU_DB[[Monitoring Site]:[Monitoring Site]],$B73)","v":0},44,0.32116788321167883]
[null,{"$f":"Use!Q126","v":"Trimbelle River @ County Rd W"},{"$f":"COUNTIFS(TU_DB[[NO3 Bin (2n1) (ppm)]:[NO3 Bin (2n1) (ppm)]],C$19,TU_DB[[Monitoring Site]:[Monitoring Site]],$B74)","v":2},{"$f":"COUNTIFS(TU_DB[[NO3 Bin (2n1) (ppm)]:[NO3 Bin (2n1) (ppm)]],D$19,TU_DB[[Monitoring Site]:[Monitoring Site]],$B74)","v":1},{"$f":"COUNTIFS(TU_DB[[NO3 Bin (2n1) (ppm)]:[NO3 Bin (2n1) (ppm)]],E$19,TU_DB[[Monitoring Site]:[Monitoring Site]],$B74)","v":4},{"$f":"COUNTIFS(TU_DB[[NO3 Bin (2n1) (ppm)]:[NO3 Bin (2n1) (ppm)]],F$19,TU_DB[[Monitoring Site]:[Monitoring Site]],$B74)","v":0},{"$f":"COUNTIFS(TU_DB[[NO3 Bin (2n1) (ppm)]:[NO3 Bin (2n1) (ppm)]],G$19,TU_DB[[Monitoring Site]:[Monitoring Site]],$B74)","v":0},{"$f":"COUNTIFS(TU_DB[[NO3 Bin (2n1) (ppm)]:[NO3 Bin (2n1) (ppm)]],H$19,TU_DB[[Monitoring Site]:[Monitoring Site]],$B74)","v":0},{"$f":"COUNTIFS(TU_DB[[NO3 Bin (2n1) (ppm)]:[NO3 Bin (2n1) (ppm)]],I$19,TU_DB[[Monitoring Site]:[Monitoring Site]],$B74)","v":0},7,5.1094890510948905E-2]
[null,"Twin Cities Trout Unlimited",{"$f":"SUM(C76:C85)","v":43},{"$f":"SUM(D76:D85)","v":17},33,38,2,0,0,{"$f":"SUM(J76:J83)","v":133}]
[null,{"$f":"Use!Q128","v":"Belle Creek"},{"$f":"COUNTIFS(TU_DB[[NO3 Bin (2n1) (ppm)]:[NO3 Bin (2n1) (ppm)]],C$19,TU_DB[[Monitoring Site]:[Monitoring Site]],$B76)","v":3},{"$f":"COUNTIFS(TU_DB[[NO3 Bin (2n1) (ppm)]:[NO3 Bin (2n1) (ppm)]],D$19,TU_DB[[Monitoring Site]:[Monitoring Site]],$B76)","v":0},{"$f":"COUNTIFS(TU_DB[[NO3 Bin (2n1) (ppm)]:[NO3 Bin (2n1) (ppm)]],E$19,TU_DB[[Monitoring Site]:[Monitoring Site]],$B76)","v":1},{"$f":"COUNTIFS(TU_DB[[NO3 Bin (2n1) (ppm)]:[NO3 Bin (2n1) (ppm)]],F$19,TU_DB[[Monitoring Site]:[Monitoring Site]],$B76)","v":0},{"$f":"COUNTIFS(TU_DB[[NO3 Bin (2n1) (ppm)]:[NO3 Bin (2n1) (ppm)]],G$19,TU_DB[[Monitoring Site]:[Monitoring Site]],$B76)","v":0},{"$f":"COUNTIFS(TU_DB[[NO3 Bin (2n1) (ppm)]:[NO3 Bin (2n1) (ppm)]],H$19,TU_DB[[Monitoring Site]:[Monitoring Site]],$B76)","v":0},{"$f":"COUNTIFS(TU_DB[[NO3 Bin (2n1) (ppm)]:[NO3 Bin (2n1) (ppm)]],I$19,TU_DB[[Monitoring Site]:[Monitoring Site]],$B76)","v":0},{"$f":"SUM(C76:I76)","v":4},{"$f":"SUM(J76)/$J$75","v":3.007518796992481E-2}]
[null,{"$f":"Use!Q129","v":"Hay Creek @ 320th St"},{"$f":"COUNTIFS(TU_DB[[NO3 Bin (2n1) (ppm)]:[NO3 Bin (2n1) (ppm)]],C$19,TU_DB[[Monitoring Site]:[Monitoring Site]],$B77)","v":2},{"$f":"COUNTIFS(TU_DB[[NO3 Bin (2n1) (ppm)]:[NO3 Bin (2n1) (ppm)]],D$19,TU_DB[[Monitoring Site]:[Monitoring Site]],$B77)","v":1},{"$f":"COUNTIFS(TU_DB[[NO3 Bin (2n1) (ppm)]:[NO3 Bin (2n1) (ppm)]],E$19,TU_DB[[Monitoring Site]:[Monitoring Site]],$B77)","v":16},{"$f":"COUNTIFS(TU_DB[[NO3 Bin (2n1) (ppm)]:[NO3 Bin (2n1) (ppm)]],F$19,TU_DB[[Monitoring Site]:[Monitoring Site]],$B77)","v":1},{"$f":"COUNTIFS(TU_DB[[NO3 Bin (2n1) (ppm)]:[NO3 Bin (2n1) (ppm)]],G$19,TU_DB[[Monitoring Site]:[Monitoring Site]],$B77)","v":0},{"$f":"COUNTIFS(TU_DB[[NO3 Bin (2n1) (ppm)]:[NO3 Bin (2n1) (ppm)]],H$19,TU_DB[[Monitoring Site]:[Monitoring Site]],$B77)","v":0},{"$f":"COUNTIFS(TU_DB[[NO3 Bin (2n1) (ppm)]:[NO3 Bin (2n1) (ppm)]],I$19,TU_DB[[Monitoring Site]:[Monitoring Site]],$B77)","v":0},20,0.15037593984962405]
[null,{"$f":"Use!Q130","v":"Hay Creek @ 325th St"},{"$f":"COUNTIFS(TU_DB[[NO3 Bin (2n1) (ppm)]:[NO3 Bin (2n1) (ppm)]],C$19,TU_DB[[Monitoring Site]:[Monitoring Site]],$B78)","v":6},{"$f":"COUNTIFS(TU_DB[[NO3 Bin (2n1) (ppm)]:[NO3 Bin (2n1) (ppm)]],D$19,TU_DB[[Monitoring Site]:[Monitoring Site]],$B78)","v":1},{"$f":"COUNTIFS(TU_DB[[NO3 Bin (2n1) (ppm)]:[NO3 Bin (2n1) (ppm)]],E$19,TU_DB[[Monitoring Site]:[Monitoring Site]],$B78)","v":7},{"$f":"COUNTIFS(TU_DB[[NO3 Bin (2n1) (ppm)]:[NO3 Bin (2n1) (ppm)]],F$19,TU_DB[[Monitoring Site]:[Monitoring Site]],$B78)","v":2},{"$f":"COUNTIFS(TU_DB[[NO3 Bin (2n1) (ppm)]:[NO3 Bin (2n1) (ppm)]],G$19,TU_DB[[Monitoring Site]:[Monitoring Site]],$B78)","v":0},{"$f":"COUNTIFS(TU_DB[[NO3 Bin (2n1) (ppm)]:[NO3 Bin (2n1) (ppm)]],H$19,TU_DB[[Monitoring Site]:[Monitoring Site]],$B78)","v":0},{"$f":"COUNTIFS(TU_DB[[NO3 Bin (2n1) (ppm)]:[NO3 Bin (2n1) (ppm)]],I$19,TU_DB[[Monitoring Site]:[Monitoring Site]],$B78)","v":0},16,0.12030075187969924]
[null,{"$f":"Use!Q131","v":"Eagle Creek"},{"$f":"COUNTIFS(TU_DB[[NO3 Bin (2n1) (ppm)]:[NO3 Bin (2n1) (ppm)]],C$19,TU_DB[[Monitoring Site]:[Monitoring Site]],$B79)","v":0},{"$f":"COUNTIFS(TU_DB[[NO3 Bin (2n1) (ppm)]:[NO3 Bin (2n1) (ppm)]],D$19,TU_DB[[Monitoring Site]:[Monitoring Site]],$B79)","v":0},{"$f":"COUNTIFS(TU_DB[[NO3 Bin (2n1) (ppm)]:[NO3 Bin (2n1) (ppm)]],E$19,TU_DB[[Monitoring Site]:[Monitoring Site]],$B79)","v":0},{"$f":"COUNTIFS(TU_DB[[NO3 Bin (2n1) (ppm)]:[NO3 Bin (2n1) (ppm)]],F$19,TU_DB[[Monitoring Site]:[Monitoring Site]],$B79)","v":0},{"$f":"COUNTIFS(TU_DB[[NO3 Bin (2n1) (ppm)]:[NO3 Bin (2n1) (ppm)]],G$19,TU_DB[[Monitoring Site]:[Monitoring Site]],$B79)","v":0},{"$f":"COUNTIFS(TU_DB[[NO3 Bin (2n1) (ppm)]:[NO3 Bin (2n1) (ppm)]],H$19,TU_DB[[Monitoring Site]:[Monitoring Site]],$B79)","v":0},{"$f":"COUNTIFS(TU_DB[[NO3 Bin (2n1) (ppm)]:[NO3 Bin (2n1) (ppm)]],I$19,TU_DB[[Monitoring Site]:[Monitoring Site]],$B79)","v":0},0,0]
[null,{"$f":"Use!Q132","v":"Little Cannon River"},{"$f":"COUNTIFS(TU_DB[[NO3 Bin (2n1) (ppm)]:[NO3 Bin (2n1) (ppm)]],C$19,TU_DB[[Monitoring Site]:[Monitoring Site]],$B80)","v":0},{"$f":"COUNTIFS(TU_DB[[NO3 Bin (2n1) (ppm)]:[NO3 Bin (2n1) (ppm)]],D$19,TU_DB[[Monitoring Site]:[Monitoring Site]],$B80)","v":1},{"$f":"COUNTIFS(TU_DB[[NO3 Bin (2n1) (ppm)]:[NO3 Bin (2n1) (ppm)]],E$19,TU_DB[[Monitoring Site]:[Monitoring Site]],$B80)","v":0},{"$f":"COUNTIFS(TU_DB[[NO3 Bin (2n1) (ppm)]:[NO3 Bin (2n1) (ppm)]],F$19,TU_DB[[Monitoring Site]:[Monitoring Site]],$B80)","v":0},{"$f":"COUNTIFS(TU_DB[[NO3 Bin (2n1) (ppm)]:[NO3 Bin (2n1) (ppm)]],G$19,TU_DB[[Monitoring Site]:[Monitoring Site]],$B80)","v":0},{"$f":"COUNTIFS(TU_DB[[NO3 Bin (2n1) (ppm)]:[NO3 Bin (2n1) (ppm)]],H$19,TU_DB[[Monitoring Site]:[Monitoring Site]],$B80)","v":0},{"$f":"COUNTIFS(TU_DB[[NO3 Bin (2n1) (ppm)]:[NO3 Bin (2n1) (ppm)]],I$19,TU_DB[[Monitoring Site]:[Monitoring Site]],$B80)","v":0},1,7.5187969924812026E-3]
[null,{"$f":"Use!Q133","v":"MOA Creek"},{"$f":"COUNTIFS(TU_DB[[NO3 Bin (2n1) (ppm)]:[NO3 Bin (2n1) (ppm)]],C$19,TU_DB[[Monitoring Site]:[Monitoring Site]],$B81)","v":7},{"$f":"COUNTIFS(TU_DB[[NO3 Bin (2n1) (ppm)]:[NO3 Bin (2n1) (ppm)]],D$19,TU_DB[[Monitoring Site]:[Monitoring Site]],$B81)","v":12},{"$f":"COUNTIFS(TU_DB[[NO3 Bin (2n1) (ppm)]:[NO3 Bin (2n1) (ppm)]],E$19,TU_DB[[Monitoring Site]:[Monitoring Site]],$B81)","v":2},{"$f":"COUNTIFS(TU_DB[[NO3 Bin (2n1) (ppm)]:[NO3 Bin (2n1) (ppm)]],F$19,TU_DB[[Monitoring Site]:[Monitoring Site]],$B81)","v":0},{"$f":"COUNTIFS(TU_DB[[NO3 Bin (2n1) (ppm)]:[NO3 Bin (2n1) (ppm)]],G$19,TU_DB[[Monitoring Site]:[Monitoring Site]],$B81)","v":0},{"$f":"COUNTIFS(TU_DB[[NO3 Bin (2n1) (ppm)]:[NO3 Bin (2n1) (ppm)]],H$19,TU_DB[[Monitoring Site]:[Monitoring Site]],$B81)","v":0},{"$f":"COUNTIFS(TU_DB[[NO3 Bin (2n1) (ppm)]:[NO3 Bin (2n1) (ppm)]],I$19,TU_DB[[Monitoring Site]:[Monitoring Site]],$B81)","v":0},21,0.15789473684210525]
[null,{"$f":"Use!Q134","v":"Trout Brook"},{"$f":"COUNTIFS(TU_DB[[NO3 Bin (2n1) (ppm)]:[NO3 Bin (2n1) (ppm)]],C$19,TU_DB[[Monitoring Site]:[Monitoring Site]],$B82)","v":16},{"$f":"COUNTIFS(TU_DB[[NO3 Bin (2n1) (ppm)]:[NO3 Bin (2n1) (ppm)]],D$19,TU_DB[[Monitoring Site]:[Monitoring Site]],$B82)","v":0},{"$f":"COUNTIFS(TU_DB[[NO3 Bin (2n1) (ppm)]:[NO3 Bin (2n1) (ppm)]],E$19,TU_DB[[Monitoring Site]:[Monitoring Site]],$B82)","v":0},{"$f":"COUNTIFS(TU_DB[[NO3 Bin (2n1) (ppm)]:[NO3 Bin (2n1) (ppm)]],F$19,TU_DB[[Monitoring Site]:[Monitoring Site]],$B82)","v":18},{"$f":"COUNTIFS(TU_DB[[NO3 Bin (2n1) (ppm)]:[NO3 Bin (2n1) (ppm)]],G$19,TU_DB[[Monitoring Site]:[Monitoring Site]],$B82)","v":2},{"$f":"COUNTIFS(TU_DB[[NO3 Bin (2n1) (ppm)]:[NO3 Bin (2n1) (ppm)]],H$19,TU_DB[[Monitoring Site]:[Monitoring Site]],$B82)","v":0},{"$f":"COUNTIFS(TU_DB[[NO3 Bin (2n1) (ppm)]:[NO3 Bin (2n1) (ppm)]],I$19,TU_DB[[Monitoring Site]:[Monitoring Site]],$B82)","v":0},36,0.27067669172932329]
[null,{"$f":"Use!Q135","v":"Vermillion River, South Branch"},{"$f":"COUNTIFS(TU_DB[[NO3 Bin (2n1) (ppm)]:[NO3 Bin (2n1) (ppm)]],C$19,TU_DB[[Monitoring Site]:[Monitoring Site]],$B83)","v":9},{"$f":"COUNTIFS(TU_DB[[NO3 Bin (2n1) (ppm)]:[NO3 Bin (2n1) (ppm)]],D$19,TU_DB[[Monitoring Site]:[Monitoring Site]],$B83)","v":2},{"$f":"COUNTIFS(TU_DB[[NO3 Bin (2n1) (ppm)]:[NO3 Bin (2n1) (ppm)]],E$19,TU_DB[[Monitoring Site]:[Monitoring Site]],$B83)","v":7},{"$f":"COUNTIFS(TU_DB[[NO3 Bin (2n1) (ppm)]:[NO3 Bin (2n1) (ppm)]],F$19,TU_DB[[Monitoring Site]:[Monitoring Site]],$B83)","v":17},{"$f":"COUNTIFS(TU_DB[[NO3 Bin (2n1) (ppm)]:[NO3 Bin (2n1) (ppm)]],G$19,TU_DB[[Monitoring Site]:[Monitoring Site]],$B83)","v":0},{"$f":"COUNTIFS(TU_DB[[NO3 Bin (2n1) (ppm)]:[NO3 Bin (2n1) (ppm)]],H$19,TU_DB[[Monitoring Site]:[Monitoring Site]],$B83)","v":0},{"$f":"COUNTIFS(TU_DB[[NO3 Bin (2n1) (ppm)]:[NO3 Bin (2n1) (ppm)]],I$19,TU_DB[[Monitoring Site]:[Monitoring Site]],$B83)","v":0},35,0.26315789473684209]
[]
[null,null,null,null,null,null,null,null,null,null,null,null,null,null,"Plotting Data",0,1,2,5,10,20,50]
[null,null,null,null,null,null,null,null,null,null,null,null,null,null,{"$f":"INDEX(B64:B82,MATCH($O$62,$B$64:$B$82,0))","v":"Hay Creek @ 320th St"},{"$f":"INDEX(C64:C83,MATCH($O$62,$B$64:$B$83,0))","v":2},{"$f":"INDEX(D64:D83,MATCH($O$62,$B$64:$B$83,0))","v":1},16,1,0,0,0]

{"sheet":"OPhos","index":7,"n_rows":86,"n_cols":22,"rows_kept":86,"cut":false,"hidden":false,"merged":[[1,2,1,3],[17,11,18,11],[61,14,61,17]]}
["TU DARE Angler Science DB"]
[null,"Water Analysis","Ortho-Phosphate"]
[null,"Download",{"$f":"TUDB!B3","v":"3023-10-31"}]
[]
[null,"Overview Stats"]
[null,"Ortho-Phosphate [ppb]","Observations","% Total Obs.","Cum. %",2019,2020,2021,2022,2023]
[null,0,{"$f":"COUNTIFS(TU_DB[Orthophosphate (ppb)],B7)","v":914},{"$f":"C7/$C$14","v":0.62176870748299318},{"$f":"D7","v":0.62176870748299318},{"$f":"COUNTIFS(TU_DB[[Orthophosphate (ppb)]:[Orthophosphate (ppb)]],$B7,TU_DB[[Year]:[Year]],F$6)","v":26},{"$f":"COUNTIFS(TU_DB[[Orthophosphate (ppb)]:[Orthophosphate (ppb)]],$B7,TU_DB[[Year]:[Year]],G$6)","v":61},{"$f":"COUNTIFS(TU_DB[[Orthophosphate (ppb)]:[Orthophosphate (ppb)]],$B7,TU_DB[[Year]:[Year]],H$6)","v":206},{"$f":"COUNTIFS(TU_DB[[Orthophosphate (ppb)]:[Orthophosphate (ppb)]],$B7,TU_DB[[Year]:[Year]],I$6)","v":242},{"$f":"COUNTIFS(TU_DB[[Orthophosphate (ppb)]:[Orthophosphate (ppb)]],$B7,TU_DB[[Year]:[Year]],J$6)","v":379}]
[null,100,{"$f":"COUNTIFS(TU_DB[Orthophosphate (ppb)],B8)","v":372},0.2530612244897959,{"$f":"D8+E7","v":0.87482993197278902},{"$f":"COUNTIFS(TU_DB[[Orthophosphate (ppb)]:[Orthophosphate (ppb)]],$B8,TU_DB[[Year]:[Year]],F$6)","v":10},{"$f":"COUNTIFS(TU_DB[[Orthophosphate (ppb)]:[Orthophosphate (ppb)]],$B8,TU_DB[[Year]:[Year]],G$6)","v":17},{"$f":"COUNTIFS(TU_DB[[Orthophosphate (ppb)]:[Orthophosphate (ppb)]],$B8,TU_DB[[Year]:[Year]],H$6)","v":71},{"$f":"COUNTIFS(TU_DB[[Orthophosphate (ppb)]:[Orthophosphate (ppb)]],$B8,TU_DB[[Year]:[Year]],I$6)","v":101},{"$f":"COUNTIFS(TU_DB[[Orthophosphate (ppb)]:[Orthophosphate (ppb)]],$B8,TU_DB[[Year]:[Year]],J$6)","v":173}]
[null,200,{"$f":"COUNTIFS(TU_DB[Orthophosphate (ppb)],B9)","v":123},8.3673469387755106E-2,0.95850340136054413,{"$f":"COUNTIFS(TU_DB[[Orthophosphate (ppb)]:[Orthophosphate (ppb)]],$B9,TU_DB[[Year]:[Year]],F$6)","v":3},{"$f":"COUNTIFS(TU_DB[[Orthophosphate (ppb)]:[Orthophosphate (ppb)]],$B9,TU_DB[[Year]:[Year]],G$6)","v":4},{"$f":"COUNTIFS(TU_DB[[Orthophosphate (ppb)]:[Orthophosphate (ppb)]],$B9,TU_DB[[Year]:[Year]],H$6)","v":27},{"$f":"COUNTIFS(TU_DB[[Orthophosphate (ppb)]:[Orthophosphate (ppb)]],$B9,TU_DB[[Year]:[Year]],I$6)","v":27},{"$f":"COUNTIFS(TU_DB[[Orthophosphate (ppb)]:[Orthophosphate (ppb)]],$B9,TU_DB[[Year]:[Year]],J$6)","v":62}]
[null,300,{"$f":"COUNTIFS(TU_DB[Orthophosphate (ppb)],B10)","v":37},2.5170068027210883E-2,0.98367346938775502,{"$f":"COUNTIFS(TU_DB[[Orthophosphate (ppb)]:[Orthophosphate (ppb)]],$B10,TU_DB[[Year]:[Year]],F$6)","v":1},{"$f":"COUNTIFS(TU_DB[[Orthophosphate (ppb)]:[Orthophosphate (ppb)]],$B10,TU_DB[[Year]:[Year]],G$6)","v":2},{"$f":"COUNTIFS(TU_DB[[Orthophosphate (ppb)]:[Orthophosphate (ppb)]],$B10,TU_DB[[Year]:[Year]],H$6)","v":7},{"$f":"COUNTIFS(TU_DB[[Orthophosphate (ppb)]:[Orthophosphate (ppb)]],$B10,TU_DB[[Year]:[Year]],I$6)","v":1},{"$f":"COUNTIFS(TU_DB[[Orthophosphate (ppb)]:[Orthophosphate (ppb)]],$B10,TU_DB[[Year]:[Year]],J$6)","v":26}]
[null,500,{"$f":"COUNTIFS(TU_DB[Orthophosphate (ppb)],B11)","v":15},1.020408163265306E-2,0.99387755102040809,{"$f":"COUNTIFS(TU_DB[[Orthophosphate (ppb)]:[Orthophosphate (ppb)]],$B11,TU_DB[[Year]:[Year]],F$6)","v":0},{"$f":"COUNTIFS(TU_DB[[Orthophosphate (ppb)]:[Orthophosphate (ppb)]],$B11,TU_DB[[Year]:[Year]],G$6)","v":0},{"$f":"COUNTIFS(TU_DB[[Orthophosphate (ppb)]:[Orthophosphate (ppb)]],$B11,TU_DB[[Year]:[Year]],H$6)","v":5},{"$f":"COUNTIFS(TU_DB[[Orthophosphate (ppb)]:[Orthophosphate (ppb)]],$B11,TU_DB[[Year]:[Year]],I$6)","v":3},{"$f":"COUNTIFS(TU_DB[[Orthophosphate (ppb)]:[Orthophosphate (ppb)]],$B11,TU_DB[[Year]:[Year]],J$6)","v":7}]
[null,1000,{"$f":"COUNTIFS(TU_DB[Orthophosphate (ppb)],B12)","v":4},2.7210884353741495E-3,0.9965986394557822,{"$f":"COUNTIFS(TU_DB[[Orthophosphate (ppb)]:[Orthophosphate (ppb)]],$B12,TU_DB[[Year]:[Year]],F$6)","v":0},{"$f":"COUNTIFS(TU_DB[[Orthophosphate (ppb)]:[Orthophosphate (ppb)]],$B12,TU_DB[[Year]:[Year]],G$6)","v":0},{"$f":"COUNTIFS(TU_DB[[Orthophosphate (ppb)]:[Orthophosphate (ppb)]],$B12,TU_DB[[Year]:[Year]],H$6)","v":4},{"$f":"COUNTIFS(TU_DB[[Orthophosphate (ppb)]:[Orthophosphate (ppb)]],$B12,TU_DB[[Year]:[Year]],I$6)","v":0},{"$f":"COUNTIFS(TU_DB[[Orthophosphate (ppb)]:[Orthophosphate (ppb)]],$B12,TU_DB[[Year]:[Year]],J$6)","v":0}]
[null,2500,{"$f":"COUNTIFS(TU_DB[Orthophosphate (ppb)],B13)","v":5},3.4013605442176869E-3,0.99999999999999989,{"$f":"COUNTIFS(TU_DB[[Orthophosphate (ppb)]:[Orthophosphate (ppb)]],$B13,TU_DB[[Year]:[Year]],F$6)","v":1},{"$f":"COUNTIFS(TU_DB[[Orthophosphate (ppb)]:[Orthophosphate (ppb)]],$B13,TU_DB[[Year]:[Year]],G$6)","v":0},{"$f":"COUNTIFS(TU_DB[[Orthophosphate (ppb)]:[Orthophosphate (ppb)]],$B13,TU_DB[[Year]:[Year]],H$6)","v":4},{"$f":"COUNTIFS(TU_DB[[Orthophosphate (ppb)]:[Orthophosphate (ppb)]],$B13,TU_DB[[Year]:[Year]],I$6)","v":0},{"$f":"COUNTIFS(TU_DB[[Orthophosphate (ppb)]:[Orthophosphate (ppb)]],$B13,TU_DB[[Year]:[Year]],J$6)","v":0}]
[null,"Total",{"$f":"SUM(C7:C13)","v":1470},null,null,{"$f":"SUM(F7:F13)","v":41},84,324,374,647]
[]
[]
[null,"Weather Conditions"]
[null,null,"Ortho-phosphate [ppb]",null,null,null,null,null,null,null,null,"Table Labels"]
[null,"Weather Conditions",0,100,200,300,500,1000,2500,"Sum","% Total"]
[null,"Local Thunderstorm",{"$f":"COUNTIFS(TU_DB[[Orthophosphate (ppb)]:[Orthophosphate (ppb)]],C$19,TU_DB[[Weather]:[Weather]],$B20)","v":15},{"$f":"COUNTIFS(TU_DB[[Orthophosphate (ppb)]:[Orthophosphate (ppb)]],D$19,TU_DB[[Weather]:[Weather]],$B20)","v":18},{"$f":"COUNTIFS(TU_DB[[Orthophosphate (ppb)]:[Orthophosphate (ppb)]],E$19,TU_DB[[Weather]:[Weather]],$B20)","v":7},{"$f":"COUNTIFS(TU_DB[[Orthophosphate (ppb)]:[Orthophosphate (ppb)]],F$19,TU_DB[[Weather]:[Weather]],$B20)","v":3},{"$f":"COUNTIFS(TU_DB[[Orthophosphate (ppb)]:[Orthophosphate (ppb)]],G$19,TU_DB[[Weather]:[Weather]],$B20)","v":3},{"$f":"COUNTIFS(TU_DB[[Orthophosphate (ppb)]:[Orthophosphate (ppb)]],H$19,TU_DB[[Weather]:[Weather]],$B20)","v":1},{"$f":"COUNTIFS(TU_DB[[Orthophosphate (ppb)]:[Orthophosphate (ppb)]],I$19,TU_DB[[Weather]:[Weather]],$B20)","v":0},{"$f":"SUM(C20:I20)","v":47},{"$f":"SUM(J20)/SUM($J$20:$J$25)","v":3.5877862595419849E-2},"LT"]
[null,"Regional Rainfall",{"$f":"COUNTIFS(TU_DB[[Orthophosphate (ppb)]:[Orthophosphate (ppb)]],C$19,TU_DB[[Weather]:[Weather]],$B21)","v":76},{"$f":"COUNTIFS(TU_DB[[Orthophosphate (ppb)]:[Orthophosphate (ppb)]],D$19,TU_DB[[Weather]:[Weather]],$B21)","v":47},{"$f":"COUNTIFS(TU_DB[[Orthophosphate (ppb)]:[Orthophosphate (ppb)]],E$19,TU_DB[[Weather]:[Weather]],$B21)","v":16},{"$f":"COUNTIFS(TU_DB[[Orthophosphate (ppb)]:[Orthophosphate (ppb)]],F$19,TU_DB[[Weather]:[Weather]],$B21)","v":7},{"$f":"COUNTIFS(TU_DB[[Orthophosphate (ppb)]:[Orthophosphate (ppb)]],G$19,TU_DB[[Weather]:[Weather]],$B21)","v":2},{"$f":"COUNTIFS(TU_DB[[Orthophosphate (ppb)]:[Orthophosphate (ppb)]],H$19,TU_DB[[Weather]:[Weather]],$B21)","v":0},{"$f":"COUNTIFS(TU_DB[[Orthophosphate (ppb)]:[Orthophosphate (ppb)]],I$19,TU_DB[[Weather]:[Weather]],$B21)","v":0},{"$f":"SUM(C21:H21)","v":148},0.11297709923664122,"RR"]
[null,"Regional Rainfall,Local Thunderstorm",{"$f":"COUNTIFS(TU_DB[[Orthophosphate (ppb)]:[Orthophosphate (ppb)]],C$19,TU_DB[[Weather]:[Weather]],$B22)","v":5},{"$f":"COUNTIFS(TU_DB[[Orthophosphate (ppb)]:[Orthophosphate (ppb)]],D$19,TU_DB[[Weather]:[Weather]],$B22)","v":0},{"$f":"COUNTIFS(TU_DB[[Orthophosphate (ppb)]:[Orthophosphate (ppb)]],E$19,TU_DB[[Weather]:[Weather]],$B22)","v":1},{"$f":"COUNTIFS(TU_DB[[Orthophosphate (ppb)]:[Orthophosphate (ppb)]],F$19,TU_DB[[Weather]:[Weather]],$B22)","v":0},{"$f":"COUNTIFS(TU_DB[[Orthophosphate (ppb)]:[Orthophosphate (ppb)]],G$19,TU_DB[[Weather]:[Weather]],$B22)","v":0},{"$f":"COUNTIFS(TU_DB[[Orthophosphate (ppb)]:[Orthophosphate (ppb)]],H$19,TU_DB[[Weather]:[Weather]],$B22)","v":0},{"$f":"COUNTIFS(TU_DB[[Orthophosphate (ppb)]:[Orthophosphate (ppb)]],I$19,TU_DB[[Weather]:[Weather]],$B22)","v":0},6,4.5801526717557254E-3,"RR, LT"]
[null,"Regional Rainfall,Warmth Causing Snowmelt",{"$f":"COUNTIFS(TU_DB[[Orthophosphate (ppb)]:[Orthophosphate (ppb)]],C$19,TU_DB[[Weather]:[Weather]],$B23)","v":4},{"$f":"COUNTIFS(TU_DB[[Orthophosphate (ppb)]:[Orthophosphate (ppb)]],D$19,TU_DB[[Weather]:[Weather]],$B23)","v":0},{"$f":"COUNTIFS(TU_DB[[Orthophosphate (ppb)]:[Orthophosphate (ppb)]],E$19,TU_DB[[Weather]:[Weather]],$B23)","v":0},{"$f":"COUNTIFS(TU_DB[[Orthophosphate (ppb)]:[Orthophosphate (ppb)]],F$19,TU_DB[[Weather]:[Weather]],$B23)","v":0},{"$f":"COUNTIFS(TU_DB[[Orthophosphate (ppb)]:[Orthophosphate (ppb)]],G$19,TU_DB[[Weather]:[Weather]],$B23)","v":0},{"$f":"COUNTIFS(TU_DB[[Orthophosphate (ppb)]:[Orthophosphate (ppb)]],H$19,TU_DB[[Weather]:[Weather]],$B23)","v":0},{"$f":"COUNTIFS(TU_DB[[Orthophosphate (ppb)]:[Orthophosphate (ppb)]],I$19,TU_DB[[Weather]:[Weather]],$B23)","v":0},4,3.0534351145038168E-3,"RR, SM"]
[null,"Warmth Causing Snowmelt",{"$f":"COUNTIFS(TU_DB[[Orthophosphate (ppb)]:[Orthophosphate (ppb)]],C$19,TU_DB[[Weather]:[Weather]],$B24)","v":12},{"$f":"COUNTIFS(TU_DB[[Orthophosphate (ppb)]:[Orthophosphate (ppb)]],D$19,TU_DB[[Weather]:[Weather]],$B24)","v":5},{"$f":"COUNTIFS(TU_DB[[Orthophosphate (ppb)]:[Orthophosphate (ppb)]],E$19,TU_DB[[Weather]:[Weather]],$B24)","v":3},{"$f":"COUNTIFS(TU_DB[[Orthophosphate (ppb)]:[Orthophosphate (ppb)]],F$19,TU_DB[[Weather]:[Weather]],$B24)","v":0},{"$f":"COUNTIFS(TU_DB[[Orthophosphate (ppb)]:[Orthophosphate (ppb)]],G$19,TU_DB[[Weather]:[Weather]],$B24)","v":0},{"$f":"COUNTIFS(TU_DB[[Orthophosphate (ppb)]:[Orthophosphate (ppb)]],H$19,TU_DB[[Weather]:[Weather]],$B24)","v":0},{"$f":"COUNTIFS(TU_DB[[Orthophosphate (ppb)]:[Orthophosphate (ppb)]],I$19,TU_DB[[Weather]:[Weather]],$B24)","v":1},20,1.5267175572519083E-2,"SM"]
[null,"None",{"$f":"COUNTIFS(TU_DB[[Orthophosphate (ppb)]:[Orthophosphate (ppb)]],C$19,TU_DB[[Weather]:[Weather]],$B25)","v":721},{"$f":"COUNTIFS(TU_DB[[Orthophosphate (ppb)]:[Orthophosphate (ppb)]],D$19,TU_DB[[Weather]:[Weather]],$B25)","v":258},{"$f":"COUNTIFS(TU_DB[[Orthophosphate (ppb)]:[Orthophosphate (ppb)]],E$19,TU_DB[[Weather]:[Weather]],$B25)","v":78},{"$f":"COUNTIFS(TU_DB[[Orthophosphate (ppb)]:[Orthophosphate (ppb)]],F$19,TU_DB[[Weather]:[Weather]],$B25)","v":19},{"$f":"COUNTIFS(TU_DB[[Orthophosphate (ppb)]:[Orthophosphate (ppb)]],G$19,TU_DB[[Weather]:[Weather]],$B25)","v":6},{"$f":"COUNTIFS(TU_DB[[Orthophosphate (ppb)]:[Orthophosphate (ppb)]],H$19,TU_DB[[Weather]:[Weather]],$B25)","v":3},{"$f":"COUNTIFS(TU_DB[[Orthophosphate (ppb)]:[Orthophosphate (ppb)]],I$19,TU_DB[[Weather]:[Weather]],$B25)","v":3},1085,0.8282442748091603,"None"]
[null,"Total",{"$f":"SUM(C20:C25)","v":833},328,105,29,11,4,null,1310]
[]
[null,"Water Level"]
[null,null,"Ortho-phosphate [ppb]"]
[null,"Water Level",0,100,200,300,500,1000,2500,"Sum","% Total"]
[null,"Baseflow",{"$f":"COUNTIFS(TU_DB[[Orthophosphate (ppb)]:[Orthophosphate (ppb)]],C$19,TU_DB[[Water Level]:[Water Level]],$B31)","v":705},{"$f":"COUNTIFS(TU_DB[[Orthophosphate (ppb)]:[Orthophosphate (ppb)]],D$19,TU_DB[[Water Level]:[Water Level]],$B31)","v":246},{"$f":"COUNTIFS(TU_DB[[Orthophosphate (ppb)]:[Orthophosphate (ppb)]],E$19,TU_DB[[Water Level]:[Water Level]],$B31)","v":66},{"$f":"COUNTIFS(TU_DB[[Orthophosphate (ppb)]:[Orthophosphate (ppb)]],F$19,TU_DB[[Water Level]:[Water Level]],$B31)","v":17},{"$f":"COUNTIFS(TU_DB[[Orthophosphate (ppb)]:[Orthophosphate (ppb)]],G$19,TU_DB[[Water Level]:[Water Level]],$B31)","v":6},{"$f":"COUNTIFS(TU_DB[[Orthophosphate (ppb)]:[Orthophosphate (ppb)]],H$19,TU_DB[[Water Level]:[Water Level]],$B31)","v":1},{"$f":"COUNTIFS(TU_DB[[Orthophosphate (ppb)]:[Orthophosphate (ppb)]],I$19,TU_DB[[Water Level]:[Water Level]],$B31)","v":1},{"$f":"SUM(C31:H31)","v":1041},{"$f":"SUM(J31)/SUM($J$31:$J$34)","v":0.7768656716417911}]
[null,"Mid-Stage",{"$f":"COUNTIFS(TU_DB[[Orthophosphate (ppb)]:[Orthophosphate (ppb)]],C$19,TU_DB[[Water Level]:[Water Level]],$B32)","v":108},{"$f":"COUNTIFS(TU_DB[[Orthophosphate (ppb)]:[Orthophosphate (ppb)]],D$19,TU_DB[[Water Level]:[Water Level]],$B32)","v":79},{"$f":"COUNTIFS(TU_DB[[Orthophosphate (ppb)]:[Orthophosphate (ppb)]],E$19,TU_DB[[Water Level]:[Water Level]],$B32)","v":31},{"$f":"COUNTIFS(TU_DB[[Orthophosphate (ppb)]:[Orthophosphate (ppb)]],F$19,TU_DB[[Water Level]:[Water Level]],$B32)","v":9},{"$f":"COUNTIFS(TU_DB[[Orthophosphate (ppb)]:[Orthophosphate (ppb)]],G$19,TU_DB[[Water Level]:[Water Level]],$B32)","v":2},{"$f":"COUNTIFS(TU_DB[[Orthophosphate (ppb)]:[Orthophosphate (ppb)]],H$19,TU_DB[[Water Level]:[Water Level]],$B32)","v":3},{"$f":"COUNTIFS(TU_DB[[Orthophosphate (ppb)]:[Orthophosphate (ppb)]],I$19,TU_DB[[Water Level]:[Water Level]],$B32)","v":1},{"$f":"SUM(C32:H32)","v":232},{"$f":"SUM(J32)/SUM($J$31:$J$34)","v":0.17313432835820897}]
[null,"Bankfull Stage",{"$f":"COUNTIFS(TU_DB[[Orthophosphate (ppb)]:[Orthophosphate (ppb)]],C$19,TU_DB[[Water Level]:[Water Level]],$B33)","v":35},{"$f":"COUNTIFS(TU_DB[[Orthophosphate (ppb)]:[Orthophosphate (ppb)]],D$19,TU_DB[[Water Level]:[Water Level]],$B33)","v":14},{"$f":"COUNTIFS(TU_DB[[Orthophosphate (ppb)]:[Orthophosphate (ppb)]],E$19,TU_DB[[Water Level]:[Water Level]],$B33)","v":8},{"$f":"COUNTIFS(TU_DB[[Orthophosphate (ppb)]:[Orthophosphate (ppb)]],F$19,TU_DB[[Water Level]:[Water Level]],$B33)","v":2},{"$f":"COUNTIFS(TU_DB[[Orthophosphate (ppb)]:[Orthophosphate (ppb)]],G$19,TU_DB[[Water Level]:[Water Level]],$B33)","v":2},{"$f":"COUNTIFS(TU_DB[[Orthophosphate (ppb)]:[Orthophosphate (ppb)]],H$19,TU_DB[[Water Level]:[Water Level]],$B33)","v":0},{"$f":"COUNTIFS(TU_DB[[Orthophosphate (ppb)]:[Orthophosphate (ppb)]],I$19,TU_DB[[Water Level]:[Water Level]],$B33)","v":0},{"$f":"SUM(C33:H33)","v":61},{"$f":"SUM(J33)/SUM($J$31:$J$34)","v":4.5522388059701491E-2}]
[null,"Overbank Flooding",1,1,1,1,2,0,1,6,{"$f":"SUM(J34)/SUM($J$31:$J$34)","v":4.4776119402985077E-3}]
[null,"Total",{"$f":"SUM(C31:C34)","v":849},340,106,29,12,4,null,1340]
[]
[]
[]
[]
[]
[]
[]
[]
[null,"Water Clarity"]
[null,null,"Ortho-phosphate [ppb]"]
[null,"Water Clarity",0,100,200,300,500,1000,2500,"Sum","% Total"]
[null,"Clear",{"$f":"COUNTIFS(TU_DB[[Orthophosphate (ppb)]:[Orthophosphate (ppb)]],C$19,TU_DB[[Clarity]:[Clarity]],$B47)","v":728},{"$f":"COUNTIFS(TU_DB[[Orthophosphate (ppb)]:[Orthophosphate (ppb)]],D$19,TU_DB[[Clarity]:[Clarity]],$B47)","v":260},{"$f":"COUNTIFS(TU_DB[[Orthophosphate (ppb)]:[Orthophosphate (ppb)]],E$19,TU_DB[[Clarity]:[Clarity]],$B47)","v":77},{"$f":"COUNTIFS(TU_DB[[Orthophosphate (ppb)]:[Orthophosphate (ppb)]],F$19,TU_DB[[Clarity]:[Clarity]],$B47)","v":21},{"$f":"COUNTIFS(TU_DB[[Orthophosphate (ppb)]:[Orthophosphate (ppb)]],G$19,TU_DB[[Clarity]:[Clarity]],$B47)","v":7},{"$f":"COUNTIFS(TU_DB[[Orthophosphate (ppb)]:[Orthophosphate (ppb)]],H$19,TU_DB[[Clarity]:[Clarity]],$B47)","v":3},{"$f":"COUNTIFS(TU_DB[[Orthophosphate (ppb)]:[Orthophosphate (ppb)]],I$19,TU_DB[[Clarity]:[Clarity]],$B47)","v":2},{"$f":"SUM(C47:H47)","v":1096},{"$f":"SUM(J47)/SUM($J$47:$J$49)","v":0.80529022777369585}]
[null,"Muddy",{"$f":"COUNTIFS(TU_DB[[Orthophosphate (ppb)]:[Orthophosphate (ppb)]],C$19,TU_DB[[Clarity]:[Clarity]],$B48)","v":13},{"$f":"COUNTIFS(TU_DB[[Orthophosphate (ppb)]:[Orthophosphate (ppb)]],D$19,TU_DB[[Clarity]:[Clarity]],$B48)","v":18},{"$f":"COUNTIFS(TU_DB[[Orthophosphate (ppb)]:[Orthophosphate (ppb)]],E$19,TU_DB[[Clarity]:[Clarity]],$B48)","v":10},{"$f":"COUNTIFS(TU_DB[[Orthophosphate (ppb)]:[Orthophosphate (ppb)]],F$19,TU_DB[[Clarity]:[Clarity]],$B48)","v":6},{"$f":"COUNTIFS(TU_DB[[Orthophosphate (ppb)]:[Orthophosphate (ppb)]],G$19,TU_DB[[Clarity]:[Clarity]],$B48)","v":3},{"$f":"COUNTIFS(TU_DB[[Orthophosphate (ppb)]:[Orthophosphate (ppb)]],H$19,TU_DB[[Clarity]:[Clarity]],$B48)","v":0},{"$f":"COUNTIFS(TU_DB[[Orthophosphate (ppb)]:[Orthophosphate (ppb)]],I$19,TU_DB[[Clarity]:[Clarity]],$B48)","v":1},{"$f":"SUM(C48:H48)","v":50},{"$f":"SUM(J48)/SUM($J$47:$J$49)","v":3.6737692872887584E-2}]
[null,"Murky",{"$f":"COUNTIFS(TU_DB[[Orthophosphate (ppb)]:[Orthophosphate (ppb)]],C$19,TU_DB[[Clarity]:[Clarity]],$B49)","v":112},{"$f":"COUNTIFS(TU_DB[[Orthophosphate (ppb)]:[Orthophosphate (ppb)]],D$19,TU_DB[[Clarity]:[Clarity]],$B49)","v":70},{"$f":"COUNTIFS(TU_DB[[Orthophosphate (ppb)]:[Orthophosphate (ppb)]],E$19,TU_DB[[Clarity]:[Clarity]],$B49)","v":23},{"$f":"COUNTIFS(TU_DB[[Orthophosphate (ppb)]:[Orthophosphate (ppb)]],F$19,TU_DB[[Clarity]:[Clarity]],$B49)","v":7},{"$f":"COUNTIFS(TU_DB[[Orthophosphate (ppb)]:[Orthophosphate (ppb)]],G$19,TU_DB[[Clarity]:[Clarity]],$B49)","v":2},{"$f":"COUNTIFS(TU_DB[[Orthophosphate (ppb)]:[Orthophosphate (ppb)]],H$19,TU_DB[[Clarity]:[Clarity]],$B49)","v":1},{"$f":"COUNTIFS(TU_DB[[Orthophosphate (ppb)]:[Orthophosphate (ppb)]],I$19,TU_DB[[Clarity]:[Clarity]],$B49)","v":1},{"$f":"SUM(C49:H49)","v":215},{"$f":"SUM(J49)/SUM($J$47:$J$49)","v":0.15797207935341662}]
[null,"Total",{"$f":"SUM(C47:C49)","v":853},348,110,34,12,4,null,1361]
[]
[]
[]
[]
[]
[]
[]
[]
[]
[]
[null,"Monitoring Stations"]
[null,null,"Ortho-phosphate [ppb]",null,null,null,null,null,null,null,null,null,null,"Station to Plot","Hay Creek @ 320th St"]
[null,"Monitoring Site",0,100,200,300,500,1000,2500,"Sum","% Total"]
[null,"Kiat-TU-Wish",{"$f":"SUM(C65:C74)","v":126},{"$f":"SUM(D65:D74)","v":37},6,2,0,0,1,{"$f":"SUM(J65:J74)","v":172}]
[null,"Cady Creek @ 50th St",{"$f":"COUNTIFS(TU_DB[[Orthophosphate (ppb)]:[Orthophosphate (ppb)]],C$19,TU_DB[[Monitoring Site]:[Monitoring Site]],$B65)","v":6},{"$f":"COUNTIFS(TU_DB[[Orthophosphate (ppb)]:[Orthophosphate (ppb)]],D$19,TU_DB[[Monitoring Site]:[Monitoring Site]],$B65)","v":6},{"$f":"COUNTIFS(TU_DB[[Orthophosphate (ppb)]:[Orthophosphate (ppb)]],E$19,TU_DB[[Monitoring Site]:[Monitoring Site]],$B65)","v":3},{"$f":"COUNTIFS(TU_DB[[Orthophosphate (ppb)]:[Orthophosphate (ppb)]],F$19,TU_DB[[Monitoring Site]:[Monitoring Site]],$B65)","v":1},{"$f":"COUNTIFS(TU_DB[[Orthophosphate (ppb)]:[Orthophosphate (ppb)]],G$19,TU_DB[[Monitoring Site]:[Monitoring Site]],$B65)","v":0},{"$f":"COUNTIFS(TU_DB[[Orthophosphate (ppb)]:[Orthophosphate (ppb)]],H$19,TU_DB[[Monitoring Site]:[Monitoring Site]],$B65)","v":0},{"$f":"COUNTIFS(TU_DB[[Orthophosphate (ppb)]:[Orthophosphate (ppb)]],I$19,TU_DB[[Monitoring Site]:[Monitoring Site]],$B65)","v":0},{"$f":"SUM(C65:I65)","v":16},{"$f":"SUM(J65)/$J$64","v":9.3023255813953487E-2}]
[null,{"$f":"Use!Q118","v":"Eau Galle River @ WI Hwy 29"},{"$f":"COUNTIFS(TU_DB[[Orthophosphate (ppb)]:[Orthophosphate (ppb)]],C$19,TU_DB[[Monitoring Site]:[Monitoring Site]],$B66)","v":4},{"$f":"COUNTIFS(TU_DB[[Orthophosphate (ppb)]:[Orthophosphate (ppb)]],D$19,TU_DB[[Monitoring Site]:[Monitoring Site]],$B66)","v":1},{"$f":"COUNTIFS(TU_DB[[Orthophosphate (ppb)]:[Orthophosphate (ppb)]],E$19,TU_DB[[Monitoring Site]:[Monitoring Site]],$B66)","v":0},{"$f":"COUNTIFS(TU_DB[[Orthophosphate (ppb)]:[Orthophosphate (ppb)]],F$19,TU_DB[[Monitoring Site]:[Monitoring Site]],$B66)","v":0},{"$f":"COUNTIFS(TU_DB[[Orthophosphate (ppb)]:[Orthophosphate (ppb)]],G$19,TU_DB[[Monitoring Site]:[Monitoring Site]],$B66)","v":0},{"$f":"COUNTIFS(TU_DB[[Orthophosphate (ppb)]:[Orthophosphate (ppb)]],H$19,TU_DB[[Monitoring Site]:[Monitoring Site]],$B66)","v":0},{"$f":"COUNTIFS(TU_DB[[Orthophosphate (ppb)]:[Orthophosphate (ppb)]],I$19,TU_DB[[Monitoring Site]:[Monitoring Site]],$B66)","v":0},{"$f":"SUM(C66:I66)","v":5},2.9069767441860465E-2]
[null,{"$f":"Use!Q119","v":"Isabelle Creek @ County Rd. EE"},{"$f":"COUNTIFS(TU_DB[[Orthophosphate (ppb)]:[Orthophosphate (ppb)]],C$19,TU_DB[[Monitoring Site]:[Monitoring Site]],$B67)","v":12},{"$f":"COUNTIFS(TU_DB[[Orthophosphate (ppb)]:[Orthophosphate (ppb)]],D$19,TU_DB[[Monitoring Site]:[Monitoring Site]],$B67)","v":4},{"$f":"COUNTIFS(TU_DB[[Orthophosphate (ppb)]:[Orthophosphate (ppb)]],E$19,TU_DB[[Monitoring Site]:[Monitoring Site]],$B67)","v":0},{"$f":"COUNTIFS(TU_DB[[Orthophosphate (ppb)]:[Orthophosphate (ppb)]],F$19,TU_DB[[Monitoring Site]:[Monitoring Site]],$B67)","v":1},{"$f":"COUNTIFS(TU_DB[[Orthophosphate (ppb)]:[Orthophosphate (ppb)]],G$19,TU_DB[[Monitoring Site]:[Monitoring Site]],$B67)","v":0},{"$f":"COUNTIFS(TU_DB[[Orthophosphate (ppb)]:[Orthophosphate (ppb)]],H$19,TU_DB[[Monitoring Site]:[Monitoring Site]],$B67)","v":0},{"$f":"COUNTIFS(TU_DB[[Orthophosphate (ppb)]:[Orthophosphate (ppb)]],I$19,TU_DB[[Monitoring Site]:[Monitoring Site]],$B67)","v":1},18,0.10465116279069768]
[null,{"$f":"Use!Q120","v":"Kinnickinnic River, Lower Glen Park"},{"$f":"COUNTIFS(TU_DB[[Orthophosphate (ppb)]:[Orthophosphate (ppb)]],C$19,TU_DB[[Monitoring Site]:[Monitoring Site]],$B68)","v":0},{"$f":"COUNTIFS(TU_DB[[Orthophosphate (ppb)]:[Orthophosphate (ppb)]],D$19,TU_DB[[Monitoring Site]:[Monitoring Site]],$B68)","v":0},{"$f":"COUNTIFS(TU_DB[[Orthophosphate (ppb)]:[Orthophosphate (ppb)]],E$19,TU_DB[[Monitoring Site]:[Monitoring Site]],$B68)","v":0},{"$f":"COUNTIFS(TU_DB[[Orthophosphate (ppb)]:[Orthophosphate (ppb)]],F$19,TU_DB[[Monitoring Site]:[Monitoring Site]],$B68)","v":0},{"$f":"COUNTIFS(TU_DB[[Orthophosphate (ppb)]:[Orthophosphate (ppb)]],G$19,TU_DB[[Monitoring Site]:[Monitoring Site]],$B68)","v":0},{"$f":"COUNTIFS(TU_DB[[Orthophosphate (ppb)]:[Orthophosphate (ppb)]],H$19,TU_DB[[Monitoring Site]:[Monitoring Site]],$B68)","v":0},{"$f":"COUNTIFS(TU_DB[[Orthophosphate (ppb)]:[Orthophosphate (ppb)]],I$19,TU_DB[[Monitoring Site]:[Monitoring Site]],$B68)","v":0},0,0]
[null,{"$f":"Use!Q121","v":"Pine Creek @ County Rd. AA"},{"$f":"COUNTIFS(TU_DB[[Orthophosphate (ppb)]:[Orthophosphate (ppb)]],C$19,TU_DB[[Monitoring Site]:[Monitoring Site]],$B69)","v":28},{"$f":"COUNTIFS(TU_DB[[Orthophosphate (ppb)]:[Orthophosphate (ppb)]],D$19,TU_DB[[Monitoring Site]:[Monitoring Site]],$B69)","v":0},{"$f":"COUNTIFS(TU_DB[[Orthophosphate (ppb)]:[Orthophosphate (ppb)]],E$19,TU_DB[[Monitoring Site]:[Monitoring Site]],$B69)","v":0},{"$f":"COUNTIFS(TU_DB[[Orthophosphate (ppb)]:[Orthophosphate (ppb)]],F$19,TU_DB[[Monitoring Site]:[Monitoring Site]],$B69)","v":0},{"$f":"COUNTIFS(TU_DB[[Orthophosphate (ppb)]:[Orthophosphate (ppb)]],G$19,TU_DB[[Monitoring Site]:[Monitoring Site]],$B69)","v":0},{"$f":"COUNTIFS(TU_DB[[Orthophosphate (ppb)]:[Orthophosphate (ppb)]],H$19,TU_DB[[Monitoring Site]:[Monitoring Site]],$B69)","v":0},{"$f":"COUNTIFS(TU_DB[[Orthophosphate (ppb)]:[Orthophosphate (ppb)]],I$19,TU_DB[[Monitoring Site]:[Monitoring Site]],$B69)","v":0},28,0.16279069767441862]
[null,{"$f":"Use!Q122","v":"Plum Creek @ Plum CIty Park"},{"$f":"COUNTIFS(TU_DB[[Orthophosphate (ppb)]:[Orthophosphate (ppb)]],C$19,TU_DB[[Monitoring Site]:[Monitoring Site]],$B70)","v":11},{"$f":"COUNTIFS(TU_DB[[Orthophosphate (ppb)]:[Orthophosphate (ppb)]],D$19,TU_DB[[Monitoring Site]:[Monitoring Site]],$B70)","v":0},{"$f":"COUNTIFS(TU_DB[[Orthophosphate (ppb)]:[Orthophosphate (ppb)]],E$19,TU_DB[[Monitoring Site]:[Monitoring Site]],$B70)","v":0},{"$f":"COUNTIFS(TU_DB[[Orthophosphate (ppb)]:[Orthophosphate (ppb)]],F$19,TU_DB[[Monitoring Site]:[Monitoring Site]],$B70)","v":0},{"$f":"COUNTIFS(TU_DB[[Orthophosphate (ppb)]:[Orthophosphate (ppb)]],G$19,TU_DB[[Monitoring Site]:[Monitoring Site]],$B70)","v":0},{"$f":"COUNTIFS(TU_DB[[Orthophosphate (ppb)]:[Orthophosphate (ppb)]],H$19,TU_DB[[Monitoring Site]:[Monitoring Site]],$B70)","v":0},{"$f":"COUNTIFS(TU_DB[[Orthophosphate (ppb)]:[Orthophosphate (ppb)]],I$19,TU_DB[[Monitoring Site]:[Monitoring Site]],$B70)","v":0},11,6.3953488372093026E-2]
[null,{"$f":"Use!Q123","v":"Rocky Branch Creek, Lower Glen Park"},{"$f":"COUNTIFS(TU_DB[[Orthophosphate (ppb)]:[Orthophosphate (ppb)]],C$19,TU_DB[[Monitoring Site]:[Monitoring Site]],$B71)","v":6},{"$f":"COUNTIFS(TU_DB[[Orthophosphate (ppb)]:[Orthophosphate (ppb)]],D$19,TU_DB[[Monitoring Site]:[Monitoring Site]],$B71)","v":7},{"$f":"COUNTIFS(TU_DB[[Orthophosphate (ppb)]:[Orthophosphate (ppb)]],E$19,TU_DB[[Monitoring Site]:[Monitoring Site]],$B71)","v":0},{"$f":"COUNTIFS(TU_DB[[Orthophosphate (ppb)]:[Orthophosphate (ppb)]],F$19,TU_DB[[Monitoring Site]:[Monitoring Site]],$B71)","v":0},{"$f":"COUNTIFS(TU_DB[[Orthophosphate (ppb)]:[Orthophosphate (ppb)]],G$19,TU_DB[[Monitoring Site]:[Monitoring Site]],$B71)","v":0},{"$f":"COUNTIFS(TU_DB[[Orthophosphate (ppb)]:[Orthophosphate (ppb)]],H$19,TU_DB[[Monitoring Site]:[Monitoring Site]],$B71)","v":0},{"$f":"COUNTIFS(TU_DB[[Orthophosphate (ppb)]:[Orthophosphate (ppb)]],I$19,TU_DB[[Monitoring Site]:[Monitoring Site]],$B71)","v":0},13,7.5581395348837205E-2]
[null,{"$f":"Use!Q124","v":"Rush River @ 570th Ave"},{"$f":"COUNTIFS(TU_DB[[Orthophosphate (ppb)]:[Orthophosphate (ppb)]],C$19,TU_DB[[Monitoring Site]:[Monitoring Site]],$B72)","v":16},{"$f":"COUNTIFS(TU_DB[[Orthophosphate (ppb)]:[Orthophosphate (ppb)]],D$19,TU_DB[[Monitoring Site]:[Monitoring Site]],$B72)","v":4},{"$f":"COUNTIFS(TU_DB[[Orthophosphate (ppb)]:[Orthophosphate (ppb)]],E$19,TU_DB[[Monitoring Site]:[Monitoring Site]],$B72)","v":0},{"$f":"COUNTIFS(TU_DB[[Orthophosphate (ppb)]:[Orthophosphate (ppb)]],F$19,TU_DB[[Monitoring Site]:[Monitoring Site]],$B72)","v":0},{"$f":"COUNTIFS(TU_DB[[Orthophosphate (ppb)]:[Orthophosphate (ppb)]],G$19,TU_DB[[Monitoring Site]:[Monitoring Site]],$B72)","v":0},{"$f":"COUNTIFS(TU_DB[[Orthophosphate (ppb)]:[Orthophosphate (ppb)]],H$19,TU_DB[[Monitoring Site]:[Monitoring Site]],$B72)","v":0},{"$f":"COUNTIFS(TU_DB[[Orthophosphate (ppb)]:[Orthophosphate (ppb)]],I$19,TU_DB[[Monitoring Site]:[Monitoring Site]],$B72)","v":0},20,0.11627906976744186]
[null,{"$f":"Use!Q125","v":"SF Kinnickinnic River @ 900th St"},{"$f":"COUNTIFS(TU_DB[[Orthophosphate (ppb)]:[Orthophosphate (ppb)]],C$19,TU_DB[[Monitoring Site]:[Monitoring Site]],$B73)","v":28},{"$f":"COUNTIFS(TU_DB[[Orthophosphate (ppb)]:[Orthophosphate (ppb)]],D$19,TU_DB[[Monitoring Site]:[Monitoring Site]],$B73)","v":15},{"$f":"COUNTIFS(TU_DB[[Orthophosphate (ppb)]:[Orthophosphate (ppb)]],E$19,TU_DB[[Monitoring Site]:[Monitoring Site]],$B73)","v":3},{"$f":"COUNTIFS(TU_DB[[Orthophosphate (ppb)]:[Orthophosphate (ppb)]],F$19,TU_DB[[Monitoring Site]:[Monitoring Site]],$B73)","v":0},{"$f":"COUNTIFS(TU_DB[[Orthophosphate (ppb)]:[Orthophosphate (ppb)]],G$19,TU_DB[[Monitoring Site]:[Monitoring Site]],$B73)","v":0},{"$f":"COUNTIFS(TU_DB[[Orthophosphate (ppb)]:[Orthophosphate (ppb)]],H$19,TU_DB[[Monitoring Site]:[Monitoring Site]],$B73)","v":0},{"$f":"COUNTIFS(TU_DB[[Orthophosphate (ppb)]:[Orthophosphate (ppb)]],I$19,TU_DB[[Monitoring Site]:[Monitoring Site]],$B73)","v":0},46,0.26744186046511625]
[null,{"$f":"Use!Q126","v":"Trimbelle River @ County Rd W"},{"$f":"COUNTIFS(TU_DB[[Orthophosphate (ppb)]:[Orthophosphate (ppb)]],C$19,TU_DB[[Monitoring Site]:[Monitoring Site]],$B74)","v":15},{"$f":"COUNTIFS(TU_DB[[Orthophosphate (ppb)]:[Orthophosphate (ppb)]],D$19,TU_DB[[Monitoring Site]:[Monitoring Site]],$B74)","v":0},{"$f":"COUNTIFS(TU_DB[[Orthophosphate (ppb)]:[Orthophosphate (ppb)]],E$19,TU_DB[[Monitoring Site]:[Monitoring Site]],$B74)","v":0},{"$f":"COUNTIFS(TU_DB[[Orthophosphate (ppb)]:[Orthophosphate (ppb)]],F$19,TU_DB[[Monitoring Site]:[Monitoring Site]],$B74)","v":0},{"$f":"COUNTIFS(TU_DB[[Orthophosphate (ppb)]:[Orthophosphate (ppb)]],G$19,TU_DB[[Monitoring Site]:[Monitoring Site]],$B74)","v":0},{"$f":"COUNTIFS(TU_DB[[Orthophosphate (ppb)]:[Orthophosphate (ppb)]],H$19,TU_DB[[Monitoring Site]:[Monitoring Site]],$B74)","v":0},{"$f":"COUNTIFS(TU_DB[[Orthophosphate (ppb)]:[Orthophosphate (ppb)]],I$19,TU_DB[[Monitoring Site]:[Monitoring Site]],$B74)","v":0},15,8.7209302325581398E-2]
[null,"Twin Cities Trout Unlimited",{"$f":"SUM(C76:C85)","v":65},{"$f":"SUM(D76:D85)","v":55},20,0,2,0,0,{"$f":"SUM(J76:J83)","v":142}]
[null,{"$f":"Use!Q128","v":"Belle Creek"},{"$f":"COUNTIFS(TU_DB[[Orthophosphate (ppb)]:[Orthophosphate (ppb)]],C$19,TU_DB[[Monitoring Site]:[Monitoring Site]],$B76)","v":2},{"$f":"COUNTIFS(TU_DB[[Orthophosphate (ppb)]:[Orthophosphate (ppb)]],D$19,TU_DB[[Monitoring Site]:[Monitoring Site]],$B76)","v":5},{"$f":"COUNTIFS(TU_DB[[Orthophosphate (ppb)]:[Orthophosphate (ppb)]],E$19,TU_DB[[Monitoring Site]:[Monitoring Site]],$B76)","v":0},{"$f":"COUNTIFS(TU_DB[[Orthophosphate (ppb)]:[Orthophosphate (ppb)]],F$19,TU_DB[[Monitoring Site]:[Monitoring Site]],$B76)","v":0},{"$f":"COUNTIFS(TU_DB[[Orthophosphate (ppb)]:[Orthophosphate (ppb)]],G$19,TU_DB[[Monitoring Site]:[Monitoring Site]],$B76)","v":0},{"$f":"COUNTIFS(TU_DB[[Orthophosphate (ppb)]:[Orthophosphate (ppb)]],H$19,TU_DB[[Monitoring Site]:[Monitoring Site]],$B76)","v":0},{"$f":"COUNTIFS(TU_DB[[Orthophosphate (ppb)]:[Orthophosphate (ppb)]],I$19,TU_DB[[Monitoring Site]:[Monitoring Site]],$B76)","v":0},{"$f":"SUM(C76:I76)","v":7},{"$f":"SUM(J76)/$J$75","v":4.9295774647887321E-2}]
[null,{"$f":"Use!Q129","v":"Hay Creek @ 320th St"},{"$f":"COUNTIFS(TU_DB[[Orthophosphate (ppb)]:[Orthophosphate (ppb)]],C$19,TU_DB[[Monitoring Site]:[Monitoring Site]],$B77)","v":7},{"$f":"COUNTIFS(TU_DB[[Orthophosphate (ppb)]:[Orthophosphate (ppb)]],D$19,TU_DB[[Monitoring Site]:[Monitoring Site]],$B77)","v":13},{"$f":"COUNTIFS(TU_DB[[Orthophosphate (ppb)]:[Orthophosphate (ppb)]],E$19,TU_DB[[Monitoring Site]:[Monitoring Site]],$B77)","v":1},{"$f":"COUNTIFS(TU_DB[[Orthophosphate (ppb)]:[Orthophosphate (ppb)]],F$19,TU_DB[[Monitoring Site]:[Monitoring Site]],$B77)","v":0},{"$f":"COUNTIFS(TU_DB[[Orthophosphate (ppb)]:[Orthophosphate (ppb)]],G$19,TU_DB[[Monitoring Site]:[Monitoring Site]],$B77)","v":0},{"$f":"COUNTIFS(TU_DB[[Orthophosphate (ppb)]:[Orthophosphate (ppb)]],H$19,TU_DB[[Monitoring Site]:[Monitoring Site]],$B77)","v":0},{"$f":"COUNTIFS(TU_DB[[Orthophosphate (ppb)]:[Orthophosphate (ppb)]],I$19,TU_DB[[Monitoring Site]:[Monitoring Site]],$B77)","v":0},21,0.14788732394366197]
[null,{"$f":"Use!Q130","v":"Hay Creek @ 325th St"},{"$f":"COUNTIFS(TU_DB[[Orthophosphate (ppb)]:[Orthophosphate (ppb)]],C$19,TU_DB[[Monitoring Site]:[Monitoring Site]],$B78)","v":4},{"$f":"COUNTIFS(TU_DB[[Orthophosphate (ppb)]:[Orthophosphate (ppb)]],D$19,TU_DB[[Monitoring Site]:[Monitoring Site]],$B78)","v":9},{"$f":"COUNTIFS(TU_DB[[Orthophosphate (ppb)]:[Orthophosphate (ppb)]],E$19,TU_DB[[Monitoring Site]:[Monitoring Site]],$B78)","v":3},{"$f":"COUNTIFS(TU_DB[[Orthophosphate (ppb)]:[Orthophosphate (ppb)]],F$19,TU_DB[[Monitoring Site]:[Monitoring Site]],$B78)","v":0},{"$f":"COUNTIFS(TU_DB[[Orthophosphate (ppb)]:[Orthophosphate (ppb)]],G$19,TU_DB[[Monitoring Site]:[Monitoring Site]],$B78)","v":0},{"$f":"COUNTIFS(TU_DB[[Orthophosphate (ppb)]:[Orthophosphate (ppb)]],H$19,TU_DB[[Monitoring Site]:[Monitoring Site]],$B78)","v":0},{"$f":"COUNTIFS(TU_DB[[Orthophosphate (ppb)]:[Orthophosphate (ppb)]],I$19,TU_DB[[Monitoring Site]:[Monitoring Site]],$B78)","v":0},16,0.11267605633802817]
[null,{"$f":"Use!Q131","v":"Eagle Creek"},{"$f":"COUNTIFS(TU_DB[[Orthophosphate (ppb)]:[Orthophosphate (ppb)]],C$19,TU_DB[[Monitoring Site]:[Monitoring Site]],$B79)","v":0},{"$f":"COUNTIFS(TU_DB[[Orthophosphate (ppb)]:[Orthophosphate (ppb)]],D$19,TU_DB[[Monitoring Site]:[Monitoring Site]],$B79)","v":0},{"$f":"COUNTIFS(TU_DB[[Orthophosphate (ppb)]:[Orthophosphate (ppb)]],E$19,TU_DB[[Monitoring Site]:[Monitoring Site]],$B79)","v":0},{"$f":"COUNTIFS(TU_DB[[Orthophosphate (ppb)]:[Orthophosphate (ppb)]],F$19,TU_DB[[Monitoring Site]:[Monitoring Site]],$B79)","v":0},{"$f":"COUNTIFS(TU_DB[[Orthophosphate (ppb)]:[Orthophosphate (ppb)]],G$19,TU_DB[[Monitoring Site]:[Monitoring Site]],$B79)","v":0},{"$f":"COUNTIFS(TU_DB[[Orthophosphate (ppb)]:[Orthophosphate (ppb)]],H$19,TU_DB[[Monitoring Site]:[Monitoring Site]],$B79)","v":0},{"$f":"COUNTIFS(TU_DB[[Orthophosphate (ppb)]:[Orthophosphate (ppb)]],I$19,TU_DB[[Monitoring Site]:[Monitoring Site]],$B79)","v":0},0,0]
[null,{"$f":"Use!Q132","v":"Little Cannon River"},{"$f":"COUNTIFS(TU_DB[[Orthophosphate (ppb)]:[Orthophosphate (ppb)]],C$19,TU_DB[[Monitoring Site]:[Monitoring Site]],$B80)","v":1},{"$f":"COUNTIFS(TU_DB[[Orthophosphate (ppb)]:[Orthophosphate (ppb)]],D$19,TU_DB[[Monitoring Site]:[Monitoring Site]],$B80)","v":1},{"$f":"COUNTIFS(TU_DB[[Orthophosphate (ppb)]:[Orthophosphate (ppb)]],E$19,TU_DB[[Monitoring Site]:[Monitoring Site]],$B80)","v":0},{"$f":"COUNTIFS(TU_DB[[Orthophosphate (ppb)]:[Orthophosphate (ppb)]],F$19,TU_DB[[Monitoring Site]:[Monitoring Site]],$B80)","v":0},{"$f":"COUNTIFS(TU_DB[[Orthophosphate (ppb)]:[Orthophosphate (ppb)]],G$19,TU_DB[[Monitoring Site]:[Monitoring Site]],$B80)","v":0},{"$f":"COUNTIFS(TU_DB[[Orthophosphate (ppb)]:[Orthophosphate (ppb)]],H$19,TU_DB[[Monitoring Site]:[Monitoring Site]],$B80)","v":0},{"$f":"COUNTIFS(TU_DB[[Orthophosphate (ppb)]:[Orthophosphate (ppb)]],I$19,TU_DB[[Monitoring Site]:[Monitoring Site]],$B80)","v":0},2,1.4084507042253521E-2]
[null,{"$f":"Use!Q133","v":"MOA Creek"},{"$f":"COUNTIFS(TU_DB[[Orthophosphate (ppb)]:[Orthophosphate (ppb)]],C$19,TU_DB[[Monitoring Site]:[Monitoring Site]],$B81)","v":20},{"$f":"COUNTIFS(TU_DB[[Orthophosphate (ppb)]:[Orthophosphate (ppb)]],D$19,TU_DB[[Monitoring Site]:[Monitoring Site]],$B81)","v":2},{"$f":"COUNTIFS(TU_DB[[Orthophosphate (ppb)]:[Orthophosphate (ppb)]],E$19,TU_DB[[Monitoring Site]:[Monitoring Site]],$B81)","v":0},{"$f":"COUNTIFS(TU_DB[[Orthophosphate (ppb)]:[Orthophosphate (ppb)]],F$19,TU_DB[[Monitoring Site]:[Monitoring Site]],$B81)","v":0},{"$f":"COUNTIFS(TU_DB[[Orthophosphate (ppb)]:[Orthophosphate (ppb)]],G$19,TU_DB[[Monitoring Site]:[Monitoring Site]],$B81)","v":0},{"$f":"COUNTIFS(TU_DB[[Orthophosphate (ppb)]:[Orthophosphate (ppb)]],H$19,TU_DB[[Monitoring Site]:[Monitoring Site]],$B81)","v":0},{"$f":"COUNTIFS(TU_DB[[Orthophosphate (ppb)]:[Orthophosphate (ppb)]],I$19,TU_DB[[Monitoring Site]:[Monitoring Site]],$B81)","v":0},22,0.15492957746478872]
[null,{"$f":"Use!Q134","v":"Trout Brook"},{"$f":"COUNTIFS(TU_DB[[Orthophosphate (ppb)]:[Orthophosphate (ppb)]],C$19,TU_DB[[Monitoring Site]:[Monitoring Site]],$B82)","v":19},{"$f":"COUNTIFS(TU_DB[[Orthophosphate (ppb)]:[Orthophosphate (ppb)]],D$19,TU_DB[[Monitoring Site]:[Monitoring Site]],$B82)","v":16},{"$f":"COUNTIFS(TU_DB[[Orthophosphate (ppb)]:[Orthophosphate (ppb)]],E$19,TU_DB[[Monitoring Site]:[Monitoring Site]],$B82)","v":2},{"$f":"COUNTIFS(TU_DB[[Orthophosphate (ppb)]:[Orthophosphate (ppb)]],F$19,TU_DB[[Monitoring Site]:[Monitoring Site]],$B82)","v":0},{"$f":"COUNTIFS(TU_DB[[Orthophosphate (ppb)]:[Orthophosphate (ppb)]],G$19,TU_DB[[Monitoring Site]:[Monitoring Site]],$B82)","v":1},{"$f":"COUNTIFS(TU_DB[[Orthophosphate (ppb)]:[Orthophosphate (ppb)]],H$19,TU_DB[[Monitoring Site]:[Monitoring Site]],$B82)","v":0},{"$f":"COUNTIFS(TU_DB[[Orthophosphate (ppb)]:[Orthophosphate (ppb)]],I$19,TU_DB[[Monitoring Site]:[Monitoring Site]],$B82)","v":0},38,0.26760563380281688]
[null,{"$f":"Use!Q135","v":"Vermillion River, South Branch"},{"$f":"COUNTIFS(TU_DB[[Orthophosphate (ppb)]:[Orthophosphate (ppb)]],C$19,TU_DB[[Monitoring Site]:[Monitoring Site]],$B83)","v":12},{"$f":"COUNTIFS(TU_DB[[Orthophosphate (ppb)]:[Orthophosphate (ppb)]],D$19,TU_DB[[Monitoring Site]:[Monitoring Site]],$B83)","v":9},{"$f":"COUNTIFS(TU_DB[[Orthophosphate (ppb)]:[Orthophosphate (ppb)]],E$19,TU_DB[[Monitoring Site]:[Monitoring Site]],$B83)","v":14},{"$f":"COUNTIFS(TU_DB[[Orthophosphate (ppb)]:[Orthophosphate (ppb)]],F$19,TU_DB[[Monitoring Site]:[Monitoring Site]],$B83)","v":0},{"$f":"COUNTIFS(TU_DB[[Orthophosphate (ppb)]:[Orthophosphate (ppb)]],G$19,TU_DB[[Monitoring Site]:[Monitoring Site]],$B83)","v":1},{"$f":"COUNTIFS(TU_DB[[Orthophosphate (ppb)]:[Orthophosphate (ppb)]],H$19,TU_DB[[Monitoring Site]:[Monitoring Site]],$B83)","v":0},{"$f":"COUNTIFS(TU_DB[[Orthophosphate (ppb)]:[Orthophosphate (ppb)]],I$19,TU_DB[[Monitoring Site]:[Monitoring Site]],$B83)","v":0},36,0.25352112676056338]
[]
[null,null,null,null,null,null,null,null,null,null,null,null,null,null,"Plotting Data",0,100,200,300,500,1000,2500]
[null,null,null,null,null,null,null,null,null,null,null,null,null,null,{"$f":"INDEX(B64:B82,MATCH($O$62,$B$64:$B$82,0))","v":"Hay Creek @ 320th St"},{"$f":"INDEX(C64:C83,MATCH($O$62,$B$64:$B$83,0))","v":7},{"$f":"INDEX(D64:D83,MATCH($O$62,$B$64:$B$83,0))","v":13},1,0,0,0,0]

{"sheet":"Water Temp","index":8,"n_rows":107,"n_cols":28,"rows_kept":107,"cut":false,"hidden":false,"merged":[[44,3,44,6],[8,2,9,2]]}
["TU DARE Angler Science DB"]
["Water Analysis",null,"Water Temperature"]
[null,"Download",{"$f":"TUDB!B3","v":"3023-10-31"}]
[null,"User Help"]
[]
[null,"Monthly Water  Tempature  Stats"]
[null,null,null,null,null,null,null,null,null,null,null,null,null,null,null,null,null,null,null,null,null,null,null,null,"Plotting"]
[null,null,null,"Water Temperatures [oF]",null,null,null,null,null,null,null,null,null,null,null,null,null,null,null,null,null,null,null,null,"Thresholds"]
[null,null,"Month No.",2020,null,null,null,2021,null,null,null,2022,null,null,null,2023,null,null,null,2024,null,null,null,null,"Safe","Fair","Critical","Lethal"]
[null,"Month",null,"20 Count"," 20 Min","20 Ave","20 Max","21 Count"," 21 Min","21 Ave","21 Max","22 Count"," 22 Min","22 Ave","22 Max","23 Count"," 23 Min","23 Ave","23 Max","24 Count"," 24 Min","24 Ave","24 Max",null,67,71,76,100]
[null,"Jan",1,{"$f":"COUNTIFS(TU_DB[[Water Temperature (oF)]:[Water Temperature (oF)]],\">=\"&32,TU_DB[[Year]:[Year]],D$9,TU_DB[[Month No.]:[Month No.]],$C11)","v":0},{"$f":"IF(D11>0,_xlfn.MINIFS(TU_DB[[Water Temperature (oF)]:[Water Temperature (oF)]],TU_DB[[Year]:[Year]],D$9,TU_DB[[Month No.]:[Month No.]],$C11),\"-\")","v":"-"},{"$f":"IF(D11>0,AVERAGEIFS(TU_DB[[Water Temperature (oF)]:[Water Temperature (oF)]],TU_DB[[Year]:[Year]],D$9,TU_DB[[Month No.]:[Month No.]],$C11),\"-\")","v":"-"},{"$f":"IF(D11>0,_xlfn.MAXIFS(TU_DB[[Water Temperature (oF)]:[Water Temperature (oF)]],TU_DB[[Year]:[Year]],D$9,TU_DB[[Month No.]:[Month No.]],$C11),\"-\")","v":"-"},{"$f":"COUNTIFS(TU_DB[[Water Temperature (oF)]:[Water Temperature (oF)]],\">=\"&32,TU_DB[[Year]:[Year]],H$9,TU_DB[[Month No.]:[Month No.]],$C11)","v":6},{"$f":"IF(H11>0,_xlfn.MINIFS(TU_DB[[Water Temperature (oF)]:[Water Temperature (oF)]],TU_DB[[Year]:[Year]],H$9,TU_DB[[Month No.]:[Month No.]],$C11),\"-\")","v":36},{"$f":"IF(H11>0,AVERAGEIFS(TU_DB[[Water Temperature (oF)]:[Water Temperature (oF)]],TU_DB[[Year]:[Year]],H$9,TU_DB[[Month No.]:[Month No.]],$C11),\"-\")","v":42.833333333333336},{"$f":"IF(H11>0,_xlfn.MAXIFS(TU_DB[[Water Temperature (oF)]:[Water Temperature (oF)]],TU_DB[[Year]:[Year]],H$9,TU_DB[[Month No.]:[Month No.]],$C11),\"-\")","v":48},{"$f":"COUNTIFS(TU_DB[[Water Temperature (oF)]:[Water Temperature (oF)]],\">=\"&32,TU_DB[[Year]:[Year]],L$9,TU_DB[[Month No.]:[Month No.]],$C11)","v":0},{"$f":"IF(L11>0,_xlfn.MINIFS(TU_DB[[Water Temperature (oF)]:[Water Temperature (oF)]],TU_DB[[Year]:[Year]],L$9,TU_DB[[Month No.]:[Month No.]],$C11),\"-\")","v":"-"},{"$f":"IF(L11>0,AVERAGEIFS(TU_DB[[Water Temperature (oF)]:[Water Temperature (oF)]],TU_DB[[Year]:[Year]],L$9,TU_DB[[Month No.]:[Month No.]],$C11),\"-\")","v":"-"},{"$f":"IF(L11>0,_xlfn.MAXIFS(TU_DB[[Water Temperature (oF)]:[Water Temperature (oF)]],TU_DB[[Year]:[Year]],L$9,TU_DB[[Month No.]:[Month No.]],$C11),\"-\")","v":"-"},{"$f":"COUNTIFS(TU_DB[[Water Temperature (oF)]:[Water Temperature (oF)]],\">=\"&32,TU_DB[[Year]:[Year]],P$9,TU_DB[[Month No.]:[Month No.]],$C11)","v":0},{"$f":"IF(P11>0,_xlfn.MINIFS(TU_DB[[Water Temperature (oF)]:[Water Temperature (oF)]],TU_DB[[Year]:[Year]],P$9,TU_DB[[Month No.]:[Month No.]],$C11),\"-\")","v":"-"},{"$f":"IF(P11>0,AVERAGEIFS(TU_DB[[Water Temperature (oF)]:[Water Temperature (oF)]],TU_DB[[Year]:[Year]],P$9,TU_DB[[Month No.]:[Month No.]],$C11),\"-\")","v":"-"},{"$f":"IF(P11>0,_xlfn.MAXIFS(TU_DB[[Water Temperature (oF)]:[Water Temperature (oF)]],TU_DB[[Year]:[Year]],P$9,TU_DB[[Month No.]:[Month No.]],$C11),\"-\")","v":"-"},{"$f":"COUNTIFS(TU_DB[[Water Temperature (oF)]:[Water Temperature (oF)]],\">=\"&32,TU_DB[[Year]:[Year]],T$9,TU_DB[[Month No.]:[Month No.]],$C11)","v":0},{"$f":"IF(T11>0,_xlfn.MINIFS(TU_DB[[Water Temperature (oF)]:[Water Temperature (oF)]],TU_DB[[Year]:[Year]],T$9,TU_DB[[Month No.]:[Month No.]],$C11),\"-\")","v":"-"},{"$f":"IF(T11>0,AVERAGEIFS(TU_DB[[Water Temperature (oF)]:[Water Temperature (oF)]],TU_DB[[Year]:[Year]],T$9,TU_DB[[Month No.]:[Month No.]],$C11),\"-\")","v":"-"},{"$f":"IF(T11>0,_xlfn.MAXIFS(TU_DB[[Water Temperature (oF)]:[Water Temperature (oF)]],TU_DB[[Year]:[Year]],T$9,TU_DB[[Month No.]:[Month No.]],$C11),\"-\")","v":"-"},null,{"$f":"Y$10","v":67},{"$f":"Z10-Y10","v":4},{"$f":"AA10-Z10","v":5},{"$f":"AB10-AA10","v":24}]
[null,"Feb",2,{"$f":"COUNTIFS(TU_DB[[Water Temperature (oF)]:[Water Temperature (oF)]],\">=\"&32,TU_DB[[Year]:[Year]],D$9,TU_DB[[Month No.]:[Month No.]],$C12)","v":4},{"$f":"IF(D12>0,_xlfn.MINIFS(TU_DB[[Water Temperature (oF)]:[Water Temperature (oF)]],TU_DB[[Year]:[Year]],D$9,TU_DB[[Month No.]:[Month No.]],$C12),\"-\")","v":41},{"$f":"IF(D12>0,AVERAGEIFS(TU_DB[[Water Temperature (oF)]:[Water Temperature (oF)]],TU_DB[[Year]:[Year]],D$9,TU_DB[[Month No.]:[Month No.]],$C12),\"-\")","v":51.25},{"$f":"IF(D12>0,_xlfn.MAXIFS(TU_DB[[Water Temperature (oF)]:[Water Temperature (oF)]],TU_DB[[Year]:[Year]],D$9,TU_DB[[Month No.]:[Month No.]],$C12),\"-\")","v":66},{"$f":"COUNTIFS(TU_DB[[Water Temperature (oF)]:[Water Temperature (oF)]],\">=\"&32,TU_DB[[Year]:[Year]],H$9,TU_DB[[Month No.]:[Month No.]],$C12)","v":0},{"$f":"IF(H12>0,_xlfn.MINIFS(TU_DB[[Water Temperature (oF)]:[Water Temperature (oF)]],TU_DB[[Year]:[Year]],H$9,TU_DB[[Month No.]:[Month No.]],$C12),\"-\")","v":"-"},{"$f":"IF(H12>0,AVERAGEIFS(TU_DB[[Water Temperature (oF)]:[Water Temperature (oF)]],TU_DB[[Year]:[Year]],H$9,TU_DB[[Month No.]:[Month No.]],$C12),\"-\")","v":"-"},{"$f":"IF(H12>0,_xlfn.MAXIFS(TU_DB[[Water Temperature (oF)]:[Water Temperature (oF)]],TU_DB[[Year]:[Year]],H$9,TU_DB[[Month No.]:[Month No.]],$C12),\"-\")","v":"-"},{"$f":"COUNTIFS(TU_DB[[Water Temperature (oF)]:[Water Temperature (oF)]],\">=\"&32,TU_DB[[Year]:[Year]],L$9,TU_DB[[Month No.]:[Month No.]],$C12)","v":1},{"$f":"IF(L12>0,_xlfn.MINIFS(TU_DB[[Water Temperature (oF)]:[Water Temperature (oF)]],TU_DB[[Year]:[Year]],L$9,TU_DB[[Month No.]:[Month No.]],$C12),\"-\")","v":44},{"$f":"IF(L12>0,AVERAGEIFS(TU_DB[[Water Temperature (oF)]:[Water Temperature (oF)]],TU_DB[[Year]:[Year]],L$9,TU_DB[[Month No.]:[Month No.]],$C12),\"-\")","v":44},{"$f":"IF(L12>0,_xlfn.MAXIFS(TU_DB[[Water Temperature (oF)]:[Water Temperature (oF)]],TU_DB[[Year]:[Year]],L$9,TU_DB[[Month No.]:[Month No.]],$C12),\"-\")","v":44},{"$f":"COUNTIFS(TU_DB[[Water Temperature (oF)]:[Water Temperature (oF)]],\">=\"&32,TU_DB[[Year]:[Year]],P$9,TU_DB[[Month No.]:[Month No.]],$C12)","v":1},{"$f":"IF(P12>0,_xlfn.MINIFS(TU_DB[[Water Temperature (oF)]:[Water Temperature (oF)]],TU_DB[[Year]:[Year]],P$9,TU_DB[[Month No.]:[Month No.]],$C12),\"-\")","v":39},{"$f":"IF(P12>0,AVERAGEIFS(TU_DB[[Water Temperature (oF)]:[Water Temperature (oF)]],TU_DB[[Year]:[Year]],P$9,TU_DB[[Month No.]:[Month No.]],$C12),\"-\")","v":39},{"$f":"IF(P12>0,_xlfn.MAXIFS(TU_DB[[Water Temperature (oF)]:[Water Temperature (oF)]],TU_DB[[Year]:[Year]],P$9,TU_DB[[Month No.]:[Month No.]],$C12),\"-\")","v":39},{"$f":"COUNTIFS(TU_DB[[Water Temperature (oF)]:[Water Temperature (oF)]],\">=\"&32,TU_DB[[Year]:[Year]],T$9,TU_DB[[Month No.]:[Month No.]],$C12)","v":0},{"$f":"IF(T12>0,_xlfn.MINIFS(TU_DB[[Water Temperature (oF)]:[Water Temperature (oF)]],TU_DB[[Year]:[Year]],T$9,TU_DB[[Month No.]:[Month No.]],$C12),\"-\")","v":"-"},{"$f":"IF(T12>0,AVERAGEIFS(TU_DB[[Water Temperature (oF)]:[Water Temperature (oF)]],TU_DB[[Year]:[Year]],T$9,TU_DB[[Month No.]:[Month No.]],$C12),\"-\")","v":"-"},{"$f":"IF(T12>0,_xlfn.MAXIFS(TU_DB[[Water Temperature (oF)]:[Water Temperature (oF)]],TU_DB[[Year]:[Year]],T$9,TU_DB[[Month No.]:[Month No.]],$C12),\"-\")","v":"-"},null,{"$f":"Y$10","v":67},{"$f":"Z11","v":4},{"$f":"AA11","v":5},24]
[null,"Mar",3,{"$f":"COUNTIFS(TU_DB[[Water Temperature (oF)]:[Water Temperature (oF)]],\">=\"&32,TU_DB[[Year]:[Year]],D$9,TU_DB[[Month No.]:[Month No.]],$C13)","v":10},{"$f":"IF(D13>0,_xlfn.MINIFS(TU_DB[[Water Temperature (oF)]:[Water Temperature (oF)]],TU_DB[[Year]:[Year]],D$9,TU_DB[[Month No.]:[Month No.]],$C13),\"-\")","v":34},{"$f":"IF(D13>0,AVERAGEIFS(TU_DB[[Water Temperature (oF)]:[Water Temperature (oF)]],TU_DB[[Year]:[Year]],D$9,TU_DB[[Month No.]:[Month No.]],$C13),\"-\")","v":41.4},{"$f":"IF(D13>0,_xlfn.MAXIFS(TU_DB[[Water Temperature (oF)]:[Water Temperature (oF)]],TU_DB[[Year]:[Year]],D$9,TU_DB[[Month No.]:[Month No.]],$C13),\"-\")","v":50},{"$f":"COUNTIFS(TU_DB[[Water Temperature (oF)]:[Water Temperature (oF)]],\">=\"&32,TU_DB[[Year]:[Year]],H$9,TU_DB[[Month No.]:[Month No.]],$C13)","v":9},{"$f":"IF(H13>0,_xlfn.MINIFS(TU_DB[[Water Temperature (oF)]:[Water Temperature (oF)]],TU_DB[[Year]:[Year]],H$9,TU_DB[[Month No.]:[Month No.]],$C13),\"-\")","v":37},{"$f":"IF(H13>0,AVERAGEIFS(TU_DB[[Water Temperature (oF)]:[Water Temperature (oF)]],TU_DB[[Year]:[Year]],H$9,TU_DB[[Month No.]:[Month No.]],$C13),\"-\")","v":44.222222222222221},{"$f":"IF(H13>0,_xlfn.MAXIFS(TU_DB[[Water Temperature (oF)]:[Water Temperature (oF)]],TU_DB[[Year]:[Year]],H$9,TU_DB[[Month No.]:[Month No.]],$C13),\"-\")","v":49},{"$f":"COUNTIFS(TU_DB[[Water Temperature (oF)]:[Water Temperature (oF)]],\">=\"&32,TU_DB[[Year]:[Year]],L$9,TU_DB[[Month No.]:[Month No.]],$C13)","v":1},{"$f":"IF(L13>0,_xlfn.MINIFS(TU_DB[[Water Temperature (oF)]:[Water Temperature (oF)]],TU_DB[[Year]:[Year]],L$9,TU_DB[[Month No.]:[Month No.]],$C13),\"-\")","v":41},{"$f":"IF(L13>0,AVERAGEIFS(TU_DB[[Water Temperature (oF)]:[Water Temperature (oF)]],TU_DB[[Year]:[Year]],L$9,TU_DB[[Month No.]:[Month No.]],$C13),\"-\")","v":41},{"$f":"IF(L13>0,_xlfn.MAXIFS(TU_DB[[Water Temperature (oF)]:[Water Temperature (oF)]],TU_DB[[Year]:[Year]],L$9,TU_DB[[Month No.]:[Month No.]],$C13),\"-\")","v":41},{"$f":"COUNTIFS(TU_DB[[Water Temperature (oF)]:[Water Temperature (oF)]],\">=\"&32,TU_DB[[Year]:[Year]],P$9,TU_DB[[Month No.]:[Month No.]],$C13)","v":1},{"$f":"IF(P13>0,_xlfn.MINIFS(TU_DB[[Water Temperature (oF)]:[Water Temperature (oF)]],TU_DB[[Year]:[Year]],P$9,TU_DB[[Month No.]:[Month No.]],$C13),\"-\")","v":44},{"$f":"IF(P13>0,AVERAGEIFS(TU_DB[[Water Temperature (oF)]:[Water Temperature (oF)]],TU_DB[[Year]:[Year]],P$9,TU_DB[[Month No.]:[Month No.]],$C13),\"-\")","v":44},{"$f":"IF(P13>0,_xlfn.MAXIFS(TU_DB[[Water Temperature (oF)]:[Water Temperature (oF)]],TU_DB[[Year]:[Year]],P$9,TU_DB[[Month No.]:[Month No.]],$C13),\"-\")","v":44},{"$f":"COUNTIFS(TU_DB[[Water Temperature (oF)]:[Water Temperature (oF)]],\">=\"&32,TU_DB[[Year]:[Year]],T$9,TU_DB[[Month No.]:[Month No.]],$C13)","v":0},{"$f":"IF(T13>0,_xlfn.MINIFS(TU_DB[[Water Temperature (oF)]:[Water Temperature (oF)]],TU_DB[[Year]:[Year]],T$9,TU_DB[[Month No.]:[Month No.]],$C13),\"-\")","v":"-"},{"$f":"IF(T13>0,AVERAGEIFS(TU_DB[[Water Temperature (oF)]:[Water Temperature (oF)]],TU_DB[[Year]:[Year]],T$9,TU_DB[[Month No.]:[Month No.]],$C13),\"-\")","v":"-"},{"$f":"IF(T13>0,_xlfn.MAXIFS(TU_DB[[Water Temperature (oF)]:[Water Temperature (oF)]],TU_DB[[Year]:[Year]],T$9,TU_DB[[Month No.]:[Month No.]],$C13),\"-\")","v":"-"},null,67,{"$f":"Z12","v":4},{"$f":"AA12","v":5},{"$f":"AB12","v":24}]
[null,"Apr",4,{"$f":"COUNTIFS(TU_DB[[Water Temperature (oF)]:[Water Temperature (oF)]],\">=\"&32,TU_DB[[Year]:[Year]],D$9,TU_DB[[Month No.]:[Month No.]],$C14)","v":11},{"$f":"IF(D14>0,_xlfn.MINIFS(TU_DB[[Water Temperature (oF)]:[Water Temperature (oF)]],TU_DB[[Year]:[Year]],D$9,TU_DB[[Month No.]:[Month No.]],$C14),\"-\")","v":42},{"$f":"IF(D14>0,AVERAGEIFS(TU_DB[[Water Temperature (oF)]:[Water Temperature (oF)]],TU_DB[[Year]:[Year]],D$9,TU_DB[[Month No.]:[Month No.]],$C14),\"-\")","v":47.090909090909093},{"$f":"IF(D14>0,_xlfn.MAXIFS(TU_DB[[Water Temperature (oF)]:[Water Temperature (oF)]],TU_DB[[Year]:[Year]],D$9,TU_DB[[Month No.]:[Month No.]],$C14),\"-\")","v":55},{"$f":"COUNTIFS(TU_DB[[Water Temperature (oF)]:[Water Temperature (oF)]],\">=\"&32,TU_DB[[Year]:[Year]],H$9,TU_DB[[Month No.]:[Month No.]],$C14)","v":41},{"$f":"IF(H14>0,_xlfn.MINIFS(TU_DB[[Water Temperature (oF)]:[Water Temperature (oF)]],TU_DB[[Year]:[Year]],H$9,TU_DB[[Month No.]:[Month No.]],$C14),\"-\")","v":0},{"$f":"IF(H14>0,AVERAGEIFS(TU_DB[[Water Temperature (oF)]:[Water Temperature (oF)]],TU_DB[[Year]:[Year]],H$9,TU_DB[[Month No.]:[Month No.]],$C14),\"-\")","v":44.088888888888889},{"$f":"IF(H14>0,_xlfn.MAXIFS(TU_DB[[Water Temperature (oF)]:[Water Temperature (oF)]],TU_DB[[Year]:[Year]],H$9,TU_DB[[Month No.]:[Month No.]],$C14),\"-\")","v":70},{"$f":"COUNTIFS(TU_DB[[Water Temperature (oF)]:[Water Temperature (oF)]],\">=\"&32,TU_DB[[Year]:[Year]],L$9,TU_DB[[Month No.]:[Month No.]],$C14)","v":38},{"$f":"IF(L14>0,_xlfn.MINIFS(TU_DB[[Water Temperature (oF)]:[Water Temperature (oF)]],TU_DB[[Year]:[Year]],L$9,TU_DB[[Month No.]:[Month No.]],$C14),\"-\")","v":37},{"$f":"IF(L14>0,AVERAGEIFS(TU_DB[[Water Temperature (oF)]:[Water Temperature (oF)]],TU_DB[[Year]:[Year]],L$9,TU_DB[[Month No.]:[Month No.]],$C14),\"-\")","v":45.94736842105263},{"$f":"IF(L14>0,_xlfn.MAXIFS(TU_DB[[Water Temperature (oF)]:[Water Temperature (oF)]],TU_DB[[Year]:[Year]],L$9,TU_DB[[Month No.]:[Month No.]],$C14),\"-\")","v":57},{"$f":"COUNTIFS(TU_DB[[Water Temperature (oF)]:[Water Temperature (oF)]],\">=\"&32,TU_DB[[Year]:[Year]],P$9,TU_DB[[Month No.]:[Month No.]],$C14)","v":31},{"$f":"IF(P14>0,_xlfn.MINIFS(TU_DB[[Water Temperature (oF)]:[Water Temperature (oF)]],TU_DB[[Year]:[Year]],P$9,TU_DB[[Month No.]:[Month No.]],$C14),\"-\")","v":41},{"$f":"IF(P14>0,AVERAGEIFS(TU_DB[[Water Temperature (oF)]:[Water Temperature (oF)]],TU_DB[[Year]:[Year]],P$9,TU_DB[[Month No.]:[Month No.]],$C14),\"-\")","v":52.87096774193548},{"$f":"IF(P14>0,_xlfn.MAXIFS(TU_DB[[Water Temperature (oF)]:[Water Temperature (oF)]],TU_DB[[Year]:[Year]],P$9,TU_DB[[Month No.]:[Month No.]],$C14),\"-\")","v":62},{"$f":"COUNTIFS(TU_DB[[Water Temperature (oF)]:[Water Temperature (oF)]],\">=\"&32,TU_DB[[Year]:[Year]],T$9,TU_DB[[Month No.]:[Month No.]],$C14)","v":0},{"$f":"IF(T14>0,_xlfn.MINIFS(TU_DB[[Water Temperature (oF)]:[Water Temperature (oF)]],TU_DB[[Year]:[Year]],T$9,TU_DB[[Month No.]:[Month No.]],$C14),\"-\")","v":"-"},{"$f":"IF(T14>0,AVERAGEIFS(TU_DB[[Water Temperature (oF)]:[Water Temperature (oF)]],TU_DB[[Year]:[Year]],T$9,TU_DB[[Month No.]:[Month No.]],$C14),\"-\")","v":"-"},{"$f":"IF(T14>0,_xlfn.MAXIFS(TU_DB[[Water Temperature (oF)]:[Water Temperature (oF)]],TU_DB[[Year]:[Year]],T$9,TU_DB[[Month No.]:[Month No.]],$C14),\"-\")","v":"-"},null,67,4,5,24]
[null,"May",5,{"$f":"COUNTIFS(TU_DB[[Water Temperature (oF)]:[Water Temperature (oF)]],\">=\"&32,TU_DB[[Year]:[Year]],D$9,TU_DB[[Month No.]:[Month No.]],$C15)","v":14},{"$f":"IF(D15>0,_xlfn.MINIFS(TU_DB[[Water Temperature (oF)]:[Water Temperature (oF)]],TU_DB[[Year]:[Year]],D$9,TU_DB[[Month No.]:[Month No.]],$C15),\"-\")","v":46},{"$f":"IF(D15>0,AVERAGEIFS(TU_DB[[Water Temperature (oF)]:[Water Temperature (oF)]],TU_DB[[Year]:[Year]],D$9,TU_DB[[Month No.]:[Month No.]],$C15),\"-\")","v":56},{"$f":"IF(D15>0,_xlfn.MAXIFS(TU_DB[[Water Temperature (oF)]:[Water Temperature (oF)]],TU_DB[[Year]:[Year]],D$9,TU_DB[[Month No.]:[Month No.]],$C15),\"-\")","v":66},{"$f":"COUNTIFS(TU_DB[[Water Temperature (oF)]:[Water Temperature (oF)]],\">=\"&32,TU_DB[[Year]:[Year]],H$9,TU_DB[[Month No.]:[Month No.]],$C15)","v":44},{"$f":"IF(H15>0,_xlfn.MINIFS(TU_DB[[Water Temperature (oF)]:[Water Temperature (oF)]],TU_DB[[Year]:[Year]],H$9,TU_DB[[Month No.]:[Month No.]],$C15),\"-\")","v":0},{"$f":"IF(H15>0,AVERAGEIFS(TU_DB[[Water Temperature (oF)]:[Water Temperature (oF)]],TU_DB[[Year]:[Year]],H$9,TU_DB[[Month No.]:[Month No.]],$C15),\"-\")","v":48.204081632653065},{"$f":"IF(H15>0,_xlfn.MAXIFS(TU_DB[[Water Temperature (oF)]:[Water Temperature (oF)]],TU_DB[[Year]:[Year]],H$9,TU_DB[[Month No.]:[Month No.]],$C15),\"-\")","v":64},{"$f":"COUNTIFS(TU_DB[[Water Temperature (oF)]:[Water Temperature (oF)]],\">=\"&32,TU_DB[[Year]:[Year]],L$9,TU_DB[[Month No.]:[Month No.]],$C15)","v":62},{"$f":"IF(L15>0,_xlfn.MINIFS(TU_DB[[Water Temperature (oF)]:[Water Temperature (oF)]],TU_DB[[Year]:[Year]],L$9,TU_DB[[Month No.]:[Month No.]],$C15),\"-\")","v":0},{"$f":"IF(L15>0,AVERAGEIFS(TU_DB[[Water Temperature (oF)]:[Water Temperature (oF)]],TU_DB[[Year]:[Year]],L$9,TU_DB[[Month No.]:[Month No.]],$C15),\"-\")","v":52.230769230769234},{"$f":"IF(L15>0,_xlfn.MAXIFS(TU_DB[[Water Temperature (oF)]:[Water Temperature (oF)]],TU_DB[[Year]:[Year]],L$9,TU_DB[[Month No.]:[Month No.]],$C15),\"-\")","v":68},{"$f":"COUNTIFS(TU_DB[[Water Temperature (oF)]:[Water Temperature (oF)]],\">=\"&32,TU_DB[[Year]:[Year]],P$9,TU_DB[[Month No.]:[Month No.]],$C15)","v":113},{"$f":"IF(P15>0,_xlfn.MINIFS(TU_DB[[Water Temperature (oF)]:[Water Temperature (oF)]],TU_DB[[Year]:[Year]],P$9,TU_DB[[Month No.]:[Month No.]],$C15),\"-\")","v":47},{"$f":"IF(P15>0,AVERAGEIFS(TU_DB[[Water Temperature (oF)]:[Water Temperature (oF)]],TU_DB[[Year]:[Year]],P$9,TU_DB[[Month No.]:[Month No.]],$C15),\"-\")","v":58.194690265486727},{"$f":"IF(P15>0,_xlfn.MAXIFS(TU_DB[[Water Temperature (oF)]:[Water Temperature (oF)]],TU_DB[[Year]:[Year]],P$9,TU_DB[[Month No.]:[Month No.]],$C15),\"-\")","v":80},{"$f":"COUNTIFS(TU_DB[[Water Temperature (oF)]:[Water Temperature (oF)]],\">=\"&32,TU_DB[[Year]:[Year]],T$9,TU_DB[[Month No.]:[Month No.]],$C15)","v":0},{"$f":"IF(T15>0,_xlfn.MINIFS(TU_DB[[Water Temperature (oF)]:[Water Temperature (oF)]],TU_DB[[Year]:[Year]],T$9,TU_DB[[Month No.]:[Month No.]],$C15),\"-\")","v":"-"},{"$f":"IF(T15>0,AVERAGEIFS(TU_DB[[Water Temperature (oF)]:[Water Temperature (oF)]],TU_DB[[Year]:[Year]],T$9,TU_DB[[Month No.]:[Month No.]],$C15),\"-\")","v":"-"},{"$f":"IF(T15>0,_xlfn.MAXIFS(TU_DB[[Water Temperature (oF)]:[Water Temperature (oF)]],TU_DB[[Year]:[Year]],T$9,TU_DB[[Month No.]:[Month No.]],$C15),\"-\")","v":"-"},null,67,4,5,24]
[null,"Jun",6,{"$f":"COUNTIFS(TU_DB[[Water Temperature (oF)]:[Water Temperature (oF)]],\">=\"&32,TU_DB[[Year]:[Year]],D$9,TU_DB[[Month No.]:[Month No.]],$C16)","v":5},{"$f":"IF(D16>0,_xlfn.MINIFS(TU_DB[[Water Temperature (oF)]:[Water Temperature (oF)]],TU_DB[[Year]:[Year]],D$9,TU_DB[[Month No.]:[Month No.]],$C16),\"-\")","v":52},{"$f":"IF(D16>0,AVERAGEIFS(TU_DB[[Water Temperature (oF)]:[Water Temperature (oF)]],TU_DB[[Year]:[Year]],D$9,TU_DB[[Month No.]:[Month No.]],$C16),\"-\")","v":58.2},{"$f":"IF(D16>0,_xlfn.MAXIFS(TU_DB[[Water Temperature (oF)]:[Water Temperature (oF)]],TU_DB[[Year]:[Year]],D$9,TU_DB[[Month No.]:[Month No.]],$C16),\"-\")","v":64},{"$f":"COUNTIFS(TU_DB[[Water Temperature (oF)]:[Water Temperature (oF)]],\">=\"&32,TU_DB[[Year]:[Year]],H$9,TU_DB[[Month No.]:[Month No.]],$C16)","v":37},{"$f":"IF(H16>0,_xlfn.MINIFS(TU_DB[[Water Temperature (oF)]:[Water Temperature (oF)]],TU_DB[[Year]:[Year]],H$9,TU_DB[[Month No.]:[Month No.]],$C16),\"-\")","v":0},{"$f":"IF(H16>0,AVERAGEIFS(TU_DB[[Water Temperature (oF)]:[Water Temperature (oF)]],TU_DB[[Year]:[Year]],H$9,TU_DB[[Month No.]:[Month No.]],$C16),\"-\")","v":56.524999999999999},{"$f":"IF(H16>0,_xlfn.MAXIFS(TU_DB[[Water Temperature (oF)]:[Water Temperature (oF)]],TU_DB[[Year]:[Year]],H$9,TU_DB[[Month No.]:[Month No.]],$C16),\"-\")","v":71},{"$f":"COUNTIFS(TU_DB[[Water Temperature (oF)]:[Water Temperature (oF)]],\">=\"&32,TU_DB[[Year]:[Year]],L$9,TU_DB[[Month No.]:[Month No.]],$C16)","v":66},{"$f":"IF(L16>0,_xlfn.MINIFS(TU_DB[[Water Temperature (oF)]:[Water Temperature (oF)]],TU_DB[[Year]:[Year]],L$9,TU_DB[[Month No.]:[Month No.]],$C16),\"-\")","v":51},{"$f":"IF(L16>0,AVERAGEIFS(TU_DB[[Water Temperature (oF)]:[Water Temperature (oF)]],TU_DB[[Year]:[Year]],L$9,TU_DB[[Month No.]:[Month No.]],$C16),\"-\")","v":61.227272727272727},{"$f":"IF(L16>0,_xlfn.MAXIFS(TU_DB[[Water Temperature (oF)]:[Water Temperature (oF)]],TU_DB[[Year]:[Year]],L$9,TU_DB[[Month No.]:[Month No.]],$C16),\"-\")","v":74},{"$f":"COUNTIFS(TU_DB[[Water Temperature (oF)]:[Water Temperature (oF)]],\">=\"&32,TU_DB[[Year]:[Year]],P$9,TU_DB[[Month No.]:[Month No.]],$C16)","v":213},{"$f":"IF(P16>0,_xlfn.MINIFS(TU_DB[[Water Temperature (oF)]:[Water Temperature (oF)]],TU_DB[[Year]:[Year]],P$9,TU_DB[[Month No.]:[Month No.]],$C16),\"-\")","v":0},{"$f":"IF(P16>0,AVERAGEIFS(TU_DB[[Water Temperature (oF)]:[Water Temperature (oF)]],TU_DB[[Year]:[Year]],P$9,TU_DB[[Month No.]:[Month No.]],$C16),\"-\")","v":61.242990654205606},{"$f":"IF(P16>0,_xlfn.MAXIFS(TU_DB[[Water Temperature (oF)]:[Water Temperature (oF)]],TU_DB[[Year]:[Year]],P$9,TU_DB[[Month No.]:[Month No.]],$C16),\"-\")","v":81},{"$f":"COUNTIFS(TU_DB[[Water Temperature (oF)]:[Water Temperature (oF)]],\">=\"&32,TU_DB[[Year]:[Year]],T$9,TU_DB[[Month No.]:[Month No.]],$C16)","v":0},{"$f":"IF(T16>0,_xlfn.MINIFS(TU_DB[[Water Temperature (oF)]:[Water Temperature (oF)]],TU_DB[[Year]:[Year]],T$9,TU_DB[[Month No.]:[Month No.]],$C16),\"-\")","v":"-"},{"$f":"IF(T16>0,AVERAGEIFS(TU_DB[[Water Temperature (oF)]:[Water Temperature (oF)]],TU_DB[[Year]:[Year]],T$9,TU_DB[[Month No.]:[Month No.]],$C16),\"-\")","v":"-"},{"$f":"IF(T16>0,_xlfn.MAXIFS(TU_DB[[Water Temperature (oF)]:[Water Temperature (oF)]],TU_DB[[Year]:[Year]],T$9,TU_DB[[Month No.]:[Month No.]],$C16),\"-\")","v":"-"},null,67,4,5,24]
[null,"Jul",7,{"$f":"COUNTIFS(TU_DB[[Water Temperature (oF)]:[Water Temperature (oF)]],\">=\"&32,TU_DB[[Year]:[Year]],D$9,TU_DB[[Month No.]:[Month No.]],$C17)","v":6},{"$f":"IF(D17>0,_xlfn.MINIFS(TU_DB[[Water Temperature (oF)]:[Water Temperature (oF)]],TU_DB[[Year]:[Year]],D$9,TU_DB[[Month No.]:[Month No.]],$C17),\"-\")","v":46},{"$f":"IF(D17>0,AVERAGEIFS(TU_DB[[Water Temperature (oF)]:[Water Temperature (oF)]],TU_DB[[Year]:[Year]],D$9,TU_DB[[Month No.]:[Month No.]],$C17),\"-\")","v":55.166666666666664},{"$f":"IF(D17>0,_xlfn.MAXIFS(TU_DB[[Water Temperature (oF)]:[Water Temperature (oF)]],TU_DB[[Year]:[Year]],D$9,TU_DB[[Month No.]:[Month No.]],$C17),\"-\")","v":66},{"$f":"COUNTIFS(TU_DB[[Water Temperature (oF)]:[Water Temperature (oF)]],\">=\"&32,TU_DB[[Year]:[Year]],H$9,TU_DB[[Month No.]:[Month No.]],$C17)","v":29},{"$f":"IF(H17>0,_xlfn.MINIFS(TU_DB[[Water Temperature (oF)]:[Water Temperature (oF)]],TU_DB[[Year]:[Year]],H$9,TU_DB[[Month No.]:[Month No.]],$C17),\"-\")","v":0},{"$f":"IF(H17>0,AVERAGEIFS(TU_DB[[Water Temperature (oF)]:[Water Temperature (oF)]],TU_DB[[Year]:[Year]],H$9,TU_DB[[Month No.]:[Month No.]],$C17),\"-\")","v":54},{"$f":"IF(H17>0,_xlfn.MAXIFS(TU_DB[[Water Temperature (oF)]:[Water Temperature (oF)]],TU_DB[[Year]:[Year]],H$9,TU_DB[[Month No.]:[Month No.]],$C17),\"-\")","v":70},{"$f":"COUNTIFS(TU_DB[[Water Temperature (oF)]:[Water Temperature (oF)]],\">=\"&32,TU_DB[[Year]:[Year]],L$9,TU_DB[[Month No.]:[Month No.]],$C17)","v":66},{"$f":"IF(L17>0,_xlfn.MINIFS(TU_DB[[Water Temperature (oF)]:[Water Temperature (oF)]],TU_DB[[Year]:[Year]],L$9,TU_DB[[Month No.]:[Month No.]],$C17),\"-\")","v":0},{"$f":"IF(L17>0,AVERAGEIFS(TU_DB[[Water Temperature (oF)]:[Water Temperature (oF)]],TU_DB[[Year]:[Year]],L$9,TU_DB[[Month No.]:[Month No.]],$C17),\"-\")","v":62.208955223880594},{"$f":"IF(L17>0,_xlfn.MAXIFS(TU_DB[[Water Temperature (oF)]:[Water Temperature (oF)]],TU_DB[[Year]:[Year]],L$9,TU_DB[[Month No.]:[Month No.]],$C17),\"-\")","v":84},{"$f":"COUNTIFS(TU_DB[[Water Temperature (oF)]:[Water Temperature (oF)]],\">=\"&32,TU_DB[[Year]:[Year]],P$9,TU_DB[[Month No.]:[Month No.]],$C17)","v":150},{"$f":"IF(P17>0,_xlfn.MINIFS(TU_DB[[Water Temperature (oF)]:[Water Temperature (oF)]],TU_DB[[Year]:[Year]],P$9,TU_DB[[Month No.]:[Month No.]],$C17),\"-\")","v":0},{"$f":"IF(P17>0,AVERAGEIFS(TU_DB[[Water Temperature (oF)]:[Water Temperature (oF)]],TU_DB[[Year]:[Year]],P$9,TU_DB[[Month No.]:[Month No.]],$C17),\"-\")","v":61.414473684210527},{"$f":"IF(P17>0,_xlfn.MAXIFS(TU_DB[[Water Temperature (oF)]:[Water Temperature (oF)]],TU_DB[[Year]:[Year]],P$9,TU_DB[[Month No.]:[Month No.]],$C17),\"-\")","v":81},{"$f":"COUNTIFS(TU_DB[[Water Temperature (oF)]:[Water Temperature (oF)]],\">=\"&32,TU_DB[[Year]:[Year]],T$9,TU_DB[[Month No.]:[Month No.]],$C17)","v":0},{"$f":"IF(T17>0,_xlfn.MINIFS(TU_DB[[Water Temperature (oF)]:[Water Temperature (oF)]],TU_DB[[Year]:[Year]],T$9,TU_DB[[Month No.]:[Month No.]],$C17),\"-\")","v":"-"},{"$f":"IF(T17>0,AVERAGEIFS(TU_DB[[Water Temperature (oF)]:[Water Temperature (oF)]],TU_DB[[Year]:[Year]],T$9,TU_DB[[Month No.]:[Month No.]],$C17),\"-\")","v":"-"},{"$f":"IF(T17>0,_xlfn.MAXIFS(TU_DB[[Water Temperature (oF)]:[Water Temperature (oF)]],TU_DB[[Year]:[Year]],T$9,TU_DB[[Month No.]:[Month No.]],$C17),\"-\")","v":"-"},null,67,4,5,24]
[null,"Aug",8,{"$f":"COUNTIFS(TU_DB[[Water Temperature (oF)]:[Water Temperature (oF)]],\">=\"&32,TU_DB[[Year]:[Year]],D$9,TU_DB[[Month No.]:[Month No.]],$C18)","v":9},{"$f":"IF(D18>0,_xlfn.MINIFS(TU_DB[[Water Temperature (oF)]:[Water Temperature (oF)]],TU_DB[[Year]:[Year]],D$9,TU_DB[[Month No.]:[Month No.]],$C18),\"-\")","v":58},{"$f":"IF(D18>0,AVERAGEIFS(TU_DB[[Water Temperature (oF)]:[Water Temperature (oF)]],TU_DB[[Year]:[Year]],D$9,TU_DB[[Month No.]:[Month No.]],$C18),\"-\")","v":63.111111111111114},{"$f":"IF(D18>0,_xlfn.MAXIFS(TU_DB[[Water Temperature (oF)]:[Water Temperature (oF)]],TU_DB[[Year]:[Year]],D$9,TU_DB[[Month No.]:[Month No.]],$C18),\"-\")","v":71},{"$f":"COUNTIFS(TU_DB[[Water Temperature (oF)]:[Water Temperature (oF)]],\">=\"&32,TU_DB[[Year]:[Year]],H$9,TU_DB[[Month No.]:[Month No.]],$C18)","v":38},{"$f":"IF(H18>0,_xlfn.MINIFS(TU_DB[[Water Temperature (oF)]:[Water Temperature (oF)]],TU_DB[[Year]:[Year]],H$9,TU_DB[[Month No.]:[Month No.]],$C18),\"-\")","v":0},{"$f":"IF(H18>0,AVERAGEIFS(TU_DB[[Water Temperature (oF)]:[Water Temperature (oF)]],TU_DB[[Year]:[Year]],H$9,TU_DB[[Month No.]:[Month No.]],$C18),\"-\")","v":52.333333333333336},{"$f":"IF(H18>0,_xlfn.MAXIFS(TU_DB[[Water Temperature (oF)]:[Water Temperature (oF)]],TU_DB[[Year]:[Year]],H$9,TU_DB[[Month No.]:[Month No.]],$C18),\"-\")","v":70},{"$f":"COUNTIFS(TU_DB[[Water Temperature (oF)]:[Water Temperature (oF)]],\">=\"&32,TU_DB[[Year]:[Year]],L$9,TU_DB[[Month No.]:[Month No.]],$C18)","v":55},{"$f":"IF(L18>0,_xlfn.MINIFS(TU_DB[[Water Temperature (oF)]:[Water Temperature (oF)]],TU_DB[[Year]:[Year]],L$9,TU_DB[[Month No.]:[Month No.]],$C18),\"-\")","v":0},{"$f":"IF(L18>0,AVERAGEIFS(TU_DB[[Water Temperature (oF)]:[Water Temperature (oF)]],TU_DB[[Year]:[Year]],L$9,TU_DB[[Month No.]:[Month No.]],$C18),\"-\")","v":55.68333333333333},{"$f":"IF(L18>0,_xlfn.MAXIFS(TU_DB[[Water Temperature (oF)]:[Water Temperature (oF)]],TU_DB[[Year]:[Year]],L$9,TU_DB[[Month No.]:[Month No.]],$C18),\"-\")","v":76},{"$f":"COUNTIFS(TU_DB[[Water Temperature (oF)]:[Water Temperature (oF)]],\">=\"&32,TU_DB[[Year]:[Year]],P$9,TU_DB[[Month No.]:[Month No.]],$C18)","v":81},{"$f":"IF(P18>0,_xlfn.MINIFS(TU_DB[[Water Temperature (oF)]:[Water Temperature (oF)]],TU_DB[[Year]:[Year]],P$9,TU_DB[[Month No.]:[Month No.]],$C18),\"-\")","v":50},{"$f":"IF(P18>0,AVERAGEIFS(TU_DB[[Water Temperature (oF)]:[Water Temperature (oF)]],TU_DB[[Year]:[Year]],P$9,TU_DB[[Month No.]:[Month No.]],$C18),\"-\")","v":61.493827160493829},{"$f":"IF(P18>0,_xlfn.MAXIFS(TU_DB[[Water Temperature (oF)]:[Water Temperature (oF)]],TU_DB[[Year]:[Year]],P$9,TU_DB[[Month No.]:[Month No.]],$C18),\"-\")","v":77},{"$f":"COUNTIFS(TU_DB[[Water Temperature (oF)]:[Water Temperature (oF)]],\">=\"&32,TU_DB[[Year]:[Year]],T$9,TU_DB[[Month No.]:[Month No.]],$C18)","v":0},{"$f":"IF(T18>0,_xlfn.MINIFS(TU_DB[[Water Temperature (oF)]:[Water Temperature (oF)]],TU_DB[[Year]:[Year]],T$9,TU_DB[[Month No.]:[Month No.]],$C18),\"-\")","v":"-"},{"$f":"IF(T18>0,AVERAGEIFS(TU_DB[[Water Temperature (oF)]:[Water Temperature (oF)]],TU_DB[[Year]:[Year]],T$9,TU_DB[[Month No.]:[Month No.]],$C18),\"-\")","v":"-"},{"$f":"IF(T18>0,_xlfn.MAXIFS(TU_DB[[Water Temperature (oF)]:[Water Temperature (oF)]],TU_DB[[Year]:[Year]],T$9,TU_DB[[Month No.]:[Month No.]],$C18),\"-\")","v":"-"},null,67,4,5,24]
[null,"Sep",9,{"$f":"COUNTIFS(TU_DB[[Water Temperature (oF)]:[Water Temperature (oF)]],\">=\"&32,TU_DB[[Year]:[Year]],D$9,TU_DB[[Month No.]:[Month No.]],$C19)","v":20},{"$f":"IF(D19>0,_xlfn.MINIFS(TU_DB[[Water Temperature (oF)]:[Water Temperature (oF)]],TU_DB[[Year]:[Year]],D$9,TU_DB[[Month No.]:[Month No.]],$C19),\"-\")","v":0},{"$f":"IF(D19>0,AVERAGEIFS(TU_DB[[Water Temperature (oF)]:[Water Temperature (oF)]],TU_DB[[Year]:[Year]],D$9,TU_DB[[Month No.]:[Month No.]],$C19),\"-\")","v":49.428571428571431},{"$f":"IF(D19>0,_xlfn.MAXIFS(TU_DB[[Water Temperature (oF)]:[Water Temperature (oF)]],TU_DB[[Year]:[Year]],D$9,TU_DB[[Month No.]:[Month No.]],$C19),\"-\")","v":63},{"$f":"COUNTIFS(TU_DB[[Water Temperature (oF)]:[Water Temperature (oF)]],\">=\"&32,TU_DB[[Year]:[Year]],H$9,TU_DB[[Month No.]:[Month No.]],$C19)","v":52},{"$f":"IF(H19>0,_xlfn.MINIFS(TU_DB[[Water Temperature (oF)]:[Water Temperature (oF)]],TU_DB[[Year]:[Year]],H$9,TU_DB[[Month No.]:[Month No.]],$C19),\"-\")","v":0},{"$f":"IF(H19>0,AVERAGEIFS(TU_DB[[Water Temperature (oF)]:[Water Temperature (oF)]],TU_DB[[Year]:[Year]],H$9,TU_DB[[Month No.]:[Month No.]],$C19),\"-\")","v":54.925925925925924},{"$f":"IF(H19>0,_xlfn.MAXIFS(TU_DB[[Water Temperature (oF)]:[Water Temperature (oF)]],TU_DB[[Year]:[Year]],H$9,TU_DB[[Month No.]:[Month No.]],$C19),\"-\")","v":68},{"$f":"COUNTIFS(TU_DB[[Water Temperature (oF)]:[Water Temperature (oF)]],\">=\"&32,TU_DB[[Year]:[Year]],L$9,TU_DB[[Month No.]:[Month No.]],$C19)","v":33},{"$f":"IF(L19>0,_xlfn.MINIFS(TU_DB[[Water Temperature (oF)]:[Water Temperature (oF)]],TU_DB[[Year]:[Year]],L$9,TU_DB[[Month No.]:[Month No.]],$C19),\"-\")","v":0},{"$f":"IF(L19>0,AVERAGEIFS(TU_DB[[Water Temperature (oF)]:[Water Temperature (oF)]],TU_DB[[Year]:[Year]],L$9,TU_DB[[Month No.]:[Month No.]],$C19),\"-\")","v":47.774999999999999},{"$f":"IF(L19>0,_xlfn.MAXIFS(TU_DB[[Water Temperature (oF)]:[Water Temperature (oF)]],TU_DB[[Year]:[Year]],L$9,TU_DB[[Month No.]:[Month No.]],$C19),\"-\")","v":74},{"$f":"COUNTIFS(TU_DB[[Water Temperature (oF)]:[Water Temperature (oF)]],\">=\"&32,TU_DB[[Year]:[Year]],P$9,TU_DB[[Month No.]:[Month No.]],$C19)","v":74},{"$f":"IF(P19>0,_xlfn.MINIFS(TU_DB[[Water Temperature (oF)]:[Water Temperature (oF)]],TU_DB[[Year]:[Year]],P$9,TU_DB[[Month No.]:[Month No.]],$C19),\"-\")","v":50},{"$f":"IF(P19>0,AVERAGEIFS(TU_DB[[Water Temperature (oF)]:[Water Temperature (oF)]],TU_DB[[Year]:[Year]],P$9,TU_DB[[Month No.]:[Month No.]],$C19),\"-\")","v":58.783783783783782},{"$f":"IF(P19>0,_xlfn.MAXIFS(TU_DB[[Water Temperature (oF)]:[Water Temperature (oF)]],TU_DB[[Year]:[Year]],P$9,TU_DB[[Month No.]:[Month No.]],$C19),\"-\")","v":76},{"$f":"COUNTIFS(TU_DB[[Water Temperature (oF)]:[Water Temperature (oF)]],\">=\"&32,TU_DB[[Year]:[Year]],T$9,TU_DB[[Month No.]:[Month No.]],$C19)","v":0},{"$f":"IF(T19>0,_xlfn.MINIFS(TU_DB[[Water Temperature (oF)]:[Water Temperature (oF)]],TU_DB[[Year]:[Year]],T$9,TU_DB[[Month No.]:[Month No.]],$C19),\"-\")","v":"-"},{"$f":"IF(T19>0,AVERAGEIFS(TU_DB[[Water Temperature (oF)]:[Water Temperature (oF)]],TU_DB[[Year]:[Year]],T$9,TU_DB[[Month No.]:[Month No.]],$C19),\"-\")","v":"-"},{"$f":"IF(T19>0,_xlfn.MAXIFS(TU_DB[[Water Temperature (oF)]:[Water Temperature (oF)]],TU_DB[[Year]:[Year]],T$9,TU_DB[[Month No.]:[Month No.]],$C19),\"-\")","v":"-"},null,67,4,5,24]
[null,"Oct",10,{"$f":"COUNTIFS(TU_DB[[Water Temperature (oF)]:[Water Temperature (oF)]],\">=\"&32,TU_DB[[Year]:[Year]],D$9,TU_DB[[Month No.]:[Month No.]],$C20)","v":8},{"$f":"IF(D20>0,_xlfn.MINIFS(TU_DB[[Water Temperature (oF)]:[Water Temperature (oF)]],TU_DB[[Year]:[Year]],D$9,TU_DB[[Month No.]:[Month No.]],$C20),\"-\")","v":45},{"$f":"IF(D20>0,AVERAGEIFS(TU_DB[[Water Temperature (oF)]:[Water Temperature (oF)]],TU_DB[[Year]:[Year]],D$9,TU_DB[[Month No.]:[Month No.]],$C20),\"-\")","v":48.875},{"$f":"IF(D20>0,_xlfn.MAXIFS(TU_DB[[Water Temperature (oF)]:[Water Temperature (oF)]],TU_DB[[Year]:[Year]],D$9,TU_DB[[Month No.]:[Month No.]],$C20),\"-\")","v":54},{"$f":"COUNTIFS(TU_DB[[Water Temperature (oF)]:[Water Temperature (oF)]],\">=\"&32,TU_DB[[Year]:[Year]],H$9,TU_DB[[Month No.]:[Month No.]],$C20)","v":15},{"$f":"IF(H20>0,_xlfn.MINIFS(TU_DB[[Water Temperature (oF)]:[Water Temperature (oF)]],TU_DB[[Year]:[Year]],H$9,TU_DB[[Month No.]:[Month No.]],$C20),\"-\")","v":0},{"$f":"IF(H20>0,AVERAGEIFS(TU_DB[[Water Temperature (oF)]:[Water Temperature (oF)]],TU_DB[[Year]:[Year]],H$9,TU_DB[[Month No.]:[Month No.]],$C20),\"-\")","v":49.5625},{"$f":"IF(H20>0,_xlfn.MAXIFS(TU_DB[[Water Temperature (oF)]:[Water Temperature (oF)]],TU_DB[[Year]:[Year]],H$9,TU_DB[[Month No.]:[Month No.]],$C20),\"-\")","v":61},{"$f":"COUNTIFS(TU_DB[[Water Temperature (oF)]:[Water Temperature (oF)]],\">=\"&32,TU_DB[[Year]:[Year]],L$9,TU_DB[[Month No.]:[Month No.]],$C20)","v":24},{"$f":"IF(L20>0,_xlfn.MINIFS(TU_DB[[Water Temperature (oF)]:[Water Temperature (oF)]],TU_DB[[Year]:[Year]],L$9,TU_DB[[Month No.]:[Month No.]],$C20),\"-\")","v":42},{"$f":"IF(L20>0,AVERAGEIFS(TU_DB[[Water Temperature (oF)]:[Water Temperature (oF)]],TU_DB[[Year]:[Year]],L$9,TU_DB[[Month No.]:[Month No.]],$C20),\"-\")","v":51.083333333333336},{"$f":"IF(L20>0,_xlfn.MAXIFS(TU_DB[[Water Temperature (oF)]:[Water Temperature (oF)]],TU_DB[[Year]:[Year]],L$9,TU_DB[[Month No.]:[Month No.]],$C20),\"-\")","v":58},{"$f":"COUNTIFS(TU_DB[[Water Temperature (oF)]:[Water Temperature (oF)]],\">=\"&32,TU_DB[[Year]:[Year]],P$9,TU_DB[[Month No.]:[Month No.]],$C20)","v":34},{"$f":"IF(P20>0,_xlfn.MINIFS(TU_DB[[Water Temperature (oF)]:[Water Temperature (oF)]],TU_DB[[Year]:[Year]],P$9,TU_DB[[Month No.]:[Month No.]],$C20),\"-\")","v":0},{"$f":"IF(P20>0,AVERAGEIFS(TU_DB[[Water Temperature (oF)]:[Water Temperature (oF)]],TU_DB[[Year]:[Year]],P$9,TU_DB[[Month No.]:[Month No.]],$C20),\"-\")","v":50.6},{"$f":"IF(P20>0,_xlfn.MAXIFS(TU_DB[[Water Temperature (oF)]:[Water Temperature (oF)]],TU_DB[[Year]:[Year]],P$9,TU_DB[[Month No.]:[Month No.]],$C20),\"-\")","v":65},{"$f":"COUNTIFS(TU_DB[[Water Temperature (oF)]:[Water Temperature (oF)]],\">=\"&32,TU_DB[[Year]:[Year]],T$9,TU_DB[[Month No.]:[Month No.]],$C20)","v":0},{"$f":"IF(T20>0,_xlfn.MINIFS(TU_DB[[Water Temperature (oF)]:[Water Temperature (oF)]],TU_DB[[Year]:[Year]],T$9,TU_DB[[Month No.]:[Month No.]],$C20),\"-\")","v":"-"},{"$f":"IF(T20>0,AVERAGEIFS(TU_DB[[Water Temperature (oF)]:[Water Temperature (oF)]],TU_DB[[Year]:[Year]],T$9,TU_DB[[Month No.]:[Month No.]],$C20),\"-\")","v":"-"},{"$f":"IF(T20>0,_xlfn.MAXIFS(TU_DB[[Water Temperature (oF)]:[Water Temperature (oF)]],TU_DB[[Year]:[Year]],T$9,TU_DB[[Month No.]:[Month No.]],$C20),\"-\")","v":"-"},null,67,4,5,24]
[null,"Nov",11,{"$f":"COUNTIFS(TU_DB[[Water Temperature (oF)]:[Water Temperature (oF)]],\">=\"&32,TU_DB[[Year]:[Year]],D$9,TU_DB[[Month No.]:[Month No.]],$C21)","v":5},{"$f":"IF(D21>0,_xlfn.MINIFS(TU_DB[[Water Temperature (oF)]:[Water Temperature (oF)]],TU_DB[[Year]:[Year]],D$9,TU_DB[[Month No.]:[Month No.]],$C21),\"-\")","v":45},{"$f":"IF(D21>0,AVERAGEIFS(TU_DB[[Water Temperature (oF)]:[Water Temperature (oF)]],TU_DB[[Year]:[Year]],D$9,TU_DB[[Month No.]:[Month No.]],$C21),\"-\")","v":47},{"$f":"IF(D21>0,_xlfn.MAXIFS(TU_DB[[Water Temperature (oF)]:[Water Temperature (oF)]],TU_DB[[Year]:[Year]],D$9,TU_DB[[Month No.]:[Month No.]],$C21),\"-\")","v":48},{"$f":"COUNTIFS(TU_DB[[Water Temperature (oF)]:[Water Temperature (oF)]],\">=\"&32,TU_DB[[Year]:[Year]],H$9,TU_DB[[Month No.]:[Month No.]],$C21)","v":7},{"$f":"IF(H21>0,_xlfn.MINIFS(TU_DB[[Water Temperature (oF)]:[Water Temperature (oF)]],TU_DB[[Year]:[Year]],H$9,TU_DB[[Month No.]:[Month No.]],$C21),\"-\")","v":44},{"$f":"IF(H21>0,AVERAGEIFS(TU_DB[[Water Temperature (oF)]:[Water Temperature (oF)]],TU_DB[[Year]:[Year]],H$9,TU_DB[[Month No.]:[Month No.]],$C21),\"-\")","v":46.571428571428569},{"$f":"IF(H21>0,_xlfn.MAXIFS(TU_DB[[Water Temperature (oF)]:[Water Temperature (oF)]],TU_DB[[Year]:[Year]],H$9,TU_DB[[Month No.]:[Month No.]],$C21),\"-\")","v":49},{"$f":"COUNTIFS(TU_DB[[Water Temperature (oF)]:[Water Temperature (oF)]],\">=\"&32,TU_DB[[Year]:[Year]],L$9,TU_DB[[Month No.]:[Month No.]],$C21)","v":4},{"$f":"IF(L21>0,_xlfn.MINIFS(TU_DB[[Water Temperature (oF)]:[Water Temperature (oF)]],TU_DB[[Year]:[Year]],L$9,TU_DB[[Month No.]:[Month No.]],$C21),\"-\")","v":40},{"$f":"IF(L21>0,AVERAGEIFS(TU_DB[[Water Temperature (oF)]:[Water Temperature (oF)]],TU_DB[[Year]:[Year]],L$9,TU_DB[[Month No.]:[Month No.]],$C21),\"-\")","v":45.75},{"$f":"IF(L21>0,_xlfn.MAXIFS(TU_DB[[Water Temperature (oF)]:[Water Temperature (oF)]],TU_DB[[Year]:[Year]],L$9,TU_DB[[Month No.]:[Month No.]],$C21),\"-\")","v":55},{"$f":"COUNTIFS(TU_DB[[Water Temperature (oF)]:[Water Temperature (oF)]],\">=\"&32,TU_DB[[Year]:[Year]],P$9,TU_DB[[Month No.]:[Month No.]],$C21)","v":0},{"$f":"IF(P21>0,_xlfn.MINIFS(TU_DB[[Water Temperature (oF)]:[Water Temperature (oF)]],TU_DB[[Year]:[Year]],P$9,TU_DB[[Month No.]:[Month No.]],$C21),\"-\")","v":"-"},{"$f":"IF(P21>0,AVERAGEIFS(TU_DB[[Water Temperature (oF)]:[Water Temperature (oF)]],TU_DB[[Year]:[Year]],P$9,TU_DB[[Month No.]:[Month No.]],$C21),\"-\")","v":"-"},{"$f":"IF(P21>0,_xlfn.MAXIFS(TU_DB[[Water Temperature (oF)]:[Water Temperature (oF)]],TU_DB[[Year]:[Year]],P$9,TU_DB[[Month No.]:[Month No.]],$C21),\"-\")","v":"-"},{"$f":"COUNTIFS(TU_DB[[Water Temperature (oF)]:[Water Temperature (oF)]],\">=\"&32,TU_DB[[Year]:[Year]],T$9,TU_DB[[Month No.]:[Month No.]],$C21)","v":0},{"$f":"IF(T21>0,_xlfn.MINIFS(TU_DB[[Water Temperature (oF)]:[Water Temperature (oF)]],TU_DB[[Year]:[Year]],T$9,TU_DB[[Month No.]:[Month No.]],$C21),\"-\")","v":"-"},{"$f":"IF(T21>0,AVERAGEIFS(TU_DB[[Water Temperature (oF)]:[Water Temperature (oF)]],TU_DB[[Year]:[Year]],T$9,TU_DB[[Month No.]:[Month No.]],$C21),\"-\")","v":"-"},{"$f":"IF(T21>0,_xlfn.MAXIFS(TU_DB[[Water Temperature (oF)]:[Water Temperature (oF)]],TU_DB[[Year]:[Year]],T$9,TU_DB[[Month No.]:[Month No.]],$C21),\"-\")","v":"-"},null,67,4,5,24]
[null,"Dec",12,{"$f":"COUNTIFS(TU_DB[[Water Temperature (oF)]:[Water Temperature (oF)]],\">=\"&32,TU_DB[[Year]:[Year]],D$9,TU_DB[[Month No.]:[Month No.]],$C22)","v":0},{"$f":"IF(D22>0,_xlfn.MINIFS(TU_DB[[Water Temperature (oF)]:[Water Temperature (oF)]],TU_DB[[Year]:[Year]],D$9,TU_DB[[Month No.]:[Month No.]],$C22),\"-\")","v":"-"},{"$f":"IF(D22>0,AVERAGEIFS(TU_DB[[Water Temperature (oF)]:[Water Temperature (oF)]],TU_DB[[Year]:[Year]],D$9,TU_DB[[Month No.]:[Month No.]],$C22),\"-\")","v":"-"},{"$f":"IF(D22>0,_xlfn.MAXIFS(TU_DB[[Water Temperature (oF)]:[Water Temperature (oF)]],TU_DB[[Year]:[Year]],D$9,TU_DB[[Month No.]:[Month No.]],$C22),\"-\")","v":"-"},{"$f":"COUNTIFS(TU_DB[[Water Temperature (oF)]:[Water Temperature (oF)]],\">=\"&32,TU_DB[[Year]:[Year]],H$9,TU_DB[[Month No.]:[Month No.]],$C22)","v":1},{"$f":"IF(H22>0,_xlfn.MINIFS(TU_DB[[Water Temperature (oF)]:[Water Temperature (oF)]],TU_DB[[Year]:[Year]],H$9,TU_DB[[Month No.]:[Month No.]],$C22),\"-\")","v":42},{"$f":"IF(H22>0,AVERAGEIFS(TU_DB[[Water Temperature (oF)]:[Water Temperature (oF)]],TU_DB[[Year]:[Year]],H$9,TU_DB[[Month No.]:[Month No.]],$C22),\"-\")","v":42},{"$f":"IF(H22>0,_xlfn.MAXIFS(TU_DB[[Water Temperature (oF)]:[Water Temperature (oF)]],TU_DB[[Year]:[Year]],H$9,TU_DB[[Month No.]:[Month No.]],$C22),\"-\")","v":42},{"$f":"COUNTIFS(TU_DB[[Water Temperature (oF)]:[Water Temperature (oF)]],\">=\"&32,TU_DB[[Year]:[Year]],L$9,TU_DB[[Month No.]:[Month No.]],$C22)","v":0},{"$f":"IF(L22>0,_xlfn.MINIFS(TU_DB[[Water Temperature (oF)]:[Water Temperature (oF)]],TU_DB[[Year]:[Year]],L$9,TU_DB[[Month No.]:[Month No.]],$C22),\"-\")","v":"-"},{"$f":"IF(L22>0,AVERAGEIFS(TU_DB[[Water Temperature (oF)]:[Water Temperature (oF)]],TU_DB[[Year]:[Year]],L$9,TU_DB[[Month No.]:[Month No.]],$C22),\"-\")","v":"-"},{"$f":"IF(L22>0,_xlfn.MAXIFS(TU_DB[[Water Temperature (oF)]:[Water Temperature (oF)]],TU_DB[[Year]:[Year]],L$9,TU_DB[[Month No.]:[Month No.]],$C22),\"-\")","v":"-"},{"$f":"COUNTIFS(TU_DB[[Water Temperature (oF)]:[Water Temperature (oF)]],\">=\"&32,TU_DB[[Year]:[Year]],P$9,TU_DB[[Month No.]:[Month No.]],$C22)","v":0},{"$f":"IF(P22>0,_xlfn.MINIFS(TU_DB[[Water Temperature (oF)]:[Water Temperature (oF)]],TU_DB[[Year]:[Year]],P$9,TU_DB[[Month No.]:[Month No.]],$C22),\"-\")","v":"-"},{"$f":"IF(P22>0,AVERAGEIFS(TU_DB[[Water Temperature (oF)]:[Water Temperature (oF)]],TU_DB[[Year]:[Year]],P$9,TU_DB[[Month No.]:[Month No.]],$C22),\"-\")","v":"-"},{"$f":"IF(P22>0,_xlfn.MAXIFS(TU_DB[[Water Temperature (oF)]:[Water Temperature (oF)]],TU_DB[[Year]:[Year]],P$9,TU_DB[[Month No.]:[Month No.]],$C22),\"-\")","v":"-"},{"$f":"COUNTIFS(TU_DB[[Water Temperature (oF)]:[Water Temperature (oF)]],\">=\"&32,TU_DB[[Year]:[Year]],T$9,TU_DB[[Month No.]:[Month No.]],$C22)","v":0},{"$f":"IF(T22>0,_xlfn.MINIFS(TU_DB[[Water Temperature (oF)]:[Water Temperature (oF)]],TU_DB[[Year]:[Year]],T$9,TU_DB[[Month No.]:[Month No.]],$C22),\"-\")","v":"-"},{"$f":"IF(T22>0,AVERAGEIFS(TU_DB[[Water Temperature (oF)]:[Water Temperature (oF)]],TU_DB[[Year]:[Year]],T$9,TU_DB[[Month No.]:[Month No.]],$C22),\"-\")","v":"-"},{"$f":"IF(T22>0,_xlfn.MAXIFS(TU_DB[[Water Temperature (oF)]:[Water Temperature (oF)]],TU_DB[[Year]:[Year]],T$9,TU_DB[[Month No.]:[Month No.]],$C22),\"-\")","v":"-"},null,67,4,5,24]
[]
[]
[]
[]
[]
[]
[]
[]
[]
[]
[]
[]
[]
[]
[]
[]
[]
[]
[]
[]
[]
[null,"Monthly Water Temperature per Station"]
[null,null,"Station to Plot","SF Kinnickinnic River @ 900th St"]
[null,null,null,null,null,null,null,null,"Plotting"]
[null,"Date","Year","Month","Count","Ave","Max",null,"Safe","Fair","Critical","Lethal"]
[null,"2020-01-01",{"$f":"YEAR(B48)","v":2020},{"$f":"MONTH(B48)","v":1},{"$f":"COUNTIFS(TU_DB[[Water Temperature (oF)]:[Water Temperature (oF)]],\">=\"&32,TU_DB[[Year]:[Year]],$C48,TU_DB[[Month No.]:[Month No.]],$D48,TU_DB[[Monitoring Site]:[Monitoring Site]],$D$45)","v":0},{"$f":"IF(E48>0,AVERAGEIFS(TU_DB[[Water Temperature (oF)]:[Water Temperature (oF)]],TU_DB[[Year]:[Year]],$C48,TU_DB[[Month No.]:[Month No.]],$D48,TU_DB[[Monitoring Site]:[Monitoring Site]],$D$45),\"\")","v":""},{"$f":"IF(E48>0,_xlfn.MAXIFS(TU_DB[[Water Temperature (oF)]:[Water Temperature (oF)]],TU_DB[[Year]:[Year]],$C48,TU_DB[[Month No.]:[Month No.]],$D48,TU_DB[[Monitoring Site]:[Monitoring Site]],$D$45),\"\")","v":""},null,{"$f":"Y$11","v":67},{"$f":"Z$11","v":4},5,24]
[null,"2020-02-01",{"$f":"YEAR(B49)","v":2020},{"$f":"MONTH(B49)","v":2},{"$f":"COUNTIFS(TU_DB[[Water Temperature (oF)]:[Water Temperature (oF)]],\">=\"&32,TU_DB[[Year]:[Year]],$C49,TU_DB[[Month No.]:[Month No.]],$D49,TU_DB[[Monitoring Site]:[Monitoring Site]],$D$45)","v":0},{"$f":"IF(E49>0,AVERAGEIFS(TU_DB[[Water Temperature (oF)]:[Water Temperature (oF)]],TU_DB[[Year]:[Year]],$C49,TU_DB[[Month No.]:[Month No.]],$D49,TU_DB[[Monitoring Site]:[Monitoring Site]],$D$45),\"\")","v":""},{"$f":"IF(E49>0,_xlfn.MAXIFS(TU_DB[[Water Temperature (oF)]:[Water Temperature (oF)]],TU_DB[[Year]:[Year]],$C49,TU_DB[[Month No.]:[Month No.]],$D49,TU_DB[[Monitoring Site]:[Monitoring Site]],$D$45),\"\")","v":""},null,{"$f":"Y$11","v":67},{"$f":"Z$11","v":4},{"$f":"AA$11","v":5},{"$f":"AB$11","v":24}]
[null,"2020-03-01",2020,3,{"$f":"COUNTIFS(TU_DB[[Water Temperature (oF)]:[Water Temperature (oF)]],\">=\"&32,TU_DB[[Year]:[Year]],$C50,TU_DB[[Month No.]:[Month No.]],$D50,TU_DB[[Monitoring Site]:[Monitoring Site]],$D$45)","v":0},{"$f":"IF(E50>0,AVERAGEIFS(TU_DB[[Water Temperature (oF)]:[Water Temperature (oF)]],TU_DB[[Year]:[Year]],$C50,TU_DB[[Month No.]:[Month No.]],$D50,TU_DB[[Monitoring Site]:[Monitoring Site]],$D$45),\"\")","v":""},{"$f":"IF(E50>0,_xlfn.MAXIFS(TU_DB[[Water Temperature (oF)]:[Water Temperature (oF)]],TU_DB[[Year]:[Year]],$C50,TU_DB[[Month No.]:[Month No.]],$D50,TU_DB[[Monitoring Site]:[Monitoring Site]],$D$45),\"\")","v":""},null,67,4,5,24]
[null,"2020-04-01",2020,4,{"$f":"COUNTIFS(TU_DB[[Water Temperature (oF)]:[Water Temperature (oF)]],\">=\"&32,TU_DB[[Year]:[Year]],$C51,TU_DB[[Month No.]:[Month No.]],$D51,TU_DB[[Monitoring Site]:[Monitoring Site]],$D$45)","v":0},{"$f":"IF(E51>0,AVERAGEIFS(TU_DB[[Water Temperature (oF)]:[Water Temperature (oF)]],TU_DB[[Year]:[Year]],$C51,TU_DB[[Month No.]:[Month No.]],$D51,TU_DB[[Monitoring Site]:[Monitoring Site]],$D$45),\"\")","v":""},{"$f":"IF(E51>0,_xlfn.MAXIFS(TU_DB[[Water Temperature (oF)]:[Water Temperature (oF)]],TU_DB[[Year]:[Year]],$C51,TU_DB[[Month No.]:[Month No.]],$D51,TU_DB[[Monitoring Site]:[Monitoring Site]],$D$45),\"\")","v":""},null,67,4,5,24]
[null,"2020-05-01",2020,5,{"$f":"COUNTIFS(TU_DB[[Water Temperature (oF)]:[Water Temperature (oF)]],\">=\"&32,TU_DB[[Year]:[Year]],$C52,TU_DB[[Month No.]:[Month No.]],$D52,TU_DB[[Monitoring Site]:[Monitoring Site]],$D$45)","v":0},{"$f":"IF(E52>0,AVERAGEIFS(TU_DB[[Water Temperature (oF)]:[Water Temperature (oF)]],TU_DB[[Year]:[Year]],$C52,TU_DB[[Month No.]:[Month No.]],$D52,TU_DB[[Monitoring Site]:[Monitoring Site]],$D$45),\"\")","v":""},{"$f":"IF(E52>0,_xlfn.MAXIFS(TU_DB[[Water Temperature (oF)]:[Water Temperature (oF)]],TU_DB[[Year]:[Year]],$C52,TU_DB[[Month No.]:[Month No.]],$D52,TU_DB[[Monitoring Site]:[Monitoring Site]],$D$45),\"\")","v":""},null,67,4,5,24]
[null,"2020-06-01",2020,6,{"$f":"COUNTIFS(TU_DB[[Water Temperature (oF)]:[Water Temperature (oF)]],\">=\"&32,TU_DB[[Year]:[Year]],$C53,TU_DB[[Month No.]:[Month No.]],$D53,TU_DB[[Monitoring Site]:[Monitoring Site]],$D$45)","v":0},{"$f":"IF(E53>0,AVERAGEIFS(TU_DB[[Water Temperature (oF)]:[Water Temperature (oF)]],TU_DB[[Year]:[Year]],$C53,TU_DB[[Month No.]:[Month No.]],$D53,TU_DB[[Monitoring Site]:[Monitoring Site]],$D$45),\"\")","v":""},{"$f":"IF(E53>0,_xlfn.MAXIFS(TU_DB[[Water Temperature (oF)]:[Water Temperature (oF)]],TU_DB[[Year]:[Year]],$C53,TU_DB[[Month No.]:[Month No.]],$D53,TU_DB[[Monitoring Site]:[Monitoring Site]],$D$45),\"\")","v":""},null,67,4,5,24]
[null,"2020-07-01",2020,7,{"$f":"COUNTIFS(TU_DB[[Water Temperature (oF)]:[Water Temperature (oF)]],\">=\"&32,TU_DB[[Year]:[Year]],$C54,TU_DB[[Month No.]:[Month No.]],$D54,TU_DB[[Monitoring Site]:[Monitoring Site]],$D$45)","v":1},{"$f":"IF(E54>0,AVERAGEIFS(TU_DB[[Water Temperature (oF)]:[Water Temperature (oF)]],TU_DB[[Year]:[Year]],$C54,TU_DB[[Month No.]:[Month No.]],$D54,TU_DB[[Monitoring Site]:[Monitoring Site]],$D$45),\"\")","v":66},{"$f":"IF(E54>0,_xlfn.MAXIFS(TU_DB[[Water Temperature (oF)]:[Water Temperature (oF)]],TU_DB[[Year]:[Year]],$C54,TU_DB[[Month No.]:[Month No.]],$D54,TU_DB[[Monitoring Site]:[Monitoring Site]],$D$45),\"\")","v":66},null,67,4,5,24]
[null,"2020-08-01",2020,8,{"$f":"COUNTIFS(TU_DB[[Water Temperature (oF)]:[Water Temperature (oF)]],\">=\"&32,TU_DB[[Year]:[Year]],$C55,TU_DB[[Month No.]:[Month No.]],$D55,TU_DB[[Monitoring Site]:[Monitoring Site]],$D$45)","v":0},{"$f":"IF(E55>0,AVERAGEIFS(TU_DB[[Water Temperature (oF)]:[Water Temperature (oF)]],TU_DB[[Year]:[Year]],$C55,TU_DB[[Month No.]:[Month No.]],$D55,TU_DB[[Monitoring Site]:[Monitoring Site]],$D$45),\"\")","v":""},{"$f":"IF(E55>0,_xlfn.MAXIFS(TU_DB[[Water Temperature (oF)]:[Water Temperature (oF)]],TU_DB[[Year]:[Year]],$C55,TU_DB[[Month No.]:[Month No.]],$D55,TU_DB[[Monitoring Site]:[Monitoring Site]],$D$45),\"\")","v":""},null,67,4,5,24]
[null,"2020-09-01",2020,9,{"$f":"COUNTIFS(TU_DB[[Water Temperature (oF)]:[Water Temperature (oF)]],\">=\"&32,TU_DB[[Year]:[Year]],$C56,TU_DB[[Month No.]:[Month No.]],$D56,TU_DB[[Monitoring Site]:[Monitoring Site]],$D$45)","v":3},{"$f":"IF(E56>0,AVERAGEIFS(TU_DB[[Water Temperature (oF)]:[Water Temperature (oF)]],TU_DB[[Year]:[Year]],$C56,TU_DB[[Month No.]:[Month No.]],$D56,TU_DB[[Monitoring Site]:[Monitoring Site]],$D$45),\"\")","v":49},{"$f":"IF(E56>0,_xlfn.MAXIFS(TU_DB[[Water Temperature (oF)]:[Water Temperature (oF)]],TU_DB[[Year]:[Year]],$C56,TU_DB[[Month No.]:[Month No.]],$D56,TU_DB[[Monitoring Site]:[Monitoring Site]],$D$45),\"\")","v":52},null,67,4,5,24]
[null,"2020-10-01",2020,10,{"$f":"COUNTIFS(TU_DB[[Water Temperature (oF)]:[Water Temperature (oF)]],\">=\"&32,TU_DB[[Year]:[Year]],$C57,TU_DB[[Month No.]:[Month No.]],$D57,TU_DB[[Monitoring Site]:[Monitoring Site]],$D$45)","v":0},{"$f":"IF(E57>0,AVERAGEIFS(TU_DB[[Water Temperature (oF)]:[Water Temperature (oF)]],TU_DB[[Year]:[Year]],$C57,TU_DB[[Month No.]:[Month No.]],$D57,TU_DB[[Monitoring Site]:[Monitoring Site]],$D$45),\"\")","v":""},{"$f":"IF(E57>0,_xlfn.MAXIFS(TU_DB[[Water Temperature (oF)]:[Water Temperature (oF)]],TU_DB[[Year]:[Year]],$C57,TU_DB[[Month No.]:[Month No.]],$D57,TU_DB[[Monitoring Site]:[Monitoring Site]],$D$45),\"\")","v":""},null,67,4,5,24]
[null,"2020-11-01",2020,11,{"$f":"COUNTIFS(TU_DB[[Water Temperature (oF)]:[Water Temperature (oF)]],\">=\"&32,TU_DB[[Year]:[Year]],$C58,TU_DB[[Month No.]:[Month No.]],$D58,TU_DB[[Monitoring Site]:[Monitoring Site]],$D$45)","v":0},{"$f":"IF(E58>0,AVERAGEIFS(TU_DB[[Water Temperature (oF)]:[Water Temperature (oF)]],TU_DB[[Year]:[Year]],$C58,TU_DB[[Month No.]:[Month No.]],$D58,TU_DB[[Monitoring Site]:[Monitoring Site]],$D$45),\"\")","v":""},{"$f":"IF(E58>0,_xlfn.MAXIFS(TU_DB[[Water Temperature (oF)]:[Water Temperature (oF)]],TU_DB[[Year]:[Year]],$C58,TU_DB[[Month No.]:[Month No.]],$D58,TU_DB[[Monitoring Site]:[Monitoring Site]],$D$45),\"\")","v":""},null,67,4,5,24]
[null,"2020-12-01",2020,12,{"$f":"COUNTIFS(TU_DB[[Water Temperature (oF)]:[Water Temperature (oF)]],\">=\"&32,TU_DB[[Year]:[Year]],$C59,TU_DB[[Month No.]:[Month No.]],$D59,TU_DB[[Monitoring Site]:[Monitoring Site]],$D$45)","v":0},{"$f":"IF(E59>0,AVERAGEIFS(TU_DB[[Water Temperature (oF)]:[Water Temperature (oF)]],TU_DB[[Year]:[Year]],$C59,TU_DB[[Month No.]:[Month No.]],$D59,TU_DB[[Monitoring Site]:[Monitoring Site]],$D$45),\"\")","v":""},{"$f":"IF(E59>0,_xlfn.MAXIFS(TU_DB[[Water Temperature (oF)]:[Water Temperature (oF)]],TU_DB[[Year]:[Year]],$C59,TU_DB[[Month No.]:[Month No.]],$D59,TU_DB[[Monitoring Site]:[Monitoring Site]],$D$45),\"\")","v":""},null,67,4,5,24]
[null,"2021-01-01",2021,1,{"$f":"COUNTIFS(TU_DB[[Water Temperature (oF)]:[Water Temperature (oF)]],\">=\"&32,TU_DB[[Year]:[Year]],$C60,TU_DB[[Month No.]:[Month No.]],$D60,TU_DB[[Monitoring Site]:[Monitoring Site]],$D$45)","v":0},{"$f":"IF(E60>0,AVERAGEIFS(TU_DB[[Water Temperature (oF)]:[Water Temperature (oF)]],TU_DB[[Year]:[Year]],$C60,TU_DB[[Month No.]:[Month No.]],$D60,TU_DB[[Monitoring Site]:[Monitoring Site]],$D$45),\"\")","v":""},{"$f":"IF(E60>0,_xlfn.MAXIFS(TU_DB[[Water Temperature (oF)]:[Water Temperature (oF)]],TU_DB[[Year]:[Year]],$C60,TU_DB[[Month No.]:[Month No.]],$D60,TU_DB[[Monitoring Site]:[Monitoring Site]],$D$45),\"\")","v":""},null,67,4,5,24]
[null,"2021-02-01",2021,2,{"$f":"COUNTIFS(TU_DB[[Water Temperature (oF)]:[Water Temperature (oF)]],\">=\"&32,TU_DB[[Year]:[Year]],$C61,TU_DB[[Month No.]:[Month No.]],$D61,TU_DB[[Monitoring Site]:[Monitoring Site]],$D$45)","v":0},{"$f":"IF(E61>0,AVERAGEIFS(TU_DB[[Water Temperature (oF)]:[Water Temperature (oF)]],TU_DB[[Year]:[Year]],$C61,TU_DB[[Month No.]:[Month No.]],$D61,TU_DB[[Monitoring Site]:[Monitoring Site]],$D$45),\"\")","v":""},{"$f":"IF(E61>0,_xlfn.MAXIFS(TU_DB[[Water Temperature (oF)]:[Water Temperature (oF)]],TU_DB[[Year]:[Year]],$C61,TU_DB[[Month No.]:[Month No.]],$D61,TU_DB[[Monitoring Site]:[Monitoring Site]],$D$45),\"\")","v":""},null,67,4,5,24]
[null,"2021-03-01",2021,3,{"$f":"COUNTIFS(TU_DB[[Water Temperature (oF)]:[Water Temperature (oF)]],\">=\"&32,TU_DB[[Year]:[Year]],$C62,TU_DB[[Month No.]:[Month No.]],$D62,TU_DB[[Monitoring Site]:[Monitoring Site]],$D$45)","v":2},{"$f":"IF(E62>0,AVERAGEIFS(TU_DB[[Water Temperature (oF)]:[Water Temperature (oF)]],TU_DB[[Year]:[Year]],$C62,TU_DB[[Month No.]:[Month No.]],$D62,TU_DB[[Monitoring Site]:[Monitoring Site]],$D$45),\"\")","v":45},{"$f":"IF(E62>0,_xlfn.MAXIFS(TU_DB[[Water Temperature (oF)]:[Water Temperature (oF)]],TU_DB[[Year]:[Year]],$C62,TU_DB[[Month No.]:[Month No.]],$D62,TU_DB[[Monitoring Site]:[Monitoring Site]],$D$45),\"\")","v":47},null,67,4,5,24]
[null,"2021-04-01",2021,4,{"$f":"COUNTIFS(TU_DB[[Water Temperature (oF)]:[Water Temperature (oF)]],\">=\"&32,TU_DB[[Year]:[Year]],$C63,TU_DB[[Month No.]:[Month No.]],$D63,TU_DB[[Monitoring Site]:[Monitoring Site]],$D$45)","v":2},{"$f":"IF(E63>0,AVERAGEIFS(TU_DB[[Water Temperature (oF)]:[Water Temperature (oF)]],TU_DB[[Year]:[Year]],$C63,TU_DB[[Month No.]:[Month No.]],$D63,TU_DB[[Monitoring Site]:[Monitoring Site]],$D$45),\"\")","v":51},{"$f":"IF(E63>0,_xlfn.MAXIFS(TU_DB[[Water Temperature (oF)]:[Water Temperature (oF)]],TU_DB[[Year]:[Year]],$C63,TU_DB[[Month No.]:[Month No.]],$D63,TU_DB[[Monitoring Site]:[Monitoring Site]],$D$45),\"\")","v":52},null,67,4,5,24]
[null,"2021-05-01",2021,5,{"$f":"COUNTIFS(TU_DB[[Water Temperature (oF)]:[Water Temperature (oF)]],\">=\"&32,TU_DB[[Year]:[Year]],$C64,TU_DB[[Month No.]:[Month No.]],$D64,TU_DB[[Monitoring Site]:[Monitoring Site]],$D$45)","v":4},{"$f":"IF(E64>0,AVERAGEIFS(TU_DB[[Water Temperature (oF)]:[Water Temperature (oF)]],TU_DB[[Year]:[Year]],$C64,TU_DB[[Month No.]:[Month No.]],$D64,TU_DB[[Monitoring Site]:[Monitoring Site]],$D$45),\"\")","v":52.5},{"$f":"IF(E64>0,_xlfn.MAXIFS(TU_DB[[Water Temperature (oF)]:[Water Temperature (oF)]],TU_DB[[Year]:[Year]],$C64,TU_DB[[Month No.]:[Month No.]],$D64,TU_DB[[Monitoring Site]:[Monitoring Site]],$D$45),\"\")","v":54},null,67,4,5,24]
[null,"2021-06-01",2021,6,{"$f":"COUNTIFS(TU_DB[[Water Temperature (oF)]:[Water Temperature (oF)]],\">=\"&32,TU_DB[[Year]:[Year]],$C65,TU_DB[[Month No.]:[Month No.]],$D65,TU_DB[[Monitoring Site]:[Monitoring Site]],$D$45)","v":1},{"$f":"IF(E65>0,AVERAGEIFS(TU_DB[[Water Temperature (oF)]:[Water Temperature (oF)]],TU_DB[[Year]:[Year]],$C65,TU_DB[[Month No.]:[Month No.]],$D65,TU_DB[[Monitoring Site]:[Monitoring Site]],$D$45),\"\")","v":64},{"$f":"IF(E65>0,_xlfn.MAXIFS(TU_DB[[Water Temperature (oF)]:[Water Temperature (oF)]],TU_DB[[Year]:[Year]],$C65,TU_DB[[Month No.]:[Month No.]],$D65,TU_DB[[Monitoring Site]:[Monitoring Site]],$D$45),\"\")","v":64},null,67,4,5,24]
[null,"2021-07-01",2021,7,{"$f":"COUNTIFS(TU_DB[[Water Temperature (oF)]:[Water Temperature (oF)]],\">=\"&32,TU_DB[[Year]:[Year]],$C66,TU_DB[[Month No.]:[Month No.]],$D66,TU_DB[[Monitoring Site]:[Monitoring Site]],$D$45)","v":1},{"$f":"IF(E66>0,AVERAGEIFS(TU_DB[[Water Temperature (oF)]:[Water Temperature (oF)]],TU_DB[[Year]:[Year]],$C66,TU_DB[[Month No.]:[Month No.]],$D66,TU_DB[[Monitoring Site]:[Monitoring Site]],$D$45),\"\")","v":53},{"$f":"IF(E66>0,_xlfn.MAXIFS(TU_DB[[Water Temperature (oF)]:[Water Temperature (oF)]],TU_DB[[Year]:[Year]],$C66,TU_DB[[Month No.]:[Month No.]],$D66,TU_DB[[Monitoring Site]:[Monitoring Site]],$D$45),\"\")","v":53},null,67,4,5,24]
[null,"2021-08-01",2021,8,{"$f":"COUNTIFS(TU_DB[[Water Temperature (oF)]:[Water Temperature (oF)]],\">=\"&32,TU_DB[[Year]:[Year]],$C67,TU_DB[[Month No.]:[Month No.]],$D67,TU_DB[[Monitoring Site]:[Monitoring Site]],$D$45)","v":1},{"$f":"IF(E67>0,AVERAGEIFS(TU_DB[[Water Temperature (oF)]:[Water Temperature (oF)]],TU_DB[[Year]:[Year]],$C67,TU_DB[[Month No.]:[Month No.]],$D67,TU_DB[[Monitoring Site]:[Monitoring Site]],$D$45),\"\")","v":65},{"$f":"IF(E67>0,_xlfn.MAXIFS(TU_DB[[Water Temperature (oF)]:[Water Temperature (oF)]],TU_DB[[Year]:[Year]],$C67,TU_DB[[Month No.]:[Month No.]],$D67,TU_DB[[Monitoring Site]:[Monitoring Site]],$D$45),\"\")","v":65},null,67,4,5,24]
[null,"2021-09-01",2021,9,{"$f":"COUNTIFS(TU_DB[[Water Temperature (oF)]:[Water Temperature (oF)]],\">=\"&32,TU_DB[[Year]:[Year]],$C68,TU_DB[[Month No.]:[Month No.]],$D68,TU_DB[[Monitoring Site]:[Monitoring Site]],$D$45)","v":2},{"$f":"IF(E68>0,AVERAGEIFS(TU_DB[[Water Temperature (oF)]:[Water Temperature (oF)]],TU_DB[[Year]:[Year]],$C68,TU_DB[[Month No.]:[Month No.]],$D68,TU_DB[[Monitoring Site]:[Monitoring Site]],$D$45),\"\")","v":54.5},{"$f":"IF(E68>0,_xlfn.MAXIFS(TU_DB[[Water Temperature (oF)]:[Water Temperature (oF)]],TU_DB[[Year]:[Year]],$C68,TU_DB[[Month No.]:[Month No.]],$D68,TU_DB[[Monitoring Site]:[Monitoring Site]],$D$45),\"\")","v":60},null,67,4,5,24]
[null,"2021-10-01",2021,10,{"$f":"COUNTIFS(TU_DB[[Water Temperature (oF)]:[Water Temperature (oF)]],\">=\"&32,TU_DB[[Year]:[Year]],$C69,TU_DB[[Month No.]:[Month No.]],$D69,TU_DB[[Monitoring Site]:[Monitoring Site]],$D$45)","v":0},{"$f":"IF(E69>0,AVERAGEIFS(TU_DB[[Water Temperature (oF)]:[Water Temperature (oF)]],TU_DB[[Year]:[Year]],$C69,TU_DB[[Month No.]:[Month No.]],$D69,TU_DB[[Monitoring Site]:[Monitoring Site]],$D$45),\"\")","v":""},{"$f":"IF(E69>0,_xlfn.MAXIFS(TU_DB[[Water Temperature (oF)]:[Water Temperature (oF)]],TU_DB[[Year]:[Year]],$C69,TU_DB[[Month No.]:[Month No.]],$D69,TU_DB[[Monitoring Site]:[Monitoring Site]],$D$45),\"\")","v":""},null,67,4,5,24]
[null,"2021-11-01",2021,11,{"$f":"COUNTIFS(TU_DB[[Water Temperature (oF)]:[Water Temperature (oF)]],\">=\"&32,TU_DB[[Year]:[Year]],$C70,TU_DB[[Month No.]:[Month No.]],$D70,TU_DB[[Monitoring Site]:[Monitoring Site]],$D$45)","v":0},{"$f":"IF(E70>0,AVERAGEIFS(TU_DB[[Water Temperature (oF)]:[Water Temperature (oF)]],TU_DB[[Year]:[Year]],$C70,TU_DB[[Month No.]:[Month No.]],$D70,TU_DB[[Monitoring Site]:[Monitoring Site]],$D$45),\"\")","v":""},{"$f":"IF(E70>0,_xlfn.MAXIFS(TU_DB[[Water Temperature (oF)]:[Water Temperature (oF)]],TU_DB[[Year]:[Year]],$C70,TU_DB[[Month No.]:[Month No.]],$D70,TU_DB[[Monitoring Site]:[Monitoring Site]],$D$45),\"\")","v":""},null,67,4,5,24]
[null,"2021-12-01",2021,12,{"$f":"COUNTIFS(TU_DB[[Water Temperature (oF)]:[Water Temperature (oF)]],\">=\"&32,TU_DB[[Year]:[Year]],$C71,TU_DB[[Month No.]:[Month No.]],$D71,TU_DB[[Monitoring Site]:[Monitoring Site]],$D$45)","v":0},{"$f":"IF(E71>0,AVERAGEIFS(TU_DB[[Water Temperature (oF)]:[Water Temperature (oF)]],TU_DB[[Year]:[Year]],$C71,TU_DB[[Month No.]:[Month No.]],$D71,TU_DB[[Monitoring Site]:[Monitoring Site]],$D$45),\"\")","v":""},{"$f":"IF(E71>0,_xlfn.MAXIFS(TU_DB[[Water Temperature (oF)]:[Water Temperature (oF)]],TU_DB[[Year]:[Year]],$C71,TU_DB[[Month No.]:[Month No.]],$D71,TU_DB[[Monitoring Site]:[Monitoring Site]],$D$45),\"\")","v":""},null,67,4,5,24]
[null,"2022-01-01",2022,1,{"$f":"COUNTIFS(TU_DB[[Water Temperature (oF)]:[Water Temperature (oF)]],\">=\"&32,TU_DB[[Year]:[Year]],$C72,TU_DB[[Month No.]:[Month No.]],$D72,TU_DB[[Monitoring Site]:[Monitoring Site]],$D$45)","v":0},{"$f":"IF(E72>0,AVERAGEIFS(TU_DB[[Water Temperature (oF)]:[Water Temperature (oF)]],TU_DB[[Year]:[Year]],$C72,TU_DB[[Month No.]:[Month No.]],$D72,TU_DB[[Monitoring Site]:[Monitoring Site]],$D$45),\"\")","v":""},{"$f":"IF(E72>0,_xlfn.MAXIFS(TU_DB[[Water Temperature (oF)]:[Water Temperature (oF)]],TU_DB[[Year]:[Year]],$C72,TU_DB[[Month No.]:[Month No.]],$D72,TU_DB[[Monitoring Site]:[Monitoring Site]],$D$45),\"\")","v":""},null,67,4,5,24]
[null,"2022-02-01",2022,2,{"$f":"COUNTIFS(TU_DB[[Water Temperature (oF)]:[Water Temperature (oF)]],\">=\"&32,TU_DB[[Year]:[Year]],$C73,TU_DB[[Month No.]:[Month No.]],$D73,TU_DB[[Monitoring Site]:[Monitoring Site]],$D$45)","v":0},{"$f":"IF(E73>0,AVERAGEIFS(TU_DB[[Water Temperature (oF)]:[Water Temperature (oF)]],TU_DB[[Year]:[Year]],$C73,TU_DB[[Month No.]:[Month No.]],$D73,TU_DB[[Monitoring Site]:[Monitoring Site]],$D$45),\"\")","v":""},{"$f":"IF(E73>0,_xlfn.MAXIFS(TU_DB[[Water Temperature (oF)]:[Water Temperature (oF)]],TU_DB[[Year]:[Year]],$C73,TU_DB[[Month No.]:[Month No.]],$D73,TU_DB[[Monitoring Site]:[Monitoring Site]],$D$45),\"\")","v":""},null,67,4,5,24]
[null,"2022-03-01",2022,3,{"$f":"COUNTIFS(TU_DB[[Water Temperature (oF)]:[Water Temperature (oF)]],\">=\"&32,TU_DB[[Year]:[Year]],$C74,TU_DB[[Month No.]:[Month No.]],$D74,TU_DB[[Monitoring Site]:[Monitoring Site]],$D$45)","v":1},{"$f":"IF(E74>0,AVERAGEIFS(TU_DB[[Water Temperature (oF)]:[Water Temperature (oF)]],TU_DB[[Year]:[Year]],$C74,TU_DB[[Month No.]:[Month No.]],$D74,TU_DB[[Monitoring Site]:[Monitoring Site]],$D$45),\"\")","v":41},{"$f":"IF(E74>0,_xlfn.MAXIFS(TU_DB[[Water Temperature (oF)]:[Water Temperature (oF)]],TU_DB[[Year]:[Year]],$C74,TU_DB[[Month No.]:[Month No.]],$D74,TU_DB[[Monitoring Site]:[Monitoring Site]],$D$45),\"\")","v":41},null,67,4,5,24]
[null,"2022-04-01",2022,4,{"$f":"COUNTIFS(TU_DB[[Water Temperature (oF)]:[Water Temperature (oF)]],\">=\"&32,TU_DB[[Year]:[Year]],$C75,TU_DB[[Month No.]:[Month No.]],$D75,TU_DB[[Monitoring Site]:[Monitoring Site]],$D$45)","v":3},{"$f":"IF(E75>0,AVERAGEIFS(TU_DB[[Water Temperature (oF)]:[Water Temperature (oF)]],TU_DB[[Year]:[Year]],$C75,TU_DB[[Month No.]:[Month No.]],$D75,TU_DB[[Monitoring Site]:[Monitoring Site]],$D$45),\"\")","v":45.333333333333336},{"$f":"IF(E75>0,_xlfn.MAXIFS(TU_DB[[Water Temperature (oF)]:[Water Temperature (oF)]],TU_DB[[Year]:[Year]],$C75,TU_DB[[Month No.]:[Month No.]],$D75,TU_DB[[Monitoring Site]:[Monitoring Site]],$D$45),\"\")","v":47},null,67,4,5,24]
[null,"2022-05-01",2022,5,{"$f":"COUNTIFS(TU_DB[[Water Temperature (oF)]:[Water Temperature (oF)]],\">=\"&32,TU_DB[[Year]:[Year]],$C76,TU_DB[[Month No.]:[Month No.]],$D76,TU_DB[[Monitoring Site]:[Monitoring Site]],$D$45)","v":2},{"$f":"IF(E76>0,AVERAGEIFS(TU_DB[[Water Temperature (oF)]:[Water Temperature (oF)]],TU_DB[[Year]:[Year]],$C76,TU_DB[[Month No.]:[Month No.]],$D76,TU_DB[[Monitoring Site]:[Monitoring Site]],$D$45),\"\")","v":51},{"$f":"IF(E76>0,_xlfn.MAXIFS(TU_DB[[Water Temperature (oF)]:[Water Temperature (oF)]],TU_DB[[Year]:[Year]],$C76,TU_DB[[Month No.]:[Month No.]],$D76,TU_DB[[Monitoring Site]:[Monitoring Site]],$D$45),\"\")","v":55},null,67,4,5,24]
[null,"2022-06-01",2022,6,{"$f":"COUNTIFS(TU_DB[[Water Temperature (oF)]:[Water Temperature (oF)]],\">=\"&32,TU_DB[[Year]:[Year]],$C77,TU_DB[[Month No.]:[Month No.]],$D77,TU_DB[[Monitoring Site]:[Monitoring Site]],$D$45)","v":1},{"$f":"IF(E77>0,AVERAGEIFS(TU_DB[[Water Temperature (oF)]:[Water Temperature (oF)]],TU_DB[[Year]:[Year]],$C77,TU_DB[[Month No.]:[Month No.]],$D77,TU_DB[[Monitoring Site]:[Monitoring Site]],$D$45),\"\")","v":58},{"$f":"IF(E77>0,_xlfn.MAXIFS(TU_DB[[Water Temperature (oF)]:[Water Temperature (oF)]],TU_DB[[Year]:[Year]],$C77,TU_DB[[Month No.]:[Month No.]],$D77,TU_DB[[Monitoring Site]:[Monitoring Site]],$D$45),\"\")","v":58},null,67,4,5,24]
[null,"2022-07-01",2022,7,{"$f":"COUNTIFS(TU_DB[[Water Temperature (oF)]:[Water Temperature (oF)]],\">=\"&32,TU_DB[[Year]:[Year]],$C78,TU_DB[[Month No.]:[Month No.]],$D78,TU_DB[[Monitoring Site]:[Monitoring Site]],$D$45)","v":4},{"$f":"IF(E78>0,AVERAGEIFS(TU_DB[[Water Temperature (oF)]:[Water Temperature (oF)]],TU_DB[[Year]:[Year]],$C78,TU_DB[[Month No.]:[Month No.]],$D78,TU_DB[[Monitoring Site]:[Monitoring Site]],$D$45),\"\")","v":59.25},{"$f":"IF(E78>0,_xlfn.MAXIFS(TU_DB[[Water Temperature (oF)]:[Water Temperature (oF)]],TU_DB[[Year]:[Year]],$C78,TU_DB[[Month No.]:[Month No.]],$D78,TU_DB[[Monitoring Site]:[Monitoring Site]],$D$45),\"\")","v":63},null,67,4,5,24]
[null,"2022-08-01",2022,8,{"$f":"COUNTIFS(TU_DB[[Water Temperature (oF)]:[Water Temperature (oF)]],\">=\"&32,TU_DB[[Year]:[Year]],$C79,TU_DB[[Month No.]:[Month No.]],$D79,TU_DB[[Monitoring Site]:[Monitoring Site]],$D$45)","v":3},{"$f":"IF(E79>0,AVERAGEIFS(TU_DB[[Water Temperature (oF)]:[Water Temperature (oF)]],TU_DB[[Year]:[Year]],$C79,TU_DB[[Month No.]:[Month No.]],$D79,TU_DB[[Monitoring Site]:[Monitoring Site]],$D$45),\"\")","v":59.666666666666664},{"$f":"IF(E79>0,_xlfn.MAXIFS(TU_DB[[Water Temperature (oF)]:[Water Temperature (oF)]],TU_DB[[Year]:[Year]],$C79,TU_DB[[Month No.]:[Month No.]],$D79,TU_DB[[Monitoring Site]:[Monitoring Site]],$D$45),\"\")","v":63},null,67,4,5,24]
[null,"2022-09-01",2022,9,{"$f":"COUNTIFS(TU_DB[[Water Temperature (oF)]:[Water Temperature (oF)]],\">=\"&32,TU_DB[[Year]:[Year]],$C80,TU_DB[[Month No.]:[Month No.]],$D80,TU_DB[[Monitoring Site]:[Monitoring Site]],$D$45)","v":1},{"$f":"IF(E80>0,AVERAGEIFS(TU_DB[[Water Temperature (oF)]:[Water Temperature (oF)]],TU_DB[[Year]:[Year]],$C80,TU_DB[[Month No.]:[Month No.]],$D80,TU_DB[[Monitoring Site]:[Monitoring Site]],$D$45),\"\")","v":59},{"$f":"IF(E80>0,_xlfn.MAXIFS(TU_DB[[Water Temperature (oF)]:[Water Temperature (oF)]],TU_DB[[Year]:[Year]],$C80,TU_DB[[Month No.]:[Month No.]],$D80,TU_DB[[Monitoring Site]:[Monitoring Site]],$D$45),\"\")","v":59},null,67,4,5,24]
[null,"2022-10-01",2022,10,{"$f":"COUNTIFS(TU_DB[[Water Temperature (oF)]:[Water Temperature (oF)]],\">=\"&32,TU_DB[[Year]:[Year]],$C81,TU_DB[[Month No.]:[Month No.]],$D81,TU_DB[[Monitoring Site]:[Monitoring Site]],$D$45)","v":0},{"$f":"IF(E81>0,AVERAGEIFS(TU_DB[[Water Temperature (oF)]:[Water Temperature (oF)]],TU_DB[[Year]:[Year]],$C81,TU_DB[[Month No.]:[Month No.]],$D81,TU_DB[[Monitoring Site]:[Monitoring Site]],$D$45),\"\")","v":""},{"$f":"IF(E81>0,_xlfn.MAXIFS(TU_DB[[Water Temperature (oF)]:[Water Temperature (oF)]],TU_DB[[Year]:[Year]],$C81,TU_DB[[Month No.]:[Month No.]],$D81,TU_DB[[Monitoring Site]:[Monitoring Site]],$D$45),\"\")","v":""},null,67,4,5,24]
[null,"2022-11-01",2022,11,{"$f":"COUNTIFS(TU_DB[[Water Temperature (oF)]:[Water Temperature (oF)]],\">=\"&32,TU_DB[[Year]:[Year]],$C82,TU_DB[[Month No.]:[Month No.]],$D82,TU_DB[[Monitoring Site]:[Monitoring Site]],$D$45)","v":0},{"$f":"IF(E82>0,AVERAGEIFS(TU_DB[[Water Temperature (oF)]:[Water Temperature (oF)]],TU_DB[[Year]:[Year]],$C82,TU_DB[[Month No.]:[Month No.]],$D82,TU_DB[[Monitoring Site]:[Monitoring Site]],$D$45),\"\")","v":""},{"$f":"IF(E82>0,_xlfn.MAXIFS(TU_DB[[Water Temperature (oF)]:[Water Temperature (oF)]],TU_DB[[Year]:[Year]],$C82,TU_DB[[Month No.]:[Month No.]],$D82,TU_DB[[Monitoring Site]:[Monitoring Site]],$D$45),\"\")","v":""},null,67,4,5,24]
[null,"2022-12-01",2022,12,{"$f":"COUNTIFS(TU_DB[[Water Temperature (oF)]:[Water Temperature (oF)]],\">=\"&32,TU_DB[[Year]:[Year]],$C83,TU_DB[[Month No.]:[Month No.]],$D83,TU_DB[[Monitoring Site]:[Monitoring Site]],$D$45)","v":0},{"$f":"IF(E83>0,AVERAGEIFS(TU_DB[[Water Temperature (oF)]:[Water Temperature (oF)]],TU_DB[[Year]:[Year]],$C83,TU_DB[[Month No.]:[Month No.]],$D83,TU_DB[[Monitoring Site]:[Monitoring Site]],$D$45),\"\")","v":""},{"$f":"IF(E83>0,_xlfn.MAXIFS(TU_DB[[Water Temperature (oF)]:[Water Temperature (oF)]],TU_DB[[Year]:[Year]],$C83,TU_DB[[Month No.]:[Month No.]],$D83,TU_DB[[Monitoring Site]:[Monitoring Site]],$D$45),\"\")","v":""},null,67,4,5,24]
[null,"2023-01-01",2023,1,{"$f":"COUNTIFS(TU_DB[[Water Temperature (oF)]:[Water Temperature (oF)]],\">=\"&32,TU_DB[[Year]:[Year]],$C84,TU_DB[[Month No.]:[Month No.]],$D84,TU_DB[[Monitoring Site]:[Monitoring Site]],$D$45)","v":0},{"$f":"IF(E84>0,AVERAGEIFS(TU_DB[[Water Temperature (oF)]:[Water Temperature (oF)]],TU_DB[[Year]:[Year]],$C84,TU_DB[[Month No.]:[Month No.]],$D84,TU_DB[[Monitoring Site]:[Monitoring Site]],$D$45),\"\")","v":""},{"$f":"IF(E84>0,_xlfn.MAXIFS(TU_DB[[Water Temperature (oF)]:[Water Temperature (oF)]],TU_DB[[Year]:[Year]],$C84,TU_DB[[Month No.]:[Month No.]],$D84,TU_DB[[Monitoring Site]:[Monitoring Site]],$D$45),\"\")","v":""},null,67,4,5,24]
[null,"2023-02-01",2023,2,{"$f":"COUNTIFS(TU_DB[[Water Temperature (oF)]:[Water Temperature (oF)]],\">=\"&32,TU_DB[[Year]:[Year]],$C85,TU_DB[[Month No.]:[Month No.]],$D85,TU_DB[[Monitoring Site]:[Monitoring Site]],$D$45)","v":0},{"$f":"IF(E85>0,AVERAGEIFS(TU_DB[[Water Temperature (oF)]:[Water Temperature (oF)]],TU_DB[[Year]:[Year]],$C85,TU_DB[[Month No.]:[Month No.]],$D85,TU_DB[[Monitoring Site]:[Monitoring Site]],$D$45),\"\")","v":""},{"$f":"IF(E85>0,_xlfn.MAXIFS(TU_DB[[Water Temperature (oF)]:[Water Temperature (oF)]],TU_DB[[Year]:[Year]],$C85,TU_DB[[Month No.]:[Month No.]],$D85,TU_DB[[Monitoring Site]:[Monitoring Site]],$D$45),\"\")","v":""},null,67,4,5,24]
[null,"2023-03-01",2023,3,{"$f":"COUNTIFS(TU_DB[[Water Temperature (oF)]:[Water Temperature (oF)]],\">=\"&32,TU_DB[[Year]:[Year]],$C86,TU_DB[[Month No.]:[Month No.]],$D86,TU_DB[[Monitoring Site]:[Monitoring Site]],$D$45)","v":0},{"$f":"IF(E86>0,AVERAGEIFS(TU_DB[[Water Temperature (oF)]:[Water Temperature (oF)]],TU_DB[[Year]:[Year]],$C86,TU_DB[[Month No.]:[Month No.]],$D86,TU_DB[[Monitoring Site]:[Monitoring Site]],$D$45),\"\")","v":""},{"$f":"IF(E86>0,_xlfn.MAXIFS(TU_DB[[Water Temperature (oF)]:[Water Temperature (oF)]],TU_DB[[Year]:[Year]],$C86,TU_DB[[Month No.]:[Month No.]],$D86,TU_DB[[Monitoring Site]:[Monitoring Site]],$D$45),\"\")","v":""},null,67,4,5,24]
[null,"2023-04-01",2023,4,{"$f":"COUNTIFS(TU_DB[[Water Temperature (oF)]:[Water Temperature (oF)]],\">=\"&32,TU_DB[[Year]:[Year]],$C87,TU_DB[[Month No.]:[Month No.]],$D87,TU_DB[[Monitoring Site]:[Monitoring Site]],$D$45)","v":2},{"$f":"IF(E87>0,AVERAGEIFS(TU_DB[[Water Temperature (oF)]:[Water Temperature (oF)]],TU_DB[[Year]:[Year]],$C87,TU_DB[[Month No.]:[Month No.]],$D87,TU_DB[[Monitoring Site]:[Monitoring Site]],$D$45),\"\")","v":41},{"$f":"IF(E87>0,_xlfn.MAXIFS(TU_DB[[Water Temperature (oF)]:[Water Temperature (oF)]],TU_DB[[Year]:[Year]],$C87,TU_DB[[Month No.]:[Month No.]],$D87,TU_DB[[Monitoring Site]:[Monitoring Site]],$D$45),\"\")","v":41},null,67,4,5,24]
[null,"2023-05-01",2023,5,{"$f":"COUNTIFS(TU_DB[[Water Temperature (oF)]:[Water Temperature (oF)]],\">=\"&32,TU_DB[[Year]:[Year]],$C88,TU_DB[[Month No.]:[Month No.]],$D88,TU_DB[[Monitoring Site]:[Monitoring Site]],$D$45)","v":3},{"$f":"IF(E88>0,AVERAGEIFS(TU_DB[[Water Temperature (oF)]:[Water Temperature (oF)]],TU_DB[[Year]:[Year]],$C88,TU_DB[[Month No.]:[Month No.]],$D88,TU_DB[[Monitoring Site]:[Monitoring Site]],$D$45),\"\")","v":57.333333333333336},{"$f":"IF(E88>0,_xlfn.MAXIFS(TU_DB[[Water Temperature (oF)]:[Water Temperature (oF)]],TU_DB[[Year]:[Year]],$C88,TU_DB[[Month No.]:[Month No.]],$D88,TU_DB[[Monitoring Site]:[Monitoring Site]],$D$45),\"\")","v":63},null,67,4,5,24]
[null,"2023-06-01",2023,6,{"$f":"COUNTIFS(TU_DB[[Water Temperature (oF)]:[Water Temperature (oF)]],\">=\"&32,TU_DB[[Year]:[Year]],$C89,TU_DB[[Month No.]:[Month No.]],$D89,TU_DB[[Monitoring Site]:[Monitoring Site]],$D$45)","v":2},{"$f":"IF(E89>0,AVERAGEIFS(TU_DB[[Water Temperature (oF)]:[Water Temperature (oF)]],TU_DB[[Year]:[Year]],$C89,TU_DB[[Month No.]:[Month No.]],$D89,TU_DB[[Monitoring Site]:[Monitoring Site]],$D$45),\"\")","v":61},{"$f":"IF(E89>0,_xlfn.MAXIFS(TU_DB[[Water Temperature (oF)]:[Water Temperature (oF)]],TU_DB[[Year]:[Year]],$C89,TU_DB[[Month No.]:[Month No.]],$D89,TU_DB[[Monitoring Site]:[Monitoring Site]],$D$45),\"\")","v":62},null,67,4,5,24]
[null,"2023-07-01",2023,7,{"$f":"COUNTIFS(TU_DB[[Water Temperature (oF)]:[Water Temperature (oF)]],\">=\"&32,TU_DB[[Year]:[Year]],$C90,TU_DB[[Month No.]:[Month No.]],$D90,TU_DB[[Monitoring Site]:[Monitoring Site]],$D$45)","v":0},{"$f":"IF(E90>0,AVERAGEIFS(TU_DB[[Water Temperature (oF)]:[Water Temperature (oF)]],TU_DB[[Year]:[Year]],$C90,TU_DB[[Month No.]:[Month No.]],$D90,TU_DB[[Monitoring Site]:[Monitoring Site]],$D$45),\"\")","v":""},{"$f":"IF(E90>0,_xlfn.MAXIFS(TU_DB[[Water Temperature (oF)]:[Water Temperature (oF)]],TU_DB[[Year]:[Year]],$C90,TU_DB[[Month No.]:[Month No.]],$D90,TU_DB[[Monitoring Site]:[Monitoring Site]],$D$45),\"\")","v":""},null,67,4,5,24]
[null,"2023-08-01",2023,8,{"$f":"COUNTIFS(TU_DB[[Water Temperature (oF)]:[Water Temperature (oF)]],\">=\"&32,TU_DB[[Year]:[Year]],$C91,TU_DB[[Month No.]:[Month No.]],$D91,TU_DB[[Monitoring Site]:[Monitoring Site]],$D$45)","v":2},{"$f":"IF(E91>0,AVERAGEIFS(TU_DB[[Water Temperature (oF)]:[Water Temperature (oF)]],TU_DB[[Year]:[Year]],$C91,TU_DB[[Month No.]:[Month No.]],$D91,TU_DB[[Monitoring Site]:[Monitoring Site]],$D$45),\"\")","v":59.5},{"$f":"IF(E91>0,_xlfn.MAXIFS(TU_DB[[Water Temperature (oF)]:[Water Temperature (oF)]],TU_DB[[Year]:[Year]],$C91,TU_DB[[Month No.]:[Month No.]],$D91,TU_DB[[Monitoring Site]:[Monitoring Site]],$D$45),\"\")","v":63},null,67,4,5,24]
[null,"2023-09-01",2023,9,{"$f":"COUNTIFS(TU_DB[[Water Temperature (oF)]:[Water Temperature (oF)]],\">=\"&32,TU_DB[[Year]:[Year]],$C92,TU_DB[[Month No.]:[Month No.]],$D92,TU_DB[[Monitoring Site]:[Monitoring Site]],$D$45)","v":2},{"$f":"IF(E92>0,AVERAGEIFS(TU_DB[[Water Temperature (oF)]:[Water Temperature (oF)]],TU_DB[[Year]:[Year]],$C92,TU_DB[[Month No.]:[Month No.]],$D92,TU_DB[[Monitoring Site]:[Monitoring Site]],$D$45),\"\")","v":61.5},{"$f":"IF(E92>0,_xlfn.MAXIFS(TU_DB[[Water Temperature (oF)]:[Water Temperature (oF)]],TU_DB[[Year]:[Year]],$C92,TU_DB[[Month No.]:[Month No.]],$D92,TU_DB[[Monitoring Site]:[Monitoring Site]],$D$45),\"\")","v":64},null,67,4,5,24]
[null,"2023-10-01",2023,10,{"$f":"COUNTIFS(TU_DB[[Water Temperature (oF)]:[Water Temperature (oF)]],\">=\"&32,TU_DB[[Year]:[Year]],$C93,TU_DB[[Month No.]:[Month No.]],$D93,TU_DB[[Monitoring Site]:[Monitoring Site]],$D$45)","v":1},{"$f":"IF(E93>0,AVERAGEIFS(TU_DB[[Water Temperature (oF)]:[Water Temperature (oF)]],TU_DB[[Year]:[Year]],$C93,TU_DB[[Month No.]:[Month No.]],$D93,TU_DB[[Monitoring Site]:[Monitoring Site]],$D$45),\"\")","v":59},{"$f":"IF(E93>0,_xlfn.MAXIFS(TU_DB[[Water Temperature (oF)]:[Water Temperature (oF)]],TU_DB[[Year]:[Year]],$C93,TU_DB[[Month No.]:[Month No.]],$D93,TU_DB[[Monitoring Site]:[Monitoring Site]],$D$45),\"\")","v":59},null,67,4,5,24]
[null,"2023-11-01",2023,11,{"$f":"COUNTIFS(TU_DB[[Water Temperature (oF)]:[Water Temperature (oF)]],\">=\"&32,TU_DB[[Year]:[Year]],$C94,TU_DB[[Month No.]:[Month No.]],$D94,TU_DB[[Monitoring Site]:[Monitoring Site]],$D$45)","v":0},{"$f":"IF(E94>0,AVERAGEIFS(TU_DB[[Water Temperature (oF)]:[Water Temperature (oF)]],TU_DB[[Year]:[Year]],$C94,TU_DB[[Month No.]:[Month No.]],$D94,TU_DB[[Monitoring Site]:[Monitoring Site]],$D$45),\"\")","v":""},{"$f":"IF(E94>0,_xlfn.MAXIFS(TU_DB[[Water Temperature (oF)]:[Water Temperature (oF)]],TU_DB[[Year]:[Year]],$C94,TU_DB[[Month No.]:[Month No.]],$D94,TU_DB[[Monitoring Site]:[Monitoring Site]],$D$45),\"\")","v":""},null,67,4,5,24]
[null,"2023-12-01",2023,12,{"$f":"COUNTIFS(TU_DB[[Water Temperature (oF)]:[Water Temperature (oF)]],\">=\"&32,TU_DB[[Year]:[Year]],$C95,TU_DB[[Month No.]:[Month No.]],$D95,TU_DB[[Monitoring Site]:[Monitoring Site]],$D$45)","v":0},{"$f":"IF(E95>0,AVERAGEIFS(TU_DB[[Water Temperature (oF)]:[Water Temperature (oF)]],TU_DB[[Year]:[Year]],$C95,TU_DB[[Month No.]:[Month No.]],$D95,TU_DB[[Monitoring Site]:[Monitoring Site]],$D$45),\"\")","v":""},{"$f":"IF(E95>0,_xlfn.MAXIFS(TU_DB[[Water Temperature (oF)]:[Water Temperature (oF)]],TU_DB[[Year]:[Year]],$C95,TU_DB[[Month No.]:[Month No.]],$D95,TU_DB[[Monitoring Site]:[Monitoring Site]],$D$45),\"\")","v":""},null,67,4,5,24]
[null,"2024-01-01",2024,1,{"$f":"COUNTIFS(TU_DB[[Water Temperature (oF)]:[Water Temperature (oF)]],\">=\"&32,TU_DB[[Year]:[Year]],$C96,TU_DB[[Month No.]:[Month No.]],$D96,TU_DB[[Monitoring Site]:[Monitoring Site]],$D$45)","v":0},{"$f":"IF(E96>0,AVERAGEIFS(TU_DB[[Water Temperature (oF)]:[Water Temperature (oF)]],TU_DB[[Year]:[Year]],$C96,TU_DB[[Month No.]:[Month No.]],$D96,TU_DB[[Monitoring Site]:[Monitoring Site]],$D$45),\"\")","v":""},{"$f":"IF(E96>0,_xlfn.MAXIFS(TU_DB[[Water Temperature (oF)]:[Water Temperature (oF)]],TU_DB[[Year]:[Year]],$C96,TU_DB[[Month No.]:[Month No.]],$D96,TU_DB[[Monitoring Site]:[Monitoring Site]],$D$45),\"\")","v":""},null,67,4,5,24]
[null,"2024-02-01",2024,2,{"$f":"COUNTIFS(TU_DB[[Water Temperature (oF)]:[Water Temperature (oF)]],\">=\"&32,TU_DB[[Year]:[Year]],$C97,TU_DB[[Month No.]:[Month No.]],$D97,TU_DB[[Monitoring Site]:[Monitoring Site]],$D$45)","v":0},{"$f":"IF(E97>0,AVERAGEIFS(TU_DB[[Water Temperature (oF)]:[Water Temperature (oF)]],TU_DB[[Year]:[Year]],$C97,TU_DB[[Month No.]:[Month No.]],$D97,TU_DB[[Monitoring Site]:[Monitoring Site]],$D$45),\"\")","v":""},{"$f":"IF(E97>0,_xlfn.MAXIFS(TU_DB[[Water Temperature (oF)]:[Water Temperature (oF)]],TU_DB[[Year]:[Year]],$C97,TU_DB[[Month No.]:[Month No.]],$D97,TU_DB[[Monitoring Site]:[Monitoring Site]],$D$45),\"\")","v":""},null,67,4,5,24]
[null,"2024-03-01",2024,3,{"$f":"COUNTIFS(TU_DB[[Water Temperature (oF)]:[Water Temperature (oF)]],\">=\"&32,TU_DB[[Year]:[Year]],$C98,TU_DB[[Month No.]:[Month No.]],$D98,TU_DB[[Monitoring Site]:[Monitoring Site]],$D$45)","v":0},{"$f":"IF(E98>0,AVERAGEIFS(TU_DB[[Water Temperature (oF)]:[Water Temperature (oF)]],TU_DB[[Year]:[Year]],$C98,TU_DB[[Month No.]:[Month No.]],$D98,TU_DB[[Monitoring Site]:[Monitoring Site]],$D$45),\"\")","v":""},{"$f":"IF(E98>0,_xlfn.MAXIFS(TU_DB[[Water Temperature (oF)]:[Water Temperature (oF)]],TU_DB[[Year]:[Year]],$C98,TU_DB[[Month No.]:[Month No.]],$D98,TU_DB[[Monitoring Site]:[Monitoring Site]],$D$45),\"\")","v":""},null,67,4,5,24]
[null,"2024-04-01",2024,4,{"$f":"COUNTIFS(TU_DB[[Water Temperature (oF)]:[Water Temperature (oF)]],\">=\"&32,TU_DB[[Year]:[Year]],$C99,TU_DB[[Month No.]:[Month No.]],$D99,TU_DB[[Monitoring Site]:[Monitoring Site]],$D$45)","v":0},{"$f":"IF(E99>0,AVERAGEIFS(TU_DB[[Water Temperature (oF)]:[Water Temperature (oF)]],TU_DB[[Year]:[Year]],$C99,TU_DB[[Month No.]:[Month No.]],$D99,TU_DB[[Monitoring Site]:[Monitoring Site]],$D$45),\"\")","v":""},{"$f":"IF(E99>0,_xlfn.MAXIFS(TU_DB[[Water Temperature (oF)]:[Water Temperature (oF)]],TU_DB[[Year]:[Year]],$C99,TU_DB[[Month No.]:[Month No.]],$D99,TU_DB[[Monitoring Site]:[Monitoring Site]],$D$45),\"\")","v":""},null,67,4,5,24]
[null,"2024-05-01",2024,5,{"$f":"COUNTIFS(TU_DB[[Water Temperature (oF)]:[Water Temperature (oF)]],\">=\"&32,TU_DB[[Year]:[Year]],$C100,TU_DB[[Month No.]:[Month No.]],$D100,TU_DB[[Monitoring Site]:[Monitoring Site]],$D$45)","v":0},{"$f":"IF(E100>0,AVERAGEIFS(TU_DB[[Water Temperature (oF)]:[Water Temperature (oF)]],TU_DB[[Year]:[Year]],$C100,TU_DB[[Month No.]:[Month No.]],$D100,TU_DB[[Monitoring Site]:[Monitoring Site]],$D$45),\"\")","v":""},{"$f":"IF(E100>0,_xlfn.MAXIFS(TU_DB[[Water Temperature (oF)]:[Water Temperature (oF)]],TU_DB[[Year]:[Year]],$C100,TU_DB[[Month No.]:[Month No.]],$D100,TU_DB[[Monitoring Site]:[Monitoring Site]],$D$45),\"\")","v":""},null,67,4,5,24]
[null,"2024-06-01",2024,6,{"$f":"COUNTIFS(TU_DB[[Water Temperature (oF)]:[Water Temperature (oF)]],\">=\"&32,TU_DB[[Year]:[Year]],$C101,TU_DB[[Month No.]:[Month No.]],$D101,TU_DB[[Monitoring Site]:[Monitoring Site]],$D$45)","v":0},{"$f":"IF(E101>0,AVERAGEIFS(TU_DB[[Water Temperature (oF)]:[Water Temperature (oF)]],TU_DB[[Year]:[Year]],$C101,TU_DB[[Month No.]:[Month No.]],$D101,TU_DB[[Monitoring Site]:[Monitoring Site]],$D$45),\"\")","v":""},{"$f":"IF(E101>0,_xlfn.MAXIFS(TU_DB[[Water Temperature (oF)]:[Water Temperature (oF)]],TU_DB[[Year]:[Year]],$C101,TU_DB[[Month No.]:[Month No.]],$D101,TU_DB[[Monitoring Site]:[Monitoring Site]],$D$45),\"\")","v":""},null,67,4,5,24]
[null,"2024-07-01",2024,7,{"$f":"COUNTIFS(TU_DB[[Water Temperature (oF)]:[Water Temperature (oF)]],\">=\"&32,TU_DB[[Year]:[Year]],$C102,TU_DB[[Month No.]:[Month No.]],$D102,TU_DB[[Monitoring Site]:[Monitoring Site]],$D$45)","v":0},{"$f":"IF(E102>0,AVERAGEIFS(TU_DB[[Water Temperature (oF)]:[Water Temperature (oF)]],TU_DB[[Year]:[Year]],$C102,TU_DB[[Month No.]:[Month No.]],$D102,TU_DB[[Monitoring Site]:[Monitoring Site]],$D$45),\"\")","v":""},{"$f":"IF(E102>0,_xlfn.MAXIFS(TU_DB[[Water Temperature (oF)]:[Water Temperature (oF)]],TU_DB[[Year]:[Year]],$C102,TU_DB[[Month No.]:[Month No.]],$D102,TU_DB[[Monitoring Site]:[Monitoring Site]],$D$45),\"\")","v":""},null,67,4,5,24]
[null,"2024-08-01",2024,8,{"$f":"COUNTIFS(TU_DB[[Water Temperature (oF)]:[Water Temperature (oF)]],\">=\"&32,TU_DB[[Year]:[Year]],$C103,TU_DB[[Month No.]:[Month No.]],$D103,TU_DB[[Monitoring Site]:[Monitoring Site]],$D$45)","v":0},{"$f":"IF(E103>0,AVERAGEIFS(TU_DB[[Water Temperature (oF)]:[Water Temperature (oF)]],TU_DB[[Year]:[Year]],$C103,TU_DB[[Month No.]:[Month No.]],$D103,TU_DB[[Monitoring Site]:[Monitoring Site]],$D$45),\"\")","v":""},{"$f":"IF(E103>0,_xlfn.MAXIFS(TU_DB[[Water Temperature (oF)]:[Water Temperature (oF)]],TU_DB[[Year]:[Year]],$C103,TU_DB[[Month No.]:[Month No.]],$D103,TU_DB[[Monitoring Site]:[Monitoring Site]],$D$45),\"\")","v":""},null,67,4,5,24]
[null,"2024-09-01",2024,9,{"$f":"COUNTIFS(TU_DB[[Water Temperature (oF)]:[Water Temperature (oF)]],\">=\"&32,TU_DB[[Year]:[Year]],$C104,TU_DB[[Month No.]:[Month No.]],$D104,TU_DB[[Monitoring Site]:[Monitoring Site]],$D$45)","v":0},{"$f":"IF(E104>0,AVERAGEIFS(TU_DB[[Water Temperature (oF)]:[Water Temperature (oF)]],TU_DB[[Year]:[Year]],$C104,TU_DB[[Month No.]:[Month No.]],$D104,TU_DB[[Monitoring Site]:[Monitoring Site]],$D$45),\"\")","v":""},{"$f":"IF(E104>0,_xlfn.MAXIFS(TU_DB[[Water Temperature (oF)]:[Water Temperature (oF)]],TU_DB[[Year]:[Year]],$C104,TU_DB[[Month No.]:[Month No.]],$D104,TU_DB[[Monitoring Site]:[Monitoring Site]],$D$45),\"\")","v":""},null,67,4,5,24]
[null,"2024-10-01",2024,10,{"$f":"COUNTIFS(TU_DB[[Water Temperature (oF)]:[Water Temperature (oF)]],\">=\"&32,TU_DB[[Year]:[Year]],$C105,TU_DB[[Month No.]:[Month No.]],$D105,TU_DB[[Monitoring Site]:[Monitoring Site]],$D$45)","v":0},{"$f":"IF(E105>0,AVERAGEIFS(TU_DB[[Water Temperature (oF)]:[Water Temperature (oF)]],TU_DB[[Year]:[Year]],$C105,TU_DB[[Month No.]:[Month No.]],$D105,TU_DB[[Monitoring Site]:[Monitoring Site]],$D$45),\"\")","v":""},{"$f":"IF(E105>0,_xlfn.MAXIFS(TU_DB[[Water Temperature (oF)]:[Water Temperature (oF)]],TU_DB[[Year]:[Year]],$C105,TU_DB[[Month No.]:[Month No.]],$D105,TU_DB[[Monitoring Site]:[Monitoring Site]],$D$45),\"\")","v":""},null,67,4,5,24]
[null,"2024-11-01",2024,11,{"$f":"COUNTIFS(TU_DB[[Water Temperature (oF)]:[Water Temperature (oF)]],\">=\"&32,TU_DB[[Year]:[Year]],$C106,TU_DB[[Month No.]:[Month No.]],$D106,TU_DB[[Monitoring Site]:[Monitoring Site]],$D$45)","v":0},{"$f":"IF(E106>0,AVERAGEIFS(TU_DB[[Water Temperature (oF)]:[Water Temperature (oF)]],TU_DB[[Year]:[Year]],$C106,TU_DB[[Month No.]:[Month No.]],$D106,TU_DB[[Monitoring Site]:[Monitoring Site]],$D$45),\"\")","v":""},{"$f":"IF(E106>0,_xlfn.MAXIFS(TU_DB[[Water Temperature (oF)]:[Water Temperature (oF)]],TU_DB[[Year]:[Year]],$C106,TU_DB[[Month No.]:[Month No.]],$D106,TU_DB[[Monitoring Site]:[Monitoring Site]],$D$45),\"\")","v":""},null,67,4,5,24]
[null,"2024-12-01",2024,12,{"$f":"COUNTIFS(TU_DB[[Water Temperature (oF)]:[Water Temperature (oF)]],\">=\"&32,TU_DB[[Year]:[Year]],$C107,TU_DB[[Month No.]:[Month No.]],$D107,TU_DB[[Monitoring Site]:[Monitoring Site]],$D$45)","v":0},{"$f":"IF(E107>0,AVERAGEIFS(TU_DB[[Water Temperature (oF)]:[Water Temperature (oF)]],TU_DB[[Year]:[Year]],$C107,TU_DB[[Month No.]:[Month No.]],$D107,TU_DB[[Monitoring Site]:[Monitoring Site]],$D$45),\"\")","v":""},{"$f":"IF(E107>0,_xlfn.MAXIFS(TU_DB[[Water Temperature (oF)]:[Water Temperature (oF)]],TU_DB[[Year]:[Year]],$C107,TU_DB[[Month No.]:[Month No.]],$D107,TU_DB[[Monitoring Site]:[Monitoring Site]],$D$45),\"\")","v":""},null,67,4,5,24]

{"sheet":"Disturbances","index":9,"n_rows":18,"n_cols":9,"rows_kept":18,"cut":false,"hidden":false,"merged":[[1,2,1,3]]}
["TU DARE Angler Science DB"]
[null,"Water Analysis","Disturbances"]
[null,"Download",{"$f":"TUDB!B3","v":"3023-10-31"}]
[null,"User Help",2024]
[]
[null,"Overview Stats"]
[null,"Total Reported",{"$f":"C10+D10","v":1451},null,"Not Reported ",{"$f":"COUNTIFS(TU_DB[Fish Barrier],-1)","v":397}]
[]
[null,"Disturbance","Present","Absent",2019,2020,2021,2022,2023]
[null,"Fish Barrier",{"$f":"COUNTIFS(TU_DB[Fish Barrier],1)","v":54},{"$f":"COUNTIFS(TU_DB[Fish Barrier],0)","v":1397},{"$f":"COUNTIFS(TU_DB[[Fish Barrier]:[Fish Barrier]],1,TU_DB[[Year]:[Year]],E$9)","v":3},{"$f":"COUNTIFS(TU_DB[[Fish Barrier]:[Fish Barrier]],1,TU_DB[[Year]:[Year]],F$9)","v":1},{"$f":"COUNTIFS(TU_DB[[Fish Barrier]:[Fish Barrier]],1,TU_DB[[Year]:[Year]],G$9)","v":1},{"$f":"COUNTIFS(TU_DB[[Fish Barrier]:[Fish Barrier]],1,TU_DB[[Year]:[Year]],H$9)","v":3},{"$f":"COUNTIFS(TU_DB[[Fish Barrier]:[Fish Barrier]],1,TU_DB[[Year]:[Year]],I$9)","v":46}]
[null,"Bank Erosion",{"$f":"COUNTIFS(TU_DB[Bank Erosion],1)","v":290},{"$f":"COUNTIFS(TU_DB[Bank Erosion],0)","v":1161},{"$f":"COUNTIFS(TU_DB[[Bank Erosion]:[Bank Erosion]],1,TU_DB[[Year]:[Year]],E$9)","v":9},{"$f":"COUNTIFS(TU_DB[[Bank Erosion]:[Bank Erosion]],1,TU_DB[[Year]:[Year]],F$9)","v":24},{"$f":"COUNTIFS(TU_DB[[Bank Erosion]:[Bank Erosion]],1,TU_DB[[Year]:[Year]],G$9)","v":38},{"$f":"COUNTIFS(TU_DB[[Bank Erosion]:[Bank Erosion]],1,TU_DB[[Year]:[Year]],H$9)","v":76},{"$f":"COUNTIFS(TU_DB[[Bank Erosion]:[Bank Erosion]],1,TU_DB[[Year]:[Year]],I$9)","v":143}]
[null,"Trash",{"$f":"COUNTIFS(TU_DB[Trash],1)","v":114},{"$f":"COUNTIFS(TU_DB[Trash],0)","v":1337},{"$f":"COUNTIFS(TU_DB[[Trash]:[Trash]],1,TU_DB[[Year]:[Year]],E$9)","v":0},{"$f":"COUNTIFS(TU_DB[[Trash]:[Trash]],1,TU_DB[[Year]:[Year]],F$9)","v":3},{"$f":"COUNTIFS(TU_DB[[Trash]:[Trash]],1,TU_DB[[Year]:[Year]],G$9)","v":8},{"$f":"COUNTIFS(TU_DB[[Trash]:[Trash]],1,TU_DB[[Year]:[Year]],H$9)","v":66},{"$f":"COUNTIFS(TU_DB[[Trash]:[Trash]],1,TU_DB[[Year]:[Year]],I$9)","v":37}]
[null,"Pipe/Drain Outflow",{"$f":"COUNTIFS(TU_DB[Pipe/Drain Outflow],1)","v":39},{"$f":"COUNTIFS(TU_DB[Pipe/Drain Outflow],0)","v":1412},{"$f":"COUNTIFS(TU_DB[[Pipe/Drain Outflow]:[Pipe/Drain Outflow]],1,TU_DB[[Year]:[Year]],E$9)","v":0},{"$f":"COUNTIFS(TU_DB[[Pipe/Drain Outflow]:[Pipe/Drain Outflow]],1,TU_DB[[Year]:[Year]],F$9)","v":2},{"$f":"COUNTIFS(TU_DB[[Pipe/Drain Outflow]:[Pipe/Drain Outflow]],1,TU_DB[[Year]:[Year]],G$9)","v":7},{"$f":"COUNTIFS(TU_DB[[Pipe/Drain Outflow]:[Pipe/Drain Outflow]],1,TU_DB[[Year]:[Year]],H$9)","v":20},{"$f":"COUNTIFS(TU_DB[[Pipe/Drain Outflow]:[Pipe/Drain Outflow]],1,TU_DB[[Year]:[Year]],I$9)","v":10}]
[null,"Livestock in Water",{"$f":"COUNTIFS(TU_DB[Livestock in Water],1)","v":38},{"$f":"COUNTIFS(TU_DB[Livestock in Water],0)","v":1413},{"$f":"COUNTIFS(TU_DB[[Livestock in Water]:[Livestock in Water]],1,TU_DB[[Year]:[Year]],E$9)","v":0},{"$f":"COUNTIFS(TU_DB[[Livestock in Water]:[Livestock in Water]],1,TU_DB[[Year]:[Year]],F$9)","v":2},{"$f":"COUNTIFS(TU_DB[[Livestock in Water]:[Livestock in Water]],1,TU_DB[[Year]:[Year]],G$9)","v":4},{"$f":"COUNTIFS(TU_DB[[Livestock in Water]:[Livestock in Water]],1,TU_DB[[Year]:[Year]],H$9)","v":5},{"$f":"COUNTIFS(TU_DB[[Livestock in Water]:[Livestock in Water]],1,TU_DB[[Year]:[Year]],I$9)","v":27}]
[null,"Algal Bloom",{"$f":"COUNTIFS(TU_DB[Algal Bloom],1)","v":15},{"$f":"COUNTIFS(TU_DB[Algal Bloom],0)","v":1436},{"$f":"COUNTIFS(TU_DB[[Algal Bloom]:[Algal Bloom]],1,TU_DB[[Year]:[Year]],E$9)","v":0},{"$f":"COUNTIFS(TU_DB[[Algal Bloom]:[Algal Bloom]],1,TU_DB[[Year]:[Year]],F$9)","v":1},{"$f":"COUNTIFS(TU_DB[[Algal Bloom]:[Algal Bloom]],1,TU_DB[[Year]:[Year]],G$9)","v":1},{"$f":"COUNTIFS(TU_DB[[Algal Bloom]:[Algal Bloom]],1,TU_DB[[Year]:[Year]],H$9)","v":3},{"$f":"COUNTIFS(TU_DB[[Algal Bloom]:[Algal Bloom]],1,TU_DB[[Year]:[Year]],I$9)","v":10}]
[null,"Fish Kill",{"$f":"COUNTIFS(TU_DB[Fish Kill],1)","v":2},{"$f":"COUNTIFS(TU_DB[Fish Kill],0)","v":1449},{"$f":"COUNTIFS(TU_DB[[Fish Kill]:[Fish Kill]],1,TU_DB[[Year]:[Year]],E$9)","v":0},{"$f":"COUNTIFS(TU_DB[[Fish Kill]:[Fish Kill]],1,TU_DB[[Year]:[Year]],F$9)","v":0},{"$f":"COUNTIFS(TU_DB[[Fish Kill]:[Fish Kill]],1,TU_DB[[Year]:[Year]],G$9)","v":0},{"$f":"COUNTIFS(TU_DB[[Fish Kill]:[Fish Kill]],1,TU_DB[[Year]:[Year]],H$9)","v":1},{"$f":"COUNTIFS(TU_DB[[Fish Kill]:[Fish Kill]],1,TU_DB[[Year]:[Year]],I$9)","v":1}]
[null,"Total",{"$f":"SUM(C10:C16)","v":552},null,{"$f":"SUM(E10:E16)","v":12},{"$f":"SUM(F10:F16)","v":33},59,174,274]
[null,"None",{"$f":"COUNTIFS(TU_DB[None (Disturbance)],1)","v":1029},null,{"$f":"COUNTIFS(TU_DB[[None (Disturbance)]:[None (Disturbance)]],1,TU_DB[[Year]:[Year]],E$9)","v":44},{"$f":"COUNTIFS(TU_DB[[None (Disturbance)]:[None (Disturbance)]],1,TU_DB[[Year]:[Year]],F$9)","v":74},{"$f":"COUNTIFS(TU_DB[[None (Disturbance)]:[None (Disturbance)]],1,TU_DB[[Year]:[Year]],G$9)","v":239},{"$f":"COUNTIFS(TU_DB[[None (Disturbance)]:[None (Disturbance)]],1,TU_DB[[Year]:[Year]],H$9)","v":228},{"$f":"COUNTIFS(TU_DB[[None (Disturbance)]:[None (Disturbance)]],1,TU_DB[[Year]:[Year]],I$9)","v":444}]

{"sheet":"Scorecard","index":10,"n_rows":61,"n_cols":41,"rows_kept":61,"cut":false,"hidden":false,"merged":[]}
[null,"TU DARE Angler Science DB"]
[null,"Scorecard"]
[]
[null,null,null,null,"Zone Count",null,null,null,null,null,null,null,null,null,null,null,null,null,null,null,"Zone Scores"]
[null,null,"Zone",null,"Aldo Leopold","Blackhawk","Coulee Region","Harry & Laura Nohr","Hiawatha","Iowa Driftless","Kiap-TU-Wish","Lee Wulff","North Bear","Oak Brook","Southern Wisconsin","Spring Creeks","Twin Cities (TCTU)","Win Cres","Wisconsin Clear Waters",null,null,"Aldo Leopold","Blackhawk","Coulee Region","Harry & Laura Nohr","Hiawatha","Iowa Driftless","Kiap-TU-Wish","Lee Wulff","North Bear","Oak Brook","Southern Wisconsin","Spring Creeks","Twin Cities (TCTU)","Win Cres","Wisconsin Clear Waters"]
[null,null,null,"Observations",{"$f":"MAX(E32,E37,E42,E49,E59)","v":15},{"$f":"MAX(F32,F37,F42,F49,F59)","v":6},null,null,null,null,null,null,null,null,{"$f":"MAX(O32,O37,O42,O49,O59)","v":0},null,null,{"$f":"MAX(R32,R37,R42,R49,R59)","v":131},{"$f":"MAX(S32,S37,S42,S49,S59)","v":0}]
[null,"Metric","Value","Quality",1,2,null,null,null,null,null,null,null,null,3,null,null,5,6,null,"Weight",1,null,null,null,null,null,null,2,null,null,null,3,4,5,6,7]
[null,"Overall - Fish",null,null,null,null,null,null,null,null,null,null,null,null,null,null,null,null,null,null,{"$f":"SUM(U9:U11)","v":1},{"$f":"SUM(V9:V12)","v":{"$error":"#REF!"}},null,null,null,null,null,null,{"$f":"SUM(AC9:AC12)","v":{"$error":"#REF!"}},null,null,null,{"$error":"#REF!"},{"$error":"#REF!"},{"$error":"#REF!"},{"$error":"#REF!"},null,"Notes "]
[null,"Nutrients",null,null,null,null,null,null,null,null,null,null,null,null,null,null,null,null,null,null,0.4,{"$f":"V23*$U9","v":0.32130769230769235},{"$f":"W23*$U9","v":0.38720000000000004},0.37364001197963465,0.38249230769230769,0.34436907501150488,0.32553383458646618,0,0,0.33574603174603174,0,0,0.35018181818181821,0,0.36048176420695505,0]
[null,"Water Temp",null,null,null,null,null,null,null,null,null,null,null,null,null,null,null,null,null,null,0.4,{"$f":"V49*$U10","v":0.37666666666666671},{"$f":"W49*$U10","v":0.4},0.36345334881920244,0.38989010989010997,0.38607343875636557,0.35438596491228069,0,0,0.35710144927536236,0,0,0.29464864864864865,0,0.39759393646186103,0]
[null,"Stream Disturbances (algal bloom)",null,null,null,null,null,null,null,null,null,null,null,null,null,null,null,null,null,null,0.2,{"$f":"(V57/$U$57)*$U11","v":0},{"$f":"(W57/$U$57)*$U11","v":0.4},0.4,0.4,0.4,0.4,0,0,0.4,0,0,0.4,0,0.4,0]
[null,"Fish Kill >=2","Show Stopper",null,null,null,null,null,null,null,null,null,null,null,null,null,null,null,null,null,-1,{"$f":"IF(#REF!>=2,1,0)*$U12","v":{"$error":"#REF!"}},{"$f":"IF(#REF!>=2,1,0)*$U12","v":{"$error":"#REF!"}},{"$f":"IF(#REF!>=2,1,0)*$U12","v":{"$error":"#REF!"}},{"$f":"IF(#REF!>=2,1,0)*$U12","v":{"$error":"#REF!"}},{"$f":"IF(#REF!>=2,1,0)*$U12","v":{"$error":"#REF!"}},{"$f":"IF(#REF!>=2,1,0)*$U12","v":{"$error":"#REF!"}},{"$f":"IF(#REF!>=2,1,0)*$U12","v":{"$error":"#REF!"}},{"$f":"IF(#REF!>=2,1,0)*$U12","v":{"$error":"#REF!"}},{"$f":"IF(#REF!>=2,1,0)*$U12","v":{"$error":"#REF!"}},{"$f":"IF(#REF!>=2,1,0)*$U12","v":{"$error":"#REF!"}},{"$f":"IF(#REF!>=2,1,0)*$U12","v":{"$error":"#REF!"}},{"$f":"IF(#REF!>=2,1,0)*$U12","v":{"$error":"#REF!"}},{"$f":"IF(#REF!>=2,1,0)*$U12","v":{"$error":"#REF!"}},{"$f":"IF(#REF!>=2,1,0)*$U12","v":{"$error":"#REF!"}},{"$f":"IF(#REF!>=2,1,0)*$U12","v":{"$error":"#REF!"}}]
[]
[null,"Habitat",null,null,null,null,null,null,null,null,null,null,null,null,null,null,null,null,null,null,{"$f":"SUM(U15:U21)","v":1},{"$error":"#REF!"},{"$f":"SUM(W15:W21)","v":1.0903999999999998},0.68023000898472596,0.98686923076923072,0.65827680625862861,0.84415037593984965,0,0,0.85180952380952379,0,0,0.96263636363636362,0,0.97036132315521628,0,null,"Notes"]
[null,"Nutrients",null,null,null,null,null,null,null,null,null,null,null,null,null,null,null,null,null,null,0.3,{"$f":"V23*$U15","v":0.24098076923076925},{"$f":"W23*$U15","v":0.29039999999999999},0.28023000898472594,0.28686923076923077,0.25827680625862864,0.24415037593984959,0,0,0.25180952380952376,0,0,0.26263636363636361,0,0.27036132315521627,0]
[null,"Fish Barrier",null,null,null,null,null,null,null,null,null,null,null,null,null,null,null,null,null,null,0.1,{"$f":"(#REF!/$U52)*$U16","v":{"$error":"#REF!"}},{"$f":"(W52/$U52)*$U16","v":0},0,0,0,0,0,0,0,0,0,0,0,0,0]
[null,"Bank Erosion",null,null,null,null,null,null,null,null,null,null,null,null,null,null,null,null,null,null,0.1,{"$f":"(V52/$U53)*$U17","v":0},{"$f":"(W53/$U53)*$U17","v":0.1},0,0.1,0,0,0,0,0,0,0,0.1,0,0.1,0]
[null,"Trash",null,null,null,null,null,null,null,null,null,null,null,null,null,null,null,null,null,null,0.1,{"$f":"(V54/$U54)*$U18","v":0},{"$f":"(W54/$U54)*$U18","v":0.1},0,0.1,0,0.1,0,0,0.1,0,0,0.1,0,0.1,0]
[null,"Pipe Drain",null,null,null,null,null,null,null,null,null,null,null,null,null,null,null,null,null,null,0.1,{"$f":"(V55/$U55)*$U19","v":0},{"$f":"(W55/$U55)*$U19","v":0.1},0,0,0,0,0,0,0,0,0,0,0,0,0]
[null,"Livestock in Water",null,null,null,null,null,null,null,null,null,null,null,null,null,null,null,null,null,null,0.1,{"$f":"(V56/$U56)*$U20","v":0},{"$f":"(W56/$U56)*$U20","v":0.1},0,0.1,0,0.1,0,0,0.1,0,0,0.1,0,0.1,0]
[null,"Algal Bloom",null,null,null,null,null,null,null,null,null,null,null,null,null,null,null,null,null,null,0.2,{"$f":"(V57/$U57)*$U21","v":0},{"$f":"(W57/$U57)*$U21","v":0.4},0.4,0.4,0.4,0.4,0,0,0.4,0,0,0.4,0,0.4,0]
[]
[null,"Nutrients",null,null,null,null,null,null,null,null,null,null,null,null,null,null,null,null,null,null,{"$f":"SUM(U24:U26)","v":1},0.80326923076923085,{"$f":"SUM(W24:W26)","v":0.96800000000000008},0.93410002994908659,0.95623076923076922,0.86092268752876211,0.81383458646616536,0,0,0.83936507936507931,0,0,0.87545454545454549,0,0.90120441051738753,0,null,"Notes "]
[null,"NO2",null,null,null,null,null,null,null,null,null,null,null,null,null,null,null,null,null,null,0.1,{"$f":"IFERROR(V32*$U24,0)","v":9.0769230769230769E-2},{"$f":"IFERROR(W32*$U24,0)","v":0.1},9.6855345911949692E-2,9.5000000000000001E-2,9.3301886792452826E-2,9.3469387755102051E-2,0,0,9.2592592592592587E-2,0,0,9.4545454545454544E-2,0,9.328244274809161E-2,0]
[null,"NO3",null,null,null,null,null,null,null,null,null,null,null,null,null,null,null,null,null,null,0.4,{"$f":"IFERROR(V37*$U25,0)","v":0.4},{"$f":"IFERROR(W37*$U25,0)","v":0.36800000000000005},0.39597484276729561,0.39200000000000002,0.33396226415094343,0.31510204081632653,0,0,0.32296296296296295,0,0,0.35090909090909089,0,0.35236641221374043,0]
[null,"Phos",null,null,null,null,null,null,null,null,null,null,null,null,null,null,null,null,null,null,0.5,{"$f":"IFERROR(V42*$U26,0)","v":0.3125},{"$f":"IFERROR(W42*$U26,0)","v":0.5},0.44126984126984126,0.46923076923076923,0.43365853658536579,0.40526315789473683,0,0,0.4238095238095238,0,0,0.43000000000000005,0,0.45555555555555549,0]
[]
[null,"NO2",0,"Good",{"$f":"COUNTIFS(TU_DB[[NO2 Bin (2n1) (ppm)]:[NO2 Bin (2n1) (ppm)]],$C28,TU_DB[[TU Chapter Area]:[TU Chapter Area]],Scorecard!E$5)","v":10},{"$f":"COUNTIFS(TU_DB[[NO2 Bin (2n1) (ppm)]:[NO2 Bin (2n1) (ppm)]],$C28,TU_DB[[TU Chapter Area]:[TU Chapter Area]],Scorecard!F$5)","v":5},{"$f":"COUNTIFS(TU_DB[[NO2 Bin (2n1) (ppm)]:[NO2 Bin (2n1) (ppm)]],$C28,TU_DB[[TU Chapter Area]:[TU Chapter Area]],Scorecard!G$5)","v":147},{"$f":"COUNTIFS(TU_DB[[NO2 Bin (2n1) (ppm)]:[NO2 Bin (2n1) (ppm)]],$C28,TU_DB[[TU Chapter Area]:[TU Chapter Area]],Scorecard!H$5)","v":35},{"$f":"COUNTIFS(TU_DB[[NO2 Bin (2n1) (ppm)]:[NO2 Bin (2n1) (ppm)]],$C28,TU_DB[[TU Chapter Area]:[TU Chapter Area]],Scorecard!I$5)","v":177},{"$f":"COUNTIFS(TU_DB[[NO2 Bin (2n1) (ppm)]:[NO2 Bin (2n1) (ppm)]],$C28,TU_DB[[TU Chapter Area]:[TU Chapter Area]],Scorecard!J$5)","v":41},{"$f":"COUNTIFS(TU_DB[[NO2 Bin (2n1) (ppm)]:[NO2 Bin (2n1) (ppm)]],$C28,TU_DB[[TU Chapter Area]:[TU Chapter Area]],Scorecard!K$5)","v":0},{"$f":"COUNTIFS(TU_DB[[NO2 Bin (2n1) (ppm)]:[NO2 Bin (2n1) (ppm)]],$C28,TU_DB[[TU Chapter Area]:[TU Chapter Area]],Scorecard!L$5)","v":0},{"$f":"COUNTIFS(TU_DB[[NO2 Bin (2n1) (ppm)]:[NO2 Bin (2n1) (ppm)]],$C28,TU_DB[[TU Chapter Area]:[TU Chapter Area]],Scorecard!M$5)","v":22},{"$f":"COUNTIFS(TU_DB[[NO2 Bin (2n1) (ppm)]:[NO2 Bin (2n1) (ppm)]],$C28,TU_DB[[TU Chapter Area]:[TU Chapter Area]],Scorecard!N$5)","v":0},{"$f":"COUNTIFS(TU_DB[[NO2 Bin (2n1) (ppm)]:[NO2 Bin (2n1) (ppm)]],$C28,TU_DB[[TU Chapter Area]:[TU Chapter Area]],Scorecard!O$5)","v":0},{"$f":"COUNTIFS(TU_DB[[NO2 Bin (2n1) (ppm)]:[NO2 Bin (2n1) (ppm)]],$C28,TU_DB[[TU Chapter Area]:[TU Chapter Area]],Scorecard!P$5)","v":38},{"$f":"COUNTIFS(TU_DB[[NO2 Bin (2n1) (ppm)]:[NO2 Bin (2n1) (ppm)]],$C28,TU_DB[[TU Chapter Area]:[TU Chapter Area]],Scorecard!Q$5)","v":0},{"$f":"COUNTIFS(TU_DB[[NO2 Bin (2n1) (ppm)]:[NO2 Bin (2n1) (ppm)]],$C28,TU_DB[[TU Chapter Area]:[TU Chapter Area]],Scorecard!R$5)","v":109},{"$f":"COUNTIFS(TU_DB[[NO2 Bin (2n1) (ppm)]:[NO2 Bin (2n1) (ppm)]],$C28,TU_DB[[TU Chapter Area]:[TU Chapter Area]],Scorecard!S$5)","v":0},null,1,{"$f":"IFERROR(E28*$U28/E$32,0)","v":0.76923076923076927},{"$f":"IFERROR(F28*$U28/F$32,0)","v":1},{"$f":"IFERROR(G28*$U28/G$32,0)","v":0.92452830188679247},{"$f":"IFERROR(H28*$U28/H$32,0)","v":0.875},{"$f":"IFERROR(I28*$U28/I$32,0)","v":0.83490566037735847},{"$f":"IFERROR(J28*$U28/J$32,0)","v":0.83673469387755106},{"$f":"IFERROR(K28*$U28/K$32,0)","v":0},{"$f":"IFERROR(L28*$U28/L$32,0)","v":0},{"$f":"IFERROR(M28*$U28/M$32,0)","v":0.81481481481481477},{"$f":"IFERROR(N28*$U28/N$32,0)","v":0},{"$f":"IFERROR(O28*$U28/O$32,0)","v":0},{"$f":"IFERROR(P28*$U28/P$32,0)","v":0.86363636363636365},{"$f":"IFERROR(Q28*$U28/Q$32,0)","v":0},{"$f":"IFERROR(R28*$U28/R$32,0)","v":0.83206106870229013},{"$f":"IFERROR(S28*$U28/S$32,0)","v":0}]
[null,null,0.15,"Ave",{"$f":"COUNTIFS(TU_DB[[NO2 Bin (2n1) (ppm)]:[NO2 Bin (2n1) (ppm)]],$C29,TU_DB[[TU Chapter Area]:[TU Chapter Area]],Scorecard!E$5)","v":3},{"$f":"COUNTIFS(TU_DB[[NO2 Bin (2n1) (ppm)]:[NO2 Bin (2n1) (ppm)]],$C29,TU_DB[[TU Chapter Area]:[TU Chapter Area]],Scorecard!F$5)","v":0},{"$f":"COUNTIFS(TU_DB[[NO2 Bin (2n1) (ppm)]:[NO2 Bin (2n1) (ppm)]],$C29,TU_DB[[TU Chapter Area]:[TU Chapter Area]],Scorecard!G$5)","v":11},{"$f":"COUNTIFS(TU_DB[[NO2 Bin (2n1) (ppm)]:[NO2 Bin (2n1) (ppm)]],$C29,TU_DB[[TU Chapter Area]:[TU Chapter Area]],Scorecard!H$5)","v":5},{"$f":"COUNTIFS(TU_DB[[NO2 Bin (2n1) (ppm)]:[NO2 Bin (2n1) (ppm)]],$C29,TU_DB[[TU Chapter Area]:[TU Chapter Area]],Scorecard!I$5)","v":34},{"$f":"COUNTIFS(TU_DB[[NO2 Bin (2n1) (ppm)]:[NO2 Bin (2n1) (ppm)]],$C29,TU_DB[[TU Chapter Area]:[TU Chapter Area]],Scorecard!J$5)","v":8},{"$f":"COUNTIFS(TU_DB[[NO2 Bin (2n1) (ppm)]:[NO2 Bin (2n1) (ppm)]],$C29,TU_DB[[TU Chapter Area]:[TU Chapter Area]],Scorecard!K$5)","v":0},{"$f":"COUNTIFS(TU_DB[[NO2 Bin (2n1) (ppm)]:[NO2 Bin (2n1) (ppm)]],$C29,TU_DB[[TU Chapter Area]:[TU Chapter Area]],Scorecard!L$5)","v":0},{"$f":"COUNTIFS(TU_DB[[NO2 Bin (2n1) (ppm)]:[NO2 Bin (2n1) (ppm)]],$C29,TU_DB[[TU Chapter Area]:[TU Chapter Area]],Scorecard!M$5)","v":5},{"$f":"COUNTIFS(TU_DB[[NO2 Bin (2n1) (ppm)]:[NO2 Bin (2n1) (ppm)]],$C29,TU_DB[[TU Chapter Area]:[TU Chapter Area]],Scorecard!N$5)","v":0},{"$f":"COUNTIFS(TU_DB[[NO2 Bin (2n1) (ppm)]:[NO2 Bin (2n1) (ppm)]],$C29,TU_DB[[TU Chapter Area]:[TU Chapter Area]],Scorecard!O$5)","v":0},{"$f":"COUNTIFS(TU_DB[[NO2 Bin (2n1) (ppm)]:[NO2 Bin (2n1) (ppm)]],$C29,TU_DB[[TU Chapter Area]:[TU Chapter Area]],Scorecard!P$5)","v":6},{"$f":"COUNTIFS(TU_DB[[NO2 Bin (2n1) (ppm)]:[NO2 Bin (2n1) (ppm)]],$C29,TU_DB[[TU Chapter Area]:[TU Chapter Area]],Scorecard!Q$5)","v":0},{"$f":"COUNTIFS(TU_DB[[NO2 Bin (2n1) (ppm)]:[NO2 Bin (2n1) (ppm)]],$C29,TU_DB[[TU Chapter Area]:[TU Chapter Area]],Scorecard!R$5)","v":22},{"$f":"COUNTIFS(TU_DB[[NO2 Bin (2n1) (ppm)]:[NO2 Bin (2n1) (ppm)]],$C29,TU_DB[[TU Chapter Area]:[TU Chapter Area]],Scorecard!S$5)","v":0},null,0.6,{"$f":"IFERROR(E29*$U29/E$32,0)","v":0.13846153846153844},0,4.1509433962264149E-2,7.4999999999999997E-2,9.6226415094339615E-2,9.7959183673469383E-2,0,0,0.1111111111111111,0,0,8.1818181818181804E-2,0,0.10076335877862595,0]
[null,null,0.3,"Poor",{"$f":"COUNTIFS(TU_DB[[NO2 Bin (2n1) (ppm)]:[NO2 Bin (2n1) (ppm)]],$C30,TU_DB[[TU Chapter Area]:[TU Chapter Area]],Scorecard!E$5)","v":0},{"$f":"COUNTIFS(TU_DB[[NO2 Bin (2n1) (ppm)]:[NO2 Bin (2n1) (ppm)]],$C30,TU_DB[[TU Chapter Area]:[TU Chapter Area]],Scorecard!F$5)","v":0},{"$f":"COUNTIFS(TU_DB[[NO2 Bin (2n1) (ppm)]:[NO2 Bin (2n1) (ppm)]],$C30,TU_DB[[TU Chapter Area]:[TU Chapter Area]],Scorecard!G$5)","v":1},{"$f":"COUNTIFS(TU_DB[[NO2 Bin (2n1) (ppm)]:[NO2 Bin (2n1) (ppm)]],$C30,TU_DB[[TU Chapter Area]:[TU Chapter Area]],Scorecard!H$5)","v":0},{"$f":"COUNTIFS(TU_DB[[NO2 Bin (2n1) (ppm)]:[NO2 Bin (2n1) (ppm)]],$C30,TU_DB[[TU Chapter Area]:[TU Chapter Area]],Scorecard!I$5)","v":1},{"$f":"COUNTIFS(TU_DB[[NO2 Bin (2n1) (ppm)]:[NO2 Bin (2n1) (ppm)]],$C30,TU_DB[[TU Chapter Area]:[TU Chapter Area]],Scorecard!J$5)","v":0},{"$f":"COUNTIFS(TU_DB[[NO2 Bin (2n1) (ppm)]:[NO2 Bin (2n1) (ppm)]],$C30,TU_DB[[TU Chapter Area]:[TU Chapter Area]],Scorecard!K$5)","v":0},{"$f":"COUNTIFS(TU_DB[[NO2 Bin (2n1) (ppm)]:[NO2 Bin (2n1) (ppm)]],$C30,TU_DB[[TU Chapter Area]:[TU Chapter Area]],Scorecard!L$5)","v":0},{"$f":"COUNTIFS(TU_DB[[NO2 Bin (2n1) (ppm)]:[NO2 Bin (2n1) (ppm)]],$C30,TU_DB[[TU Chapter Area]:[TU Chapter Area]],Scorecard!M$5)","v":0},{"$f":"COUNTIFS(TU_DB[[NO2 Bin (2n1) (ppm)]:[NO2 Bin (2n1) (ppm)]],$C30,TU_DB[[TU Chapter Area]:[TU Chapter Area]],Scorecard!N$5)","v":0},{"$f":"COUNTIFS(TU_DB[[NO2 Bin (2n1) (ppm)]:[NO2 Bin (2n1) (ppm)]],$C30,TU_DB[[TU Chapter Area]:[TU Chapter Area]],Scorecard!O$5)","v":0},{"$f":"COUNTIFS(TU_DB[[NO2 Bin (2n1) (ppm)]:[NO2 Bin (2n1) (ppm)]],$C30,TU_DB[[TU Chapter Area]:[TU Chapter Area]],Scorecard!P$5)","v":0},{"$f":"COUNTIFS(TU_DB[[NO2 Bin (2n1) (ppm)]:[NO2 Bin (2n1) (ppm)]],$C30,TU_DB[[TU Chapter Area]:[TU Chapter Area]],Scorecard!Q$5)","v":0},{"$f":"COUNTIFS(TU_DB[[NO2 Bin (2n1) (ppm)]:[NO2 Bin (2n1) (ppm)]],$C30,TU_DB[[TU Chapter Area]:[TU Chapter Area]],Scorecard!R$5)","v":0},{"$f":"COUNTIFS(TU_DB[[NO2 Bin (2n1) (ppm)]:[NO2 Bin (2n1) (ppm)]],$C30,TU_DB[[TU Chapter Area]:[TU Chapter Area]],Scorecard!S$5)","v":0},null,0.4,0,0,2.5157232704402519E-3,0,1.8867924528301887E-3,0,0,0,0,0,0,0,0,0,0]
[null,null,1,"Lethal",{"$f":"COUNTIFS(TU_DB[[NO2 Bin (2n1) (ppm)]:[NO2 Bin (2n1) (ppm)]],$C31,TU_DB[[TU Chapter Area]:[TU Chapter Area]],Scorecard!E$5)","v":0},{"$f":"COUNTIFS(TU_DB[[NO2 Bin (2n1) (ppm)]:[NO2 Bin (2n1) (ppm)]],$C31,TU_DB[[TU Chapter Area]:[TU Chapter Area]],Scorecard!F$5)","v":0},{"$f":"COUNTIFS(TU_DB[[NO2 Bin (2n1) (ppm)]:[NO2 Bin (2n1) (ppm)]],$C31,TU_DB[[TU Chapter Area]:[TU Chapter Area]],Scorecard!G$5)","v":0},{"$f":"COUNTIFS(TU_DB[[NO2 Bin (2n1) (ppm)]:[NO2 Bin (2n1) (ppm)]],$C31,TU_DB[[TU Chapter Area]:[TU Chapter Area]],Scorecard!H$5)","v":0},{"$f":"COUNTIFS(TU_DB[[NO2 Bin (2n1) (ppm)]:[NO2 Bin (2n1) (ppm)]],$C31,TU_DB[[TU Chapter Area]:[TU Chapter Area]],Scorecard!I$5)","v":0},{"$f":"COUNTIFS(TU_DB[[NO2 Bin (2n1) (ppm)]:[NO2 Bin (2n1) (ppm)]],$C31,TU_DB[[TU Chapter Area]:[TU Chapter Area]],Scorecard!J$5)","v":0},{"$f":"COUNTIFS(TU_DB[[NO2 Bin (2n1) (ppm)]:[NO2 Bin (2n1) (ppm)]],$C31,TU_DB[[TU Chapter Area]:[TU Chapter Area]],Scorecard!K$5)","v":0},{"$f":"COUNTIFS(TU_DB[[NO2 Bin (2n1) (ppm)]:[NO2 Bin (2n1) (ppm)]],$C31,TU_DB[[TU Chapter Area]:[TU Chapter Area]],Scorecard!L$5)","v":0},{"$f":"COUNTIFS(TU_DB[[NO2 Bin (2n1) (ppm)]:[NO2 Bin (2n1) (ppm)]],$C31,TU_DB[[TU Chapter Area]:[TU Chapter Area]],Scorecard!M$5)","v":0},{"$f":"COUNTIFS(TU_DB[[NO2 Bin (2n1) (ppm)]:[NO2 Bin (2n1) (ppm)]],$C31,TU_DB[[TU Chapter Area]:[TU Chapter Area]],Scorecard!N$5)","v":0},{"$f":"COUNTIFS(TU_DB[[NO2 Bin (2n1) (ppm)]:[NO2 Bin (2n1) (ppm)]],$C31,TU_DB[[TU Chapter Area]:[TU Chapter Area]],Scorecard!O$5)","v":0},{"$f":"COUNTIFS(TU_DB[[NO2 Bin (2n1) (ppm)]:[NO2 Bin (2n1) (ppm)]],$C31,TU_DB[[TU Chapter Area]:[TU Chapter Area]],Scorecard!P$5)","v":0},{"$f":"COUNTIFS(TU_DB[[NO2 Bin (2n1) (ppm)]:[NO2 Bin (2n1) (ppm)]],$C31,TU_DB[[TU Chapter Area]:[TU Chapter Area]],Scorecard!Q$5)","v":0},{"$f":"COUNTIFS(TU_DB[[NO2 Bin (2n1) (ppm)]:[NO2 Bin (2n1) (ppm)]],$C31,TU_DB[[TU Chapter Area]:[TU Chapter Area]],Scorecard!R$5)","v":0},{"$f":"COUNTIFS(TU_DB[[NO2 Bin (2n1) (ppm)]:[NO2 Bin (2n1) (ppm)]],$C31,TU_DB[[TU Chapter Area]:[TU Chapter Area]],Scorecard!S$5)","v":0},null,0,0,0,0,0,0,0,0,0,0,0,0,0,0,0,0]
[null,null,null,"Observations",{"$f":"SUM(E28:E31)","v":13},{"$f":"SUM(F28:F31)","v":5},{"$f":"SUM(G28:G31)","v":159},40,212,49,0,0,27,0,0,44,0,131,0,null,{"$f":"SUM(U28:U31)","v":2},0.90769230769230769,{"$f":"SUM(W28:W31)","v":1},0.96855345911949686,0.95,0.93301886792452826,0.9346938775510204,0,0,0.92592592592592582,0,0,0.94545454545454544,0,0.9328244274809161,0]
[null,"NO3",2,"Good",{"$f":"COUNTIFS(TU_DB[[NO3 Bin (2n1) (ppm)]:[NO3 Bin (2n1) (ppm)]],\"<=\"&$C33,TU_DB[[TU Chapter Area]:[TU Chapter Area]],Scorecard!E$5)","v":13},{"$f":"COUNTIFS(TU_DB[[NO3 Bin (2n1) (ppm)]:[NO3 Bin (2n1) (ppm)]],\"<=\"&$C33,TU_DB[[TU Chapter Area]:[TU Chapter Area]],Scorecard!F$5)","v":4},{"$f":"COUNTIFS(TU_DB[[NO3 Bin (2n1) (ppm)]:[NO3 Bin (2n1) (ppm)]],\"<=\"&$C33,TU_DB[[TU Chapter Area]:[TU Chapter Area]],Scorecard!G$5)","v":155},{"$f":"COUNTIFS(TU_DB[[NO3 Bin (2n1) (ppm)]:[NO3 Bin (2n1) (ppm)]],\"<=\"&$C33,TU_DB[[TU Chapter Area]:[TU Chapter Area]],Scorecard!H$5)","v":38},{"$f":"COUNTIFS(TU_DB[[NO3 Bin (2n1) (ppm)]:[NO3 Bin (2n1) (ppm)]],\"<=\"&$C33,TU_DB[[TU Chapter Area]:[TU Chapter Area]],Scorecard!I$5)","v":125},{"$f":"COUNTIFS(TU_DB[[NO3 Bin (2n1) (ppm)]:[NO3 Bin (2n1) (ppm)]],\"<=\"&$C33,TU_DB[[TU Chapter Area]:[TU Chapter Area]],Scorecard!J$5)","v":23},{"$f":"COUNTIFS(TU_DB[[NO3 Bin (2n1) (ppm)]:[NO3 Bin (2n1) (ppm)]],\"<=\"&$C33,TU_DB[[TU Chapter Area]:[TU Chapter Area]],Scorecard!K$5)","v":0},{"$f":"COUNTIFS(TU_DB[[NO3 Bin (2n1) (ppm)]:[NO3 Bin (2n1) (ppm)]],\"<=\"&$C33,TU_DB[[TU Chapter Area]:[TU Chapter Area]],Scorecard!L$5)","v":0},{"$f":"COUNTIFS(TU_DB[[NO3 Bin (2n1) (ppm)]:[NO3 Bin (2n1) (ppm)]],\"<=\"&$C33,TU_DB[[TU Chapter Area]:[TU Chapter Area]],Scorecard!M$5)","v":14},{"$f":"COUNTIFS(TU_DB[[NO3 Bin (2n1) (ppm)]:[NO3 Bin (2n1) (ppm)]],\"<=\"&$C33,TU_DB[[TU Chapter Area]:[TU Chapter Area]],Scorecard!N$5)","v":0},{"$f":"COUNTIFS(TU_DB[[NO3 Bin (2n1) (ppm)]:[NO3 Bin (2n1) (ppm)]],\"<=\"&$C33,TU_DB[[TU Chapter Area]:[TU Chapter Area]],Scorecard!O$5)","v":0},{"$f":"COUNTIFS(TU_DB[[NO3 Bin (2n1) (ppm)]:[NO3 Bin (2n1) (ppm)]],\"<=\"&$C33,TU_DB[[TU Chapter Area]:[TU Chapter Area]],Scorecard!P$5)","v":31},{"$f":"COUNTIFS(TU_DB[[NO3 Bin (2n1) (ppm)]:[NO3 Bin (2n1) (ppm)]],\"<=\"&$C33,TU_DB[[TU Chapter Area]:[TU Chapter Area]],Scorecard!Q$5)","v":0},{"$f":"COUNTIFS(TU_DB[[NO3 Bin (2n1) (ppm)]:[NO3 Bin (2n1) (ppm)]],\"<=\"&$C33,TU_DB[[TU Chapter Area]:[TU Chapter Area]],Scorecard!R$5)","v":92},{"$f":"COUNTIFS(TU_DB[[NO3 Bin (2n1) (ppm)]:[NO3 Bin (2n1) (ppm)]],\"<=\"&$C33,TU_DB[[TU Chapter Area]:[TU Chapter Area]],Scorecard!S$5)","v":0},null,1,{"$f":"IFERROR(E33*$U33/E$37,0)","v":1},{"$f":"IFERROR(F33*$U33/F$37,0)","v":0.8},{"$f":"IFERROR(G33*$U33/G$37,0)","v":0.97484276729559749},{"$f":"IFERROR(H33*$U33/H$37,0)","v":0.95},{"$f":"IFERROR(I33*$U33/I$37,0)","v":0.589622641509434},{"$f":"IFERROR(J33*$U33/J$37,0)","v":0.46938775510204084},{"$f":"IFERROR(K33*$U33/K$37,0)","v":0},{"$f":"IFERROR(L33*$U33/L$37,0)","v":0},{"$f":"IFERROR(M33*$U33/M$37,0)","v":0.51851851851851849},{"$f":"IFERROR(N33*$U33/N$37,0)","v":0},{"$f":"IFERROR(O33*$U33/O$37,0)","v":0},{"$f":"IFERROR(P33*$U33/P$37,0)","v":0.70454545454545459},{"$f":"IFERROR(Q33*$U33/Q$37,0)","v":0},{"$f":"IFERROR(R33*$U33/R$37,0)","v":0.70229007633587781},{"$f":"IFERROR(S33*$U33/S$37,0)","v":0}]
[null,null,5,"Ave",{"$f":"COUNTIFS(TU_DB[[NO3 Bin (2n1) (ppm)]:[NO3 Bin (2n1) (ppm)]],$C34,TU_DB[[TU Chapter Area]:[TU Chapter Area]],Scorecard!E$5)","v":0},{"$f":"COUNTIFS(TU_DB[[NO3 Bin (2n1) (ppm)]:[NO3 Bin (2n1) (ppm)]],$C34,TU_DB[[TU Chapter Area]:[TU Chapter Area]],Scorecard!F$5)","v":1},{"$f":"COUNTIFS(TU_DB[[NO3 Bin (2n1) (ppm)]:[NO3 Bin (2n1) (ppm)]],$C34,TU_DB[[TU Chapter Area]:[TU Chapter Area]],Scorecard!G$5)","v":4},{"$f":"COUNTIFS(TU_DB[[NO3 Bin (2n1) (ppm)]:[NO3 Bin (2n1) (ppm)]],$C34,TU_DB[[TU Chapter Area]:[TU Chapter Area]],Scorecard!H$5)","v":2},{"$f":"COUNTIFS(TU_DB[[NO3 Bin (2n1) (ppm)]:[NO3 Bin (2n1) (ppm)]],$C34,TU_DB[[TU Chapter Area]:[TU Chapter Area]],Scorecard!I$5)","v":86},{"$f":"COUNTIFS(TU_DB[[NO3 Bin (2n1) (ppm)]:[NO3 Bin (2n1) (ppm)]],$C34,TU_DB[[TU Chapter Area]:[TU Chapter Area]],Scorecard!J$5)","v":26},{"$f":"COUNTIFS(TU_DB[[NO3 Bin (2n1) (ppm)]:[NO3 Bin (2n1) (ppm)]],$C34,TU_DB[[TU Chapter Area]:[TU Chapter Area]],Scorecard!K$5)","v":0},{"$f":"COUNTIFS(TU_DB[[NO3 Bin (2n1) (ppm)]:[NO3 Bin (2n1) (ppm)]],$C34,TU_DB[[TU Chapter Area]:[TU Chapter Area]],Scorecard!L$5)","v":0},{"$f":"COUNTIFS(TU_DB[[NO3 Bin (2n1) (ppm)]:[NO3 Bin (2n1) (ppm)]],$C34,TU_DB[[TU Chapter Area]:[TU Chapter Area]],Scorecard!M$5)","v":13},{"$f":"COUNTIFS(TU_DB[[NO3 Bin (2n1) (ppm)]:[NO3 Bin (2n1) (ppm)]],$C34,TU_DB[[TU Chapter Area]:[TU Chapter Area]],Scorecard!N$5)","v":0},{"$f":"COUNTIFS(TU_DB[[NO3 Bin (2n1) (ppm)]:[NO3 Bin (2n1) (ppm)]],$C34,TU_DB[[TU Chapter Area]:[TU Chapter Area]],Scorecard!O$5)","v":0},{"$f":"COUNTIFS(TU_DB[[NO3 Bin (2n1) (ppm)]:[NO3 Bin (2n1) (ppm)]],$C34,TU_DB[[TU Chapter Area]:[TU Chapter Area]],Scorecard!P$5)","v":12},{"$f":"COUNTIFS(TU_DB[[NO3 Bin (2n1) (ppm)]:[NO3 Bin (2n1) (ppm)]],$C34,TU_DB[[TU Chapter Area]:[TU Chapter Area]],Scorecard!Q$5)","v":0},{"$f":"COUNTIFS(TU_DB[[NO3 Bin (2n1) (ppm)]:[NO3 Bin (2n1) (ppm)]],$C34,TU_DB[[TU Chapter Area]:[TU Chapter Area]],Scorecard!R$5)","v":39},{"$f":"COUNTIFS(TU_DB[[NO3 Bin (2n1) (ppm)]:[NO3 Bin (2n1) (ppm)]],$C34,TU_DB[[TU Chapter Area]:[TU Chapter Area]],Scorecard!S$5)","v":0},null,0.6,{"$f":"IFERROR(E34*$U34/E$37,0)","v":0},0.12,1.509433962264151E-2,0.03,0.24339622641509434,0.3183673469387755,0,0,0.28888888888888886,0,0,0.16363636363636361,0,0.17862595419847327,0,null,null,null,null,{"$f":"85*7","v":595}]
[null,null,10,"Poor",{"$f":"COUNTIFS(TU_DB[[NO3 Bin (2n1) (ppm)]:[NO3 Bin (2n1) (ppm)]],$C35,TU_DB[[TU Chapter Area]:[TU Chapter Area]],Scorecard!E$5)","v":0},{"$f":"COUNTIFS(TU_DB[[NO3 Bin (2n1) (ppm)]:[NO3 Bin (2n1) (ppm)]],$C35,TU_DB[[TU Chapter Area]:[TU Chapter Area]],Scorecard!F$5)","v":0},{"$f":"COUNTIFS(TU_DB[[NO3 Bin (2n1) (ppm)]:[NO3 Bin (2n1) (ppm)]],$C35,TU_DB[[TU Chapter Area]:[TU Chapter Area]],Scorecard!G$5)","v":0},{"$f":"COUNTIFS(TU_DB[[NO3 Bin (2n1) (ppm)]:[NO3 Bin (2n1) (ppm)]],$C35,TU_DB[[TU Chapter Area]:[TU Chapter Area]],Scorecard!H$5)","v":0},{"$f":"COUNTIFS(TU_DB[[NO3 Bin (2n1) (ppm)]:[NO3 Bin (2n1) (ppm)]],$C35,TU_DB[[TU Chapter Area]:[TU Chapter Area]],Scorecard!I$5)","v":1},{"$f":"COUNTIFS(TU_DB[[NO3 Bin (2n1) (ppm)]:[NO3 Bin (2n1) (ppm)]],$C35,TU_DB[[TU Chapter Area]:[TU Chapter Area]],Scorecard!J$5)","v":0},{"$f":"COUNTIFS(TU_DB[[NO3 Bin (2n1) (ppm)]:[NO3 Bin (2n1) (ppm)]],$C35,TU_DB[[TU Chapter Area]:[TU Chapter Area]],Scorecard!K$5)","v":0},{"$f":"COUNTIFS(TU_DB[[NO3 Bin (2n1) (ppm)]:[NO3 Bin (2n1) (ppm)]],$C35,TU_DB[[TU Chapter Area]:[TU Chapter Area]],Scorecard!L$5)","v":0},{"$f":"COUNTIFS(TU_DB[[NO3 Bin (2n1) (ppm)]:[NO3 Bin (2n1) (ppm)]],$C35,TU_DB[[TU Chapter Area]:[TU Chapter Area]],Scorecard!M$5)","v":0},{"$f":"COUNTIFS(TU_DB[[NO3 Bin (2n1) (ppm)]:[NO3 Bin (2n1) (ppm)]],$C35,TU_DB[[TU Chapter Area]:[TU Chapter Area]],Scorecard!N$5)","v":0},{"$f":"COUNTIFS(TU_DB[[NO3 Bin (2n1) (ppm)]:[NO3 Bin (2n1) (ppm)]],$C35,TU_DB[[TU Chapter Area]:[TU Chapter Area]],Scorecard!O$5)","v":0},{"$f":"COUNTIFS(TU_DB[[NO3 Bin (2n1) (ppm)]:[NO3 Bin (2n1) (ppm)]],$C35,TU_DB[[TU Chapter Area]:[TU Chapter Area]],Scorecard!P$5)","v":1},{"$f":"COUNTIFS(TU_DB[[NO3 Bin (2n1) (ppm)]:[NO3 Bin (2n1) (ppm)]],$C35,TU_DB[[TU Chapter Area]:[TU Chapter Area]],Scorecard!Q$5)","v":0},{"$f":"COUNTIFS(TU_DB[[NO3 Bin (2n1) (ppm)]:[NO3 Bin (2n1) (ppm)]],$C35,TU_DB[[TU Chapter Area]:[TU Chapter Area]],Scorecard!R$5)","v":0},{"$f":"COUNTIFS(TU_DB[[NO3 Bin (2n1) (ppm)]:[NO3 Bin (2n1) (ppm)]],$C35,TU_DB[[TU Chapter Area]:[TU Chapter Area]],Scorecard!S$5)","v":0},null,0.4,0,0,0,0,1.8867924528301887E-3,0,0,0,0,0,0,9.0909090909090922E-3,0,0,0]
[null,null,50,"Lethal",{"$f":"COUNTIFS(TU_DB[[NO3 Bin (2n1) (ppm)]:[NO3 Bin (2n1) (ppm)]],\">\"&$C35,TU_DB[[TU Chapter Area]:[TU Chapter Area]],Scorecard!E$5)","v":0},{"$f":"COUNTIFS(TU_DB[[NO3 Bin (2n1) (ppm)]:[NO3 Bin (2n1) (ppm)]],\">\"&$C35,TU_DB[[TU Chapter Area]:[TU Chapter Area]],Scorecard!F$5)","v":0},{"$f":"COUNTIFS(TU_DB[[NO3 Bin (2n1) (ppm)]:[NO3 Bin (2n1) (ppm)]],\">\"&$C35,TU_DB[[TU Chapter Area]:[TU Chapter Area]],Scorecard!G$5)","v":0},{"$f":"COUNTIFS(TU_DB[[NO3 Bin (2n1) (ppm)]:[NO3 Bin (2n1) (ppm)]],\">\"&$C35,TU_DB[[TU Chapter Area]:[TU Chapter Area]],Scorecard!H$5)","v":0},{"$f":"COUNTIFS(TU_DB[[NO3 Bin (2n1) (ppm)]:[NO3 Bin (2n1) (ppm)]],\">\"&$C35,TU_DB[[TU Chapter Area]:[TU Chapter Area]],Scorecard!I$5)","v":0},{"$f":"COUNTIFS(TU_DB[[NO3 Bin (2n1) (ppm)]:[NO3 Bin (2n1) (ppm)]],\">\"&$C35,TU_DB[[TU Chapter Area]:[TU Chapter Area]],Scorecard!J$5)","v":0},{"$f":"COUNTIFS(TU_DB[[NO3 Bin (2n1) (ppm)]:[NO3 Bin (2n1) (ppm)]],\">\"&$C35,TU_DB[[TU Chapter Area]:[TU Chapter Area]],Scorecard!K$5)","v":0},{"$f":"COUNTIFS(TU_DB[[NO3 Bin (2n1) (ppm)]:[NO3 Bin (2n1) (ppm)]],\">\"&$C35,TU_DB[[TU Chapter Area]:[TU Chapter Area]],Scorecard!L$5)","v":0},{"$f":"COUNTIFS(TU_DB[[NO3 Bin (2n1) (ppm)]:[NO3 Bin (2n1) (ppm)]],\">\"&$C35,TU_DB[[TU Chapter Area]:[TU Chapter Area]],Scorecard!M$5)","v":0},{"$f":"COUNTIFS(TU_DB[[NO3 Bin (2n1) (ppm)]:[NO3 Bin (2n1) (ppm)]],\">\"&$C35,TU_DB[[TU Chapter Area]:[TU Chapter Area]],Scorecard!N$5)","v":0},{"$f":"COUNTIFS(TU_DB[[NO3 Bin (2n1) (ppm)]:[NO3 Bin (2n1) (ppm)]],\">\"&$C35,TU_DB[[TU Chapter Area]:[TU Chapter Area]],Scorecard!O$5)","v":0},{"$f":"COUNTIFS(TU_DB[[NO3 Bin (2n1) (ppm)]:[NO3 Bin (2n1) (ppm)]],\">\"&$C35,TU_DB[[TU Chapter Area]:[TU Chapter Area]],Scorecard!P$5)","v":0},{"$f":"COUNTIFS(TU_DB[[NO3 Bin (2n1) (ppm)]:[NO3 Bin (2n1) (ppm)]],\">\"&$C35,TU_DB[[TU Chapter Area]:[TU Chapter Area]],Scorecard!Q$5)","v":0},{"$f":"COUNTIFS(TU_DB[[NO3 Bin (2n1) (ppm)]:[NO3 Bin (2n1) (ppm)]],\">\"&$C35,TU_DB[[TU Chapter Area]:[TU Chapter Area]],Scorecard!R$5)","v":0},{"$f":"COUNTIFS(TU_DB[[NO3 Bin (2n1) (ppm)]:[NO3 Bin (2n1) (ppm)]],\">\"&$C35,TU_DB[[TU Chapter Area]:[TU Chapter Area]],Scorecard!S$5)","v":0},null,0,0,0,0,0,0,0,0,0,0,0,0,0,0,0,0]
[null,null,null,"Observations",{"$f":"SUM(E33:E36)","v":13},{"$f":"SUM(F33:F36)","v":5},159,40,212,49,0,0,27,0,0,44,0,131,0,null,null,{"$f":"SUM(V33:V36)","v":1},{"$f":"SUM(W33:W36)","v":0.92},0.989937106918239,0.98,0.83490566037735847,0.78775510204081634,0,0,0.80740740740740735,0,0,0.8772727272727272,0,0.88091603053435108,0]
[null,"Phos",0,"Good",{"$f":"COUNTIFS(TU_DB[[Orthophosphate (ppb)]:[Orthophosphate (ppb)]],\"<=\"&$C38,TU_DB[[TU Chapter Area]:[TU Chapter Area]],Scorecard!E$5)","v":1},{"$f":"COUNTIFS(TU_DB[[Orthophosphate (ppb)]:[Orthophosphate (ppb)]],\"<=\"&$C38,TU_DB[[TU Chapter Area]:[TU Chapter Area]],Scorecard!F$5)","v":1},{"$f":"COUNTIFS(TU_DB[[Orthophosphate (ppb)]:[Orthophosphate (ppb)]],\"<=\"&$C38,TU_DB[[TU Chapter Area]:[TU Chapter Area]],Scorecard!G$5)","v":90},{"$f":"COUNTIFS(TU_DB[[Orthophosphate (ppb)]:[Orthophosphate (ppb)]],\"<=\"&$C38,TU_DB[[TU Chapter Area]:[TU Chapter Area]],Scorecard!H$5)","v":22},{"$f":"COUNTIFS(TU_DB[[Orthophosphate (ppb)]:[Orthophosphate (ppb)]],\"<=\"&$C38,TU_DB[[TU Chapter Area]:[TU Chapter Area]],Scorecard!I$5)","v":141},{"$f":"COUNTIFS(TU_DB[[Orthophosphate (ppb)]:[Orthophosphate (ppb)]],\"<=\"&$C38,TU_DB[[TU Chapter Area]:[TU Chapter Area]],Scorecard!J$5)","v":20},{"$f":"COUNTIFS(TU_DB[[Orthophosphate (ppb)]:[Orthophosphate (ppb)]],\"<=\"&$C38,TU_DB[[TU Chapter Area]:[TU Chapter Area]],Scorecard!K$5)","v":0},{"$f":"COUNTIFS(TU_DB[[Orthophosphate (ppb)]:[Orthophosphate (ppb)]],\"<=\"&$C38,TU_DB[[TU Chapter Area]:[TU Chapter Area]],Scorecard!L$5)","v":0},{"$f":"COUNTIFS(TU_DB[[Orthophosphate (ppb)]:[Orthophosphate (ppb)]],\"<=\"&$C38,TU_DB[[TU Chapter Area]:[TU Chapter Area]],Scorecard!M$5)","v":13},{"$f":"COUNTIFS(TU_DB[[Orthophosphate (ppb)]:[Orthophosphate (ppb)]],\"<=\"&$C38,TU_DB[[TU Chapter Area]:[TU Chapter Area]],Scorecard!N$5)","v":0},{"$f":"COUNTIFS(TU_DB[[Orthophosphate (ppb)]:[Orthophosphate (ppb)]],\"<=\"&$C38,TU_DB[[TU Chapter Area]:[TU Chapter Area]],Scorecard!O$5)","v":0},{"$f":"COUNTIFS(TU_DB[[Orthophosphate (ppb)]:[Orthophosphate (ppb)]],\"<=\"&$C38,TU_DB[[TU Chapter Area]:[TU Chapter Area]],Scorecard!P$5)","v":26},{"$f":"COUNTIFS(TU_DB[[Orthophosphate (ppb)]:[Orthophosphate (ppb)]],\"<=\"&$C38,TU_DB[[TU Chapter Area]:[TU Chapter Area]],Scorecard!Q$5)","v":0},{"$f":"COUNTIFS(TU_DB[[Orthophosphate (ppb)]:[Orthophosphate (ppb)]],\"<=\"&$C38,TU_DB[[TU Chapter Area]:[TU Chapter Area]],Scorecard!R$5)","v":93},{"$f":"COUNTIFS(TU_DB[[Orthophosphate (ppb)]:[Orthophosphate (ppb)]],\"<=\"&$C38,TU_DB[[TU Chapter Area]:[TU Chapter Area]],Scorecard!S$5)","v":0},null,1,{"$f":"IFERROR(E38*$U38/E$42,0)","v":0.125},{"$f":"IFERROR(F38*$U38/F$42,0)","v":1},{"$f":"IFERROR(G38*$U38/G$42,0)","v":0.7142857142857143},{"$f":"IFERROR(H38*$U38/H$42,0)","v":0.84615384615384615},{"$f":"IFERROR(I38*$U38/I$42,0)","v":0.68780487804878043},{"$f":"IFERROR(J38*$U38/J$42,0)","v":0.52631578947368418},{"$f":"IFERROR(K38*$U38/K$42,0)","v":0},{"$f":"IFERROR(L38*$U38/L$42,0)","v":0},{"$f":"IFERROR(M38*$U38/M$42,0)","v":0.61904761904761907},{"$f":"IFERROR(N38*$U38/N$42,0)","v":0},{"$f":"IFERROR(O38*$U38/O$42,0)","v":0},{"$f":"IFERROR(P38*$U38/P$42,0)","v":0.65},{"$f":"IFERROR(Q38*$U38/Q$42,0)","v":0},{"$f":"IFERROR(R38*$U38/R$42,0)","v":0.79487179487179482},{"$f":"IFERROR(S38*$U38/S$42,0)","v":0}]
[null,null,100,"Ave",{"$f":"COUNTIFS(TU_DB[[Orthophosphate (ppb)]:[Orthophosphate (ppb)]],$C39,TU_DB[[TU Chapter Area]:[TU Chapter Area]],Scorecard!E$5)","v":6},{"$f":"COUNTIFS(TU_DB[[Orthophosphate (ppb)]:[Orthophosphate (ppb)]],$C39,TU_DB[[TU Chapter Area]:[TU Chapter Area]],Scorecard!F$5)","v":0},{"$f":"COUNTIFS(TU_DB[[Orthophosphate (ppb)]:[Orthophosphate (ppb)]],$C39,TU_DB[[TU Chapter Area]:[TU Chapter Area]],Scorecard!G$5)","v":34},{"$f":"COUNTIFS(TU_DB[[Orthophosphate (ppb)]:[Orthophosphate (ppb)]],$C39,TU_DB[[TU Chapter Area]:[TU Chapter Area]],Scorecard!H$5)","v":4},{"$f":"COUNTIFS(TU_DB[[Orthophosphate (ppb)]:[Orthophosphate (ppb)]],$C39,TU_DB[[TU Chapter Area]:[TU Chapter Area]],Scorecard!I$5)","v":60},{"$f":"COUNTIFS(TU_DB[[Orthophosphate (ppb)]:[Orthophosphate (ppb)]],$C39,TU_DB[[TU Chapter Area]:[TU Chapter Area]],Scorecard!J$5)","v":18},{"$f":"COUNTIFS(TU_DB[[Orthophosphate (ppb)]:[Orthophosphate (ppb)]],$C39,TU_DB[[TU Chapter Area]:[TU Chapter Area]],Scorecard!K$5)","v":0},{"$f":"COUNTIFS(TU_DB[[Orthophosphate (ppb)]:[Orthophosphate (ppb)]],$C39,TU_DB[[TU Chapter Area]:[TU Chapter Area]],Scorecard!L$5)","v":0},{"$f":"COUNTIFS(TU_DB[[Orthophosphate (ppb)]:[Orthophosphate (ppb)]],$C39,TU_DB[[TU Chapter Area]:[TU Chapter Area]],Scorecard!M$5)","v":8},{"$f":"COUNTIFS(TU_DB[[Orthophosphate (ppb)]:[Orthophosphate (ppb)]],$C39,TU_DB[[TU Chapter Area]:[TU Chapter Area]],Scorecard!N$5)","v":0},{"$f":"COUNTIFS(TU_DB[[Orthophosphate (ppb)]:[Orthophosphate (ppb)]],$C39,TU_DB[[TU Chapter Area]:[TU Chapter Area]],Scorecard!O$5)","v":0},{"$f":"COUNTIFS(TU_DB[[Orthophosphate (ppb)]:[Orthophosphate (ppb)]],$C39,TU_DB[[TU Chapter Area]:[TU Chapter Area]],Scorecard!P$5)","v":14},{"$f":"COUNTIFS(TU_DB[[Orthophosphate (ppb)]:[Orthophosphate (ppb)]],$C39,TU_DB[[TU Chapter Area]:[TU Chapter Area]],Scorecard!Q$5)","v":0},{"$f":"COUNTIFS(TU_DB[[Orthophosphate (ppb)]:[Orthophosphate (ppb)]],$C39,TU_DB[[TU Chapter Area]:[TU Chapter Area]],Scorecard!R$5)","v":20},{"$f":"COUNTIFS(TU_DB[[Orthophosphate (ppb)]:[Orthophosphate (ppb)]],$C39,TU_DB[[TU Chapter Area]:[TU Chapter Area]],Scorecard!S$5)","v":0},null,0.6,{"$f":"IFERROR(E39*$U39/E$42,0)","v":0.44999999999999996},0,0.16190476190476188,9.2307692307692299E-2,0.17560975609756097,0.28421052631578947,0,0,0.22857142857142856,0,0,0.21000000000000002,0,0.10256410256410256,0]
[null,null,500,"Poor",{"$f":"COUNTIFS(TU_DB[[Orthophosphate (ppb)]:[Orthophosphate (ppb)]],$C40,TU_DB[[TU Chapter Area]:[TU Chapter Area]],Scorecard!E$5)","v":1},{"$f":"COUNTIFS(TU_DB[[Orthophosphate (ppb)]:[Orthophosphate (ppb)]],$C40,TU_DB[[TU Chapter Area]:[TU Chapter Area]],Scorecard!F$5)","v":0},{"$f":"COUNTIFS(TU_DB[[Orthophosphate (ppb)]:[Orthophosphate (ppb)]],$C40,TU_DB[[TU Chapter Area]:[TU Chapter Area]],Scorecard!G$5)","v":2},{"$f":"COUNTIFS(TU_DB[[Orthophosphate (ppb)]:[Orthophosphate (ppb)]],$C40,TU_DB[[TU Chapter Area]:[TU Chapter Area]],Scorecard!H$5)","v":0},{"$f":"COUNTIFS(TU_DB[[Orthophosphate (ppb)]:[Orthophosphate (ppb)]],$C40,TU_DB[[TU Chapter Area]:[TU Chapter Area]],Scorecard!I$5)","v":2},{"$f":"COUNTIFS(TU_DB[[Orthophosphate (ppb)]:[Orthophosphate (ppb)]],$C40,TU_DB[[TU Chapter Area]:[TU Chapter Area]],Scorecard!J$5)","v":0},{"$f":"COUNTIFS(TU_DB[[Orthophosphate (ppb)]:[Orthophosphate (ppb)]],$C40,TU_DB[[TU Chapter Area]:[TU Chapter Area]],Scorecard!K$5)","v":0},{"$f":"COUNTIFS(TU_DB[[Orthophosphate (ppb)]:[Orthophosphate (ppb)]],$C40,TU_DB[[TU Chapter Area]:[TU Chapter Area]],Scorecard!L$5)","v":0},{"$f":"COUNTIFS(TU_DB[[Orthophosphate (ppb)]:[Orthophosphate (ppb)]],$C40,TU_DB[[TU Chapter Area]:[TU Chapter Area]],Scorecard!M$5)","v":0},{"$f":"COUNTIFS(TU_DB[[Orthophosphate (ppb)]:[Orthophosphate (ppb)]],$C40,TU_DB[[TU Chapter Area]:[TU Chapter Area]],Scorecard!N$5)","v":0},{"$f":"COUNTIFS(TU_DB[[Orthophosphate (ppb)]:[Orthophosphate (ppb)]],$C40,TU_DB[[TU Chapter Area]:[TU Chapter Area]],Scorecard!O$5)","v":0},{"$f":"COUNTIFS(TU_DB[[Orthophosphate (ppb)]:[Orthophosphate (ppb)]],$C40,TU_DB[[TU Chapter Area]:[TU Chapter Area]],Scorecard!P$5)","v":0},{"$f":"COUNTIFS(TU_DB[[Orthophosphate (ppb)]:[Orthophosphate (ppb)]],$C40,TU_DB[[TU Chapter Area]:[TU Chapter Area]],Scorecard!Q$5)","v":0},{"$f":"COUNTIFS(TU_DB[[Orthophosphate (ppb)]:[Orthophosphate (ppb)]],$C40,TU_DB[[TU Chapter Area]:[TU Chapter Area]],Scorecard!R$5)","v":4},{"$f":"COUNTIFS(TU_DB[[Orthophosphate (ppb)]:[Orthophosphate (ppb)]],$C40,TU_DB[[TU Chapter Area]:[TU Chapter Area]],Scorecard!S$5)","v":0},null,0.4,0.05,0,6.3492063492063492E-3,0,3.9024390243902443E-3,0,0,0,0,0,0,0,0,1.3675213675213675E-2,0]
[null,null,1000,"Lethal",{"$f":"COUNTIFS(TU_DB[[Orthophosphate (ppb)]:[Orthophosphate (ppb)]],\">\"&$C40,TU_DB[[TU Chapter Area]:[TU Chapter Area]],Scorecard!E$5)","v":0},{"$f":"COUNTIFS(TU_DB[[Orthophosphate (ppb)]:[Orthophosphate (ppb)]],\">\"&$C40,TU_DB[[TU Chapter Area]:[TU Chapter Area]],Scorecard!F$5)","v":0},{"$f":"COUNTIFS(TU_DB[[Orthophosphate (ppb)]:[Orthophosphate (ppb)]],\">\"&$C40,TU_DB[[TU Chapter Area]:[TU Chapter Area]],Scorecard!G$5)","v":0},{"$f":"COUNTIFS(TU_DB[[Orthophosphate (ppb)]:[Orthophosphate (ppb)]],\">\"&$C40,TU_DB[[TU Chapter Area]:[TU Chapter Area]],Scorecard!H$5)","v":0},{"$f":"COUNTIFS(TU_DB[[Orthophosphate (ppb)]:[Orthophosphate (ppb)]],\">\"&$C40,TU_DB[[TU Chapter Area]:[TU Chapter Area]],Scorecard!I$5)","v":2},{"$f":"COUNTIFS(TU_DB[[Orthophosphate (ppb)]:[Orthophosphate (ppb)]],\">\"&$C40,TU_DB[[TU Chapter Area]:[TU Chapter Area]],Scorecard!J$5)","v":0},{"$f":"COUNTIFS(TU_DB[[Orthophosphate (ppb)]:[Orthophosphate (ppb)]],\">\"&$C40,TU_DB[[TU Chapter Area]:[TU Chapter Area]],Scorecard!K$5)","v":0},{"$f":"COUNTIFS(TU_DB[[Orthophosphate (ppb)]:[Orthophosphate (ppb)]],\">\"&$C40,TU_DB[[TU Chapter Area]:[TU Chapter Area]],Scorecard!L$5)","v":0},{"$f":"COUNTIFS(TU_DB[[Orthophosphate (ppb)]:[Orthophosphate (ppb)]],\">\"&$C40,TU_DB[[TU Chapter Area]:[TU Chapter Area]],Scorecard!M$5)","v":0},{"$f":"COUNTIFS(TU_DB[[Orthophosphate (ppb)]:[Orthophosphate (ppb)]],\">\"&$C40,TU_DB[[TU Chapter Area]:[TU Chapter Area]],Scorecard!N$5)","v":0},{"$f":"COUNTIFS(TU_DB[[Orthophosphate (ppb)]:[Orthophosphate (ppb)]],\">\"&$C40,TU_DB[[TU Chapter Area]:[TU Chapter Area]],Scorecard!O$5)","v":0},{"$f":"COUNTIFS(TU_DB[[Orthophosphate (ppb)]:[Orthophosphate (ppb)]],\">\"&$C40,TU_DB[[TU Chapter Area]:[TU Chapter Area]],Scorecard!P$5)","v":0},{"$f":"COUNTIFS(TU_DB[[Orthophosphate (ppb)]:[Orthophosphate (ppb)]],\">\"&$C40,TU_DB[[TU Chapter Area]:[TU Chapter Area]],Scorecard!Q$5)","v":0},{"$f":"COUNTIFS(TU_DB[[Orthophosphate (ppb)]:[Orthophosphate (ppb)]],\">\"&$C40,TU_DB[[TU Chapter Area]:[TU Chapter Area]],Scorecard!R$5)","v":0},{"$f":"COUNTIFS(TU_DB[[Orthophosphate (ppb)]:[Orthophosphate (ppb)]],\">\"&$C40,TU_DB[[TU Chapter Area]:[TU Chapter Area]],Scorecard!S$5)","v":0},null,0,0,0,0,0,0,0,0,0,0,0,0,0,0,0,0]
[null,null,null,"Observations",{"$f":"SUM(E38:E41)","v":8},1,126,26,205,38,0,0,21,0,0,40,0,117,0,null,null,{"$f":"SUM(V38:V41)","v":0.625},1,0.88253968253968251,0.93846153846153846,0.86731707317073159,0.81052631578947365,0,0,0.84761904761904761,0,0,0.8600000000000001,0,0.91111111111111098,0,0]
[]
[null,"Water Temp",null,null,null,null,null,null,null,null,null,null,null,null,null,null,null,null,null,null,null,{"$f":"V49","v":0.94166666666666676},null,null,null,null,null,null,0,null,null,null,0.73662162162162159,0,0.99398484115465247,0]
[null,"Temperature",67,"Good",{"$f":"COUNTIFS(TU_DB[[Water Temperature (oF)]:[Water Temperature (oF)]],\"<=\"&$C45,TU_DB[[TU Chapter Area]:[TU Chapter Area]],Scorecard!E$5)","v":13},{"$f":"COUNTIFS(TU_DB[[Water Temperature (oF)]:[Water Temperature (oF)]],\"<=\"&$C45,TU_DB[[TU Chapter Area]:[TU Chapter Area]],Scorecard!F$5)","v":6},{"$f":"COUNTIFS(TU_DB[[Water Temperature (oF)]:[Water Temperature (oF)]],\"<=\"&$C45,TU_DB[[TU Chapter Area]:[TU Chapter Area]],Scorecard!G$5)","v":136},{"$f":"COUNTIFS(TU_DB[[Water Temperature (oF)]:[Water Temperature (oF)]],\"<=\"&$C45,TU_DB[[TU Chapter Area]:[TU Chapter Area]],Scorecard!H$5)","v":39},{"$f":"COUNTIFS(TU_DB[[Water Temperature (oF)]:[Water Temperature (oF)]],\"<=\"&$C45,TU_DB[[TU Chapter Area]:[TU Chapter Area]],Scorecard!I$5)","v":173},{"$f":"COUNTIFS(TU_DB[[Water Temperature (oF)]:[Water Temperature (oF)]],\"<=\"&$C45,TU_DB[[TU Chapter Area]:[TU Chapter Area]],Scorecard!J$5)","v":35},{"$f":"COUNTIFS(TU_DB[[Water Temperature (oF)]:[Water Temperature (oF)]],\"<=\"&$C45,TU_DB[[TU Chapter Area]:[TU Chapter Area]],Scorecard!K$5)","v":0},{"$f":"COUNTIFS(TU_DB[[Water Temperature (oF)]:[Water Temperature (oF)]],\"<=\"&$C45,TU_DB[[TU Chapter Area]:[TU Chapter Area]],Scorecard!L$5)","v":0},{"$f":"COUNTIFS(TU_DB[[Water Temperature (oF)]:[Water Temperature (oF)]],\"<=\"&$C45,TU_DB[[TU Chapter Area]:[TU Chapter Area]],Scorecard!M$5)","v":19},{"$f":"COUNTIFS(TU_DB[[Water Temperature (oF)]:[Water Temperature (oF)]],\"<=\"&$C45,TU_DB[[TU Chapter Area]:[TU Chapter Area]],Scorecard!N$5)","v":0},{"$f":"COUNTIFS(TU_DB[[Water Temperature (oF)]:[Water Temperature (oF)]],\"<=\"&$C45,TU_DB[[TU Chapter Area]:[TU Chapter Area]],Scorecard!O$5)","v":0},{"$f":"COUNTIFS(TU_DB[[Water Temperature (oF)]:[Water Temperature (oF)]],\"<=\"&$C45,TU_DB[[TU Chapter Area]:[TU Chapter Area]],Scorecard!P$5)","v":23},{"$f":"COUNTIFS(TU_DB[[Water Temperature (oF)]:[Water Temperature (oF)]],\"<=\"&$C45,TU_DB[[TU Chapter Area]:[TU Chapter Area]],Scorecard!Q$5)","v":0},{"$f":"COUNTIFS(TU_DB[[Water Temperature (oF)]:[Water Temperature (oF)]],\"<=\"&$C45,TU_DB[[TU Chapter Area]:[TU Chapter Area]],Scorecard!R$5)","v":105},{"$f":"COUNTIFS(TU_DB[[Water Temperature (oF)]:[Water Temperature (oF)]],\"<=\"&$C45,TU_DB[[TU Chapter Area]:[TU Chapter Area]],Scorecard!S$5)","v":0},null,1,{"$f":"IFERROR(E45*$U45/E$49,0)","v":0.8666666666666667},{"$f":"IFERROR(F45*$U45/F$49,0)","v":1},0.82926829268292679,0.9285714285714286,0.9505494505494505,0.83333333333333337,0,0,0.82608695652173914,0,0,0.6216216216216216,0,0.99056603773584906,0]
[null,null,71,"Poor",{"$f":"COUNTIFS(TU_DB[[Water Temperature (oF)]:[Water Temperature (oF)]],\"<=\"&$C46,TU_DB[[TU Chapter Area]:[TU Chapter Area]],Scorecard!E$5)-E45","v":1},{"$f":"COUNTIFS(TU_DB[[Water Temperature (oF)]:[Water Temperature (oF)]],\"<=\"&$C46,TU_DB[[TU Chapter Area]:[TU Chapter Area]],Scorecard!F$5)-F45","v":0},{"$f":"COUNTIFS(TU_DB[[Water Temperature (oF)]:[Water Temperature (oF)]],\"<=\"&$C46,TU_DB[[TU Chapter Area]:[TU Chapter Area]],Scorecard!G$5)-G45","v":22},{"$f":"COUNTIFS(TU_DB[[Water Temperature (oF)]:[Water Temperature (oF)]],\"<=\"&$C46,TU_DB[[TU Chapter Area]:[TU Chapter Area]],Scorecard!H$5)-H45","v":3},{"$f":"COUNTIFS(TU_DB[[Water Temperature (oF)]:[Water Temperature (oF)]],\"<=\"&$C46,TU_DB[[TU Chapter Area]:[TU Chapter Area]],Scorecard!I$5)-I45","v":6},{"$f":"COUNTIFS(TU_DB[[Water Temperature (oF)]:[Water Temperature (oF)]],\"<=\"&$C46,TU_DB[[TU Chapter Area]:[TU Chapter Area]],Scorecard!J$5)-J45","v":3},{"$f":"COUNTIFS(TU_DB[[Water Temperature (oF)]:[Water Temperature (oF)]],\"<=\"&$C46,TU_DB[[TU Chapter Area]:[TU Chapter Area]],Scorecard!K$5)-K45","v":0},{"$f":"COUNTIFS(TU_DB[[Water Temperature (oF)]:[Water Temperature (oF)]],\"<=\"&$C46,TU_DB[[TU Chapter Area]:[TU Chapter Area]],Scorecard!L$5)-L45","v":0},{"$f":"COUNTIFS(TU_DB[[Water Temperature (oF)]:[Water Temperature (oF)]],\"<=\"&$C46,TU_DB[[TU Chapter Area]:[TU Chapter Area]],Scorecard!M$5)-M45","v":3},{"$f":"COUNTIFS(TU_DB[[Water Temperature (oF)]:[Water Temperature (oF)]],\"<=\"&$C46,TU_DB[[TU Chapter Area]:[TU Chapter Area]],Scorecard!N$5)-N45","v":0},{"$f":"COUNTIFS(TU_DB[[Water Temperature (oF)]:[Water Temperature (oF)]],\"<=\"&$C46,TU_DB[[TU Chapter Area]:[TU Chapter Area]],Scorecard!O$5)-O45","v":0},{"$f":"COUNTIFS(TU_DB[[Water Temperature (oF)]:[Water Temperature (oF)]],\"<=\"&$C46,TU_DB[[TU Chapter Area]:[TU Chapter Area]],Scorecard!P$5)-P45","v":9},{"$f":"COUNTIFS(TU_DB[[Water Temperature (oF)]:[Water Temperature (oF)]],\"<=\"&$C46,TU_DB[[TU Chapter Area]:[TU Chapter Area]],Scorecard!Q$5)-Q45","v":0},{"$f":"COUNTIFS(TU_DB[[Water Temperature (oF)]:[Water Temperature (oF)]],\"<=\"&$C46,TU_DB[[TU Chapter Area]:[TU Chapter Area]],Scorecard!R$5)-R45","v":1},{"$f":"COUNTIFS(TU_DB[[Water Temperature (oF)]:[Water Temperature (oF)]],\"<=\"&$C46,TU_DB[[TU Chapter Area]:[TU Chapter Area]],Scorecard!S$5)-S45","v":0},null,0.4,{"$f":"IFERROR(E46*$U46/E$42,0)","v":0.05},{"$f":"IFERROR(F46*$U46/F$42,0)","v":0},{"$f":"IFERROR(G46*$U46/G$42,0)","v":6.9841269841269843E-2},{"$f":"IFERROR(H46*$U46/H$42,0)","v":4.6153846153846163E-2},{"$f":"IFERROR(I46*$U46/I$42,0)","v":1.1707317073170733E-2},{"$f":"IFERROR(J46*$U46/J$42,0)","v":3.1578947368421061E-2},{"$f":"IFERROR(K46*$U46/K$42,0)","v":0},{"$f":"IFERROR(L46*$U46/L$42,0)","v":0},{"$f":"IFERROR(M46*$U46/M$42,0)","v":5.7142857142857148E-2},{"$f":"IFERROR(N46*$U46/N$42,0)","v":0},{"$f":"IFERROR(O46*$U46/O$42,0)","v":0},{"$f":"IFERROR(P46*$U46/P$42,0)","v":0.09},{"$f":"IFERROR(Q46*$U46/Q$42,0)","v":0},{"$f":"IFERROR(R46*$U46/R$42,0)","v":3.4188034188034188E-3},{"$f":"IFERROR(S46*$U46/S$42,0)","v":0}]
[null,null,76,"Lethal",{"$f":"COUNTIFS(TU_DB[[Water Temperature (oF)]:[Water Temperature (oF)]],\"<=\"&$C47,TU_DB[[TU Chapter Area]:[TU Chapter Area]],Scorecard!E$5)-SUM(E45:E46)","v":1},{"$f":"COUNTIFS(TU_DB[[Water Temperature (oF)]:[Water Temperature (oF)]],\"<=\"&$C47,TU_DB[[TU Chapter Area]:[TU Chapter Area]],Scorecard!F$5)-SUM(F45:F46)","v":0},{"$f":"COUNTIFS(TU_DB[[Water Temperature (oF)]:[Water Temperature (oF)]],\"<=\"&$C47,TU_DB[[TU Chapter Area]:[TU Chapter Area]],Scorecard!G$5)-SUM(G45:G46)","v":6},{"$f":"COUNTIFS(TU_DB[[Water Temperature (oF)]:[Water Temperature (oF)]],\"<=\"&$C47,TU_DB[[TU Chapter Area]:[TU Chapter Area]],Scorecard!H$5)-SUM(H45:H46)","v":0},{"$f":"COUNTIFS(TU_DB[[Water Temperature (oF)]:[Water Temperature (oF)]],\"<=\"&$C47,TU_DB[[TU Chapter Area]:[TU Chapter Area]],Scorecard!I$5)-SUM(I45:I46)","v":3},{"$f":"COUNTIFS(TU_DB[[Water Temperature (oF)]:[Water Temperature (oF)]],\"<=\"&$C47,TU_DB[[TU Chapter Area]:[TU Chapter Area]],Scorecard!J$5)-SUM(J45:J46)","v":4},{"$f":"COUNTIFS(TU_DB[[Water Temperature (oF)]:[Water Temperature (oF)]],\"<=\"&$C47,TU_DB[[TU Chapter Area]:[TU Chapter Area]],Scorecard!K$5)-SUM(K45:K46)","v":0},{"$f":"COUNTIFS(TU_DB[[Water Temperature (oF)]:[Water Temperature (oF)]],\"<=\"&$C47,TU_DB[[TU Chapter Area]:[TU Chapter Area]],Scorecard!L$5)-SUM(L45:L46)","v":0},{"$f":"COUNTIFS(TU_DB[[Water Temperature (oF)]:[Water Temperature (oF)]],\"<=\"&$C47,TU_DB[[TU Chapter Area]:[TU Chapter Area]],Scorecard!M$5)-SUM(M45:M46)","v":1},{"$f":"COUNTIFS(TU_DB[[Water Temperature (oF)]:[Water Temperature (oF)]],\"<=\"&$C47,TU_DB[[TU Chapter Area]:[TU Chapter Area]],Scorecard!N$5)-SUM(N45:N46)","v":0},{"$f":"COUNTIFS(TU_DB[[Water Temperature (oF)]:[Water Temperature (oF)]],\"<=\"&$C47,TU_DB[[TU Chapter Area]:[TU Chapter Area]],Scorecard!O$5)-SUM(O45:O46)","v":0},{"$f":"COUNTIFS(TU_DB[[Water Temperature (oF)]:[Water Temperature (oF)]],\"<=\"&$C47,TU_DB[[TU Chapter Area]:[TU Chapter Area]],Scorecard!P$5)-SUM(P45:P46)","v":5},{"$f":"COUNTIFS(TU_DB[[Water Temperature (oF)]:[Water Temperature (oF)]],\"<=\"&$C47,TU_DB[[TU Chapter Area]:[TU Chapter Area]],Scorecard!Q$5)-SUM(Q45:Q46)","v":0},{"$f":"COUNTIFS(TU_DB[[Water Temperature (oF)]:[Water Temperature (oF)]],\"<=\"&$C47,TU_DB[[TU Chapter Area]:[TU Chapter Area]],Scorecard!R$5)-SUM(R45:R46)","v":0},{"$f":"COUNTIFS(TU_DB[[Water Temperature (oF)]:[Water Temperature (oF)]],\"<=\"&$C47,TU_DB[[TU Chapter Area]:[TU Chapter Area]],Scorecard!S$5)-SUM(S45:S46)","v":0},null,0.2,2.5000000000000001E-2,0,9.5238095238095247E-3,0,2.9268292682926834E-3,2.1052631578947368E-2,0,0,9.5238095238095247E-3,0,0,2.5000000000000001E-2,0,0,0]
[null,null,">76","Lethal",{"$f":"COUNTIFS(TU_DB[[Water Temperature (oF)]:[Water Temperature (oF)]],\">=\"&$C47,TU_DB[[TU Chapter Area]:[TU Chapter Area]],Scorecard!E$5)","v":0},{"$f":"COUNTIFS(TU_DB[[Water Temperature (oF)]:[Water Temperature (oF)]],\">=\"&$C47,TU_DB[[TU Chapter Area]:[TU Chapter Area]],Scorecard!F$5)","v":0},{"$f":"COUNTIFS(TU_DB[[Water Temperature (oF)]:[Water Temperature (oF)]],\">=\"&$C47,TU_DB[[TU Chapter Area]:[TU Chapter Area]],Scorecard!G$5)","v":3},{"$f":"COUNTIFS(TU_DB[[Water Temperature (oF)]:[Water Temperature (oF)]],\">=\"&$C47,TU_DB[[TU Chapter Area]:[TU Chapter Area]],Scorecard!H$5)","v":0},{"$f":"COUNTIFS(TU_DB[[Water Temperature (oF)]:[Water Temperature (oF)]],\">=\"&$C47,TU_DB[[TU Chapter Area]:[TU Chapter Area]],Scorecard!I$5)","v":2},{"$f":"COUNTIFS(TU_DB[[Water Temperature (oF)]:[Water Temperature (oF)]],\">=\"&$C47,TU_DB[[TU Chapter Area]:[TU Chapter Area]],Scorecard!J$5)","v":0},{"$f":"COUNTIFS(TU_DB[[Water Temperature (oF)]:[Water Temperature (oF)]],\">=\"&$C47,TU_DB[[TU Chapter Area]:[TU Chapter Area]],Scorecard!K$5)","v":0},{"$f":"COUNTIFS(TU_DB[[Water Temperature (oF)]:[Water Temperature (oF)]],\">=\"&$C47,TU_DB[[TU Chapter Area]:[TU Chapter Area]],Scorecard!L$5)","v":0},{"$f":"COUNTIFS(TU_DB[[Water Temperature (oF)]:[Water Temperature (oF)]],\">=\"&$C47,TU_DB[[TU Chapter Area]:[TU Chapter Area]],Scorecard!M$5)","v":1},{"$f":"COUNTIFS(TU_DB[[Water Temperature (oF)]:[Water Temperature (oF)]],\">=\"&$C47,TU_DB[[TU Chapter Area]:[TU Chapter Area]],Scorecard!N$5)","v":0},{"$f":"COUNTIFS(TU_DB[[Water Temperature (oF)]:[Water Temperature (oF)]],\">=\"&$C47,TU_DB[[TU Chapter Area]:[TU Chapter Area]],Scorecard!O$5)","v":0},{"$f":"COUNTIFS(TU_DB[[Water Temperature (oF)]:[Water Temperature (oF)]],\">=\"&$C47,TU_DB[[TU Chapter Area]:[TU Chapter Area]],Scorecard!P$5)","v":4},{"$f":"COUNTIFS(TU_DB[[Water Temperature (oF)]:[Water Temperature (oF)]],\">=\"&$C47,TU_DB[[TU Chapter Area]:[TU Chapter Area]],Scorecard!Q$5)","v":0},{"$f":"COUNTIFS(TU_DB[[Water Temperature (oF)]:[Water Temperature (oF)]],\">=\"&$C47,TU_DB[[TU Chapter Area]:[TU Chapter Area]],Scorecard!R$5)","v":0},{"$f":"COUNTIFS(TU_DB[[Water Temperature (oF)]:[Water Temperature (oF)]],\">=\"&$C47,TU_DB[[TU Chapter Area]:[TU Chapter Area]],Scorecard!S$5)","v":0},null,0,0,0,0,0,0,0,0,0,0,0,0,0,0,0,0]
[null,null,null,"Observations",{"$f":"SUM(E45:E47)","v":15},{"$f":"SUM(F45:F47)","v":6},{"$f":"SUM(G45:G47)","v":164},42,182,42,0,0,23,0,{"$f":"SUM(O45:O47)","v":0},{"$f":"SUM(P45:P47)","v":37},{"$f":"SUM(Q45:Q47)","v":0},{"$f":"SUM(R45:R47)","v":106},{"$f":"SUM(S45:S47)","v":0},null,null,{"$f":"SUM(V45:V48)","v":0.94166666666666676},{"$f":"SUM(W45:W48)","v":1},0.90863337204800609,0.97472527472527482,0.96518359689091393,0.88596491228070173,0,0,0.89275362318840579,0,0,0.73662162162162159,0,0.99398484115465247,0]
[]
[null,"Stream Disturbances",null,null,null,null,null,null,null,null,null,null,null,null,null,null,null,null,null,null,{"$f":"SUM(U52:U58)","v":0.8},{"$f":"SUM(V52:V58)","v":0},{"$f":"SUM(W52:W58)","v":0.60000000000000009},0.2,0.5,0.2,0.4,0,0,0.4,0,0,0.5,0,0.5,0,null,"Notes "]
[null,"Fish Barrier",0.05,"Poor",{"$f":"SUMIFS(TU_DB[[Fish Barrier]:[Fish Barrier]],TU_DB[[Fish Barrier]:[Fish Barrier]],\">\"&0,TU_DB[[TU Chapter Area]:[TU Chapter Area]],Scorecard!E$5)","v":0},{"$f":"SUMIFS(TU_DB[[Fish Barrier]:[Fish Barrier]],TU_DB[[Fish Barrier]:[Fish Barrier]],\">\"&0,TU_DB[[TU Chapter Area]:[TU Chapter Area]],Scorecard!F$5)","v":0},{"$f":"SUMIFS(TU_DB[[Fish Barrier]:[Fish Barrier]],TU_DB[[Fish Barrier]:[Fish Barrier]],\">\"&0,TU_DB[[TU Chapter Area]:[TU Chapter Area]],Scorecard!G$5)","v":10},{"$f":"SUMIFS(TU_DB[[Fish Barrier]:[Fish Barrier]],TU_DB[[Fish Barrier]:[Fish Barrier]],\">\"&0,TU_DB[[TU Chapter Area]:[TU Chapter Area]],Scorecard!H$5)","v":1},{"$f":"SUMIFS(TU_DB[[Fish Barrier]:[Fish Barrier]],TU_DB[[Fish Barrier]:[Fish Barrier]],\">\"&0,TU_DB[[TU Chapter Area]:[TU Chapter Area]],Scorecard!I$5)","v":2},{"$f":"SUMIFS(TU_DB[[Fish Barrier]:[Fish Barrier]],TU_DB[[Fish Barrier]:[Fish Barrier]],\">\"&0,TU_DB[[TU Chapter Area]:[TU Chapter Area]],Scorecard!J$5)","v":2},{"$f":"SUMIFS(TU_DB[[Fish Barrier]:[Fish Barrier]],TU_DB[[Fish Barrier]:[Fish Barrier]],\">\"&0,TU_DB[[TU Chapter Area]:[TU Chapter Area]],Scorecard!K$5)","v":0},{"$f":"SUMIFS(TU_DB[[Fish Barrier]:[Fish Barrier]],TU_DB[[Fish Barrier]:[Fish Barrier]],\">\"&0,TU_DB[[TU Chapter Area]:[TU Chapter Area]],Scorecard!L$5)","v":0},{"$f":"SUMIFS(TU_DB[[Fish Barrier]:[Fish Barrier]],TU_DB[[Fish Barrier]:[Fish Barrier]],\">\"&0,TU_DB[[TU Chapter Area]:[TU Chapter Area]],Scorecard!M$5)","v":5},{"$f":"SUMIFS(TU_DB[[Fish Barrier]:[Fish Barrier]],TU_DB[[Fish Barrier]:[Fish Barrier]],\">\"&0,TU_DB[[TU Chapter Area]:[TU Chapter Area]],Scorecard!N$5)","v":0},{"$f":"SUMIFS(TU_DB[[Fish Barrier]:[Fish Barrier]],TU_DB[[Fish Barrier]:[Fish Barrier]],\">\"&0,TU_DB[[TU Chapter Area]:[TU Chapter Area]],Scorecard!O$5)","v":0},{"$f":"SUMIFS(TU_DB[[Fish Barrier]:[Fish Barrier]],TU_DB[[Fish Barrier]:[Fish Barrier]],\">\"&0,TU_DB[[TU Chapter Area]:[TU Chapter Area]],Scorecard!P$5)","v":8},{"$f":"SUMIFS(TU_DB[[Fish Barrier]:[Fish Barrier]],TU_DB[[Fish Barrier]:[Fish Barrier]],\">\"&0,TU_DB[[TU Chapter Area]:[TU Chapter Area]],Scorecard!Q$5)","v":0},{"$f":"SUMIFS(TU_DB[[Fish Barrier]:[Fish Barrier]],TU_DB[[Fish Barrier]:[Fish Barrier]],\">\"&0,TU_DB[[TU Chapter Area]:[TU Chapter Area]],Scorecard!R$5)","v":0},{"$f":"SUMIFS(TU_DB[[Fish Barrier]:[Fish Barrier]],TU_DB[[Fish Barrier]:[Fish Barrier]],\">\"&0,TU_DB[[TU Chapter Area]:[TU Chapter Area]],Scorecard!S$5)","v":0},null,0.1,{"$f":"IFERROR(IF(E53/E$59>=$C53,0,$U53),0)","v":0},0,0,0,0,0,0,0,0,0,0,0,0,0,0]
[null,"Bank Erosion",0.05,"Poor",{"$f":"SUMIFS(TU_DB[[Bank Erosion]:[Bank Erosion]],TU_DB[[Bank Erosion]:[Bank Erosion]],\">\"&0,TU_DB[[TU Chapter Area]:[TU Chapter Area]],Scorecard!E$5)","v":0},{"$f":"SUMIFS(TU_DB[[Bank Erosion]:[Bank Erosion]],TU_DB[[Bank Erosion]:[Bank Erosion]],\">\"&0,TU_DB[[TU Chapter Area]:[TU Chapter Area]],Scorecard!F$5)","v":2},{"$f":"SUMIFS(TU_DB[[Bank Erosion]:[Bank Erosion]],TU_DB[[Bank Erosion]:[Bank Erosion]],\">\"&0,TU_DB[[TU Chapter Area]:[TU Chapter Area]],Scorecard!G$5)","v":19},{"$f":"SUMIFS(TU_DB[[Bank Erosion]:[Bank Erosion]],TU_DB[[Bank Erosion]:[Bank Erosion]],\">\"&0,TU_DB[[TU Chapter Area]:[TU Chapter Area]],Scorecard!H$5)","v":4},{"$f":"SUMIFS(TU_DB[[Bank Erosion]:[Bank Erosion]],TU_DB[[Bank Erosion]:[Bank Erosion]],\">\"&0,TU_DB[[TU Chapter Area]:[TU Chapter Area]],Scorecard!I$5)","v":29},{"$f":"SUMIFS(TU_DB[[Bank Erosion]:[Bank Erosion]],TU_DB[[Bank Erosion]:[Bank Erosion]],\">\"&0,TU_DB[[TU Chapter Area]:[TU Chapter Area]],Scorecard!J$5)","v":15},{"$f":"SUMIFS(TU_DB[[Bank Erosion]:[Bank Erosion]],TU_DB[[Bank Erosion]:[Bank Erosion]],\">\"&0,TU_DB[[TU Chapter Area]:[TU Chapter Area]],Scorecard!K$5)","v":0},{"$f":"SUMIFS(TU_DB[[Bank Erosion]:[Bank Erosion]],TU_DB[[Bank Erosion]:[Bank Erosion]],\">\"&0,TU_DB[[TU Chapter Area]:[TU Chapter Area]],Scorecard!L$5)","v":0},{"$f":"SUMIFS(TU_DB[[Bank Erosion]:[Bank Erosion]],TU_DB[[Bank Erosion]:[Bank Erosion]],\">\"&0,TU_DB[[TU Chapter Area]:[TU Chapter Area]],Scorecard!M$5)","v":12},{"$f":"SUMIFS(TU_DB[[Bank Erosion]:[Bank Erosion]],TU_DB[[Bank Erosion]:[Bank Erosion]],\">\"&0,TU_DB[[TU Chapter Area]:[TU Chapter Area]],Scorecard!N$5)","v":0},{"$f":"SUMIFS(TU_DB[[Bank Erosion]:[Bank Erosion]],TU_DB[[Bank Erosion]:[Bank Erosion]],\">\"&0,TU_DB[[TU Chapter Area]:[TU Chapter Area]],Scorecard!O$5)","v":0},{"$f":"SUMIFS(TU_DB[[Bank Erosion]:[Bank Erosion]],TU_DB[[Bank Erosion]:[Bank Erosion]],\">\"&0,TU_DB[[TU Chapter Area]:[TU Chapter Area]],Scorecard!P$5)","v":35},{"$f":"SUMIFS(TU_DB[[Bank Erosion]:[Bank Erosion]],TU_DB[[Bank Erosion]:[Bank Erosion]],\">\"&0,TU_DB[[TU Chapter Area]:[TU Chapter Area]],Scorecard!Q$5)","v":0},{"$f":"SUMIFS(TU_DB[[Bank Erosion]:[Bank Erosion]],TU_DB[[Bank Erosion]:[Bank Erosion]],\">\"&0,TU_DB[[TU Chapter Area]:[TU Chapter Area]],Scorecard!R$5)","v":28},{"$f":"SUMIFS(TU_DB[[Bank Erosion]:[Bank Erosion]],TU_DB[[Bank Erosion]:[Bank Erosion]],\">\"&0,TU_DB[[TU Chapter Area]:[TU Chapter Area]],Scorecard!S$5)","v":0},null,0.1,0,0.1,0,0.1,0,0,0,0,0,0,0,0.1,0,0.1,0]
[null,"Trash",0.05,"Poor",{"$f":"SUMIFS(TU_DB[[Trash]:[Trash]],TU_DB[[Trash]:[Trash]],\">\"&0,TU_DB[[TU Chapter Area]:[TU Chapter Area]],Scorecard!E$5)","v":0},{"$f":"SUMIFS(TU_DB[[Trash]:[Trash]],TU_DB[[Trash]:[Trash]],\">\"&0,TU_DB[[TU Chapter Area]:[TU Chapter Area]],Scorecard!F$5)","v":0},{"$f":"SUMIFS(TU_DB[[Trash]:[Trash]],TU_DB[[Trash]:[Trash]],\">\"&0,TU_DB[[TU Chapter Area]:[TU Chapter Area]],Scorecard!G$5)","v":4},{"$f":"SUMIFS(TU_DB[[Trash]:[Trash]],TU_DB[[Trash]:[Trash]],\">\"&0,TU_DB[[TU Chapter Area]:[TU Chapter Area]],Scorecard!H$5)","v":0},{"$f":"SUMIFS(TU_DB[[Trash]:[Trash]],TU_DB[[Trash]:[Trash]],\">\"&0,TU_DB[[TU Chapter Area]:[TU Chapter Area]],Scorecard!I$5)","v":3},{"$f":"SUMIFS(TU_DB[[Trash]:[Trash]],TU_DB[[Trash]:[Trash]],\">\"&0,TU_DB[[TU Chapter Area]:[TU Chapter Area]],Scorecard!J$5)","v":2},{"$f":"SUMIFS(TU_DB[[Trash]:[Trash]],TU_DB[[Trash]:[Trash]],\">\"&0,TU_DB[[TU Chapter Area]:[TU Chapter Area]],Scorecard!K$5)","v":0},{"$f":"SUMIFS(TU_DB[[Trash]:[Trash]],TU_DB[[Trash]:[Trash]],\">\"&0,TU_DB[[TU Chapter Area]:[TU Chapter Area]],Scorecard!L$5)","v":0},{"$f":"SUMIFS(TU_DB[[Trash]:[Trash]],TU_DB[[Trash]:[Trash]],\">\"&0,TU_DB[[TU Chapter Area]:[TU Chapter Area]],Scorecard!M$5)","v":2},{"$f":"SUMIFS(TU_DB[[Trash]:[Trash]],TU_DB[[Trash]:[Trash]],\">\"&0,TU_DB[[TU Chapter Area]:[TU Chapter Area]],Scorecard!N$5)","v":0},{"$f":"SUMIFS(TU_DB[[Trash]:[Trash]],TU_DB[[Trash]:[Trash]],\">\"&0,TU_DB[[TU Chapter Area]:[TU Chapter Area]],Scorecard!O$5)","v":0},{"$f":"SUMIFS(TU_DB[[Trash]:[Trash]],TU_DB[[Trash]:[Trash]],\">\"&0,TU_DB[[TU Chapter Area]:[TU Chapter Area]],Scorecard!P$5)","v":1},{"$f":"SUMIFS(TU_DB[[Trash]:[Trash]],TU_DB[[Trash]:[Trash]],\">\"&0,TU_DB[[TU Chapter Area]:[TU Chapter Area]],Scorecard!Q$5)","v":0},{"$f":"SUMIFS(TU_DB[[Trash]:[Trash]],TU_DB[[Trash]:[Trash]],\">\"&0,TU_DB[[TU Chapter Area]:[TU Chapter Area]],Scorecard!R$5)","v":1},{"$f":"SUMIFS(TU_DB[[Trash]:[Trash]],TU_DB[[Trash]:[Trash]],\">\"&0,TU_DB[[TU Chapter Area]:[TU Chapter Area]],Scorecard!S$5)","v":0},null,0.1,0,0.1,0,0.1,0,0.1,0,0,0.1,0,0,0.1,0,0.1,0]
[null,"Pipe/Drain Outflow",0.05,"Poor",{"$f":"SUMIFS(TU_DB[[Pipe/Drain Outflow]:[Pipe/Drain Outflow]],TU_DB[[Pipe/Drain Outflow]:[Pipe/Drain Outflow]],\">\"&0,TU_DB[[TU Chapter Area]:[TU Chapter Area]],Scorecard!E$5)","v":0},{"$f":"SUMIFS(TU_DB[[Pipe/Drain Outflow]:[Pipe/Drain Outflow]],TU_DB[[Pipe/Drain Outflow]:[Pipe/Drain Outflow]],\">\"&0,TU_DB[[TU Chapter Area]:[TU Chapter Area]],Scorecard!F$5)","v":0},{"$f":"SUMIFS(TU_DB[[Pipe/Drain Outflow]:[Pipe/Drain Outflow]],TU_DB[[Pipe/Drain Outflow]:[Pipe/Drain Outflow]],\">\"&0,TU_DB[[TU Chapter Area]:[TU Chapter Area]],Scorecard!G$5)","v":4},{"$f":"SUMIFS(TU_DB[[Pipe/Drain Outflow]:[Pipe/Drain Outflow]],TU_DB[[Pipe/Drain Outflow]:[Pipe/Drain Outflow]],\">\"&0,TU_DB[[TU Chapter Area]:[TU Chapter Area]],Scorecard!H$5)","v":0},{"$f":"SUMIFS(TU_DB[[Pipe/Drain Outflow]:[Pipe/Drain Outflow]],TU_DB[[Pipe/Drain Outflow]:[Pipe/Drain Outflow]],\">\"&0,TU_DB[[TU Chapter Area]:[TU Chapter Area]],Scorecard!I$5)","v":6},{"$f":"SUMIFS(TU_DB[[Pipe/Drain Outflow]:[Pipe/Drain Outflow]],TU_DB[[Pipe/Drain Outflow]:[Pipe/Drain Outflow]],\">\"&0,TU_DB[[TU Chapter Area]:[TU Chapter Area]],Scorecard!J$5)","v":1},{"$f":"SUMIFS(TU_DB[[Pipe/Drain Outflow]:[Pipe/Drain Outflow]],TU_DB[[Pipe/Drain Outflow]:[Pipe/Drain Outflow]],\">\"&0,TU_DB[[TU Chapter Area]:[TU Chapter Area]],Scorecard!K$5)","v":0},{"$f":"SUMIFS(TU_DB[[Pipe/Drain Outflow]:[Pipe/Drain Outflow]],TU_DB[[Pipe/Drain Outflow]:[Pipe/Drain Outflow]],\">\"&0,TU_DB[[TU Chapter Area]:[TU Chapter Area]],Scorecard!L$5)","v":0},{"$f":"SUMIFS(TU_DB[[Pipe/Drain Outflow]:[Pipe/Drain Outflow]],TU_DB[[Pipe/Drain Outflow]:[Pipe/Drain Outflow]],\">\"&0,TU_DB[[TU Chapter Area]:[TU Chapter Area]],Scorecard!M$5)","v":0},{"$f":"SUMIFS(TU_DB[[Pipe/Drain Outflow]:[Pipe/Drain Outflow]],TU_DB[[Pipe/Drain Outflow]:[Pipe/Drain Outflow]],\">\"&0,TU_DB[[TU Chapter Area]:[TU Chapter Area]],Scorecard!N$5)","v":0},{"$f":"SUMIFS(TU_DB[[Pipe/Drain Outflow]:[Pipe/Drain Outflow]],TU_DB[[Pipe/Drain Outflow]:[Pipe/Drain Outflow]],\">\"&0,TU_DB[[TU Chapter Area]:[TU Chapter Area]],Scorecard!O$5)","v":0},{"$f":"SUMIFS(TU_DB[[Pipe/Drain Outflow]:[Pipe/Drain Outflow]],TU_DB[[Pipe/Drain Outflow]:[Pipe/Drain Outflow]],\">\"&0,TU_DB[[TU Chapter Area]:[TU Chapter Area]],Scorecard!P$5)","v":0},{"$f":"SUMIFS(TU_DB[[Pipe/Drain Outflow]:[Pipe/Drain Outflow]],TU_DB[[Pipe/Drain Outflow]:[Pipe/Drain Outflow]],\">\"&0,TU_DB[[TU Chapter Area]:[TU Chapter Area]],Scorecard!Q$5)","v":0},{"$f":"SUMIFS(TU_DB[[Pipe/Drain Outflow]:[Pipe/Drain Outflow]],TU_DB[[Pipe/Drain Outflow]:[Pipe/Drain Outflow]],\">\"&0,TU_DB[[TU Chapter Area]:[TU Chapter Area]],Scorecard!R$5)","v":1},{"$f":"SUMIFS(TU_DB[[Pipe/Drain Outflow]:[Pipe/Drain Outflow]],TU_DB[[Pipe/Drain Outflow]:[Pipe/Drain Outflow]],\">\"&0,TU_DB[[TU Chapter Area]:[TU Chapter Area]],Scorecard!S$5)","v":0},null,0.1,0,0.1,0,0,0,0,0,0,0,0,0,0,0,0,0]
[null,"Livestock in Water",0.05,"Poor",{"$f":"SUMIFS(TU_DB[[Livestock in Water]:[Livestock in Water]],TU_DB[[Livestock in Water]:[Livestock in Water]],\">\"&0,TU_DB[[TU Chapter Area]:[TU Chapter Area]],Scorecard!E$5)","v":0},{"$f":"SUMIFS(TU_DB[[Livestock in Water]:[Livestock in Water]],TU_DB[[Livestock in Water]:[Livestock in Water]],\">\"&0,TU_DB[[TU Chapter Area]:[TU Chapter Area]],Scorecard!F$5)","v":0},{"$f":"SUMIFS(TU_DB[[Livestock in Water]:[Livestock in Water]],TU_DB[[Livestock in Water]:[Livestock in Water]],\">\"&0,TU_DB[[TU Chapter Area]:[TU Chapter Area]],Scorecard!G$5)","v":5},{"$f":"SUMIFS(TU_DB[[Livestock in Water]:[Livestock in Water]],TU_DB[[Livestock in Water]:[Livestock in Water]],\">\"&0,TU_DB[[TU Chapter Area]:[TU Chapter Area]],Scorecard!H$5)","v":5},{"$f":"SUMIFS(TU_DB[[Livestock in Water]:[Livestock in Water]],TU_DB[[Livestock in Water]:[Livestock in Water]],\">\"&0,TU_DB[[TU Chapter Area]:[TU Chapter Area]],Scorecard!I$5)","v":6},{"$f":"SUMIFS(TU_DB[[Livestock in Water]:[Livestock in Water]],TU_DB[[Livestock in Water]:[Livestock in Water]],\">\"&0,TU_DB[[TU Chapter Area]:[TU Chapter Area]],Scorecard!J$5)","v":3},{"$f":"SUMIFS(TU_DB[[Livestock in Water]:[Livestock in Water]],TU_DB[[Livestock in Water]:[Livestock in Water]],\">\"&0,TU_DB[[TU Chapter Area]:[TU Chapter Area]],Scorecard!K$5)","v":0},{"$f":"SUMIFS(TU_DB[[Livestock in Water]:[Livestock in Water]],TU_DB[[Livestock in Water]:[Livestock in Water]],\">\"&0,TU_DB[[TU Chapter Area]:[TU Chapter Area]],Scorecard!L$5)","v":0},{"$f":"SUMIFS(TU_DB[[Livestock in Water]:[Livestock in Water]],TU_DB[[Livestock in Water]:[Livestock in Water]],\">\"&0,TU_DB[[TU Chapter Area]:[TU Chapter Area]],Scorecard!M$5)","v":3},{"$f":"SUMIFS(TU_DB[[Livestock in Water]:[Livestock in Water]],TU_DB[[Livestock in Water]:[Livestock in Water]],\">\"&0,TU_DB[[TU Chapter Area]:[TU Chapter Area]],Scorecard!N$5)","v":0},{"$f":"SUMIFS(TU_DB[[Livestock in Water]:[Livestock in Water]],TU_DB[[Livestock in Water]:[Livestock in Water]],\">\"&0,TU_DB[[TU Chapter Area]:[TU Chapter Area]],Scorecard!O$5)","v":0},{"$f":"SUMIFS(TU_DB[[Livestock in Water]:[Livestock in Water]],TU_DB[[Livestock in Water]:[Livestock in Water]],\">\"&0,TU_DB[[TU Chapter Area]:[TU Chapter Area]],Scorecard!P$5)","v":4},{"$f":"SUMIFS(TU_DB[[Livestock in Water]:[Livestock in Water]],TU_DB[[Livestock in Water]:[Livestock in Water]],\">\"&0,TU_DB[[TU Chapter Area]:[TU Chapter Area]],Scorecard!Q$5)","v":0},{"$f":"SUMIFS(TU_DB[[Livestock in Water]:[Livestock in Water]],TU_DB[[Livestock in Water]:[Livestock in Water]],\">\"&0,TU_DB[[TU Chapter Area]:[TU Chapter Area]],Scorecard!R$5)","v":4},{"$f":"SUMIFS(TU_DB[[Livestock in Water]:[Livestock in Water]],TU_DB[[Livestock in Water]:[Livestock in Water]],\">\"&0,TU_DB[[TU Chapter Area]:[TU Chapter Area]],Scorecard!S$5)","v":0},null,0.1,0,0.1,0,0.1,0,0.1,0,0,0.1,0,0,0.1,0,0.1,0]
[null,"Algal Bloom",0.05,"Poor",{"$f":"SUMIFS(TU_DB[[Algal Bloom]:[Algal Bloom]],TU_DB[[Algal Bloom]:[Algal Bloom]],\">\"&0,TU_DB[[TU Chapter Area]:[TU Chapter Area]],Scorecard!E$5)","v":0},{"$f":"SUMIFS(TU_DB[[Algal Bloom]:[Algal Bloom]],TU_DB[[Algal Bloom]:[Algal Bloom]],\">\"&0,TU_DB[[TU Chapter Area]:[TU Chapter Area]],Scorecard!F$5)","v":0},{"$f":"SUMIFS(TU_DB[[Algal Bloom]:[Algal Bloom]],TU_DB[[Algal Bloom]:[Algal Bloom]],\">\"&0,TU_DB[[TU Chapter Area]:[TU Chapter Area]],Scorecard!G$5)","v":3},{"$f":"SUMIFS(TU_DB[[Algal Bloom]:[Algal Bloom]],TU_DB[[Algal Bloom]:[Algal Bloom]],\">\"&0,TU_DB[[TU Chapter Area]:[TU Chapter Area]],Scorecard!H$5)","v":0},{"$f":"SUMIFS(TU_DB[[Algal Bloom]:[Algal Bloom]],TU_DB[[Algal Bloom]:[Algal Bloom]],\">\"&0,TU_DB[[TU Chapter Area]:[TU Chapter Area]],Scorecard!I$5)","v":5},{"$f":"SUMIFS(TU_DB[[Algal Bloom]:[Algal Bloom]],TU_DB[[Algal Bloom]:[Algal Bloom]],\">\"&0,TU_DB[[TU Chapter Area]:[TU Chapter Area]],Scorecard!J$5)","v":0},{"$f":"SUMIFS(TU_DB[[Algal Bloom]:[Algal Bloom]],TU_DB[[Algal Bloom]:[Algal Bloom]],\">\"&0,TU_DB[[TU Chapter Area]:[TU Chapter Area]],Scorecard!K$5)","v":0},{"$f":"SUMIFS(TU_DB[[Algal Bloom]:[Algal Bloom]],TU_DB[[Algal Bloom]:[Algal Bloom]],\">\"&0,TU_DB[[TU Chapter Area]:[TU Chapter Area]],Scorecard!L$5)","v":0},{"$f":"SUMIFS(TU_DB[[Algal Bloom]:[Algal Bloom]],TU_DB[[Algal Bloom]:[Algal Bloom]],\">\"&0,TU_DB[[TU Chapter Area]:[TU Chapter Area]],Scorecard!M$5)","v":0},{"$f":"SUMIFS(TU_DB[[Algal Bloom]:[Algal Bloom]],TU_DB[[Algal Bloom]:[Algal Bloom]],\">\"&0,TU_DB[[TU Chapter Area]:[TU Chapter Area]],Scorecard!N$5)","v":0},{"$f":"SUMIFS(TU_DB[[Algal Bloom]:[Algal Bloom]],TU_DB[[Algal Bloom]:[Algal Bloom]],\">\"&0,TU_DB[[TU Chapter Area]:[TU Chapter Area]],Scorecard!O$5)","v":0},{"$f":"SUMIFS(TU_DB[[Algal Bloom]:[Algal Bloom]],TU_DB[[Algal Bloom]:[Algal Bloom]],\">\"&0,TU_DB[[TU Chapter Area]:[TU Chapter Area]],Scorecard!P$5)","v":0},{"$f":"SUMIFS(TU_DB[[Algal Bloom]:[Algal Bloom]],TU_DB[[Algal Bloom]:[Algal Bloom]],\">\"&0,TU_DB[[TU Chapter Area]:[TU Chapter Area]],Scorecard!Q$5)","v":0},{"$f":"SUMIFS(TU_DB[[Algal Bloom]:[Algal Bloom]],TU_DB[[Algal Bloom]:[Algal Bloom]],\">\"&0,TU_DB[[TU Chapter Area]:[TU Chapter Area]],Scorecard!R$5)","v":0},{"$f":"SUMIFS(TU_DB[[Algal Bloom]:[Algal Bloom]],TU_DB[[Algal Bloom]:[Algal Bloom]],\">\"&0,TU_DB[[TU Chapter Area]:[TU Chapter Area]],Scorecard!S$5)","v":0},null,0.1,0,0.2,0.2,0.2,0.2,0.2,0,0,0.2,0,0,0.2,0,0.2,0]
[null,"Fish Kill",0.8,"Poor",{"$f":"SUMIFS(TU_DB[[Fish Kill]:[Fish Kill]],TU_DB[[Fish Kill]:[Fish Kill]],\">\"&0,TU_DB[[TU Chapter Area]:[TU Chapter Area]],Scorecard!E$5)","v":0},{"$f":"SUMIFS(TU_DB[[Fish Kill]:[Fish Kill]],TU_DB[[Fish Kill]:[Fish Kill]],\">\"&0,TU_DB[[TU Chapter Area]:[TU Chapter Area]],Scorecard!F$5)","v":0},{"$f":"SUMIFS(TU_DB[[Fish Kill]:[Fish Kill]],TU_DB[[Fish Kill]:[Fish Kill]],\">\"&0,TU_DB[[TU Chapter Area]:[TU Chapter Area]],Scorecard!G$5)","v":0},{"$f":"SUMIFS(TU_DB[[Fish Kill]:[Fish Kill]],TU_DB[[Fish Kill]:[Fish Kill]],\">\"&0,TU_DB[[TU Chapter Area]:[TU Chapter Area]],Scorecard!H$5)","v":0},{"$f":"SUMIFS(TU_DB[[Fish Kill]:[Fish Kill]],TU_DB[[Fish Kill]:[Fish Kill]],\">\"&0,TU_DB[[TU Chapter Area]:[TU Chapter Area]],Scorecard!I$5)","v":0},{"$f":"SUMIFS(TU_DB[[Fish Kill]:[Fish Kill]],TU_DB[[Fish Kill]:[Fish Kill]],\">\"&0,TU_DB[[TU Chapter Area]:[TU Chapter Area]],Scorecard!J$5)","v":0},{"$f":"SUMIFS(TU_DB[[Fish Kill]:[Fish Kill]],TU_DB[[Fish Kill]:[Fish Kill]],\">\"&0,TU_DB[[TU Chapter Area]:[TU Chapter Area]],Scorecard!K$5)","v":0},{"$f":"SUMIFS(TU_DB[[Fish Kill]:[Fish Kill]],TU_DB[[Fish Kill]:[Fish Kill]],\">\"&0,TU_DB[[TU Chapter Area]:[TU Chapter Area]],Scorecard!L$5)","v":0},{"$f":"SUMIFS(TU_DB[[Fish Kill]:[Fish Kill]],TU_DB[[Fish Kill]:[Fish Kill]],\">\"&0,TU_DB[[TU Chapter Area]:[TU Chapter Area]],Scorecard!M$5)","v":0},{"$f":"SUMIFS(TU_DB[[Fish Kill]:[Fish Kill]],TU_DB[[Fish Kill]:[Fish Kill]],\">\"&0,TU_DB[[TU Chapter Area]:[TU Chapter Area]],Scorecard!N$5)","v":0},{"$f":"SUMIFS(TU_DB[[Fish Kill]:[Fish Kill]],TU_DB[[Fish Kill]:[Fish Kill]],\">\"&0,TU_DB[[TU Chapter Area]:[TU Chapter Area]],Scorecard!O$5)","v":0},{"$f":"SUMIFS(TU_DB[[Fish Kill]:[Fish Kill]],TU_DB[[Fish Kill]:[Fish Kill]],\">\"&0,TU_DB[[TU Chapter Area]:[TU Chapter Area]],Scorecard!P$5)","v":0},{"$f":"SUMIFS(TU_DB[[Fish Kill]:[Fish Kill]],TU_DB[[Fish Kill]:[Fish Kill]],\">\"&0,TU_DB[[TU Chapter Area]:[TU Chapter Area]],Scorecard!Q$5)","v":0},{"$f":"SUMIFS(TU_DB[[Fish Kill]:[Fish Kill]],TU_DB[[Fish Kill]:[Fish Kill]],\">\"&0,TU_DB[[TU Chapter Area]:[TU Chapter Area]],Scorecard!R$5)","v":0},{"$f":"SUMIFS(TU_DB[[Fish Kill]:[Fish Kill]],TU_DB[[Fish Kill]:[Fish Kill]],\">\"&0,TU_DB[[TU Chapter Area]:[TU Chapter Area]],Scorecard!S$5)","v":0},null,0.2,{"$f":"IFERROR(IF(#REF!/E$59>=#REF!,0,#REF!),0)","v":0},{"$f":"IFERROR(IF(#REF!/F$59>=#REF!,0,#REF!),0)","v":0},{"$f":"IFERROR(IF(#REF!/G$59>=#REF!,0,#REF!),0)","v":0},{"$f":"IFERROR(IF(#REF!/H$59>=#REF!,0,#REF!),0)","v":0},{"$f":"IFERROR(IF(#REF!/I$59>=#REF!,0,#REF!),0)","v":0},{"$f":"IFERROR(IF(#REF!/J$59>=#REF!,0,#REF!),0)","v":0},{"$f":"IFERROR(IF(#REF!/K$59>=#REF!,0,#REF!),0)","v":0},{"$f":"IFERROR(IF(#REF!/L$59>=#REF!,0,#REF!),0)","v":0},{"$f":"IFERROR(IF(#REF!/M$59>=#REF!,0,#REF!),0)","v":0},{"$f":"IFERROR(IF(#REF!/N$59>=#REF!,0,#REF!),0)","v":0},{"$f":"IFERROR(IF(#REF!/O$59>=#REF!,0,#REF!),0)","v":0},{"$f":"IFERROR(IF(#REF!/P$59>=#REF!,0,#REF!),0)","v":0},{"$f":"IFERROR(IF(#REF!/Q$59>=#REF!,0,#REF!),0)","v":0},{"$f":"IFERROR(IF(#REF!/R$59>=#REF!,0,#REF!),0)","v":0},{"$f":"IFERROR(IF(#REF!/S$59>=#REF!,0,#REF!),0)","v":0}]
[null,null,null,"Observations",{"$f":"SUM(E52:E58)","v":0},2,45,10,51,23,0,0,22,0,0,48,0,34,0]
[null,null,null,null,null,null,null,null,null,null,null,null,null,null,"Thresholds",null,null,null,null,null,"Good","Ave",null,null,null,null,null,null,"Poor",null,null,null,"Lethal"]
[null,null,null,null,null,null,null,null,null,null,null,null,null,null,null,null,null,null,null,null,0.8,0.65,null,null,null,null,null,null,0.5,null,null,null,0.2]

{"sheet":"Metadata","index":11,"n_rows":75,"n_cols":9,"rows_kept":75,"cut":false,"hidden":false,"merged":[]}
["TU DARE Angler Science DB"]
["User Analysis"]
[null,"Downloaded",{"$f":"TUDB!B3","v":"3023-10-31"}]
[]
["Col","Production Headers","Description","Data Col","Source/Raw Data Header","Loaded From Raw","Data Col"]
[1,"Database","Observation record in the production database",null,"Calc Cell b2","-",null,"Raw Data Table"]
[2,"ObsNo","Default 20 character reference provided by the cloud storage",1,"Name","Y",null,"Name",1]
[3,"Observation Date/Time-UTC","Date and time when the observation was submitted in UTC time  ",3,"Date2","Y",null,"Value.ObservationDate._seconds",2]
[4,"Observation Date/Time-Local","Date and time when the observation was submitted in the Central Daylight Time Zone (-6 hours).  Shift will be adjudted when standard time is returned","","Calc Col C","-",null,"Date",3]
[5,"Observation Date-Local","Date when the observation was submitted in the Central Daylight Time Zone (-6 hours).  Shift will be adjudted when standard time is returned","","Calc Col C","-",null,"Value.ObserverID",4]
[6,"Year","Year observation was made (UTC Date)","","Calc Col C","-",null,"Value.MonitoringSite",5]
[7,"Month No.","Month when the observation was submitted (UTC Date)","","Calc Col C","-",null,"Value.Coordinates._longitude",6]
[8,"ObserverID","Default 21 character reference given to the user by the cloud storage.  Once login has been implemented, a more \"friendly' ID code will be used",6,"Value.ObserverID","Y",null,"Value.Coordinates._latitude",7]
[9,"Monitoring Site","Monitoring Stations tagged to an observation",7,"Value.MonitoringSite","Y",null,"Zonal.  ",8]
[10,"Longitude","Longitude of the observation location in decimal degrees",8,"Value.Coordinates._longitude","Y",null,"Value.Photos",9]
[11,"Latitude","Latitude of the observation location in decimal degrees",9,"Value.Coordinates._latitude","Y",null,"Value.Public",10]
[12,"Zonal","Flag to filter observations from a zone or region","","Zonal.  ","-",null,"Merged.5n1photo",11]
[13,"Photo No.","Flag indicating a photo was captured with an observation",11,"Value.Photos","Y",null,"Merged.2n1Photo",12]
[14,"Photo Flag",null,"","Calc Col L","-",null,"Value.Alkalinity",13]
[15,"Public","Public vs. Private option.  Currently this functionality is set to public",12,"Value.Public","Y",null,"Value.BinnedAlkalinity",14]
[16,"5n1  Flag ","Flag indicating that the Lamotte 5 in 1 Test Strip was collected with an observation","","Calc Col R","-",null,"Value.Hardness",15]
[17,"ALK Bin (ppm)","Binned  valued for alkalinity - ppm (Lamotte 5in1 Test Strip) ",16,"Value.BinnedAlkalinity","Y",null,"Value.BinnedHardness",16]
[18,"HRD Bin (ppm)","Binned  valued for hardness - ppm  (Lamotte 5in1 Test Strip) ",18,"Value.BinnedHardness","Y",null,"Value.GeneralNO2",17]
[19,"NO2 Bin (5n1) (ppm)","Binned  valued for NO2 - ppm  (Lamotte 5in1 Test Strip) ",19,"Value.GeneralNO2","Y",null,"Value.GeneralNO3",18]
[20,"NO3 Bin (5n1) (ppm)","Binned  valued for NO3 (Lamotte 5in1 Test Strip) ",20,"Value.GeneralNO3","Y",null,"Value.pH",19]
[21,"pH Bin","Binned  valued for pH (Lamotte 5in1 Test Strip) ",23,"Value.BinnedPH","Y",null,"Value.PH.1",20]
[22,"Phos Flag","Flag indicating that orthophosphate was collected with an observation","","Calc Col X","-",null,"Value.BinnedPH",21]
[23,"Orthophosphate (ppb)","Binned  valued for orthophosphate - ppb (Lamotte Test Strip)",24,"Value.Phosphorous","Y",null,"Value.Phosphorous",22]
[24,"Water Temp Flag","Flag indicating that water temperature was collected with an observation","","Calc Col Z","-",null,"Value.Temperature",23]
[25,"Water Temperature (oF)","Water temperature reported - oF",25,"Value.Temperature","Y",null,"Value.NO2",24]
[26,"2n1  Flag ","Flag indicating that the Hach 2 in 1 test  strip was collected with an observation","","Calc Col AB","-",null,"Value.GeneralBinnedNO2",25]
[27,"NO2 Bin (2n1) (ppm)","Binned  valued for NO2 - ppm (Hach 2in1 Test Strip)",27,"Value.GeneralBinnedNO2","Y",null,"Value.NO3",26]
[28,"NO3 Bin (2n1) (ppm)","Binned  valued for NO3 - ppm (Hach 2in1 Test Strip)",29,"Value.GeneralBinnedNO3","Y",null,"Value.GeneralBinnedNO3",27]
[29,"Source","List of sources reported with an observation.  Record is blank if the user did not report disturbance conditions",31,"Value.Source","Y",null,"Value.Status",28]
[30,"Disturbances","List of disturbances recorded at each, includes all listed.  Record is blank if the user did not report disturbance conditions ",32,"Value.Disturbances","Y",null,"Value.Source",29]
[31,"Fish Barrier","Fish barrier at observation (1 - present, 0 - absent, -1 not reported)","","Calc Col AE","-",null,"Value.Disturbances",30]
[32,"Bank Erosion","Bank erosion at observation (1 - present, 0 - absent, -1 not reported)","","Calc Col AE","-",null,"Value.WaterLevel",31]
[33,"Trash","Trash reported at observation (1 - present, 0 - absent, -1 not reported)","","Calc Col AE","-",null,"Value.Clarity",32]
[34,"Pipe/Drain Outflow","Pipe/drain at observation (1 - present, 0 - absent, -1 not reported)","","Calc Col AE","-",null,"Value.Weather",33]
[35,"Livestock in Water","Livestock in water at observation (1 - present, 0 - absent, -1 not reported)","","Calc Col AE","-",null,"Value.ObservationComments",34]
[36,"Algal Bloom","Algal bloom at observation (1 - present, 0 - absent, -1 not reported)","","Calc Col AE","-",null,"Value.SiteConditions",35]
[37,"Fish Kill","Fish kill at observation (1 - present, 0 - absent, -1 not reported)","","Calc Col AE","-",null,"Value.id",36]
[38,"None (Disturbance)","No disturbances observed (1 - present, 0 - absent, -1 not reported)","","Calc Col AE","-"]
[39,"Dis: Not Reported","User did not report disturbance conditions (1 - did not report, 0 - reported)","","Calc Col AE","-"]
[40,"Water Level","Water level reported at an observation",33,"Value.WaterLevel","Y"]
[41,"Water Level Flag","Flag indicating that water level was reported with an observation","","Calc Col AP","-"]
[42,"Clarity","Water clarity reported at an observation",34,"Value.Clarity","Y"]
[43,"Clarity Flag","Flag indicating that water clarity was reported with an observation","","Calc Col AR","-"]
[44,"Weather","List of weather phenomena reported with the observation",35,"Value.Weather","Y"]
[45,"Regional Rainfall","Regional rainfall reported with an observation (1 - present, 0 - absent, -1 not reported)","","Calc Col AS","-"]
[46,"Local Thunderstorm","Local thunderstorm reported with an observation (1 - present, 0 - absent, -1 not reported)","","Calc Col AS","-"]
[47,"Snowmelt","Snowmelt reported with an observation (1 - present, 0 - absent, -1 not reported)","","Calc Col AS","-"]
[48,"None (Weather)","No weather phenomena reported with an observation (1 - present, 0 - absent, -1 not reported)","","Calc Col AS","-"]
[49,"Not Reported (Weather)","User did not report weather phenomena (1 - did not report, 0 - reported)","","Calc Col AS","-"]
[50,"Observation Comments","Comment attached with an observation",36,"Value.ObservationComments","Y"]
[51,"Obs Com Flag","Flag indicating a comment was attached to an observation","","Calc Col AY","-"]
[52,"Fish Barrier (text)","Fish barrier at observation (absent, present, no data)","","Calc Col AE","-"]
[53,"Bank Erosion (text)","Bank erosion at observation (absent, present, no data)","","Calc Col AE","-"]
[54,"Trash (text)","Trash reported at observation (absent, present, no data)",null,"Calc Col AE","-"]
[55,"Pipe Drain (text)","Pipe/drain at observation (absent, present, no data)",null,"Calc Col AE","-"]
[56,"Livestock in Water (text)","Livestock in water at observation (absent, present, no data)",null,"Calc Col AE","-"]
[57,"Algal Bloom (text)","Algal bloom at observation (absent, present, no data)",null,"Calc Col AE","-"]
[58,"Fish Kill (text)","Fish kill at observation (absent, present, no data)",null,"Calc Col AE","-"]
[59,"None (text)","No disturbances observed (absent, present, no data)",null,"Calc Col AE","-"]
[60,"Dis: Not Reported (text)","User did not report disturbance conditions (1 - did not report, 0 - reported)",null,"Calc Col AE","-"]
[61,"All Streams","Streams near observation location:  derived programmatically from QGIS (NHD data layer)",null,"QGIS File","-"]
[62,"Primary Stream","Streams near observation location:  derived programmatically from QGIS (NHD data layer)",null,"QGIS File","-"]
[63,"Trout Stream Flag","First streams near observation location:  derived programmatically from QGIS (Compiled from state (IA, IL, MN, WI) designated trout stream layers)",null,"XLSX Table exported from QGIS layer","-"]
[64,"Brook Trout Stream Flag","First streams near observation location:  derived programmatically from QGIS (TU brook trout stream layer)",null,"XLSX Table exported from QGIS layer","-"]
[65,"TU Chapter Domain","First streams near observation location:  derived programmatically from QGIS (TU chapter boundary layer)",null,"XLSX Table exported from QGIS layer","-"]
[66,"Score Card Zn","Zone for scorecard analysis",null,"XLSX Table exported from QGIS layer","-"]
[67,"Observer Chapter Affiliation","Observer affilliation as provided by TU from submitted emaill addresses",null,"XLSX Table f chapter affiliation","-"]
[68,"HUC12 Code","USGS HUC 12 code number (12 digit) from US database",null,"XLSX Table exported from QGIS layer","-"]
[69,"HUC12 Name","USGS HUC 12 Name number from US database",null,"XLSX Table exported from QGIS layer","-"]
[70,"HUC10 Name","USGS HUC 10 Name number from US database",null,"XLSX Table exported from QGIS layer","-"]